{"text_format":"1","workbook":"xlsx","n_sheets":13,"sheets":["使い方・説明","波及効果分析","結果","取引額表","投入係数表","逆行列","単位行列","移輸入係数","付加価値率","市内品投入係数表","単位行列マイナス市内品投入係数","マージン表","消費性向"],"not_rendered":{"charts":0,"images":0,"macros":1,"external_links":0,"defined_names":2,"comments":0,"pivot_tables":0},"unopened":[],"bounds":{"document_bytes":16777216,"sheet_cells":100000,"rows_first":2000,"rows_last":500,"rows_between":2000,"halvings":0,"cell_chars":16384,"cell_head_chars":4096},"cells_cut":0,"cells_raw":0,"read":"whole","date_system":"1900"}

{"sheet":"使い方・説明","index":0,"n_rows":58,"n_cols":2,"rows_kept":58,"cut":false,"hidden":false,"merged":[]}
[null,"経済波及効果簡易分析ツール"]
[null,"（平成23年千葉市産業連関表）"]
[]
["●使い方"]
["1.","「波及効果分析」シートのD9:D45に費用構成を購入者価格で入力してください。"]
[null,"　購入者価格とは・・・物品やサービスを購入した際の市場価格"]
["2.","「波及効果分析」シートにある「計算開始」ボタンを押してください。また、計算結果をクリアにする場合は、"]
[null,"「データのクリア」ボタンを押してください。"]
[]
["●説明"]
[null,"計算に用いた計算式は、下記の典型的な競争移輸入型モデルである。"]
[]
[null,"X={I-(I-M)A}**(-1)×(I-M)F   "]
[null,"X : 生産波及、I :単位行列、M:移輸入行列、A:投入行列、F:需要ベクトル"]
[]
[null,"この式により直接効果及び一次波及効果が計算される。"]
[null,"また、２次波及効果は、直接効果及び一次波及効果によりもたらされる「賃金・俸給」を通じて、さらに"]
[null,"それが民間消費となることによる波及効果である。"]
[null,"「賃金・俸給」からの家計消費への消費性向は、家計調査のデータ（「消費性向」シートを参照）を用いた。"]
[]
["●前提条件"]
["①","産業部門の生産能力には限界がなく、あらゆる需要に応じられる。"]
["②","産業構造や投入構造（投入係数）、自給率（市内需要をどのくらい市内生産で満たしているかの率）などは、"]
[null,"産業連関表作成の基準時点（平成23年）の状況を示すもので、短期的には変化せず「一定」であると仮定する。"]
["③","生産額が2倍になれば原材料費などの投入額も2倍になるとし、規模の拡大による費用の減少などの効果は考慮しない。"]
["④","需要の増加には全て生産増で対応するものと仮定する。在庫の取り崩しや移輸入率の上昇による波及の中断は"]
[null,"想定しない。この意味において、波及効果が過大に計算されることがある。"]
["⑤","各産業間の相互干渉はない。（工場の生産活動により発生した公害が、農業の生産を抑制するような例のように、"]
[null,"ある産業の活動が他の産業の活動に及ぼすマイナスの影響（外部不経済）やプラスの影響（外部経済）は考慮しない。）"]
["⑥","２次波及効果では、直接・一次波及による生産増加が賃金・俸給（雇用者所得の一部）を増加させ、この所得の"]
[null,"増加により民間消費支出が増加し、更なる生産が誘発されるという効果を計算する。ここでの賃金・俸給には、"]
[null,"自営業者などの所得が含まれていないため、この意味において、波及効果は過少となる可能性がある。"]
["⑦","波及効果が達成されるまでの期間は不明である。いつ頃、どの産業に、どの程度の波及が及ぶかという時間的な推移を"]
[null,"明らかにすることはできない。"]
["⑧","雇用誘発者数は理論上必要となる労働力であり、時間外労働や機械の稼働率を調整して対応するといったことは考慮しない。"]
[]
["●留意事項"]
["①","産業連関表を用いた波及効果分析は経済モデルのひとつの考え方であり、このツールによる分析結果を"]
[null,"千葉市が保証するものではありません。"]
["②","このツールは、産業連関表対象年（平成23年）の価格によるものであり、分析対象時点の価格を考慮していません。"]
["③","本分析ツールは、簡便に分析を行うことを目的として作成したものです。しかしながら、産業連関分析は上記のような"]
[null,"特性があるほか、仮定の置き方や与件データの設定内容により分析結果が異なる場合があります。このため、"]
[null,"本分析ツールで行った分析結果の使用に当たりましては、ご注意いただきますようにお願いいたします。"]
["④","<分析の対象にできないもの>\n"]
[null,"ア　どの産業部門にどれだけ需要が増加したか推計（把握）できない場合（例：使途の特定できない補助金）"]
[null,"イ　市内に需要増加があっても、全て市外の企業に発注したような場合"]
[]
["●お願い"]
[null,"　このツールを用いて分析された場合、次の事項についてお知らせいただければ幸いです。"]
[null,"ア　分析テーマ名"]
[null,"イ　実施機関名（分析を行った団体名等）"]
[null,"ウ　分析の概要"]
[null,"エ　公表の有無（分析結果を公表された場合は、お手数ですが、公表資料等を下記までご提供ください。）"]
[]
[null,"千葉市総合政策局総合政策部政策企画課統計室　産業連関表担当"]
[null,"〒260-8722　千葉市中央区千葉港１番１号"]
[null,"電話０４３－２４５－５７１５　　FAX０４３－２４５－５８９１"]
[null,"E-mail　tokei@city.chiba.lg.jp"]

{"sheet":"波及効果分析","index":1,"n_rows":46,"n_cols":46,"rows_kept":46,"cut":false,"hidden":false,"merged":[[5,32,5,35],[5,37,5,40],[5,42,5,45],[45,10,45,13],[21,30,21,31],[5,14,5,17],[5,19,5,22],[5,24,5,27],[5,30,7,31],[6,8,7,8],[6,3,7,3],[6,1,7,2],[5,12,7,13],[5,10,7,11]]}
[null,"経済波及効果簡易分析ツール"]
[null,"（平成23年千葉市産業連関表）"]
[]
[null,null,null,"●発生する需要額を部門別に入力して、「計算開始」ボタンを押してください。"]
[null,null,null,null,null,null,null,null,null,null,null,null,null,null,null,null,null,"（単位：100万円）",null,null,null,null,"（単位：100万円）",null,null,null,null,"（単位：人）",null,null,null,null,null,null,null,"（単位：100万円）",null,null,null,null,"（単位：100万円）",null,null,null,null,"（単位：人）"]
[null,null,null,"（単位：100万円）",null,null,null,null,"（単位：100万円）",null,"13部門",null,"37部門\n（統合大分類）",null,"生産波及",null,null,null,null,"粗付加価値波及",null,null,null,null,"雇用波及",null,null,null,null,null,"13部門",null,"生産波及",null,null,null,null,"粗付加価値波及",null,null,null,null,"雇用波及"]
[null,null,null,"発生需要額\n（購入者価格）",null,null,null,null,"発生需要額\n（生産者価格）",null,null,null,null,null,"直接効果","第一次\n波及効果","第二次\n波及効果","合計",null,"直接効果","第一次\n波及効果","第二次\n波及効果","合計",null,"直接効果","第一次\n波及効果","第二次\n波及効果","合計",null,null,null,null,"直接効果","第一次\n波及効果","第二次\n波及効果","合計",null,"直接効果","第一次\n波及効果","第二次\n波及効果","合計",null,"直接効果","第一次\n波及効果","第二次\n波及効果","合計"]
[null,null,null,null,null,null,null,null,null,null,null,null,null,null,"①","②","③","①+②+③",null,"①","②","③","①+②+③",null,"①","②","③","①+②+③",null,null,null,null,"①","②","③","①+②+③",null,"①","②","③","①+②+③",null,"①","②","③","①+②+③"]
[null,"01","農林水産業　　　　　",0,null,null,null,null,0,null,"01","農林水産業","01","農林水産業　　　　　",0,0,0,{"$f":"SUM(O9:Q9)","v":0},null,0,0,0,{"$f":"SUM(T9:V9)","v":0},null,0,0,0,{"$f":"SUM(Y9:AA9)","v":0},null,null,"01","農林水産業",{"$f":"SUMIF($L:$L,$AF9,O:O)","v":0},{"$f":"SUMIF($L:$L,$AF9,P:P)","v":0},{"$f":"SUMIF($L:$L,$AF9,Q:Q)","v":0},{"$f":"SUM(AG9:AI9)","v":0},null,{"$f":"SUMIF($L:$L,$AF9,T:T)","v":0},{"$f":"SUMIF($L:$L,$AF9,U:U)","v":0},{"$f":"SUMIF($L:$L,$AF9,V:V)","v":0},{"$f":"SUM(AL9:AN9)","v":0},null,{"$f":"SUMIF($L:$L,$AF9,Y:Y)","v":0},{"$f":"SUMIF($L:$L,$AF9,Z:Z)","v":0},{"$f":"SUMIF($L:$L,$AF9,AA:AA)","v":0},{"$f":"SUM(AQ9:AS9)","v":0}]
[null,"06","鉱業",0,null,null,null,null,0,null,"02","鉱業","06","鉱業",0,0,0,{"$f":"SUM(O10:Q10)","v":0},null,0,0,0,{"$f":"SUM(T10:V10)","v":0},null,0,0,0,{"$f":"SUM(Y10:AA10)","v":0},null,null,"02","鉱業",0,0,0,{"$f":"SUM(AG10:AI10)","v":0},null,0,0,0,{"$f":"SUM(AL10:AN10)","v":0},null,0,0,0,{"$f":"SUM(AQ10:AS10)","v":0}]
[null,"11","飲食料品　　　　　　　",0,null,null,null,null,0,null,"03","製造業","11","飲食料品　　　　　　　",0,0,0,0,null,0,0,0,0,null,0,0,0,0,null,null,"03","製造業",0,0,0,0,null,0,0,0,0,null,0,0,0,0]
[null,"15","繊維製品　",0,null,null,null,null,0,null,"03","製造業","15","繊維製品　",0,0,0,0,null,0,0,0,0,null,0,0,0,0,null,null,"04","建設",0,0,0,0,null,0,0,0,0,null,0,0,0,0]
[null,"16","パルプ・紙・木製品",0,null,null,null,null,0,null,"03","製造業","16","パルプ・紙・木製品",0,0,0,0,null,0,0,0,0,null,0,0,0,0,null,null,"05","電力・ガス・水道",0,0,0,0,null,0,0,0,0,null,0,0,0,0]
[null,"20","化学製品  　　　  　",0,null,null,null,null,0,null,"03","製造業","20","化学製品  　　　  　",0,0,0,0,null,0,0,0,0,null,0,0,0,0,null,null,"06","商業",0,0,0,0,null,0,0,0,0,null,0,0,0,0]
[null,"21","石油・石炭製品　　　",0,null,null,null,null,0,null,"03","製造業","21","石油・石炭製品　　　",0,0,0,0,null,0,0,0,0,null,0,0,0,0,null,null,"07","金融・保険",0,0,0,0,null,0,0,0,0,null,0,0,0,0]
[null,"22","プラスチック・ゴム",0,null,null,null,null,0,null,"03","製造業","22","プラスチック・ゴム",0,0,0,0,null,0,0,0,0,null,0,0,0,0,null,null,"08","不動産",0,0,0,0,null,0,0,0,0,null,0,0,0,0]
[null,"25","窯業・土石製品　　",0,null,null,null,null,0,null,"03","製造業","25","窯業・土石製品　　",0,0,0,0,null,0,0,0,0,null,0,0,0,0,null,null,"09","運輸・郵便",0,0,0,0,null,0,0,0,0,null,0,0,0,0]
[null,"26","鉄鋼　　　　　　　　",0,null,null,null,null,0,null,"03","製造業","26","鉄鋼　　　　　　　　",0,0,0,0,null,0,0,0,0,null,0,0,0,0,null,null,"10","情報通信",0,0,0,0,null,0,0,0,0,null,0,0,0,0]
[null,"27","非鉄金属　　　　　　",0,null,null,null,null,0,null,"03","製造業","27","非鉄金属　　　　　　",0,0,0,0,null,0,0,0,0,null,0,0,0,0,null,null,"11","公務",0,0,0,0,null,0,0,0,0,null,0,0,0,0]
[null,"28","金属製品　　　　　　",0,null,null,null,null,0,null,"03","製造業","28","金属製品　　　　　　",0,0,0,0,null,0,0,0,0,null,0,0,0,0,null,null,"12","サービス",0,0,0,0,null,0,0,0,0,null,0,0,0,0]
[null,"29","はん用機械",0,null,null,null,null,0,null,"03","製造業","29","はん用機械",0,0,0,0,null,0,0,0,0,null,0,0,0,0,null,null,"13","分類不明",0,0,0,0,null,0,0,0,0,null,0,0,0,0]
[null,"30","生産用機械",0,null,null,null,null,0,null,"03","製造業","30","生産用機械",0,0,0,0,null,0,0,0,0,null,0,0,0,0,null,null,"合計",null,{"$f":"SUM(AG9:AG21)","v":0},{"$f":"SUM(AH9:AH21)","v":0},0,0,null,{"$f":"SUM(AL9:AL21)","v":0},{"$f":"SUM(AM9:AM21)","v":0},{"$f":"SUM(AN9:AN21)","v":0},0,null,{"$f":"SUM(AQ9:AQ21)","v":0},{"$f":"SUM(AR9:AR21)","v":0},{"$f":"SUM(AS9:AS21)","v":0},0]
[null,"31","業務用機械",0,null,null,null,null,0,null,"03","製造業","31","業務用機械",0,0,0,0,null,0,0,0,0,null,0,0,0,0]
[null,"32","電子部品",0,null,null,null,null,0,null,"03","製造業","32","電子部品",0,0,0,0,null,0,0,0,0,null,0,0,0,0]
[null,"33","電気機械　　　　　　",0,null,null,null,null,0,null,"03","製造業","33","電気機械　　　　　　",0,0,0,0,null,0,0,0,0,null,0,0,0,0]
[null,"34","情報・通信機器",0,null,null,null,null,0,null,"03","製造業","34","情報・通信機器",0,0,0,0,null,0,0,0,0,null,0,0,0,0]
[null,"35","輸送機械  　　　　　",0,null,null,null,null,0,null,"03","製造業","35","輸送機械  　　　　　",0,0,0,0,null,0,0,0,0,null,0,0,0,0]
[null,"39","その他の製造工業製品",0,null,null,null,null,0,null,"03","製造業","39","その他の製造工業製品",0,0,0,0,null,0,0,0,0,null,0,0,0,0]
[null,"41","建設　　　　　　　　",0,null,null,null,null,0,null,"04","建設","41","建設　　　　　　　　",0,0,0,0,null,0,0,0,0,null,0,0,0,0]
[null,"46","電力・ガス・熱供給",0,null,null,null,null,0,null,"05","電力・ガス・水道","46","電力・ガス・熱供給",0,0,0,0,null,0,0,0,0,null,0,0,0,0]
[null,"47","水道",0,null,null,null,null,0,null,"05","電力・ガス・水道","47","水道",0,0,0,0,null,0,0,0,0,null,0,0,0,0]
[null,"48","廃棄物処理",0,null,null,null,null,0,null,"12","サービス","48","廃棄物処理",0,0,0,0,null,0,0,0,0,null,0,0,0,0]
[null,"51","商業　　　　　　　　",0,null,null,null,null,0,null,"06","商業","51","商業　　　　　　　　",0,0,0,0,null,0,0,0,0,null,0,0,0,0]
[null,"53","金融・保険　　　　　",0,null,null,null,null,0,null,"07","金融・保険","53","金融・保険　　　　　",0,0,0,0,null,0,0,0,0,null,0,0,0,0]
[null,"55","不動産　　　　　　　",0,null,null,null,null,0,null,"08","不動産","55","不動産　　　　　　　",0,0,0,0,null,0,0,0,0,null,0,0,0,0]
[null,"57","運輸・郵便　　　",0,null,null,null,null,0,null,"09","運輸・郵便","57","運輸・郵便　　　",0,0,0,0,null,0,0,0,0,null,0,0,0,0]
[null,"59","情報通信",0,null,null,null,null,0,null,"10","情報通信","59","情報通信",0,0,0,0,null,0,0,0,0,null,0,0,0,0]
[null,"61","公務　　　　　　　　",0,null,null,null,null,0,null,"11","公務","61","公務　　　　　　　　",0,0,0,0,null,0,0,0,0,null,0,0,0,0]
[null,"63","教育・研究　　　　　",0,null,null,null,null,0,null,"12","サービス","63","教育・研究　　　　　",0,0,0,0,null,0,0,0,0,null,0,0,0,0]
[null,"64","医療・福祉",0,null,null,null,null,0,null,"12","サービス","64","医療・福祉",0,0,0,0,null,0,0,0,0,null,0,0,0,0]
[null,"65","その他の非営利団体サービス",0,null,null,null,null,0,null,"12","サービス","65","その他の非営利団体サービス",0,0,0,0,null,0,0,0,0,null,0,0,0,0]
[null,"66","対事業所サービス",0,null,null,null,null,0,null,"12","サービス","66","対事業所サービス",0,0,0,0,null,0,0,0,0,null,0,0,0,0]
[null,"67","対個人サービス",0,null,null,null,null,0,null,"12","サービス","67","対個人サービス",0,0,0,0,null,0,0,0,0,null,0,0,0,0]
[null,"68","事務用品",0,null,null,null,null,0,null,"03","製造業","68","事務用品",0,0,0,0,null,0,0,0,0,null,0,0,0,0]
[null,"69","分類不明",0,null,null,null,null,0,null,"13","分類不明","69","分類不明",0,0,0,0,null,0,0,0,0,null,0,0,0,0]
[null,null,null,{"$f":"SUM(D9:D45)","v":0},null,null,null,null,{"$f":"SUM(I9:I45)","v":0},null,"合計",null,null,null,{"$f":"SUM(O9:O45)","v":0},0,0,{"$f":"SUM(R9:R45)","v":0},null,{"$f":"SUM(T9:T45)","v":0},0,0,{"$f":"SUM(W9:W45)","v":0},null,{"$f":"SUM(Y9:Y45)","v":0},0,0,{"$f":"SUM(AB9:AB45)","v":0}]

{"sheet":"結果","index":2,"n_rows":29,"n_cols":7,"rows_kept":29,"cut":false,"hidden":false,"merged":[[2,1,2,6],[3,1,3,6]]}
[]
[]
[null,"○○の需要増加による経済波及効果分析"]
[null,"【分析結果】～平成23年千葉市産業連関表（37部門表）による～"]
[]
[]
[null,"①　最終需要増加額（初期投資額） "]
[null,null,null,null,{"$f":"+波及効果分析!D6","v":"（単位：100万円）"}]
[null,null,"最終需要額",null,{"$f":"+波及効果分析!I46","v":0}]
[null,null,"　うち市内最終需要額",null,{"$f":"+波及効果分析!O46","v":0}]
[null,null,"消費転換率（＝平均消費性向）",null,{"$f":"+消費性向!C9","v":0.59442844102047765}]
[null,null,{"$f":"+消費性向!D9","v":"　（平成23年家計調査年報（関東地方））"}]
[]
[null,"②　分析結果"]
[]
[null,null,null,null,"生産誘発額",null,"雇用誘発者数"]
[null,null,null,"区分",null,"うち粗付加価値誘発額"]
[null,null,null,null,{"$f":"+E8","v":"（単位：100万円）"},{"$f":"+E8","v":"（単位：100万円）"},"（人）"]
[null,null,"総合効果",null,{"$f":"+波及効果分析!R46","v":0},{"$f":"+波及効果分析!W46","v":0},{"$f":"+波及効果分析!AB46","v":0}]
[null,null,null,"直接効果（市内需要額）",{"$f":"+波及効果分析!O46","v":0},{"$f":"+波及効果分析!T46","v":0},{"$f":"+波及効果分析!Y46","v":0}]
[null,null,null,"第１次間接波及効果",{"$f":"+波及効果分析!P46","v":0},{"$f":"+波及効果分析!U46","v":0},{"$f":"+波及効果分析!Z46","v":0}]
[null,null,null,"第２次間接波及効果",{"$f":"+波及効果分析!Q46","v":0},{"$f":"+波及効果分析!V46","v":0},{"$f":"+波及効果分析!AA46","v":0}]
[null,null,"市内需要額に対する波及倍率※1",null,{"$f":"+IF(ISERROR(E19/E10),\"\",E19/E10)","v":""}]
[null,null,"需要増加額に対する波及倍率※2",null,{"$f":"+IF(ISERROR(E19/E9),\"\",E19/E9)","v":""}]
[]
[null,null,"※1 市内需要額に対する波及倍率＝総合効果÷市内最終需要額"]
[null,null,"※2 需要増加額に対する波及倍率＝総合効果÷最終需要額"]
[]
[null,null,"(注) 四捨五入の関係で、「合計」が、直接効果、第1次間接効果、第2次間接効果の総額と一致しない場合がある。"]

{"sheet":"取引額表","index":3,"n_rows":58,"n_cols":60,"rows_kept":58,"cut":false,"hidden":true,"merged":[]}
[]
[]
[]
[]
[null,"平成23年千葉市産業連関表　生産者価格評価表　統合大分類（37部門）"]
[]
[null,null,null,"01","06","11","15","16","20","21","22","25","26","27","28","29","30","31","32","33","34","35","39","41","46","47","48","51","53","55","57","59","61","63","64","65","66","67","68","69","70","71","72","73","74","75","76","77","78","79","80","81","82","83","84","85","86","87","88","89"]
[null,null,null,"農林水産業　　　　　","鉱業","飲食料品　　　　　　　","繊維製品　","パルプ・紙・木製品","化学製品  　　　  　","石油・石炭製品　　　","プラスチック・ゴム","窯業・土石製品　　","鉄鋼　　　　　　　　","非鉄金属　　　　　　","金属製品　　　　　　","はん用機械","生産用機械","業務用機械","電子部品","電気機械　　　　　　","情報・通信機器","輸送機械  　　　　　","その他の製造工業製品（１／３）","建設　　　　　　　　","電力・ガス・熱供給","水道","廃棄物処理","商業　　　　　　　　","金融・保険　　　　　","不動産　　　　　　　","運輸・郵便　　　","情報通信","公務　　　　　　　　","教育・研究　　　　　","医療・福祉","その他の非営利団体サービス","対事業所サービス","対個人サービス","事務用品","分類不明","内生部門計　　","家計外消費支出（列）","民間消費支出","一般政府消費支出","市内総固定資本形成（公的）","市内総固定資本形成（民間）","在庫純増","調整項","市内最終需要計","市内需要合計","輸出","移出","移輸出計","最終需要計","需要合計","（控除）輸入","（控除）移入","（控除）移輸入計","最終需要部門計","市内生産額"]
[null,"01","農林水産業　　　　　",1325,0,99089,6,73,14,0,65,8,0,0,0,0,0,0,0,0,0,0,629,260,0,0,0,54,0,1,50,0,1,224,693,45,4,8131,0,0,110672,430,29364,0,0,8,1469,2,31273,141945,50,6162,6212,37485,148157,-70743,-63092,-133835,-96350,14322]
[null,"06","鉱業",0,0,5,0,0,149,56854,0,2083,92497,12,8,0,0,1,0,0,0,0,51,2502,62383,0,0,0,0,0,1,0,0,6,0,0,0,-3,0,3,216552,-37,1,0,0,-29,-67,0,-132,216420,10,644,654,522,217074,-185388,-30698,-216086,-215564,988]
[null,"11","飲食料品　　　　　　　",711,0,59293,1,15,99,0,0,23,0,0,0,0,0,0,0,0,0,0,19,1,0,0,0,73,0,0,272,0,51,288,3000,96,3,52670,0,46,116661,5700,221745,1660,0,0,3188,59,232352,349013,1917,188170,190087,422439,539100,-57330,-204329,-261659,160780,277441]
[null,"15","繊維製品　",42,5,306,286,72,8,13,26,65,581,11,49,5,65,9,24,17,6,0,56,1087,39,29,132,2209,319,21,1263,314,844,168,1191,410,1146,1096,158,24,12096,701,35511,0,2,1366,-368,1,37213,49309,44,956,1000,38213,50309,-32765,-16423,-49188,-10975,1121]
[null,"16","パルプ・紙・木製品",524,2,1809,7,3416,88,8,79,199,558,64,116,3,54,76,23,126,28,3,1980,16998,147,76,239,4062,828,295,1746,3128,268,1277,1824,361,1625,1956,4004,77,48074,458,3251,16,43,1538,-88,4,5222,53296,1056,11589,12645,17867,65941,-8902,-43540,-52442,-34575,13499]
[null,"20","化学製品  　　　  　",1142,17,1637,73,399,6025,155,2074,794,5257,88,381,15,286,109,53,128,43,17,615,1626,366,385,888,6,5,13,141,283,162,894,40573,44,1758,2437,145,402,69436,1097,21346,0,0,0,733,60,23236,92672,2055,10279,12334,35570,105006,-22078,-67821,-89899,-54329,15107]
[null,"21","石油・石炭製品　　　",104,44,1721,0,32,216,5128,18,591,54788,59,138,2,91,19,9,16,0,2,91,2330,10929,651,857,1245,108,467,19638,321,1353,1810,1313,110,1483,2414,0,1110,109208,161,44320,36,0,0,266,65,44848,154056,1758,63072,64830,109678,218886,-9123,-131926,-141049,-31371,77837]
[null,"22","プラスチック・ゴム",126,3,2423,22,298,146,5,2503,86,865,27,116,65,2905,446,103,406,98,44,1041,4126,0,1185,632,2555,566,379,831,1303,279,694,739,118,4742,792,454,283,31406,161,6293,0,0,-3,-661,40,5830,37236,1383,7407,8790,14620,46026,-9732,-25758,-35490,-20870,10536]
[null,"25","窯業・土石製品　　",54,0,129,1,119,115,135,47,2032,4438,26,235,54,291,42,156,86,10,3,101,16629,13,210,33,122,3,34,21,1,47,493,280,5,544,450,71,285,27315,113,2554,0,0,0,-147,144,2664,29979,2775,7310,10085,12749,40064,-4068,-13105,-17173,-4424,22891]
[null,"26","鉄鋼　　　　　　　　",0,0,0,0,318,2,0,8,168,613400,0,8589,409,6574,93,14,355,26,89,38,2989,0,13,0,0,0,0,29,0,1,0,0,0,96,10,0,285,633506,0,-382,0,-18746,-807,2706,1887,-15342,618164,127393,529774,657167,641825,1275331,-11332,-93046,-104378,537447,1170953]
[null,"27","非鉄金属　　　　　　",0,0,124,0,65,84,0,20,164,11501,10961,1403,144,1160,329,122,750,157,29,303,2882,15,7,1,6,0,0,10,5,13,6,403,3,329,97,6,212,31311,9,1153,0,2,-584,-253,82,409,31720,1979,14868,16847,17256,48567,-18636,-11079,-29715,-12459,18852]
[null,"28","金属製品　　　　　　",14,33,710,2,462,236,137,59,280,194,20,2002,127,3044,131,60,459,58,20,184,29682,121,35,9,1475,19,170,661,95,445,24,114,42,747,885,3,136,42895,214,3247,5,125,1703,306,93,5693,48588,2309,26876,29185,34878,77773,-4157,-40634,-44791,-9913,32982]
[null,"29","はん用機械",0,1,0,0,27,0,0,4,22,4,3,46,681,3121,34,9,50,5,20,2,1813,0,182,0,2,0,0,25,2,22,0,0,0,4884,4,0,0,10963,0,120,0,358,13566,240,44,14328,25291,1484,3916,5400,19728,30691,-3387,-21756,-25143,-5415,5548]
[null,"30","生産用機械",0,3,0,0,3,0,1,28,18,19,1,26,24,12680,2,12,30,3,2,0,16,3,5,0,2,0,0,33,0,2,0,0,0,7107,3,0,0,20023,0,63,0,220,19571,-877,926,19903,39926,32840,38558,71398,91301,111324,-8319,-20320,-28639,62662,82685]
[null,"31","業務用機械",24,0,0,0,0,0,0,0,0,0,0,1,15,776,103,0,15,0,1,2,68,0,3,2,614,2,0,9,22,695,0,3473,0,4140,177,221,0,10363,18,1415,0,875,21482,224,54,24068,34431,1532,4308,5840,29908,40271,-11877,-21812,-33689,-3781,6582]
[null,"32","電子部品",0,0,0,0,0,0,0,0,0,0,0,4,63,213,1220,1578,1099,1451,12,13,101,0,0,0,11,6,0,1,232,128,128,1,0,8271,5,244,0,14781,7,1054,0,273,0,71,41,1446,16227,2368,3181,5549,6995,21776,-4118,-12045,-16163,-9168,5613]
[null,"33","電気機械　　　　　　",0,0,0,0,3,0,0,0,4,0,0,11,75,1516,78,306,931,58,30,9,2565,0,4,0,126,1,9,115,49,178,106,54,0,4332,58,0,45,10663,359,26228,0,5616,18207,-872,208,49746,60409,5021,4090,9111,58857,69520,-23198,-35993,-59191,-334,10329]
[null,"34","情報・通信機器",0,0,2,0,0,0,0,0,1,0,0,3,13,40,0,0,1,127,3,2,585,4,1,1,284,45,71,53,158,135,27,17,3,798,70,0,0,2444,591,39051,0,2889,18125,-260,83,60479,62923,2355,2221,4576,65055,67499,-26674,-36079,-62753,2302,4746]
[null,"35","輸送機械  　　　　　",0,0,0,0,0,0,0,0,0,0,0,0,0,139,0,0,0,0,483,0,0,0,0,0,0,0,0,8036,0,756,34,0,0,12060,24,0,0,21532,0,42848,0,1227,23635,-2939,12,64783,86315,519,1085,1604,66387,87919,-15211,-71056,-86267,-19880,1652]
[null,"39","その他の製造工業製品",4,6,1842,23,146,64,1243,104,132,8520,290,52,6,217,32,39,31,31,1,1205,1188,1819,121,337,3980,3945,52,929,4854,1960,3934,1744,1156,3851,2339,1297,67,47561,1539,24588,0,122,5204,-267,38,31224,78785,1071,14460,15531,46755,94316,-12540,-54264,-66804,-20049,27512]
[null,"41","建設　　　　　　　　",70,10,281,5,79,156,86,91,258,11249,195,406,23,172,30,37,46,16,1,68,416,8035,2750,413,2829,427,19443,3937,1691,4892,2470,2158,66,574,2024,0,0,65404,0,0,0,140813,116346,0,0,257159,322563,0,0,0,257159,322563,0,0,0,257159,322563]
[null,"46","電力・ガス・熱供給",46,5,1838,4,63,286,282,133,247,16122,165,330,13,223,24,45,33,5,7,114,582,3692,379,773,4257,791,1183,1228,945,1139,1937,1671,54,1646,4535,0,106,44903,15,33917,0,0,0,0,0,33932,78835,126,76062,76188,110120,155023,0,0,0,110120,155023]
[null,"47","水道",22,5,571,0,13,49,311,17,31,3276,47,34,1,62,4,6,5,0,0,38,328,377,3832,848,1599,363,402,1365,740,821,2679,2368,72,452,4343,0,140,25221,23,22024,-1759,0,0,0,0,20288,45509,97,0,97,20385,45606,0,0,0,20385,45606]
[null,"48","廃棄物処理",12,4,163,0,2,75,33,0,157,269,0,2,0,2,0,4,0,0,0,10,439,1578,98,0,1269,825,17,2337,1700,8985,1287,1936,0,239,8022,0,248,29713,0,3372,8972,0,0,0,0,12344,42057,54,20558,20612,32956,62669,-1,-5518,-5519,27437,57150]
[null,"51","商業　　　　　　　　",579,22,8289,79,731,575,796,440,581,55219,1128,1733,141,2322,236,131,392,120,46,1264,8259,1344,405,612,4129,805,781,4108,2187,1409,2375,2630,583,5872,14202,1205,264,125994,10975,423499,1219,17637,28497,548,0,482375,608369,54723,252028,306751,789126,915120,-637,-269846,-270483,518643,644637]
[null,"53","金融・保険　　　　　",158,70,1654,31,258,165,557,49,374,13813,184,774,48,890,150,41,78,44,10,457,6414,3799,262,637,14819,18675,70232,11564,2448,11225,608,3679,2493,8811,3219,0,283,178973,1,187636,0,0,0,0,0,187637,366610,7913,3729,11642,199279,378252,-8295,-90206,-98501,100778,279751]
[null,"55","不動産　　　　　　　",203,6,730,3,53,43,62,45,76,2070,22,226,20,243,11,6,28,7,0,68,2008,1797,77,211,24725,5538,21025,17437,11624,186,1444,9237,469,4519,6474,0,1556,112249,0,505343,133536,0,0,0,0,638879,751128,370,0,370,639249,751498,0,-6721,-6721,632528,744777]
[null,"57","運輸・郵便　　　",696,328,12600,22,600,401,3007,184,1341,38507,568,1260,94,1501,130,62,209,68,16,3818,11123,6790,582,3240,26685,6621,1467,32989,6715,4705,5752,4635,708,7012,11203,357,2650,198646,2399,133565,-190,297,3706,594,0,140371,339017,43999,129045,173044,313415,512061,-9110,-120104,-129214,184201,382847]
[null,"59","情報通信",76,3,1276,4,167,203,121,93,277,7433,158,419,59,1917,86,45,414,288,2,195,3402,2846,2551,728,28997,17153,3881,6820,50438,6398,5937,7649,1775,27896,9255,0,1586,190548,1395,161411,74,19039,155972,-141,1,337751,528299,2946,24956,27902,365653,556201,-5504,-156097,-161601,204052,394600]
[null,"61","公務　　　　　　　　",0,0,0,0,0,0,0,0,0,0,0,0,0,0,0,0,0,0,0,0,0,0,0,0,0,0,0,0,0,0,0,0,0,0,0,0,7568,7568,0,22776,200842,0,0,0,0,223618,231186,0,0,0,223618,231186,0,0,0,223618,231186]
[null,"63","教育・研究　　　　　",5,1,1081,11,72,877,128,206,223,10630,450,324,103,2429,410,251,783,325,42,272,672,1892,6,15,1469,187,1,1187,7275,29,1550,1538,0,1169,279,0,652,36544,0,83043,131924,0,0,0,0,214967,251511,1299,16096,17395,232362,268906,-7304,-18072,-25376,206986,243530]
[null,"64","医療・福祉",31,0,0,0,0,0,0,0,0,3,0,0,0,0,0,0,0,0,0,0,0,1,9,0,11,22,5,298,127,3,9,11773,0,5,17,0,104,12418,4036,87315,366691,0,0,0,0,458042,470460,1,19689,19690,477732,490150,0,-109584,-109584,368148,380566]
[null,"65","その他の非営利団体サービス",8,2,198,1,6,38,38,6,22,1257,13,44,11,84,7,3,8,5,0,26,390,488,393,142,338,620,300,495,482,0,264,544,0,1207,1199,0,79,8718,0,31774,0,0,0,0,0,31774,40492,118,0,118,31892,40610,-427,-10307,-10734,21158,29876]
[null,"66","対事業所サービス",662,50,7586,63,770,964,1707,612,2065,25982,757,1863,382,4807,288,280,651,239,39,1429,44286,13533,8320,4521,54700,28659,30209,45571,67527,19137,19407,32476,2297,80444,17510,0,3083,522876,659,41744,0,2308,28814,0,0,73525,596401,13152,186191,199343,272868,795744,-12582,-172382,-184964,87904,610780]
[null,"67","対個人サービス",9,0,760,0,0,0,4,0,1,118,0,0,0,20,0,0,2,0,0,0,61,10,10,3,449,41,366,264,2905,73,265,6975,55,569,5172,0,103,18235,61425,367403,0,0,0,0,11,428839,447074,2494,54169,56663,485502,503737,-2326,-126068,-128394,357108,375343]
[null,"68","事務用品",11,0,138,1,18,11,7,1,20,202,6,13,4,78,9,7,12,2,0,24,190,13,29,188,1233,759,252,1013,516,569,739,721,91,649,643,0,5,8174,0,0,0,0,0,0,0,0,8174,0,0,0,0,8174,0,0,0,0,8174]
[null,"69","分類不明",232,5,349,2,54,27,170,22,156,3485,42,126,59,819,18,11,43,25,3,49,5635,488,371,132,4278,970,4392,3213,2116,167,2689,1463,87,4646,920,9,0,37273,0,240,1540,241,0,17,0,2038,39311,29,4961,4990,7028,44301,-2964,-5634,-8598,-1570,35703]
[null,"70","内生部門計　　",6890,625,206604,647,8334,11116,70988,6934,12499,982257,15297,20734,2659,48741,4127,3437,7204,3245,925,14173,171653,122522,22981,15594,188613,88303,155468,167690,170203,67078,59525,146872,11143,203630,162632,8174,21402,3210919,92449,2608832,844566,173341,456317,3422,3855,4182782,7393701,317240,1726410,2043650,6226432,9437351,-588728,-2105315,-2694043,3532389,6743308]
[null,"71","家計外消費支出（行）",80,67,2410,18,176,221,349,176,492,6305,145,676,51,622,106,49,279,156,11,396,6184,1605,562,1411,14118,8473,3901,9157,7185,1798,2263,3799,864,10434,7794,0,116,92449]
[null,"91","雇用者所得",2626,159,36195,414,2925,1741,1068,2622,3699,38831,2475,10005,2357,17702,1776,1823,1398,721,616,10164,118605,7024,6239,29572,274110,93409,34769,102548,122599,90408,159439,189841,16091,240682,117610,0,1361,1743624]
[null,"92","営業余剰",3674,23,13358,-57,908,662,-22,-252,3777,79431,334,-1398,220,9606,-111,-126,358,14,34,441,6428,-6385,5996,1810,100136,60783,309708,24439,50863,0,911,11879,-129,51333,36307,0,10539,775492]
[null,"93","資本減耗引当",1862,60,9172,57,705,1081,5125,741,1760,53337,374,2105,217,5224,582,386,1002,575,68,1434,9175,25675,10591,6488,44692,31609,198797,63294,35765,71698,19368,27731,1647,82370,32203,0,1955,748925]
[null,"94","間接税（関税・輸入品商品税を除く。）",610,54,11167,42,451,286,329,315,664,10800,227,860,44,792,102,44,88,35,-2,905,11459,5157,1738,2276,23313,4702,42831,18757,8005,204,2723,5631,668,22484,18803,0,330,196894]
[null,"95","（控除）経常補助金",-1420,0,-1465,0,0,0,0,0,0,-8,0,0,0,-2,0,0,0,0,0,-1,-941,-575,-2501,-1,-345,-7528,-697,-3038,-20,0,-699,-5187,-408,-153,-6,0,0,-24995]
[null,"96","粗付加価値部門計",7432,363,70837,474,5165,3991,6849,3602,10392,188696,3555,12248,2889,33944,2455,2176,3125,1501,727,13339,150910,32501,22625,41556,456024,191448,589309,215157,224397,164108,184005,233694,18733,407150,212711,0,14301,3532389]
[null,"97","市内生産額",14322,988,277441,1121,13499,15107,77837,10536,22891,1170953,18852,32982,5548,82685,6582,5613,10329,4746,1652,27512,322563,155023,45606,57150,644637,279751,744777,382847,394600,231186,243530,380566,29876,610780,375343,8174,35703,6743308]
[null,"91","雇用者所得",{"$f":"+SUM(D56:D58)","v":2626},159,36195,414,2925,1741,1068,2622,3699,38831,2475,10005,2357,17702,1776,1823,1398,721,616,10164,118605,7024,6239,29572,274110,93409,34769,102548,122599,90408,159439,189841,16091,240682,117610,0,1361,{"$f":"+SUM(AO56:AO58)","v":1743624}]
[null,null,"賃金・俸給",2332,138,30442,349,2439,1390,854,2180,3053,30961,2016,8388,1946,14336,1451,1466,1120,600,515,8515,102541,5638,4461,25950,236864,69513,31887,86651,104458,66511,128162,165130,14561,209771,105909,0,1225,1473723]
[null,null,"社会保険料（雇用主負担）",186,15,3903,44,319,180,111,285,399,4029,262,1097,254,1868,189,191,148,77,62,1086,11320,781,907,3104,26452,10419,2131,10004,12645,14385,20437,18820,1012,23437,9524,0,102,180185]
[null,null,"その他の給与及び手当",108,6,1850,21,167,171,103,157,247,3841,197,520,157,1498,136,166,130,44,39,563,4744,605,871,518,10794,13477,751,5893,5496,9512,10840,5891,518,7474,2177,0,34,89716]

{"sheet":"投入係数表","index":4,"n_rows":58,"n_cols":60,"rows_kept":58,"cut":false,"hidden":true,"merged":[]}
[]
[]
[]
[]
[null,"平成23年千葉市産業連関表　投入係数表　統合大分類（37部門）"]
[]
[null,null,null,"01","06","11","15","16","20","21","22","25","26","27","28","29","30","31","32","33","34","35","39","41","46","47","48","51","53","55","57","59","61","63","64","65","66","67","68","69","70","71","72","73","74","75","76","77","78","79","80","81","82","83","84","85","86","87","88","89"]
[null,null,null,"農林水産業　　　　　","鉱業","飲食料品　　　　　　　","繊維製品　","パルプ・紙・木製品","化学製品  　　　  　","石油・石炭製品　　　","プラスチック・ゴム","窯業・土石製品　　","鉄鋼　　　　　　　　","非鉄金属　　　　　　","金属製品　　　　　　","はん用機械","生産用機械","業務用機械","電子部品","電気機械　　　　　　","情報・通信機器","輸送機械  　　　　　","その他の製造工業製品（１／３）","建設　　　　　　　　","電力・ガス・熱供給","水道","廃棄物処理","商業　　　　　　　　","金融・保険　　　　　","不動産　　　　　　　","運輸・郵便　　　","情報通信","公務　　　　　　　　","教育・研究　　　　　","医療・福祉","その他の非営利団体サービス","対事業所サービス","対個人サービス","事務用品","分類不明","内生部門計　　","家計外消費支出（列）","民間消費支出","一般政府消費支出","市内総固定資本形成（公的）","市内総固定資本形成（民間）","在庫純増","調整項","市内最終需要計","市内需要合計","輸出","移出","移輸出計","最終需要計","需要合計","（控除）輸入","（控除）移入","（控除）移輸入計","最終需要部門計","市内生産額"]
[null,"01","農林水産業　　　　　",{"$f":"IF(取引額表!D$54=0,0,取引額表!D9/取引額表!D$54)","v":9.2515011869850575E-2},{"$f":"IF(取引額表!E$54=0,0,取引額表!E9/取引額表!E$54)","v":0},{"$f":"IF(取引額表!F$54=0,0,取引額表!F9/取引額表!F$54)","v":0.35715341279767593},{"$f":"IF(取引額表!G$54=0,0,取引額表!G9/取引額表!G$54)","v":5.3523639607493305E-3},{"$f":"IF(取引額表!H$54=0,0,取引額表!H9/取引額表!H$54)","v":5.4078079857767239E-3},{"$f":"IF(取引額表!I$54=0,0,取引額表!I9/取引額表!I$54)","v":9.2672271132587542E-4},{"$f":"IF(取引額表!J$54=0,0,取引額表!J9/取引額表!J$54)","v":0},{"$f":"IF(取引額表!K$54=0,0,取引額表!K9/取引額表!K$54)","v":6.1693242217160209E-3},{"$f":"IF(取引額表!L$54=0,0,取引額表!L9/取引額表!L$54)","v":3.4948232929972478E-4},{"$f":"IF(取引額表!M$54=0,0,取引額表!M9/取引額表!M$54)","v":0},{"$f":"IF(取引額表!N$54=0,0,取引額表!N9/取引額表!N$54)","v":0},{"$f":"IF(取引額表!O$54=0,0,取引額表!O9/取引額表!O$54)","v":0},{"$f":"IF(取引額表!P$54=0,0,取引額表!P9/取引額表!P$54)","v":0},{"$f":"IF(取引額表!Q$54=0,0,取引額表!Q9/取引額表!Q$54)","v":0},{"$f":"IF(取引額表!R$54=0,0,取引額表!R9/取引額表!R$54)","v":0},{"$f":"IF(取引額表!S$54=0,0,取引額表!S9/取引額表!S$54)","v":0},{"$f":"IF(取引額表!T$54=0,0,取引額表!T9/取引額表!T$54)","v":0},{"$f":"IF(取引額表!U$54=0,0,取引額表!U9/取引額表!U$54)","v":0},{"$f":"IF(取引額表!V$54=0,0,取引額表!V9/取引額表!V$54)","v":0},{"$f":"IF(取引額表!W$54=0,0,取引額表!W9/取引額表!W$54)","v":2.2862750799651062E-2},{"$f":"IF(取引額表!X$54=0,0,取引額表!X9/取引額表!X$54)","v":8.060440906117565E-4},{"$f":"IF(取引額表!Y$54=0,0,取引額表!Y9/取引額表!Y$54)","v":0},{"$f":"IF(取引額表!Z$54=0,0,取引額表!Z9/取引額表!Z$54)","v":0},{"$f":"IF(取引額表!AA$54=0,0,取引額表!AA9/取引額表!AA$54)","v":0},{"$f":"IF(取引額表!AB$54=0,0,取引額表!AB9/取引額表!AB$54)","v":8.3768074125438035E-5},{"$f":"IF(取引額表!AC$54=0,0,取引額表!AC9/取引額表!AC$54)","v":0},{"$f":"IF(取引額表!AD$54=0,0,取引額表!AD9/取引額表!AD$54)","v":1.3426837831995349E-6},{"$f":"IF(取引額表!AE$54=0,0,取引額表!AE9/取引額表!AE$54)","v":1.3060047486332662E-4},{"$f":"IF(取引額表!AF$54=0,0,取引額表!AF9/取引額表!AF$54)","v":0},{"$f":"IF(取引額表!AG$54=0,0,取引額表!AG9/取引額表!AG$54)","v":4.3255214416097863E-6},{"$f":"IF(取引額表!AH$54=0,0,取引額表!AH9/取引額表!AH$54)","v":9.1980454153492387E-4},{"$f":"IF(取引額表!AI$54=0,0,取引額表!AI9/取引額表!AI$54)","v":1.8209719207706416E-3},{"$f":"IF(取引額表!AJ$54=0,0,取引額表!AJ9/取引額表!AJ$54)","v":1.5062257330298568E-3},{"$f":"IF(取引額表!AK$54=0,0,取引額表!AK9/取引額表!AK$54)","v":6.5490029143062969E-6},{"$f":"IF(取引額表!AL$54=0,0,取引額表!AL9/取引額表!AL$54)","v":2.1662852377691871E-2},{"$f":"IF(取引額表!AM$54=0,0,取引額表!AM9/取引額表!AM$54)","v":0},{"$f":"IF(取引額表!AN$54=0,0,取引額表!AN9/取引額表!AN$54)","v":0},{"$f":"IF(取引額表!AO$54=0,0,取引額表!AO9/取引額表!AO$54)","v":1.6412122952117861E-2},{"$f":"IF(取引額表!AP$46=0,0,取引額表!AP9/取引額表!AP$46)","v":4.6512131012774608E-3},{"$f":"IF(取引額表!AQ$46=0,0,取引額表!AQ9/取引額表!AQ$46)","v":1.1255611706694797E-2},{"$f":"IF(取引額表!AR$46=0,0,取引額表!AR9/取引額表!AR$46)","v":0},{"$f":"IF(取引額表!AS$46=0,0,取引額表!AS9/取引額表!AS$46)","v":0},{"$f":"IF(取引額表!AT$46=0,0,取引額表!AT9/取引額表!AT$46)","v":1.7531672061308259E-5},{"$f":"IF(取引額表!AU$46=0,0,取引額表!AU9/取引額表!AU$46)","v":0.42928112215078901},{"$f":"IF(取引額表!AV$46=0,0,取引額表!AV9/取引額表!AV$46)","v":5.1880674448767834E-4},{"$f":"IF(取引額表!AW$46=0,0,取引額表!AW9/取引額表!AW$46)","v":7.4766028925246407E-3},{"$f":"IF(取引額表!AX$46=0,0,取引額表!AX9/取引額表!AX$46)","v":1.9198098489511546E-2},{"$f":"IF(取引額表!AY$46=0,0,取引額表!AY9/取引額表!AY$46)","v":1.5760938091035178E-4},{"$f":"IF(取引額表!AZ$46=0,0,取引額表!AZ9/取引額表!AZ$46)","v":3.5692564338714442E-3},{"$f":"IF(取引額表!BA$46=0,0,取引額表!BA9/取引額表!BA$46)","v":3.0396594328774497E-3},{"$f":"IF(取引額表!BB$46=0,0,取引額表!BB9/取引額表!BB$46)","v":6.0203018357865307E-3},{"$f":"IF(取引額表!BC$46=0,0,取引額表!BC9/取引額表!BC$46)","v":1.5699002823991604E-2},{"$f":"IF(取引額表!BD$46=0,0,取引額表!BD9/取引額表!BD$46)","v":0.12016245193026322},{"$f":"IF(取引額表!BE$46=0,0,取引額表!BE9/取引額表!BE$46)","v":2.996796203893479E-2},{"$f":"IF(取引額表!BF$46=0,0,取引額表!BF9/取引額表!BF$46)","v":4.9678123177692414E-2},{"$f":"IF(取引額表!BG$46=0,0,取引額表!BG9/取引額表!BG$46)","v":-2.7276157863700742E-2},{"$f":"IF(取引額表!BH$46=0,0,取引額表!BH9/取引額表!BH$46)","v":2.1238834115244326E-3}]
[null,"06","鉱業",{"$f":"IF(取引額表!D$54=0,0,取引額表!D10/取引額表!D$54)","v":0},{"$f":"IF(取引額表!E$54=0,0,取引額表!E10/取引額表!E$54)","v":0},{"$f":"IF(取引額表!F$54=0,0,取引額表!F10/取引額表!F$54)","v":1.8021849690564842E-5},{"$f":"IF(取引額表!G$54=0,0,取引額表!G10/取引額表!G$54)","v":0},{"$f":"IF(取引額表!H$54=0,0,取引額表!H10/取引額表!H$54)","v":0},{"$f":"IF(取引額表!I$54=0,0,取引額表!I10/取引額表!I$54)","v":9.862977427682532E-3},{"$f":"IF(取引額表!J$54=0,0,取引額表!J10/取引額表!J$54)","v":0.73042383442321779},{"$f":"IF(取引額表!K$54=0,0,取引額表!K10/取引額表!K$54)","v":0},{"$f":"IF(取引額表!L$54=0,0,取引額表!L10/取引額表!L$54)","v":9.0996461491415839E-2},{"$f":"IF(取引額表!M$54=0,0,取引額表!M10/取引額表!M$54)","v":7.8992922858560508E-2},{"$f":"IF(取引額表!N$54=0,0,取引額表!N10/取引額表!N$54)","v":6.3653723742838951E-4},{"$f":"IF(取引額表!O$54=0,0,取引額表!O10/取引額表!O$54)","v":2.4255654599478503E-4},{"$f":"IF(取引額表!P$54=0,0,取引額表!P10/取引額表!P$54)","v":0},{"$f":"IF(取引額表!Q$54=0,0,取引額表!Q10/取引額表!Q$54)","v":0},{"$f":"IF(取引額表!R$54=0,0,取引額表!R10/取引額表!R$54)","v":1.5192950470981463E-4},{"$f":"IF(取引額表!S$54=0,0,取引額表!S10/取引額表!S$54)","v":0},{"$f":"IF(取引額表!T$54=0,0,取引額表!T10/取引額表!T$54)","v":0},{"$f":"IF(取引額表!U$54=0,0,取引額表!U10/取引額表!U$54)","v":0},{"$f":"IF(取引額表!V$54=0,0,取引額表!V10/取引額表!V$54)","v":0},{"$f":"IF(取引額表!W$54=0,0,取引額表!W10/取引額表!W$54)","v":1.853736551323059E-3},{"$f":"IF(取引額表!X$54=0,0,取引額表!X10/取引額表!X$54)","v":7.7566242873485175E-3},{"$f":"IF(取引額表!Y$54=0,0,取引額表!Y10/取引額表!Y$54)","v":0.40241125510408132},{"$f":"IF(取引額表!Z$54=0,0,取引額表!Z10/取引額表!Z$54)","v":0},{"$f":"IF(取引額表!AA$54=0,0,取引額表!AA10/取引額表!AA$54)","v":0},{"$f":"IF(取引額表!AB$54=0,0,取引額表!AB10/取引額表!AB$54)","v":0},{"$f":"IF(取引額表!AC$54=0,0,取引額表!AC10/取引額表!AC$54)","v":0},{"$f":"IF(取引額表!AD$54=0,0,取引額表!AD10/取引額表!AD$54)","v":0},{"$f":"IF(取引額表!AE$54=0,0,取引額表!AE10/取引額表!AE$54)","v":2.6120094972665322E-6},{"$f":"IF(取引額表!AF$54=0,0,取引額表!AF10/取引額表!AF$54)","v":0},{"$f":"IF(取引額表!AG$54=0,0,取引額表!AG10/取引額表!AG$54)","v":0},{"$f":"IF(取引額表!AH$54=0,0,取引額表!AH10/取引額表!AH$54)","v":2.463762164825689E-5},{"$f":"IF(取引額表!AI$54=0,0,取引額表!AI10/取引額表!AI$54)","v":0},{"$f":"IF(取引額表!AJ$54=0,0,取引額表!AJ10/取引額表!AJ$54)","v":0},{"$f":"IF(取引額表!AK$54=0,0,取引額表!AK10/取引額表!AK$54)","v":0},{"$f":"IF(取引額表!AL$54=0,0,取引額表!AL10/取引額表!AL$54)","v":-7.992689353471359E-6},{"$f":"IF(取引額表!AM$54=0,0,取引額表!AM10/取引額表!AM$54)","v":0},{"$f":"IF(取引額表!AN$54=0,0,取引額表!AN10/取引額表!AN$54)","v":8.4026552390555415E-5},{"$f":"IF(取引額表!AO$54=0,0,取引額表!AO10/取引額表!AO$54)","v":3.2113615454017523E-2},{"$f":"IF(取引額表!AP$46=0,0,取引額表!AP10/取引額表!AP$46)","v":-4.0022066220294435E-4},{"$f":"IF(取引額表!AQ$46=0,0,取引額表!AQ10/取引額表!AQ$46)","v":3.8331329882491475E-7},{"$f":"IF(取引額表!AR$46=0,0,取引額表!AR10/取引額表!AR$46)","v":0},{"$f":"IF(取引額表!AS$46=0,0,取引額表!AS10/取引額表!AS$46)","v":0},{"$f":"IF(取引額表!AT$46=0,0,取引額表!AT10/取引額表!AT$46)","v":-6.3552311222242426E-5},{"$f":"IF(取引額表!AU$46=0,0,取引額表!AU10/取引額表!AU$46)","v":-1.9579193454120396E-2},{"$f":"IF(取引額表!AV$46=0,0,取引額表!AV10/取引額表!AV$46)","v":0},{"$f":"IF(取引額表!AW$46=0,0,取引額表!AW10/取引額表!AW$46)","v":-3.1557943971261235E-5},{"$f":"IF(取引額表!AX$46=0,0,取引額表!AX10/取引額表!AX$46)","v":2.9270861778154134E-2},{"$f":"IF(取引額表!AY$46=0,0,取引額表!AY10/取引額表!AY$46)","v":3.1521876182070357E-5},{"$f":"IF(取引額表!AZ$46=0,0,取引額表!AZ10/取引額表!AZ$46)","v":3.7302842314398087E-4},{"$f":"IF(取引額表!BA$46=0,0,取引額表!BA10/取引額表!BA$46)","v":3.2001565825850808E-4},{"$f":"IF(取引額表!BB$46=0,0,取引額表!BB10/取引額表!BB$46)","v":8.383613600855193E-5},{"$f":"IF(取引額表!BC$46=0,0,取引額表!BC10/取引額表!BC$46)","v":2.3001581693846081E-2},{"$f":"IF(取引額表!BD$46=0,0,取引額表!BD10/取引額表!BD$46)","v":0.31489584324170078},{"$f":"IF(取引額表!BE$46=0,0,取引額表!BE10/取引額表!BE$46)","v":1.4581190938173148E-2},{"$f":"IF(取引額表!BF$46=0,0,取引額表!BF10/取引額表!BF$46)","v":8.0208816266110081E-2},{"$f":"IF(取引額表!BG$46=0,0,取引額表!BG10/取引額表!BG$46)","v":-6.1024989037164364E-2},{"$f":"IF(取引額表!BH$46=0,0,取引額表!BH10/取引額表!BH$46)","v":1.4651562704832703E-4}]
[null,"11","飲食料品　　　　　　　",{"$f":"IF(取引額表!D$54=0,0,取引額表!D11/取引額表!D$54)","v":4.964390448261416E-2},{"$f":"IF(取引額表!E$54=0,0,取引額表!E11/取引額表!E$54)","v":0},{"$f":"IF(取引額表!F$54=0,0,取引額表!F11/取引額表!F$54)","v":0.21371390674053223},{"$f":"IF(取引額表!G$54=0,0,取引額表!G11/取引額表!G$54)","v":8.9206066012488853E-4},{"$f":"IF(取引額表!H$54=0,0,取引額表!H11/取引額表!H$54)","v":1.1111934217349433E-3},{"$f":"IF(取引額表!I$54=0,0,取引額表!I11/取引額表!I$54)","v":6.5532534586615473E-3},{"$f":"IF(取引額表!J$54=0,0,取引額表!J11/取引額表!J$54)","v":0},{"$f":"IF(取引額表!K$54=0,0,取引額表!K11/取引額表!K$54)","v":0},{"$f":"IF(取引額表!L$54=0,0,取引額表!L11/取引額表!L$54)","v":1.0047616967367088E-3},{"$f":"IF(取引額表!M$54=0,0,取引額表!M11/取引額表!M$54)","v":0},{"$f":"IF(取引額表!N$54=0,0,取引額表!N11/取引額表!N$54)","v":0},{"$f":"IF(取引額表!O$54=0,0,取引額表!O11/取引額表!O$54)","v":0},{"$f":"IF(取引額表!P$54=0,0,取引額表!P11/取引額表!P$54)","v":0},{"$f":"IF(取引額表!Q$54=0,0,取引額表!Q11/取引額表!Q$54)","v":0},{"$f":"IF(取引額表!R$54=0,0,取引額表!R11/取引額表!R$54)","v":0},{"$f":"IF(取引額表!S$54=0,0,取引額表!S11/取引額表!S$54)","v":0},{"$f":"IF(取引額表!T$54=0,0,取引額表!T11/取引額表!T$54)","v":0},{"$f":"IF(取引額表!U$54=0,0,取引額表!U11/取引額表!U$54)","v":0},{"$f":"IF(取引額表!V$54=0,0,取引額表!V11/取引額表!V$54)","v":0},{"$f":"IF(取引額表!W$54=0,0,取引額表!W11/取引額表!W$54)","v":6.9060773480662981E-4},{"$f":"IF(取引額表!X$54=0,0,取引額表!X11/取引額表!X$54)","v":3.1001695792759865E-6},{"$f":"IF(取引額表!Y$54=0,0,取引額表!Y11/取引額表!Y$54)","v":0},{"$f":"IF(取引額表!Z$54=0,0,取引額表!Z11/取引額表!Z$54)","v":0},{"$f":"IF(取引額表!AA$54=0,0,取引額表!AA11/取引額表!AA$54)","v":0},{"$f":"IF(取引額表!AB$54=0,0,取引額表!AB11/取引額表!AB$54)","v":1.132420261325366E-4},{"$f":"IF(取引額表!AC$54=0,0,取引額表!AC11/取引額表!AC$54)","v":0},{"$f":"IF(取引額表!AD$54=0,0,取引額表!AD11/取引額表!AD$54)","v":0},{"$f":"IF(取引額表!AE$54=0,0,取引額表!AE11/取引額表!AE$54)","v":7.1046658325649669E-4},{"$f":"IF(取引額表!AF$54=0,0,取引額表!AF11/取引額表!AF$54)","v":0},{"$f":"IF(取引額表!AG$54=0,0,取引額表!AG11/取引額表!AG$54)","v":2.206015935220991E-4},{"$f":"IF(取引額表!AH$54=0,0,取引額表!AH11/取引額表!AH$54)","v":1.1826058391163307E-3},{"$f":"IF(取引額表!AI$54=0,0,取引額表!AI11/取引額表!AI$54)","v":7.882995328011436E-3},{"$f":"IF(取引額表!AJ$54=0,0,取引額表!AJ11/取引額表!AJ$54)","v":3.2132815637970279E-3},{"$f":"IF(取引額表!AK$54=0,0,取引額表!AK11/取引額表!AK$54)","v":4.9117521857297229E-6},{"$f":"IF(取引額表!AL$54=0,0,取引額表!AL11/取引額表!AL$54)","v":0.14032498274911215},{"$f":"IF(取引額表!AM$54=0,0,取引額表!AM11/取引額表!AM$54)","v":0},{"$f":"IF(取引額表!AN$54=0,0,取引額表!AN11/取引額表!AN$54)","v":1.2884071366551831E-3},{"$f":"IF(取引額表!AO$54=0,0,取引額表!AO11/取引額表!AO$54)","v":1.7300262719721536E-2},{"$f":"IF(取引額表!AP$46=0,0,取引額表!AP11/取引額表!AP$46)","v":6.1655615528561691E-2},{"$f":"IF(取引額表!AQ$46=0,0,取引額表!AQ11/取引額表!AQ$46)","v":8.4997807447930715E-2},{"$f":"IF(取引額表!AR$46=0,0,取引額表!AR11/取引額表!AR$46)","v":1.9655065441895603E-3},{"$f":"IF(取引額表!AS$46=0,0,取引額表!AS11/取引額表!AS$46)","v":0},{"$f":"IF(取引額表!AT$46=0,0,取引額表!AT11/取引額表!AT$46)","v":0},{"$f":"IF(取引額表!AU$46=0,0,取引額表!AU11/取引額表!AU$46)","v":0.9316189362945646},{"$f":"IF(取引額表!AV$46=0,0,取引額表!AV11/取引額表!AV$46)","v":1.530479896238651E-2},{"$f":"IF(取引額表!AW$46=0,0,取引額表!AW11/取引額表!AW$46)","v":5.554963180007947E-2},{"$f":"IF(取引額表!AX$46=0,0,取引額表!AX11/取引額表!AX$46)","v":4.7204099814152613E-2},{"$f":"IF(取引額表!AY$46=0,0,取引額表!AY11/取引額表!AY$46)","v":6.042743664102887E-3},{"$f":"IF(取引額表!AZ$46=0,0,取引額表!AZ11/取引額表!AZ$46)","v":0.10899496643323428},{"$f":"IF(取引額表!BA$46=0,0,取引額表!BA11/取引額表!BA$46)","v":9.3013480781934291E-2},{"$f":"IF(取引額表!BB$46=0,0,取引額表!BB11/取引額表!BB$46)","v":6.7846079423978287E-2},{"$f":"IF(取引額表!BC$46=0,0,取引額表!BC11/取引額表!BC$46)","v":5.7124080687472573E-2},{"$f":"IF(取引額表!BD$46=0,0,取引額表!BD11/取引額表!BD$46)","v":9.737943498525635E-2},{"$f":"IF(取引額表!BE$46=0,0,取引額表!BE11/取引額表!BE$46)","v":9.7053885048080685E-2},{"$f":"IF(取引額表!BF$46=0,0,取引額表!BF11/取引額表!BF$46)","v":9.7125027328813979E-2},{"$f":"IF(取引額表!BG$46=0,0,取引額表!BG11/取引額表!BG$46)","v":4.5515938363526777E-2},{"$f":"IF(取引額表!BH$46=0,0,取引額表!BH11/取引額表!BH$46)","v":4.1143160003962446E-2}]
[null,"15","繊維製品　",{"$f":"IF(取引額表!D$54=0,0,取引額表!D12/取引額表!D$54)","v":2.9325513196480938E-3},{"$f":"IF(取引額表!E$54=0,0,取引額表!E12/取引額表!E$54)","v":5.0607287449392713E-3},{"$f":"IF(取引額表!F$54=0,0,取引額表!F12/取引額表!F$54)","v":1.1029372010625683E-3},{"$f":"IF(取引額表!G$54=0,0,取引額表!G12/取引額表!G$54)","v":0.25512934879571814},{"$f":"IF(取引額表!H$54=0,0,取引額表!H12/取引額表!H$54)","v":5.3337284243277277E-3},{"$f":"IF(取引額表!I$54=0,0,取引額表!I12/取引額表!I$54)","v":5.295558350433574E-4},{"$f":"IF(取引額表!J$54=0,0,取引額表!J12/取引額表!J$54)","v":1.6701568662718245E-4},{"$f":"IF(取引額表!K$54=0,0,取引額表!K12/取引額表!K$54)","v":2.4677296886864084E-3},{"$f":"IF(取引額表!L$54=0,0,取引額表!L12/取引額表!L$54)","v":2.8395439255602638E-3},{"$f":"IF(取引額表!M$54=0,0,取引額表!M12/取引額表!M$54)","v":4.9617704553470544E-4},{"$f":"IF(取引額表!N$54=0,0,取引額表!N12/取引額表!N$54)","v":5.8349246764269043E-4},{"$f":"IF(取引額表!O$54=0,0,取引額表!O12/取引額表!O$54)","v":1.4856588442180583E-3},{"$f":"IF(取引額表!P$54=0,0,取引額表!P12/取引額表!P$54)","v":9.0122566690699346E-4},{"$f":"IF(取引額表!Q$54=0,0,取引額表!Q12/取引額表!Q$54)","v":7.8611598234262564E-4},{"$f":"IF(取引額表!R$54=0,0,取引額表!R12/取引額表!R$54)","v":1.3673655423883319E-3},{"$f":"IF(取引額表!S$54=0,0,取引額表!S12/取引額表!S$54)","v":4.27578834847675E-3},{"$f":"IF(取引額表!T$54=0,0,取引額表!T12/取引額表!T$54)","v":1.6458514861070772E-3},{"$f":"IF(取引額表!U$54=0,0,取引額表!U12/取引額表!U$54)","v":1.2642225031605564E-3},{"$f":"IF(取引額表!V$54=0,0,取引額表!V12/取引額表!V$54)","v":0},{"$f":"IF(取引額表!W$54=0,0,取引額表!W12/取引額表!W$54)","v":2.0354754289037512E-3},{"$f":"IF(取引額表!X$54=0,0,取引額表!X12/取引額表!X$54)","v":3.3698843326729973E-3},{"$f":"IF(取引額表!Y$54=0,0,取引額表!Y12/取引額表!Y$54)","v":2.5157557265696056E-4},{"$f":"IF(取引額表!Z$54=0,0,取引額表!Z12/取引額表!Z$54)","v":6.3588124369600492E-4},{"$f":"IF(取引額表!AA$54=0,0,取引額表!AA12/取引額表!AA$54)","v":2.309711286089239E-3},{"$f":"IF(取引額表!AB$54=0,0,取引額表!AB12/取引額表!AB$54)","v":3.4267347359831966E-3},{"$f":"IF(取引額表!AC$54=0,0,取引額表!AC12/取引額表!AC$54)","v":1.1402997665781356E-3},{"$f":"IF(取引額表!AD$54=0,0,取引額表!AD12/取引額表!AD$54)","v":2.8196359447190232E-5},{"$f":"IF(取引額表!AE$54=0,0,取引額表!AE12/取引額表!AE$54)","v":3.2989679950476301E-3},{"$f":"IF(取引額表!AF$54=0,0,取引額表!AF12/取引額表!AF$54)","v":7.9574252407501266E-4},{"$f":"IF(取引額表!AG$54=0,0,取引額表!AG12/取引額表!AG$54)","v":3.6507400967186595E-3},{"$f":"IF(取引額表!AH$54=0,0,取引額表!AH12/取引額表!AH$54)","v":6.898534061511929E-4},{"$f":"IF(取引額表!AI$54=0,0,取引額表!AI12/取引額表!AI$54)","v":3.1295491452205397E-3},{"$f":"IF(取引額表!AJ$54=0,0,取引額表!AJ12/取引額表!AJ$54)","v":1.3723390012049806E-2},{"$f":"IF(取引額表!AK$54=0,0,取引額表!AK12/取引額表!AK$54)","v":1.876289334948754E-3},{"$f":"IF(取引額表!AL$54=0,0,取引額表!AL12/取引額表!AL$54)","v":2.9199958438015363E-3},{"$f":"IF(取引額表!AM$54=0,0,取引額表!AM12/取引額表!AM$54)","v":1.9329581600195742E-2},{"$f":"IF(取引額表!AN$54=0,0,取引額表!AN12/取引額表!AN$54)","v":6.7221241912444332E-4},{"$f":"IF(取引額表!AO$54=0,0,取引額表!AO12/取引額表!AO$54)","v":1.7937783651584653E-3},{"$f":"IF(取引額表!AP$46=0,0,取引額表!AP12/取引額表!AP$46)","v":7.5825590325476746E-3},{"$f":"IF(取引額表!AQ$46=0,0,取引額表!AQ12/取引額表!AQ$46)","v":1.3611838554571548E-2},{"$f":"IF(取引額表!AR$46=0,0,取引額表!AR12/取引額表!AR$46)","v":0},{"$f":"IF(取引額表!AS$46=0,0,取引額表!AS12/取引額表!AS$46)","v":1.153795120600435E-5},{"$f":"IF(取引額表!AT$46=0,0,取引額表!AT12/取引額表!AT$46)","v":2.9935330044683849E-3},{"$f":"IF(取引額表!AU$46=0,0,取引額表!AU12/取引額表!AU$46)","v":-0.10753945061367622},{"$f":"IF(取引額表!AV$46=0,0,取引額表!AV12/取引額表!AV$46)","v":2.5940337224383917E-4},{"$f":"IF(取引額表!AW$46=0,0,取引額表!AW12/取引額表!AW$46)","v":8.896710371231395E-3},{"$f":"IF(取引額表!AX$46=0,0,取引額表!AX12/取引額表!AX$46)","v":6.6690551862997978E-3},{"$f":"IF(取引額表!AY$46=0,0,取引額表!AY12/取引額表!AY$46)","v":1.3869625520110957E-4},{"$f":"IF(取引額表!AZ$46=0,0,取引額表!AZ12/取引額表!AZ$46)","v":5.5375026789696534E-4},{"$f":"IF(取引額表!BA$46=0,0,取引額表!BA12/取引額表!BA$46)","v":4.8932057837692362E-4},{"$f":"IF(取引額表!BB$46=0,0,取引額表!BB12/取引額表!BB$46)","v":6.1372227304497982E-3},{"$f":"IF(取引額表!BC$46=0,0,取引額表!BC12/取引額表!BC$46)","v":5.330839130599254E-3},{"$f":"IF(取引額表!BD$46=0,0,取引額表!BD12/取引額表!BD$46)","v":5.5653884306504871E-2},{"$f":"IF(取引額表!BE$46=0,0,取引額表!BE12/取引額表!BE$46)","v":7.8007329069521665E-3},{"$f":"IF(取引額表!BF$46=0,0,取引額表!BF12/取引額表!BF$46)","v":1.8258060468968017E-2},{"$f":"IF(取引額表!BG$46=0,0,取引額表!BG12/取引額表!BG$46)","v":-3.106962455154288E-3},{"$f":"IF(取引額表!BH$46=0,0,取引額表!BH12/取引額表!BH$46)","v":1.662388845356018E-4}]
[null,"16","パルプ・紙・木製品",{"$f":"IF(取引額表!D$54=0,0,取引額表!D13/取引額表!D$54)","v":3.6587068845133359E-2},{"$f":"IF(取引額表!E$54=0,0,取引額表!E13/取引額表!E$54)","v":2.0242914979757085E-3},{"$f":"IF(取引額表!F$54=0,0,取引額表!F13/取引額表!F$54)","v":6.5203052180463593E-3},{"$f":"IF(取引額表!G$54=0,0,取引額表!G13/取引額表!G$54)","v":6.2444246208742194E-3},{"$f":"IF(取引額表!H$54=0,0,取引額表!H13/取引額表!H$54)","v":0.25305578190977107},{"$f":"IF(取引額表!I$54=0,0,取引額表!I13/取引額表!I$54)","v":5.8251141854769308E-3},{"$f":"IF(取引額表!J$54=0,0,取引額表!J13/取引額表!J$54)","v":1.0277888407826612E-4},{"$f":"IF(取引額表!K$54=0,0,取引額表!K13/取引額表!K$54)","v":7.4981017463933179E-3},{"$f":"IF(取引額表!L$54=0,0,取引額表!L13/取引額表!L$54)","v":8.6933729413306536E-3},{"$f":"IF(取引額表!M$54=0,0,取引額表!M13/取引額表!M$54)","v":4.7653492497136949E-4},{"$f":"IF(取引額表!N$54=0,0,取引額表!N13/取引額表!N$54)","v":3.3948652662847442E-3},{"$f":"IF(取引額表!O$54=0,0,取引額表!O13/取引額表!O$54)","v":3.517069916924383E-3},{"$f":"IF(取引額表!P$54=0,0,取引額表!P13/取引額表!P$54)","v":5.4073540014419608E-4},{"$f":"IF(取引額表!Q$54=0,0,取引額表!Q13/取引額表!Q$54)","v":6.5308096994618132E-4},{"$f":"IF(取引額表!R$54=0,0,取引額表!R13/取引額表!R$54)","v":1.1546642357945914E-2},{"$f":"IF(取引額表!S$54=0,0,取引額表!S13/取引額表!S$54)","v":4.0976305006235527E-3},{"$f":"IF(取引額表!T$54=0,0,取引額表!T13/取引額表!T$54)","v":1.2198663955852455E-2},{"$f":"IF(取引額表!U$54=0,0,取引額表!U13/取引額表!U$54)","v":5.8997050147492625E-3},{"$f":"IF(取引額表!V$54=0,0,取引額表!V13/取引額表!V$54)","v":1.8159806295399517E-3},{"$f":"IF(取引額表!W$54=0,0,取引額表!W13/取引額表!W$54)","v":7.196859552195406E-2},{"$f":"IF(取引額表!X$54=0,0,取引額表!X13/取引額表!X$54)","v":5.2696682508533217E-2},{"$f":"IF(取引額表!Y$54=0,0,取引額表!Y13/取引額表!Y$54)","v":9.4824638924546683E-4},{"$f":"IF(取引額表!Z$54=0,0,取引額表!Z13/取引額表!Z$54)","v":1.6664473972722888E-3},{"$f":"IF(取引額表!AA$54=0,0,取引額表!AA13/取引額表!AA$54)","v":4.1819772528433946E-3},{"$f":"IF(取引額表!AB$54=0,0,取引額表!AB13/取引額表!AB$54)","v":6.301220686991283E-3},{"$f":"IF(取引額表!AC$54=0,0,取引額表!AC13/取引額表!AC$54)","v":2.9597749427169159E-3},{"$f":"IF(取引額表!AD$54=0,0,取引額表!AD13/取引額表!AD$54)","v":3.9609171604386282E-4},{"$f":"IF(取引額表!AE$54=0,0,取引額表!AE13/取引額表!AE$54)","v":4.5605685822273654E-3},{"$f":"IF(取引額表!AF$54=0,0,取引額表!AF13/取引額表!AF$54)","v":7.9270146984287884E-3},{"$f":"IF(取引額表!AG$54=0,0,取引額表!AG13/取引額表!AG$54)","v":1.1592397463514226E-3},{"$f":"IF(取引額表!AH$54=0,0,取引額表!AH13/取引額表!AH$54)","v":5.2437071408040076E-3},{"$f":"IF(取引額表!AI$54=0,0,取引額表!AI13/取引額表!AI$54)","v":4.7928611594309526E-3},{"$f":"IF(取引額表!AJ$54=0,0,取引額表!AJ13/取引額表!AJ$54)","v":1.2083277547195072E-2},{"$f":"IF(取引額表!AK$54=0,0,取引額表!AK13/取引額表!AK$54)","v":2.660532433936933E-3},{"$f":"IF(取引額表!AL$54=0,0,取引額表!AL13/取引額表!AL$54)","v":5.2112334584633255E-3},{"$f":"IF(取引額表!AM$54=0,0,取引額表!AM13/取引額表!AM$54)","v":0.48984585270369463},{"$f":"IF(取引額表!AN$54=0,0,取引額表!AN13/取引額表!AN$54)","v":2.1566815113575888E-3},{"$f":"IF(取引額表!AO$54=0,0,取引額表!AO13/取引額表!AO$54)","v":7.1291419582199126E-3},{"$f":"IF(取引額表!AP$46=0,0,取引額表!AP13/取引額表!AP$46)","v":4.9540827915932027E-3},{"$f":"IF(取引額表!AQ$46=0,0,取引額表!AQ13/取引額表!AQ$46)","v":1.2461515344797979E-3},{"$f":"IF(取引額表!AR$46=0,0,取引額表!AR13/取引額表!AR$46)","v":1.8944641389778891E-5},{"$f":"IF(取引額表!AS$46=0,0,取引額表!AS13/取引額表!AS$46)","v":2.480659509290935E-4},{"$f":"IF(取引額表!AT$46=0,0,取引額表!AT13/取引額表!AT$46)","v":3.3704639537865126E-3},{"$f":"IF(取引額表!AU$46=0,0,取引額表!AU13/取引額表!AU$46)","v":-2.571595558153127E-2},{"$f":"IF(取引額表!AV$46=0,0,取引額表!AV13/取引額表!AV$46)","v":1.0376134889753567E-3},{"$f":"IF(取引額表!AW$46=0,0,取引額表!AW13/取引額表!AW$46)","v":1.2484513895297436E-3},{"$f":"IF(取引額表!AX$46=0,0,取引額表!AX13/取引額表!AX$46)","v":7.2082979822960108E-3},{"$f":"IF(取引額表!AY$46=0,0,取引額表!AY13/取引額表!AY$46)","v":3.3287101248266299E-3},{"$f":"IF(取引額表!AZ$46=0,0,取引額表!AZ13/取引額表!AZ$46)","v":6.7127739065459538E-3},{"$f":"IF(取引額表!BA$46=0,0,取引額表!BA13/取引額表!BA$46)","v":6.1874587135761997E-3},{"$f":"IF(取引額表!BB$46=0,0,取引額表!BB13/取引額表!BB$46)","v":2.869540693610723E-3},{"$f":"IF(取引額表!BC$46=0,0,取引額表!BC13/取引額表!BC$46)","v":6.9872361428540697E-3},{"$f":"IF(取引額表!BD$46=0,0,取引額表!BD13/取引額表!BD$46)","v":1.5120734872470818E-2},{"$f":"IF(取引額表!BE$46=0,0,取引額表!BE13/取引額表!BE$46)","v":2.0680990730603258E-2},{"$f":"IF(取引額表!BF$46=0,0,取引額表!BF13/取引額表!BF$46)","v":1.9465910529267723E-2},{"$f":"IF(取引額表!BG$46=0,0,取引額表!BG13/取引額表!BG$46)","v":-9.7879933382195444E-3},{"$f":"IF(取引額表!BH$46=0,0,取引額表!BH13/取引額表!BH$46)","v":2.0018364873738525E-3}]
[null,"20","化学製品  　　　  　",{"$f":"IF(取引額表!D$54=0,0,取引額表!D14/取引額表!D$54)","v":7.973746683424103E-2},{"$f":"IF(取引額表!E$54=0,0,取引額表!E14/取引額表!E$54)","v":1.7206477732793522E-2},{"$f":"IF(取引額表!F$54=0,0,取引額表!F14/取引額表!F$54)","v":5.900353588690929E-3},{"$f":"IF(取引額表!G$54=0,0,取引額表!G14/取引額表!G$54)","v":6.5120428189116855E-2},{"$f":"IF(取引額表!H$54=0,0,取引額表!H14/取引額表!H$54)","v":2.9557745018149492E-2},{"$f":"IF(取引額表!I$54=0,0,取引額表!I14/取引額表!I$54)","v":0.39882173826702855},{"$f":"IF(取引額表!J$54=0,0,取引額表!J14/取引額表!J$54)","v":1.991340879016406E-3},{"$f":"IF(取引額表!K$54=0,0,取引額表!K14/取引額表!K$54)","v":0.19684889901290811},{"$f":"IF(取引額表!L$54=0,0,取引額表!L14/取引額表!L$54)","v":3.4686121182997687E-2},{"$f":"IF(取引額表!M$54=0,0,取引額表!M14/取引額表!M$54)","v":4.4895055565851065E-3},{"$f":"IF(取引額表!N$54=0,0,取引額表!N14/取引額表!N$54)","v":4.6679397411415234E-3},{"$f":"IF(取引額表!O$54=0,0,取引額表!O14/取引額表!O$54)","v":1.1551755503001637E-2},{"$f":"IF(取引額表!P$54=0,0,取引額表!P14/取引額表!P$54)","v":2.7036770007209804E-3},{"$f":"IF(取引額表!Q$54=0,0,取引額表!Q14/取引額表!Q$54)","v":3.4589103223075525E-3},{"$f":"IF(取引額表!R$54=0,0,取引額表!R14/取引額表!R$54)","v":1.6560316013369797E-2},{"$f":"IF(取引額表!S$54=0,0,取引額表!S14/取引額表!S$54)","v":9.4423659362194903E-3},{"$f":"IF(取引額表!T$54=0,0,取引額表!T14/取引額表!T$54)","v":1.2392293542453288E-2},{"$f":"IF(取引額表!U$54=0,0,取引額表!U14/取引額表!U$54)","v":9.0602612726506538E-3},{"$f":"IF(取引額表!V$54=0,0,取引額表!V14/取引額表!V$54)","v":1.0290556900726392E-2},{"$f":"IF(取引額表!W$54=0,0,取引額表!W14/取引額表!W$54)","v":2.2353881942425123E-2},{"$f":"IF(取引額表!X$54=0,0,取引額表!X14/取引額表!X$54)","v":5.0408757359027539E-3},{"$f":"IF(取引額表!Y$54=0,0,取引額表!Y14/取引額表!Y$54)","v":2.3609399895499379E-3},{"$f":"IF(取引額表!Z$54=0,0,取引額表!Z14/取引額表!Z$54)","v":8.4418716835504108E-3},{"$f":"IF(取引額表!AA$54=0,0,取引額表!AA14/取引額表!AA$54)","v":1.5538057742782153E-2},{"$f":"IF(取引額表!AB$54=0,0,取引額表!AB14/取引額表!AB$54)","v":9.3075637917153372E-6},{"$f":"IF(取引額表!AC$54=0,0,取引額表!AC14/取引額表!AC$54)","v":1.7873037093701184E-5},{"$f":"IF(取引額表!AD$54=0,0,取引額表!AD14/取引額表!AD$54)","v":1.7454889181593955E-5},{"$f":"IF(取引額表!AE$54=0,0,取引額表!AE14/取引額表!AE$54)","v":3.6829333911458104E-4},{"$f":"IF(取引額表!AF$54=0,0,取引額表!AF14/取引額表!AF$54)","v":7.1718195641155597E-4},{"$f":"IF(取引額表!AG$54=0,0,取引額表!AG14/取引額表!AG$54)","v":7.0073447354078531E-4},{"$f":"IF(取引額表!AH$54=0,0,取引額表!AH14/取引額表!AH$54)","v":3.6710056255902764E-3},{"$f":"IF(取引額表!AI$54=0,0,取引額表!AI14/取引額表!AI$54)","v":0.10661225648113599},{"$f":"IF(取引額表!AJ$54=0,0,取引額表!AJ14/取引額表!AJ$54)","v":1.4727540500736377E-3},{"$f":"IF(取引額表!AK$54=0,0,取引額表!AK14/取引額表!AK$54)","v":2.8782867808376175E-3},{"$f":"IF(取引額表!AL$54=0,0,取引額表!AL14/取引額表!AL$54)","v":6.4927279848032331E-3},{"$f":"IF(取引額表!AM$54=0,0,取引額表!AM14/取引額表!AM$54)","v":1.7739172987521409E-2},{"$f":"IF(取引額表!AN$54=0,0,取引額表!AN14/取引額表!AN$54)","v":1.1259558020334426E-2},{"$f":"IF(取引額表!AO$54=0,0,取引額表!AO14/取引額表!AO$54)","v":1.0297023360048214E-2},{"$f":"IF(取引額表!AP$46=0,0,取引額表!AP14/取引額表!AP$46)","v":1.1866001795584592E-2},{"$f":"IF(取引額表!AQ$46=0,0,取引額表!AQ14/取引額表!AQ$46)","v":8.1822056767166303E-3},{"$f":"IF(取引額表!AR$46=0,0,取引額表!AR14/取引額表!AR$46)","v":0},{"$f":"IF(取引額表!AS$46=0,0,取引額表!AS14/取引額表!AS$46)","v":0},{"$f":"IF(取引額表!AT$46=0,0,取引額表!AT14/取引額表!AT$46)","v":0},{"$f":"IF(取引額表!AU$46=0,0,取引額表!AU14/取引額表!AU$46)","v":0.21420222092343658},{"$f":"IF(取引額表!AV$46=0,0,取引額表!AV14/取引額表!AV$46)","v":1.556420233463035E-2},{"$f":"IF(取引額表!AW$46=0,0,取引額表!AW14/取引額表!AW$46)","v":5.5551544402744389E-3},{"$f":"IF(取引額表!AX$46=0,0,取引額表!AX14/取引額表!AX$46)","v":1.2533912312656409E-2},{"$f":"IF(取引額表!AY$46=0,0,取引額表!AY14/取引額表!AY$46)","v":6.4777455554154584E-3},{"$f":"IF(取引額表!AZ$46=0,0,取引額表!AZ14/取引額表!AZ$46)","v":5.9539738532561788E-3},{"$f":"IF(取引額表!BA$46=0,0,取引額表!BA14/取引額表!BA$46)","v":6.0352800137009766E-3},{"$f":"IF(取引額表!BB$46=0,0,取引額表!BB14/取引額表!BB$46)","v":5.7127420647973028E-3},{"$f":"IF(取引額表!BC$46=0,0,取引額表!BC14/取引額表!BC$46)","v":1.1126639244423567E-2},{"$f":"IF(取引額表!BD$46=0,0,取引額表!BD14/取引額表!BD$46)","v":3.7501189004090177E-2},{"$f":"IF(取引額表!BE$46=0,0,取引額表!BE14/取引額表!BE$46)","v":3.2214181725775004E-2},{"$f":"IF(取引額表!BF$46=0,0,取引額表!BF14/取引額表!BF$46)","v":3.3369549038378375E-2},{"$f":"IF(取引額表!BG$46=0,0,取引額表!BG14/取引額表!BG$46)","v":-1.538024266296832E-2},{"$f":"IF(取引額表!BH$46=0,0,取引額表!BH14/取引額表!BH$46)","v":2.240295119250077E-3}]
[null,"21","石油・石炭製品　　　",{"$f":"IF(取引額表!D$54=0,0,取引額表!D15/取引額表!D$54)","v":7.2615556486524228E-3},{"$f":"IF(取引額表!E$54=0,0,取引額表!E15/取引額表!E$54)","v":4.4534412955465584E-2},{"$f":"IF(取引額表!F$54=0,0,取引額表!F15/取引額表!F$54)","v":6.2031206634924185E-3},{"$f":"IF(取引額表!G$54=0,0,取引額表!G15/取引額表!G$54)","v":0},{"$f":"IF(取引額表!H$54=0,0,取引額表!H15/取引額表!H$54)","v":2.3705459663678789E-3},{"$f":"IF(取引額表!I$54=0,0,取引額表!I15/取引額表!I$54)","v":1.429800754617065E-2},{"$f":"IF(取引額表!J$54=0,0,取引額表!J15/取引額表!J$54)","v":6.5881264694168579E-2},{"$f":"IF(取引額表!K$54=0,0,取引額表!K15/取引額表!K$54)","v":1.7084282460136675E-3},{"$f":"IF(取引額表!L$54=0,0,取引額表!L15/取引額表!L$54)","v":2.5818007077017167E-2},{"$f":"IF(取引額表!M$54=0,0,取引額表!M15/取引額表!M$54)","v":4.678923919235016E-2},{"$f":"IF(取引額表!N$54=0,0,取引額表!N15/取引額表!N$54)","v":3.1296414173562488E-3},{"$f":"IF(取引額表!O$54=0,0,取引額表!O15/取引額表!O$54)","v":4.1841004184100415E-3},{"$f":"IF(取引額表!P$54=0,0,取引額表!P15/取引額表!P$54)","v":3.6049026676279738E-4},{"$f":"IF(取引額表!Q$54=0,0,取引額表!Q15/取引額表!Q$54)","v":1.1005623752796758E-3},{"$f":"IF(取引額表!R$54=0,0,取引額表!R15/取引額表!R$54)","v":2.8866605894864784E-3},{"$f":"IF(取引額表!S$54=0,0,取引額表!S15/取引額表!S$54)","v":1.6034206306787815E-3},{"$f":"IF(取引額表!T$54=0,0,取引額表!T15/取引額表!T$54)","v":1.5490366928066609E-3},{"$f":"IF(取引額表!U$54=0,0,取引額表!U15/取引額表!U$54)","v":0},{"$f":"IF(取引額表!V$54=0,0,取引額表!V15/取引額表!V$54)","v":1.2106537530266344E-3},{"$f":"IF(取引額表!W$54=0,0,取引額表!W15/取引額表!W$54)","v":3.3076475719685957E-3},{"$f":"IF(取引額表!X$54=0,0,取引額表!X15/取引額表!X$54)","v":7.2233951197130481E-3},{"$f":"IF(取引額表!Y$54=0,0,取引額表!Y15/取引額表!Y$54)","v":7.0499216245331342E-2},{"$f":"IF(取引額表!Z$54=0,0,取引額表!Z15/取引額表!Z$54)","v":1.427443757400342E-2},{"$f":"IF(取引額表!AA$54=0,0,取引額表!AA15/取引額表!AA$54)","v":1.4995625546806649E-2},{"$f":"IF(取引額表!AB$54=0,0,取引額表!AB15/取引額表!AB$54)","v":1.9313194867809325E-3},{"$f":"IF(取引額表!AC$54=0,0,取引額表!AC15/取引額表!AC$54)","v":3.8605760122394555E-4},{"$f":"IF(取引額表!AD$54=0,0,取引額表!AD15/取引額表!AD$54)","v":6.2703332675418278E-4},{"$f":"IF(取引額表!AE$54=0,0,取引額表!AE15/取引額表!AE$54)","v":5.129464250732016E-2},{"$f":"IF(取引額表!AF$54=0,0,取引額表!AF15/取引額表!AF$54)","v":8.1348200709579317E-4},{"$f":"IF(取引額表!AG$54=0,0,取引額表!AG15/取引額表!AG$54)","v":5.8524305104980402E-3},{"$f":"IF(取引額表!AH$54=0,0,取引額表!AH15/取引額表!AH$54)","v":7.432349197224161E-3},{"$f":"IF(取引額表!AI$54=0,0,取引額表!AI15/取引額表!AI$54)","v":3.4501242885596715E-3},{"$f":"IF(取引額表!AJ$54=0,0,取引額表!AJ15/取引額表!AJ$54)","v":3.6818851251840942E-3},{"$f":"IF(取引額表!AK$54=0,0,取引額表!AK15/取引額表!AK$54)","v":2.4280428304790597E-3},{"$f":"IF(取引額表!AL$54=0,0,取引額表!AL15/取引額表!AL$54)","v":6.4314506997599531E-3},{"$f":"IF(取引額表!AM$54=0,0,取引額表!AM15/取引額表!AM$54)","v":0},{"$f":"IF(取引額表!AN$54=0,0,取引額表!AN15/取引額表!AN$54)","v":3.1089824384505502E-2},{"$f":"IF(取引額表!AO$54=0,0,取引額表!AO15/取引額表!AO$54)","v":1.6195018824588764E-2},{"$f":"IF(取引額表!AP$46=0,0,取引額表!AP15/取引額表!AP$46)","v":1.7415007193155145E-3},{"$f":"IF(取引額表!AQ$46=0,0,取引額表!AQ15/取引額表!AQ$46)","v":1.6988445403920222E-2},{"$f":"IF(取引額表!AR$46=0,0,取引額表!AR15/取引額表!AR$46)","v":4.2625443127002505E-5},{"$f":"IF(取引額表!AS$46=0,0,取引額表!AS15/取引額表!AS$46)","v":0},{"$f":"IF(取引額表!AT$46=0,0,取引額表!AT15/取引額表!AT$46)","v":0},{"$f":"IF(取引額表!AU$46=0,0,取引額表!AU15/取引額表!AU$46)","v":7.7732320280537698E-2},{"$f":"IF(取引額表!AV$46=0,0,取引額表!AV15/取引額表!AV$46)","v":1.6861219195849545E-2},{"$f":"IF(取引額表!AW$46=0,0,取引額表!AW15/取引額表!AW$46)","v":1.0722050539569119E-2},{"$f":"IF(取引額表!AX$46=0,0,取引額表!AX15/取引額表!AX$46)","v":2.083611441685294E-2},{"$f":"IF(取引額表!AY$46=0,0,取引額表!AY15/取引額表!AY$46)","v":5.5415458328079686E-3},{"$f":"IF(取引額表!AZ$46=0,0,取引額表!AZ15/取引額表!AZ$46)","v":3.6533616000834102E-2},{"$f":"IF(取引額表!BA$46=0,0,取引額表!BA15/取引額表!BA$46)","v":3.172265309617596E-2},{"$f":"IF(取引額表!BB$46=0,0,取引額表!BB15/取引額表!BB$46)","v":1.7614903688019077E-2},{"$f":"IF(取引額表!BC$46=0,0,取引額表!BC15/取引額表!BC$46)","v":2.3193584725205198E-2},{"$f":"IF(取引額表!BD$46=0,0,取引額表!BD15/取引額表!BD$46)","v":1.5496120449511489E-2},{"$f":"IF(取引額表!BE$46=0,0,取引額表!BE15/取引額表!BE$46)","v":6.2663306916067196E-2},{"$f":"IF(取引額表!BF$46=0,0,取引額表!BF15/取引額表!BF$46)","v":5.2355882961036625E-2},{"$f":"IF(取引額表!BG$46=0,0,取引額表!BG15/取引額表!BG$46)","v":-8.8809584674847536E-3},{"$f":"IF(取引額表!BH$46=0,0,取引額表!BH15/取引額表!BH$46)","v":1.1542851075466225E-2}]
[null,"22","プラスチック・ゴム",{"$f":"IF(取引額表!D$54=0,0,取引額表!D16/取引額表!D$54)","v":8.7976539589442824E-3},{"$f":"IF(取引額表!E$54=0,0,取引額表!E16/取引額表!E$54)","v":3.0364372469635628E-3},{"$f":"IF(取引額表!F$54=0,0,取引額表!F16/取引額表!F$54)","v":8.7333883600477225E-3},{"$f":"IF(取引額表!G$54=0,0,取引額表!G16/取引額表!G$54)","v":1.9625334522747548E-2},{"$f":"IF(取引額表!H$54=0,0,取引額表!H16/取引額表!H$54)","v":2.2075709311800876E-2},{"$f":"IF(取引額表!I$54=0,0,取引額表!I16/取引額表!I$54)","v":9.6643939895412721E-3},{"$f":"IF(取引額表!J$54=0,0,取引額表!J16/取引額表!J$54)","v":6.423680254891632E-5},{"$f":"IF(取引額表!K$54=0,0,取引額表!K16/取引額表!K$54)","v":0.23756643887623385},{"$f":"IF(取引額表!L$54=0,0,取引額表!L16/取引額表!L$54)","v":3.7569350399720416E-3},{"$f":"IF(取引額表!M$54=0,0,取引額表!M16/取引額表!M$54)","v":7.3871453422981112E-4},{"$f":"IF(取引額表!N$54=0,0,取引額表!N16/取引額表!N$54)","v":1.4322087842138765E-3},{"$f":"IF(取引額表!O$54=0,0,取引額表!O16/取引額表!O$54)","v":3.517069916924383E-3},{"$f":"IF(取引額表!P$54=0,0,取引額表!P16/取引額表!P$54)","v":1.1715933669790915E-2},{"$f":"IF(取引額表!Q$54=0,0,取引額表!Q16/取引額表!Q$54)","v":3.5133337364697342E-2},{"$f":"IF(取引額表!R$54=0,0,取引額表!R16/取引額表!R$54)","v":6.7760559100577336E-2},{"$f":"IF(取引額表!S$54=0,0,取引額表!S16/取引額表!S$54)","v":1.8350258328879387E-2},{"$f":"IF(取引額表!T$54=0,0,取引額表!T16/取引額表!T$54)","v":3.9306806079969017E-2},{"$f":"IF(取引額表!U$54=0,0,取引額表!U16/取引額表!U$54)","v":2.0648967551622419E-2},{"$f":"IF(取引額表!V$54=0,0,取引額表!V16/取引額表!V$54)","v":2.6634382566585957E-2},{"$f":"IF(取引額表!W$54=0,0,取引額表!W16/取引額表!W$54)","v":3.7838034312300088E-2},{"$f":"IF(取引額表!X$54=0,0,取引額表!X16/取引額表!X$54)","v":1.2791299684092721E-2},{"$f":"IF(取引額表!Y$54=0,0,取引額表!Y16/取引額表!Y$54)","v":0},{"$f":"IF(取引額表!Z$54=0,0,取引額表!Z16/取引額表!Z$54)","v":2.5983423233785028E-2},{"$f":"IF(取引額表!AA$54=0,0,取引額表!AA16/取引額表!AA$54)","v":1.1058617672790901E-2},{"$f":"IF(取引額表!AB$54=0,0,取引額表!AB16/取引額表!AB$54)","v":3.9634709146387816E-3},{"$f":"IF(取引額表!AC$54=0,0,取引額表!AC16/取引額表!AC$54)","v":2.0232277990069741E-3},{"$f":"IF(取引額表!AD$54=0,0,取引額表!AD16/取引額表!AD$54)","v":5.0887715383262375E-4},{"$f":"IF(取引額表!AE$54=0,0,取引額表!AE16/取引額表!AE$54)","v":2.1705798922284883E-3},{"$f":"IF(取引額表!AF$54=0,0,取引額表!AF16/取引額表!AF$54)","v":3.3020780537252915E-3},{"$f":"IF(取引額表!AG$54=0,0,取引額表!AG16/取引額表!AG$54)","v":1.2068204822091302E-3},{"$f":"IF(取引額表!AH$54=0,0,取引額表!AH16/取引額表!AH$54)","v":2.8497515706483799E-3},{"$f":"IF(取引額表!AI$54=0,0,取引額表!AI16/取引額表!AI$54)","v":1.9418445158001503E-3},{"$f":"IF(取引額表!AJ$54=0,0,取引額表!AJ16/取引額表!AJ$54)","v":3.9496585888338463E-3},{"$f":"IF(取引額表!AK$54=0,0,取引額表!AK16/取引額表!AK$54)","v":7.7638429549101154E-3},{"$f":"IF(取引額表!AL$54=0,0,取引額表!AL16/取引額表!AL$54)","v":2.1100699893164387E-3},{"$f":"IF(取引額表!AM$54=0,0,取引額表!AM16/取引額表!AM$54)","v":5.554196231954979E-2},{"$f":"IF(取引額表!AN$54=0,0,取引額表!AN16/取引額表!AN$54)","v":7.9265047755090606E-3},{"$f":"IF(取引額表!AO$54=0,0,取引額表!AO16/取引額表!AO$54)","v":4.6573580800402413E-3},{"$f":"IF(取引額表!AP$46=0,0,取引額表!AP16/取引額表!AP$46)","v":1.7415007193155145E-3},{"$f":"IF(取引額表!AQ$46=0,0,取引額表!AQ16/取引額表!AQ$46)","v":2.4121905895051884E-3},{"$f":"IF(取引額表!AR$46=0,0,取引額表!AR16/取引額表!AR$46)","v":0},{"$f":"IF(取引額表!AS$46=0,0,取引額表!AS16/取引額表!AS$46)","v":0},{"$f":"IF(取引額表!AT$46=0,0,取引額表!AT16/取引額表!AT$46)","v":-6.5743770229905965E-6},{"$f":"IF(取引額表!AU$46=0,0,取引額表!AU16/取引額表!AU$46)","v":-0.19316189362945646},{"$f":"IF(取引額表!AV$46=0,0,取引額表!AV16/取引額表!AV$46)","v":1.0376134889753566E-2},{"$f":"IF(取引額表!AW$46=0,0,取引額表!AW16/取引額表!AW$46)","v":1.3938091920640378E-3},{"$f":"IF(取引額表!AX$46=0,0,取引額表!AX16/取引額表!AX$46)","v":5.0361787689277666E-3},{"$f":"IF(取引額表!AY$46=0,0,取引額表!AY16/取引額表!AY$46)","v":4.3594754759803305E-3},{"$f":"IF(取引額表!AZ$46=0,0,取引額表!AZ16/取引額表!AZ$46)","v":4.2904061028376803E-3},{"$f":"IF(取引額表!BA$46=0,0,取引額表!BA16/取引額表!BA$46)","v":4.3011278839331585E-3},{"$f":"IF(取引額表!BB$46=0,0,取引額表!BB16/取引額表!BB$46)","v":2.348054230737604E-3},{"$f":"IF(取引額表!BC$46=0,0,取引額表!BC16/取引額表!BC$46)","v":4.877004150846991E-3},{"$f":"IF(取引額表!BD$46=0,0,取引額表!BD16/取引額表!BD$46)","v":1.6530554007962932E-2},{"$f":"IF(取引額表!BE$46=0,0,取引額表!BE16/取引額表!BE$46)","v":1.2234748719312787E-2},{"$f":"IF(取引額表!BF$46=0,0,取引額表!BF16/取引額表!BF$46)","v":1.3173509108800417E-2},{"$f":"IF(取引額表!BG$46=0,0,取引額表!BG16/取引額表!BG$46)","v":-5.9081828190496576E-3},{"$f":"IF(取引額表!BH$46=0,0,取引額表!BH16/取引額表!BH$46)","v":1.562437901397949E-3}]
[null,"25","窯業・土石製品　　",{"$f":"IF(取引額表!D$54=0,0,取引額表!D17/取引額表!D$54)","v":3.7704231252618349E-3},{"$f":"IF(取引額表!E$54=0,0,取引額表!E17/取引額表!E$54)","v":0},{"$f":"IF(取引額表!F$54=0,0,取引額表!F17/取引額表!F$54)","v":4.6496372201657287E-4},{"$f":"IF(取引額表!G$54=0,0,取引額表!G17/取引額表!G$54)","v":8.9206066012488853E-4},{"$f":"IF(取引額表!H$54=0,0,取引額表!H17/取引額表!H$54)","v":8.8154678124305504E-3},{"$f":"IF(取引額表!I$54=0,0,取引額表!I17/取引額表!I$54)","v":7.6123651287482623E-3},{"$f":"IF(取引額表!J$54=0,0,取引額表!J17/取引額表!J$54)","v":1.7343936688207408E-3},{"$f":"IF(取引額表!K$54=0,0,取引額表!K17/取引額表!K$54)","v":4.4608959757023534E-3},{"$f":"IF(取引額表!L$54=0,0,取引額表!L17/取引額表!L$54)","v":8.8768511642130093E-2},{"$f":"IF(取引額表!M$54=0,0,取引額表!M17/取引額表!M$54)","v":3.7900752634819671E-3},{"$f":"IF(取引額表!N$54=0,0,取引額表!N17/取引額表!N$54)","v":1.3791640144281774E-3},{"$f":"IF(取引額表!O$54=0,0,取引額表!O17/取引額表!O$54)","v":7.1250985385968102E-3},{"$f":"IF(取引額表!P$54=0,0,取引額表!P17/取引額表!P$54)","v":9.7332372025955294E-3},{"$f":"IF(取引額表!Q$54=0,0,取引額表!Q17/取引額表!Q$54)","v":3.5193807824877546E-3},{"$f":"IF(取引額表!R$54=0,0,取引額表!R17/取引額表!R$54)","v":6.3810391978122152E-3},{"$f":"IF(取引額表!S$54=0,0,取引額表!S17/取引額表!S$54)","v":2.7792624265098879E-2},{"$f":"IF(取引額表!T$54=0,0,取引額表!T17/取引額表!T$54)","v":8.3260722238358027E-3},{"$f":"IF(取引額表!U$54=0,0,取引額表!U17/取引額表!U$54)","v":2.1070375052675938E-3},{"$f":"IF(取引額表!V$54=0,0,取引額表!V17/取引額表!V$54)","v":1.8159806295399517E-3},{"$f":"IF(取引額表!W$54=0,0,取引額表!W17/取引額表!W$54)","v":3.6711253271299797E-3},{"$f":"IF(取引額表!X$54=0,0,取引額表!X17/取引額表!X$54)","v":5.1552719933780376E-2},{"$f":"IF(取引額表!Y$54=0,0,取引額表!Y17/取引額表!Y$54)","v":8.3858524218986859E-5},{"$f":"IF(取引額表!Z$54=0,0,取引額表!Z17/取引額表!Z$54)","v":4.6046572819365876E-3},{"$f":"IF(取引額表!AA$54=0,0,取引額表!AA17/取引額表!AA$54)","v":5.7742782152230975E-4},{"$f":"IF(取引額表!AB$54=0,0,取引額表!AB17/取引額表!AB$54)","v":1.8925379709821186E-4},{"$f":"IF(取引額表!AC$54=0,0,取引額表!AC17/取引額表!AC$54)","v":1.0723822256220711E-5},{"$f":"IF(取引額表!AD$54=0,0,取引額表!AD17/取引額表!AD$54)","v":4.5651248628784187E-5},{"$f":"IF(取引額表!AE$54=0,0,取引額表!AE17/取引額表!AE$54)","v":5.4852199442597172E-5},{"$f":"IF(取引額表!AF$54=0,0,取引額表!AF17/取引額表!AF$54)","v":2.5342118601115052E-6},{"$f":"IF(取引額表!AG$54=0,0,取引額表!AG17/取引額表!AG$54)","v":2.0329950775565994E-4},{"$f":"IF(取引額表!AH$54=0,0,取引額表!AH17/取引額表!AH$54)","v":2.0243912454317742E-3},{"$f":"IF(取引額表!AI$54=0,0,取引額表!AI17/取引額表!AI$54)","v":7.3574623061440064E-4},{"$f":"IF(取引額表!AJ$54=0,0,取引額表!AJ17/取引額表!AJ$54)","v":1.6735841478109521E-4},{"$f":"IF(取引額表!AK$54=0,0,取引額表!AK17/取引額表!AK$54)","v":8.9066439634565638E-4},{"$f":"IF(取引額表!AL$54=0,0,取引額表!AL17/取引額表!AL$54)","v":1.1989034030207037E-3},{"$f":"IF(取引額表!AM$54=0,0,取引額表!AM17/取引額表!AM$54)","v":8.6860778076828966E-3},{"$f":"IF(取引額表!AN$54=0,0,取引額表!AN17/取引額表!AN$54)","v":7.9825224771027641E-3},{"$f":"IF(取引額表!AO$54=0,0,取引額表!AO17/取引額表!AO$54)","v":4.0506825433451951E-3},{"$f":"IF(取引額表!AP$46=0,0,取引額表!AP17/取引額表!AP$46)","v":1.2222955359171002E-3},{"$f":"IF(取引額表!AQ$46=0,0,取引額表!AQ17/取引額表!AQ$46)","v":9.7898216519883225E-4},{"$f":"IF(取引額表!AR$46=0,0,取引額表!AR17/取引額表!AR$46)","v":0},{"$f":"IF(取引額表!AS$46=0,0,取引額表!AS17/取引額表!AS$46)","v":0},{"$f":"IF(取引額表!AT$46=0,0,取引額表!AT17/取引額表!AT$46)","v":0},{"$f":"IF(取引額表!AU$46=0,0,取引額表!AU17/取引額表!AU$46)","v":-4.2957334891876094E-2},{"$f":"IF(取引額表!AV$46=0,0,取引額表!AV17/取引額表!AV$46)","v":3.735408560311284E-2},{"$f":"IF(取引額表!AW$46=0,0,取引額表!AW17/取引額表!AW$46)","v":6.3689668741999936E-4},{"$f":"IF(取引額表!AX$46=0,0,取引額表!AX17/取引額表!AX$46)","v":4.0546676150415061E-3},{"$f":"IF(取引額表!AY$46=0,0,取引額表!AY17/取引額表!AY$46)","v":8.7473206405245234E-3},{"$f":"IF(取引額表!AZ$46=0,0,取引額表!AZ17/取引額表!AZ$46)","v":4.2342201446933228E-3},{"$f":"IF(取引額表!BA$46=0,0,取引額表!BA17/取引額表!BA$46)","v":4.9347980329312747E-3},{"$f":"IF(取引額表!BB$46=0,0,取引額表!BB17/取引額表!BB$46)","v":2.047561107228024E-3},{"$f":"IF(取引額表!BC$46=0,0,取引額表!BC17/取引額表!BC$46)","v":4.245259077467819E-3},{"$f":"IF(取引額表!BD$46=0,0,取引額表!BD17/取引額表!BD$46)","v":6.909812341183025E-3},{"$f":"IF(取引額表!BE$46=0,0,取引額表!BE17/取引額表!BE$46)","v":6.2247217162277376E-3},{"$f":"IF(取引額表!BF$46=0,0,取引額表!BF17/取引額表!BF$46)","v":6.3744342610715567E-3},{"$f":"IF(取引額表!BG$46=0,0,取引額表!BG17/取引額表!BG$46)","v":-1.2524101960457923E-3},{"$f":"IF(取引額表!BH$46=0,0,取引額表!BH17/取引額表!BH$46)","v":3.394624715347423E-3}]
[null,"26","鉄鋼　　　　　　　　",{"$f":"IF(取引額表!D$54=0,0,取引額表!D18/取引額表!D$54)","v":0},{"$f":"IF(取引額表!E$54=0,0,取引額表!E18/取引額表!E$54)","v":0},{"$f":"IF(取引額表!F$54=0,0,取引額表!F18/取引額表!F$54)","v":0},{"$f":"IF(取引額表!G$54=0,0,取引額表!G18/取引額表!G$54)","v":0},{"$f":"IF(取引額表!H$54=0,0,取引額表!H18/取引額表!H$54)","v":2.3557300540780798E-2},{"$f":"IF(取引額表!I$54=0,0,取引額表!I18/取引額表!I$54)","v":1.3238895876083935E-4},{"$f":"IF(取引額表!J$54=0,0,取引額表!J18/取引額表!J$54)","v":0},{"$f":"IF(取引額表!K$54=0,0,取引額表!K18/取引額表!K$54)","v":7.5930144267274111E-4},{"$f":"IF(取引額表!L$54=0,0,取引額表!L18/取引額表!L$54)","v":7.3391289152942201E-3},{"$f":"IF(取引額表!M$54=0,0,取引額表!M18/取引額表!M$54)","v":0.52384681537175271},{"$f":"IF(取引額表!N$54=0,0,取引額表!N18/取引額表!N$54)","v":0},{"$f":"IF(取引額表!O$54=0,0,取引額表!O18/取引額表!O$54)","v":0.26041477169365107},{"$f":"IF(取引額表!P$54=0,0,取引額表!P18/取引額表!P$54)","v":7.3720259552992065E-2},{"$f":"IF(取引額表!Q$54=0,0,取引額表!Q18/取引額表!Q$54)","v":7.950656104492955E-2},{"$f":"IF(取引額表!R$54=0,0,取引額表!R18/取引額表!R$54)","v":1.4129443938012761E-2},{"$f":"IF(取引額表!S$54=0,0,取引額表!S18/取引額表!S$54)","v":2.494209869944771E-3},{"$f":"IF(取引額表!T$54=0,0,取引額表!T18/取引額表!T$54)","v":3.4369251621647785E-2},{"$f":"IF(取引額表!U$54=0,0,取引額表!U18/取引額表!U$54)","v":5.478297513695744E-3},{"$f":"IF(取引額表!V$54=0,0,取引額表!V18/取引額表!V$54)","v":5.387409200968523E-2},{"$f":"IF(取引額表!W$54=0,0,取引額表!W18/取引額表!W$54)","v":1.3812154696132596E-3},{"$f":"IF(取引額表!X$54=0,0,取引額表!X18/取引額表!X$54)","v":9.2664068724559231E-3},{"$f":"IF(取引額表!Y$54=0,0,取引額表!Y18/取引額表!Y$54)","v":0},{"$f":"IF(取引額表!Z$54=0,0,取引額表!Z18/取引額表!Z$54)","v":2.8505021269131255E-4},{"$f":"IF(取引額表!AA$54=0,0,取引額表!AA18/取引額表!AA$54)","v":0},{"$f":"IF(取引額表!AB$54=0,0,取引額表!AB18/取引額表!AB$54)","v":0},{"$f":"IF(取引額表!AC$54=0,0,取引額表!AC18/取引額表!AC$54)","v":0},{"$f":"IF(取引額表!AD$54=0,0,取引額表!AD18/取引額表!AD$54)","v":0},{"$f":"IF(取引額表!AE$54=0,0,取引額表!AE18/取引額表!AE$54)","v":7.574827542072943E-5},{"$f":"IF(取引額表!AF$54=0,0,取引額表!AF18/取引額表!AF$54)","v":0},{"$f":"IF(取引額表!AG$54=0,0,取引額表!AG18/取引額表!AG$54)","v":4.3255214416097863E-6},{"$f":"IF(取引額表!AH$54=0,0,取引額表!AH18/取引額表!AH$54)","v":0},{"$f":"IF(取引額表!AI$54=0,0,取引額表!AI18/取引額表!AI$54)","v":0},{"$f":"IF(取引額表!AJ$54=0,0,取引額表!AJ18/取引額表!AJ$54)","v":0},{"$f":"IF(取引額表!AK$54=0,0,取引額表!AK18/取引額表!AK$54)","v":1.5717606994335113E-4},{"$f":"IF(取引額表!AL$54=0,0,取引額表!AL18/取引額表!AL$54)","v":2.6642297844904529E-5},{"$f":"IF(取引額表!AM$54=0,0,取引額表!AM18/取引額表!AM$54)","v":0},{"$f":"IF(取引額表!AN$54=0,0,取引額表!AN18/取引額表!AN$54)","v":7.9825224771027641E-3},{"$f":"IF(取引額表!AO$54=0,0,取引額表!AO18/取引額表!AO$54)","v":9.3945879381454919E-2},{"$f":"IF(取引額表!AP$46=0,0,取引額表!AP18/取引額表!AP$46)","v":0},{"$f":"IF(取引額表!AQ$46=0,0,取引額表!AQ18/取引額表!AQ$46)","v":-1.4642568015111744E-4},{"$f":"IF(取引額表!AR$46=0,0,取引額表!AR18/取引額表!AR$46)","v":0},{"$f":"IF(取引額表!AS$46=0,0,取引額表!AS18/取引額表!AS$46)","v":-0.10814521665387877},{"$f":"IF(取引額表!AT$46=0,0,取引額表!AT18/取引額表!AT$46)","v":-1.7685074191844704E-3},{"$f":"IF(取引額表!AU$46=0,0,取引額表!AU18/取引額表!AU$46)","v":0.79076563413208645},{"$f":"IF(取引額表!AV$46=0,0,取引額表!AV18/取引額表!AV$46)","v":0.4894941634241245},{"$f":"IF(取引額表!AW$46=0,0,取引額表!AW18/取引額表!AW$46)","v":-3.6678937606597715E-3},{"$f":"IF(取引額表!AX$46=0,0,取引額表!AX18/取引額表!AX$46)","v":8.3606843176374054E-2},{"$f":"IF(取引額表!AY$46=0,0,取引額表!AY18/取引額表!AY$46)","v":0.40156663724624891},{"$f":"IF(取引額表!AZ$46=0,0,取引額表!AZ18/取引額表!AZ$46)","v":0.30686453391720392},{"$f":"IF(取引額表!BA$46=0,0,取引額表!BA18/取引額表!BA$46)","v":0.32156533653022779},{"$f":"IF(取引額表!BB$46=0,0,取引額表!BB18/取引額表!BB$46)","v":0.10308070496875257},{"$f":"IF(取引額表!BC$46=0,0,取引額表!BC18/取引額表!BC$46)","v":0.13513654414252474},{"$f":"IF(取引額表!BD$46=0,0,取引額表!BD18/取引額表!BD$46)","v":1.924827764264652E-2},{"$f":"IF(取引額表!BE$46=0,0,取引額表!BE18/取引額表!BE$46)","v":4.4195761679368645E-2},{"$f":"IF(取引額表!BF$46=0,0,取引額表!BF18/取引額表!BF$46)","v":3.874399926059087E-2},{"$f":"IF(取引額表!BG$46=0,0,取引額表!BG18/取引額表!BG$46)","v":0.15214830529706666},{"$f":"IF(取引額表!BH$46=0,0,取引額表!BH18/取引額表!BH$46)","v":0.17364667311651788}]
[null,"27","非鉄金属　　　　　　",{"$f":"IF(取引額表!D$54=0,0,取引額表!D19/取引額表!D$54)","v":0},{"$f":"IF(取引額表!E$54=0,0,取引額表!E19/取引額表!E$54)","v":0},{"$f":"IF(取引額表!F$54=0,0,取引額表!F19/取引額表!F$54)","v":4.4694187232600805E-4},{"$f":"IF(取引額表!G$54=0,0,取引額表!G19/取引額表!G$54)","v":0},{"$f":"IF(取引額表!H$54=0,0,取引額表!H19/取引額表!H$54)","v":4.8151714941847548E-3},{"$f":"IF(取引額表!I$54=0,0,取引額表!I19/取引額表!I$54)","v":5.5603362679552525E-3},{"$f":"IF(取引額表!J$54=0,0,取引額表!J19/取引額表!J$54)","v":0},{"$f":"IF(取引額表!K$54=0,0,取引額表!K19/取引額表!K$54)","v":1.8982536066818527E-3},{"$f":"IF(取引額表!L$54=0,0,取引額表!L19/取引額表!L$54)","v":7.1643877506443578E-3},{"$f":"IF(取引額表!M$54=0,0,取引額表!M19/取引額表!M$54)","v":9.8219142869098927E-3},{"$f":"IF(取引額表!N$54=0,0,取引額表!N19/取引額表!N$54)","v":0.58142372162104816},{"$f":"IF(取引額表!O$54=0,0,取引額表!O19/取引額表!O$54)","v":4.2538354253835425E-2},{"$f":"IF(取引額表!P$54=0,0,取引額表!P19/取引額表!P$54)","v":2.5955299206921412E-2},{"$f":"IF(取引額表!Q$54=0,0,取引額表!Q19/取引額表!Q$54)","v":1.4029146761806858E-2},{"$f":"IF(取引額表!R$54=0,0,取引額表!R19/取引額表!R$54)","v":4.9984807049529019E-2},{"$f":"IF(取引額表!S$54=0,0,取引額表!S19/取引額表!S$54)","v":2.1735257438090148E-2},{"$f":"IF(取引額表!T$54=0,0,取引額表!T19/取引額表!T$54)","v":7.2611094975312221E-2},{"$f":"IF(取引額表!U$54=0,0,取引額表!U19/取引額表!U$54)","v":3.3080488832701219E-2},{"$f":"IF(取引額表!V$54=0,0,取引額表!V19/取引額表!V$54)","v":1.7554479418886198E-2},{"$f":"IF(取引額表!W$54=0,0,取引額表!W19/取引額表!W$54)","v":1.1013375981389939E-2},{"$f":"IF(取引額表!X$54=0,0,取引額表!X19/取引額表!X$54)","v":8.9346887274733919E-3},{"$f":"IF(取引額表!Y$54=0,0,取引額表!Y19/取引額表!Y$54)","v":9.675983563729253E-5},{"$f":"IF(取引額表!Z$54=0,0,取引額表!Z19/取引額表!Z$54)","v":1.534885760645529E-4},{"$f":"IF(取引額表!AA$54=0,0,取引額表!AA19/取引額表!AA$54)","v":1.7497812773403324E-5},{"$f":"IF(取引額表!AB$54=0,0,取引額表!AB19/取引額表!AB$54)","v":9.3075637917153372E-6},{"$f":"IF(取引額表!AC$54=0,0,取引額表!AC19/取引額表!AC$54)","v":0},{"$f":"IF(取引額表!AD$54=0,0,取引額表!AD19/取引額表!AD$54)","v":0},{"$f":"IF(取引額表!AE$54=0,0,取引額表!AE19/取引額表!AE$54)","v":2.6120094972665319E-5},{"$f":"IF(取引額表!AF$54=0,0,取引額表!AF19/取引額表!AF$54)","v":1.2671059300557526E-5},{"$f":"IF(取引額表!AG$54=0,0,取引額表!AG19/取引額表!AG$54)","v":5.6231778740927216E-5},{"$f":"IF(取引額表!AH$54=0,0,取引額表!AH19/取引額表!AH$54)","v":2.463762164825689E-5},{"$f":"IF(取引額表!AI$54=0,0,取引額表!AI19/取引額表!AI$54)","v":1.0589490390628695E-3},{"$f":"IF(取引額表!AJ$54=0,0,取引額表!AJ19/取引額表!AJ$54)","v":1.0041504886865712E-4},{"$f":"IF(取引額表!AK$54=0,0,取引額表!AK19/取引額表!AK$54)","v":5.386554897016929E-4},{"$f":"IF(取引額表!AL$54=0,0,取引額表!AL19/取引額表!AL$54)","v":2.584302890955739E-4},{"$f":"IF(取引額表!AM$54=0,0,取引額表!AM19/取引額表!AM$54)","v":7.3403474431123076E-4},{"$f":"IF(取引額表!AN$54=0,0,取引額表!AN19/取引額表!AN$54)","v":5.9378763689325823E-3},{"$f":"IF(取引額表!AO$54=0,0,取引額表!AO19/取引額表!AO$54)","v":4.6432700389779022E-3},{"$f":"IF(取引額表!AP$46=0,0,取引額表!AP19/取引額表!AP$46)","v":9.7350971887202669E-5},{"$f":"IF(取引額表!AQ$46=0,0,取引額表!AQ19/取引額表!AQ$46)","v":4.4196023354512668E-4},{"$f":"IF(取引額表!AR$46=0,0,取引額表!AR19/取引額表!AR$46)","v":0},{"$f":"IF(取引額表!AS$46=0,0,取引額表!AS19/取引額表!AS$46)","v":1.153795120600435E-5},{"$f":"IF(取引額表!AT$46=0,0,取引額表!AT19/取引額表!AT$46)","v":-1.2798120604755028E-3},{"$f":"IF(取引額表!AU$46=0,0,取引額表!AU19/取引額表!AU$46)","v":-7.3933372296902403E-2},{"$f":"IF(取引額表!AV$46=0,0,取引額表!AV19/取引額表!AV$46)","v":2.1271076523994813E-2},{"$f":"IF(取引額表!AW$46=0,0,取引額表!AW19/取引額表!AW$46)","v":9.7781811244286704E-5},{"$f":"IF(取引額表!AX$46=0,0,取引額表!AX19/取引額表!AX$46)","v":4.2901383217958094E-3},{"$f":"IF(取引額表!AY$46=0,0,取引額表!AY19/取引額表!AY$46)","v":6.2381792964317237E-3},{"$f":"IF(取引額表!AZ$46=0,0,取引額表!AZ19/取引額表!AZ$46)","v":8.6120909864979937E-3},{"$f":"IF(取引額表!BA$46=0,0,取引額表!BA19/取引額表!BA$46)","v":8.2435837839160333E-3},{"$f":"IF(取引額表!BB$46=0,0,取引額表!BB19/取引額表!BB$46)","v":2.7714106570183375E-3},{"$f":"IF(取引額表!BC$46=0,0,取引額表!BC19/取引額表!BC$46)","v":5.1462534348886676E-3},{"$f":"IF(取引額表!BD$46=0,0,取引額表!BD19/取引額表!BD$46)","v":3.1654686034977106E-2},{"$f":"IF(取引額表!BE$46=0,0,取引額表!BE19/取引額表!BE$46)","v":5.2623954135129422E-3},{"$f":"IF(取引額表!BF$46=0,0,取引額表!BF19/取引額表!BF$46)","v":1.1029890762693839E-2},{"$f":"IF(取引額表!BG$46=0,0,取引額表!BG19/取引額表!BG$46)","v":-3.5270747361063576E-3},{"$f":"IF(取引額表!BH$46=0,0,取引額表!BH19/取引額表!BH$46)","v":2.7956605274443939E-3}]
[null,"28","金属製品　　　　　　",{"$f":"IF(取引額表!D$54=0,0,取引額表!D20/取引額表!D$54)","v":9.7751710654936461E-4},{"$f":"IF(取引額表!E$54=0,0,取引額表!E20/取引額表!E$54)","v":3.3400809716599193E-2},{"$f":"IF(取引額表!F$54=0,0,取引額表!F20/取引額表!F$54)","v":2.5591026560602072E-3},{"$f":"IF(取引額表!G$54=0,0,取引額表!G20/取引額表!G$54)","v":1.7841213202497771E-3},{"$f":"IF(取引額表!H$54=0,0,取引額表!H20/取引額表!H$54)","v":3.4224757389436256E-2},{"$f":"IF(取引額表!I$54=0,0,取引額表!I20/取引額表!I$54)","v":1.5621897133779043E-2},{"$f":"IF(取引額表!J$54=0,0,取引額表!J20/取引額表!J$54)","v":1.7600883898403073E-3},{"$f":"IF(取引額表!K$54=0,0,取引額表!K20/取引額表!K$54)","v":5.5998481397114656E-3},{"$f":"IF(取引額表!L$54=0,0,取引額表!L20/取引額表!L$54)","v":1.2231881525490368E-2},{"$f":"IF(取引額表!M$54=0,0,取引額表!M20/取引額表!M$54)","v":1.6567701692552989E-4},{"$f":"IF(取引額表!N$54=0,0,取引額表!N20/取引額表!N$54)","v":1.0608953957139827E-3},{"$f":"IF(取引額表!O$54=0,0,取引額表!O20/取引額表!O$54)","v":6.0699775635194957E-2},{"$f":"IF(取引額表!P$54=0,0,取引額表!P20/取引額表!P$54)","v":2.2891131939437634E-2},{"$f":"IF(取引額表!Q$54=0,0,取引額表!Q20/取引額表!Q$54)","v":3.6814416157706961E-2},{"$f":"IF(取引額表!R$54=0,0,取引額表!R20/取引額表!R$54)","v":1.9902765116985719E-2},{"$f":"IF(取引額表!S$54=0,0,取引額表!S20/取引額表!S$54)","v":1.0689470871191877E-2},{"$f":"IF(取引額表!T$54=0,0,取引額表!T20/取引額表!T$54)","v":4.443799012489108E-2},{"$f":"IF(取引額表!U$54=0,0,取引額表!U20/取引額表!U$54)","v":1.2220817530552043E-2},{"$f":"IF(取引額表!V$54=0,0,取引額表!V20/取引額表!V$54)","v":1.2106537530266344E-2},{"$f":"IF(取引額表!W$54=0,0,取引額表!W20/取引額表!W$54)","v":6.6879906949694678E-3},{"$f":"IF(取引額表!X$54=0,0,取引額表!X20/取引額表!X$54)","v":9.2019233452069832E-2},{"$f":"IF(取引額表!Y$54=0,0,取引額表!Y20/取引額表!Y$54)","v":7.8052934080749309E-4},{"$f":"IF(取引額表!Z$54=0,0,取引額表!Z20/取引額表!Z$54)","v":7.6744288032276457E-4},{"$f":"IF(取引額表!AA$54=0,0,取引額表!AA20/取引額表!AA$54)","v":1.5748031496062991E-4},{"$f":"IF(取引額表!AB$54=0,0,取引額表!AB20/取引額表!AB$54)","v":2.2881094321300205E-3},{"$f":"IF(取引額表!AC$54=0,0,取引額表!AC20/取引額表!AC$54)","v":6.7917540956064496E-5},{"$f":"IF(取引額表!AD$54=0,0,取引額表!AD20/取引額表!AD$54)","v":2.2825624314392094E-4},{"$f":"IF(取引額表!AE$54=0,0,取引額表!AE20/取引額表!AE$54)","v":1.7265382776931776E-3},{"$f":"IF(取引額表!AF$54=0,0,取引額表!AF20/取引額表!AF$54)","v":2.40750126710593E-4},{"$f":"IF(取引額表!AG$54=0,0,取引額表!AG20/取引額表!AG$54)","v":1.9248570415163549E-3},{"$f":"IF(取引額表!AH$54=0,0,取引額表!AH20/取引額表!AH$54)","v":9.8550486593027559E-5},{"$f":"IF(取引額表!AI$54=0,0,取引額表!AI20/取引額表!AI$54)","v":2.9955382246443454E-4},{"$f":"IF(取引額表!AJ$54=0,0,取引額表!AJ20/取引額表!AJ$54)","v":1.4058106841611997E-3},{"$f":"IF(取引額表!AK$54=0,0,取引額表!AK20/取引額表!AK$54)","v":1.2230262942467009E-3},{"$f":"IF(取引額表!AL$54=0,0,取引額表!AL20/取引額表!AL$54)","v":2.3578433592740507E-3},{"$f":"IF(取引額表!AM$54=0,0,取引額表!AM20/取引額表!AM$54)","v":3.6701737215561538E-4},{"$f":"IF(取引額表!AN$54=0,0,取引額表!AN20/取引額表!AN$54)","v":3.8092037083718457E-3},{"$f":"IF(取引額表!AO$54=0,0,取引額表!AO20/取引額表!AO$54)","v":6.3611212775688134E-3},{"$f":"IF(取引額表!AP$46=0,0,取引額表!AP20/取引額表!AP$46)","v":2.3147897759845967E-3},{"$f":"IF(取引額表!AQ$46=0,0,取引額表!AQ20/取引額表!AQ$46)","v":1.2446182812844982E-3},{"$f":"IF(取引額表!AR$46=0,0,取引額表!AR20/取引額表!AR$46)","v":5.9202004343059036E-6},{"$f":"IF(取引額表!AS$46=0,0,取引額表!AS20/取引額表!AS$46)","v":7.2112195037527188E-4},{"$f":"IF(取引額表!AT$46=0,0,取引額表!AT20/取引額表!AT$46)","v":3.7320546900509954E-3},{"$f":"IF(取引額表!AU$46=0,0,取引額表!AU20/取引額表!AU$46)","v":8.942139099941554E-2},{"$f":"IF(取引額表!AV$46=0,0,取引額表!AV20/取引額表!AV$46)","v":2.4124513618677044E-2},{"$f":"IF(取引額表!AW$46=0,0,取引額表!AW20/取引額表!AW$46)","v":1.3610558714271985E-3},{"$f":"IF(取引額表!AX$46=0,0,取引額表!AX20/取引額表!AX$46)","v":6.5715397471442245E-3},{"$f":"IF(取引額表!AY$46=0,0,取引額表!AY20/取引額表!AY$46)","v":7.278401210440045E-3},{"$f":"IF(取引額表!AZ$46=0,0,取引額表!AZ20/取引額表!AZ$46)","v":1.5567565062760294E-2},{"$f":"IF(取引額表!BA$46=0,0,取引額表!BA20/取引額表!BA$46)","v":1.4280821079930516E-2},{"$f":"IF(取引額表!BB$46=0,0,取引額表!BB20/取引額表!BB$46)","v":5.6016029726173831E-3},{"$f":"IF(取引額表!BC$46=0,0,取引額表!BC20/取引額表!BC$46)","v":8.2409777913314865E-3},{"$f":"IF(取引額表!BD$46=0,0,取引額表!BD20/取引額表!BD$46)","v":7.0609857183622999E-3},{"$f":"IF(取引額表!BE$46=0,0,取引額表!BE20/取引額表!BE$46)","v":1.9300674720884998E-2},{"$f":"IF(取引額表!BF$46=0,0,取引額表!BF20/取引額表!BF$46)","v":1.6625941011335008E-2},{"$f":"IF(取引額表!BG$46=0,0,取引額表!BG20/取引額表!BG$46)","v":-2.8063160654163513E-3},{"$f":"IF(取引額表!BH$46=0,0,取引額表!BH20/取引額表!BH$46)","v":4.8910712665059938E-3}]
[null,"29","はん用機械",{"$f":"IF(取引額表!D$54=0,0,取引額表!D21/取引額表!D$54)","v":0},{"$f":"IF(取引額表!E$54=0,0,取引額表!E21/取引額表!E$54)","v":1.0121457489878543E-3},{"$f":"IF(取引額表!F$54=0,0,取引額表!F21/取引額表!F$54)","v":0},{"$f":"IF(取引額表!G$54=0,0,取引額表!G21/取引額表!G$54)","v":0},{"$f":"IF(取引額表!H$54=0,0,取引額表!H21/取引額表!H$54)","v":2.0001481591228978E-3},{"$f":"IF(取引額表!I$54=0,0,取引額表!I21/取引額表!I$54)","v":0},{"$f":"IF(取引額表!J$54=0,0,取引額表!J21/取引額表!J$54)","v":0},{"$f":"IF(取引額表!K$54=0,0,取引額表!K21/取引額表!K$54)","v":3.7965072133637056E-4},{"$f":"IF(取引額表!L$54=0,0,取引額表!L21/取引額表!L$54)","v":9.6107640557424319E-4},{"$f":"IF(取引額表!M$54=0,0,取引額表!M21/取引額表!M$54)","v":3.4160209675366986E-6},{"$f":"IF(取引額表!N$54=0,0,取引額表!N21/取引額表!N$54)","v":1.5913430935709738E-4},{"$f":"IF(取引額表!O$54=0,0,取引額表!O21/取引額表!O$54)","v":1.3947001394700139E-3},{"$f":"IF(取引額表!P$54=0,0,取引額表!P21/取引額表!P$54)","v":0.12274693583273251},{"$f":"IF(取引額表!Q$54=0,0,取引額表!Q21/取引額表!Q$54)","v":3.7745661244482073E-2},{"$f":"IF(取引額表!R$54=0,0,取引額表!R21/取引額表!R$54)","v":5.1656031601336984E-3},{"$f":"IF(取引額表!S$54=0,0,取引額表!S21/取引額表!S$54)","v":1.6034206306787815E-3},{"$f":"IF(取引額表!T$54=0,0,取引額表!T21/取引額表!T$54)","v":4.8407396650208155E-3},{"$f":"IF(取引額表!U$54=0,0,取引額表!U21/取引額表!U$54)","v":1.0535187526337969E-3},{"$f":"IF(取引額表!V$54=0,0,取引額表!V21/取引額表!V$54)","v":1.2106537530266344E-2},{"$f":"IF(取引額表!W$54=0,0,取引額表!W21/取引額表!W$54)","v":7.2695551032276822E-5},{"$f":"IF(取引額表!X$54=0,0,取引額表!X21/取引額表!X$54)","v":5.6206074472273633E-3},{"$f":"IF(取引額表!Y$54=0,0,取引額表!Y21/取引額表!Y$54)","v":0},{"$f":"IF(取引額表!Z$54=0,0,取引額表!Z21/取引額表!Z$54)","v":3.9907029776783754E-3},{"$f":"IF(取引額表!AA$54=0,0,取引額表!AA21/取引額表!AA$54)","v":0},{"$f":"IF(取引額表!AB$54=0,0,取引額表!AB21/取引額表!AB$54)","v":3.1025212639051124E-6},{"$f":"IF(取引額表!AC$54=0,0,取引額表!AC21/取引額表!AC$54)","v":0},{"$f":"IF(取引額表!AD$54=0,0,取引額表!AD21/取引額表!AD$54)","v":0},{"$f":"IF(取引額表!AE$54=0,0,取引額表!AE21/取引額表!AE$54)","v":6.5300237431663308E-5},{"$f":"IF(取引額表!AF$54=0,0,取引額表!AF21/取引額表!AF$54)","v":5.0684237202230103E-6},{"$f":"IF(取引額表!AG$54=0,0,取引額表!AG21/取引額表!AG$54)","v":9.5161471715415297E-5},{"$f":"IF(取引額表!AH$54=0,0,取引額表!AH21/取引額表!AH$54)","v":0},{"$f":"IF(取引額表!AI$54=0,0,取引額表!AI21/取引額表!AI$54)","v":0},{"$f":"IF(取引額表!AJ$54=0,0,取引額表!AJ21/取引額表!AJ$54)","v":0},{"$f":"IF(取引額表!AK$54=0,0,取引額表!AK21/取引額表!AK$54)","v":7.9963325583679891E-3},{"$f":"IF(取引額表!AL$54=0,0,取引額表!AL21/取引額表!AL$54)","v":1.0656919137961811E-5},{"$f":"IF(取引額表!AM$54=0,0,取引額表!AM21/取引額表!AM$54)","v":0},{"$f":"IF(取引額表!AN$54=0,0,取引額表!AN21/取引額表!AN$54)","v":0},{"$f":"IF(取引額表!AO$54=0,0,取引額表!AO21/取引額表!AO$54)","v":1.6257599385939364E-3},{"$f":"IF(取引額表!AP$46=0,0,取引額表!AP21/取引額表!AP$46)","v":0},{"$f":"IF(取引額表!AQ$46=0,0,取引額表!AQ21/取引額表!AQ$46)","v":4.5997595858989767E-5},{"$f":"IF(取引額表!AR$46=0,0,取引額表!AR21/取引額表!AR$46)","v":0},{"$f":"IF(取引額表!AS$46=0,0,取引額表!AS21/取引額表!AS$46)","v":2.0652932658747785E-3},{"$f":"IF(取引額表!AT$46=0,0,取引額表!AT21/取引額表!AT$46)","v":2.9729332897963479E-2},{"$f":"IF(取引額表!AU$46=0,0,取引額表!AU21/取引額表!AU$46)","v":7.0134424313267094E-2},{"$f":"IF(取引額表!AV$46=0,0,取引額表!AV21/取引額表!AV$46)","v":1.1413748378728923E-2},{"$f":"IF(取引額表!AW$46=0,0,取引額表!AW21/取引額表!AW$46)","v":3.4254713728805375E-3},{"$f":"IF(取引額表!AX$46=0,0,取引額表!AX21/取引額表!AX$46)","v":3.4206143851367534E-3},{"$f":"IF(取引額表!AY$46=0,0,取引額表!AY21/取引額表!AY$46)","v":4.6778464254192409E-3},{"$f":"IF(取引額表!AZ$46=0,0,取引額表!AZ21/取引額表!AZ$46)","v":2.268290846322716E-3},{"$f":"IF(取引額表!BA$46=0,0,取引額表!BA21/取引額表!BA$46)","v":2.6423311232353875E-3},{"$f":"IF(取引額表!BB$46=0,0,取引額表!BB21/取引額表!BB$46)","v":3.1684277608749279E-3},{"$f":"IF(取引額表!BC$46=0,0,取引額表!BC21/取引額表!BC$46)","v":3.2520778341295136E-3},{"$f":"IF(取引額表!BD$46=0,0,取引額表!BD21/取引額表!BD$46)","v":5.7530812191708223E-3},{"$f":"IF(取引額表!BE$46=0,0,取引額表!BE21/取引額表!BE$46)","v":1.0333845529053847E-2},{"$f":"IF(取引額表!BF$46=0,0,取引額表!BF21/取引額表!BF$46)","v":9.3328131733606337E-3},{"$f":"IF(取引額表!BG$46=0,0,取引額表!BG21/取引額表!BG$46)","v":-1.5329568742287443E-3},{"$f":"IF(取引額表!BH$46=0,0,取引額表!BH21/取引額表!BH$46)","v":8.2274159804060563E-4}]
[null,"30","生産用機械",{"$f":"IF(取引額表!D$54=0,0,取引額表!D22/取引額表!D$54)","v":0},{"$f":"IF(取引額表!E$54=0,0,取引額表!E22/取引額表!E$54)","v":3.0364372469635628E-3},{"$f":"IF(取引額表!F$54=0,0,取引額表!F22/取引額表!F$54)","v":0},{"$f":"IF(取引額表!G$54=0,0,取引額表!G22/取引額表!G$54)","v":0},{"$f":"IF(取引額表!H$54=0,0,取引額表!H22/取引額表!H$54)","v":2.2223868434698867E-4},{"$f":"IF(取引額表!I$54=0,0,取引額表!I22/取引額表!I$54)","v":0},{"$f":"IF(取引額表!J$54=0,0,取引額表!J22/取引額表!J$54)","v":1.2847360509783265E-5},{"$f":"IF(取引額表!K$54=0,0,取引額表!K22/取引額表!K$54)","v":2.6575550493545936E-3},{"$f":"IF(取引額表!L$54=0,0,取引額表!L22/取引額表!L$54)","v":7.863352409243808E-4},{"$f":"IF(取引額表!M$54=0,0,取引額表!M22/取引額表!M$54)","v":1.622609959579932E-5},{"$f":"IF(取引額表!N$54=0,0,取引額表!N22/取引額表!N$54)","v":5.3044769785699128E-5},{"$f":"IF(取引額表!O$54=0,0,取引額表!O22/取引額表!O$54)","v":7.8830877448305141E-4},{"$f":"IF(取引額表!P$54=0,0,取引額表!P22/取引額表!P$54)","v":4.3258832011535686E-3},{"$f":"IF(取引額表!Q$54=0,0,取引額表!Q22/取引額表!Q$54)","v":0.15335308701699221},{"$f":"IF(取引額表!R$54=0,0,取引額表!R22/取引額表!R$54)","v":3.0385900941962927E-4},{"$f":"IF(取引額表!S$54=0,0,取引額表!S22/取引額表!S$54)","v":2.137894174238375E-3},{"$f":"IF(取引額表!T$54=0,0,取引額表!T22/取引額表!T$54)","v":2.904443799012489E-3},{"$f":"IF(取引額表!U$54=0,0,取引額表!U22/取引額表!U$54)","v":6.3211125158027818E-4},{"$f":"IF(取引額表!V$54=0,0,取引額表!V22/取引額表!V$54)","v":1.2106537530266344E-3},{"$f":"IF(取引額表!W$54=0,0,取引額表!W22/取引額表!W$54)","v":0},{"$f":"IF(取引額表!X$54=0,0,取引額表!X22/取引額表!X$54)","v":4.9602713268415784E-5},{"$f":"IF(取引額表!Y$54=0,0,取引額表!Y22/取引額表!Y$54)","v":1.9351967127458506E-5},{"$f":"IF(取引額表!Z$54=0,0,取引額表!Z22/取引額表!Z$54)","v":1.0963469718896636E-4},{"$f":"IF(取引額表!AA$54=0,0,取引額表!AA22/取引額表!AA$54)","v":0},{"$f":"IF(取引額表!AB$54=0,0,取引額表!AB22/取引額表!AB$54)","v":3.1025212639051124E-6},{"$f":"IF(取引額表!AC$54=0,0,取引額表!AC22/取引額表!AC$54)","v":0},{"$f":"IF(取引額表!AD$54=0,0,取引額表!AD22/取引額表!AD$54)","v":0},{"$f":"IF(取引額表!AE$54=0,0,取引額表!AE22/取引額表!AE$54)","v":8.6196313409795552E-5},{"$f":"IF(取引額表!AF$54=0,0,取引額表!AF22/取引額表!AF$54)","v":0},{"$f":"IF(取引額表!AG$54=0,0,取引額表!AG22/取引額表!AG$54)","v":8.6510428832195726E-6},{"$f":"IF(取引額表!AH$54=0,0,取引額表!AH22/取引額表!AH$54)","v":0},{"$f":"IF(取引額表!AI$54=0,0,取引額表!AI22/取引額表!AI$54)","v":0},{"$f":"IF(取引額表!AJ$54=0,0,取引額表!AJ22/取引額表!AJ$54)","v":0},{"$f":"IF(取引額表!AK$54=0,0,取引額表!AK22/取引額表!AK$54)","v":1.1635940927993712E-2},{"$f":"IF(取引額表!AL$54=0,0,取引額表!AL22/取引額表!AL$54)","v":7.992689353471359E-6},{"$f":"IF(取引額表!AM$54=0,0,取引額表!AM22/取引額表!AM$54)","v":0},{"$f":"IF(取引額表!AN$54=0,0,取引額表!AN22/取引額表!AN$54)","v":0},{"$f":"IF(取引額表!AO$54=0,0,取引額表!AO22/取引額表!AO$54)","v":2.9693141704338582E-3},{"$f":"IF(取引額表!AP$46=0,0,取引額表!AP22/取引額表!AP$46)","v":0},{"$f":"IF(取引額表!AQ$46=0,0,取引額表!AQ22/取引額表!AQ$46)","v":2.4148737825969629E-5},{"$f":"IF(取引額表!AR$46=0,0,取引額表!AR22/取引額表!AR$46)","v":0},{"$f":"IF(取引額表!AS$46=0,0,取引額表!AS22/取引額表!AS$46)","v":1.2691746326604786E-3},{"$f":"IF(取引額表!AT$46=0,0,取引額表!AT22/取引額表!AT$46)","v":4.2889044238982987E-2},{"$f":"IF(取引額表!AU$46=0,0,取引額表!AU22/取引額表!AU$46)","v":-0.25628287551139683},{"$f":"IF(取引額表!AV$46=0,0,取引額表!AV22/取引額表!AV$46)","v":0.24020752269779508},{"$f":"IF(取引額表!AW$46=0,0,取引額表!AW22/取引額表!AW$46)","v":4.758316355000093E-3},{"$f":"IF(取引額表!AX$46=0,0,取引額表!AX22/取引額表!AX$46)","v":5.4000019746538305E-3},{"$f":"IF(取引額表!AY$46=0,0,取引額表!AY22/取引額表!AY$46)","v":0.10351784138191905},{"$f":"IF(取引額表!AZ$46=0,0,取引額表!AZ22/取引額表!AZ$46)","v":2.2334207980723005E-2},{"$f":"IF(取引額表!BA$46=0,0,取引額表!BA22/取引額表!BA$46)","v":3.4936510654955594E-2},{"$f":"IF(取引額表!BB$46=0,0,取引額表!BB22/取引額表!BB$46)","v":1.4663454125894253E-2},{"$f":"IF(取引額表!BC$46=0,0,取引額表!BC22/取引額表!BC$46)","v":1.1796106767672411E-2},{"$f":"IF(取引額表!BD$46=0,0,取引額表!BD22/取引額表!BD$46)","v":1.4130464323082986E-2},{"$f":"IF(取引額表!BE$46=0,0,取引額表!BE22/取引額表!BE$46)","v":9.651762325352739E-3},{"$f":"IF(取引額表!BF$46=0,0,取引額表!BF22/取引額表!BF$46)","v":1.0630491050068615E-2},{"$f":"IF(取引額表!BG$46=0,0,取引額表!BG22/取引額表!BG$46)","v":1.7739269372654031E-2},{"$f":"IF(取引額表!BH$46=0,0,取引額表!BH22/取引額表!BH$46)","v":1.2261786055152752E-2}]
[null,"31","業務用機械",{"$f":"IF(取引額表!D$54=0,0,取引額表!D23/取引額表!D$54)","v":1.6757436112274822E-3},{"$f":"IF(取引額表!E$54=0,0,取引額表!E23/取引額表!E$54)","v":0},{"$f":"IF(取引額表!F$54=0,0,取引額表!F23/取引額表!F$54)","v":0},{"$f":"IF(取引額表!G$54=0,0,取引額表!G23/取引額表!G$54)","v":0},{"$f":"IF(取引額表!H$54=0,0,取引額表!H23/取引額表!H$54)","v":0},{"$f":"IF(取引額表!I$54=0,0,取引額表!I23/取引額表!I$54)","v":0},{"$f":"IF(取引額表!J$54=0,0,取引額表!J23/取引額表!J$54)","v":0},{"$f":"IF(取引額表!K$54=0,0,取引額表!K23/取引額表!K$54)","v":0},{"$f":"IF(取引額表!L$54=0,0,取引額表!L23/取引額表!L$54)","v":0},{"$f":"IF(取引額表!M$54=0,0,取引額表!M23/取引額表!M$54)","v":0},{"$f":"IF(取引額表!N$54=0,0,取引額表!N23/取引額表!N$54)","v":0},{"$f":"IF(取引額表!O$54=0,0,取引額表!O23/取引額表!O$54)","v":3.0319568249348129E-5},{"$f":"IF(取引額表!P$54=0,0,取引額表!P23/取引額表!P$54)","v":2.7036770007209804E-3},{"$f":"IF(取引額表!Q$54=0,0,取引額表!Q23/取引額表!Q$54)","v":9.3850154199673456E-3},{"$f":"IF(取引額表!R$54=0,0,取引額表!R23/取引額表!R$54)","v":1.5648738985110908E-2},{"$f":"IF(取引額表!S$54=0,0,取引額表!S23/取引額表!S$54)","v":0},{"$f":"IF(取引額表!T$54=0,0,取引額表!T23/取引額表!T$54)","v":1.4522218995062445E-3},{"$f":"IF(取引額表!U$54=0,0,取引額表!U23/取引額表!U$54)","v":0},{"$f":"IF(取引額表!V$54=0,0,取引額表!V23/取引額表!V$54)","v":6.0532687651331722E-4},{"$f":"IF(取引額表!W$54=0,0,取引額表!W23/取引額表!W$54)","v":7.2695551032276822E-5},{"$f":"IF(取引額表!X$54=0,0,取引額表!X23/取引額表!X$54)","v":2.1081153139076707E-4},{"$f":"IF(取引額表!Y$54=0,0,取引額表!Y23/取引額表!Y$54)","v":0},{"$f":"IF(取引額表!Z$54=0,0,取引額表!Z23/取引額表!Z$54)","v":6.5780818313379823E-5},{"$f":"IF(取引額表!AA$54=0,0,取引額表!AA23/取引額表!AA$54)","v":3.4995625546806648E-5},{"$f":"IF(取引額表!AB$54=0,0,取引額表!AB23/取引額表!AB$54)","v":9.5247402801886959E-4},{"$f":"IF(取引額表!AC$54=0,0,取引額表!AC23/取引額表!AC$54)","v":7.149214837480474E-6},{"$f":"IF(取引額表!AD$54=0,0,取引額表!AD23/取引額表!AD$54)","v":0},{"$f":"IF(取引額表!AE$54=0,0,取引額表!AE23/取引額表!AE$54)","v":2.3508085475398788E-5},{"$f":"IF(取引額表!AF$54=0,0,取引額表!AF23/取引額表!AF$54)","v":5.5752660922453116E-5},{"$f":"IF(取引額表!AG$54=0,0,取引額表!AG23/取引額表!AG$54)","v":3.0062374019188013E-3},{"$f":"IF(取引額表!AH$54=0,0,取引額表!AH23/取引額表!AH$54)","v":0},{"$f":"IF(取引額表!AI$54=0,0,取引額表!AI23/取引額表!AI$54)","v":9.1258809247279048E-3},{"$f":"IF(取引額表!AJ$54=0,0,取引額表!AJ23/取引額表!AJ$54)","v":0},{"$f":"IF(取引額表!AK$54=0,0,取引額表!AK23/取引額表!AK$54)","v":6.7782180163070173E-3},{"$f":"IF(取引額表!AL$54=0,0,取引額表!AL23/取引額表!AL$54)","v":4.7156867185481013E-4},{"$f":"IF(取引額表!AM$54=0,0,取引額表!AM23/取引額表!AM$54)","v":2.7036946415463666E-2},{"$f":"IF(取引額表!AN$54=0,0,取引額表!AN23/取引額表!AN$54)","v":0},{"$f":"IF(取引額表!AO$54=0,0,取引額表!AO23/取引額表!AO$54)","v":1.5367828371475839E-3},{"$f":"IF(取引額表!AP$46=0,0,取引額表!AP23/取引額表!AP$46)","v":1.9470194377440534E-4},{"$f":"IF(取引額表!AQ$46=0,0,取引額表!AQ23/取引額表!AQ$46)","v":5.4238831783725433E-4},{"$f":"IF(取引額表!AR$46=0,0,取引額表!AR23/取引額表!AR$46)","v":0},{"$f":"IF(取引額表!AS$46=0,0,取引額表!AS23/取引額表!AS$46)","v":5.0478536526269028E-3},{"$f":"IF(取引額表!AT$46=0,0,取引額表!AT23/取引額表!AT$46)","v":4.7076922402628001E-2},{"$f":"IF(取引額表!AU$46=0,0,取引額表!AU23/取引額表!AU$46)","v":6.5458796025715957E-2},{"$f":"IF(取引額表!AV$46=0,0,取引額表!AV23/取引額表!AV$46)","v":1.4007782101167316E-2},{"$f":"IF(取引額表!AW$46=0,0,取引額表!AW23/取引額表!AW$46)","v":5.754065117426631E-3},{"$f":"IF(取引額表!AX$46=0,0,取引額表!AX23/取引額表!AX$46)","v":4.6568017830312582E-3},{"$f":"IF(取引額表!AY$46=0,0,取引額表!AY23/取引額表!AY$46)","v":4.8291514310931788E-3},{"$f":"IF(取引額表!AZ$46=0,0,取引額表!AZ23/取引額表!AZ$46)","v":2.4953516256277478E-3},{"$f":"IF(取引額表!BA$46=0,0,取引額表!BA23/取引額表!BA$46)","v":2.8576321777212341E-3},{"$f":"IF(取引額表!BB$46=0,0,取引額表!BB23/取引額表!BB$46)","v":4.8033930186662278E-3},{"$f":"IF(取引額表!BC$46=0,0,取引額表!BC23/取引額表!BC$46)","v":4.2671931985999037E-3},{"$f":"IF(取引額表!BD$46=0,0,取引額表!BD23/取引額表!BD$46)","v":2.0174002255710616E-2},{"$f":"IF(取引額表!BE$46=0,0,取引額表!BE23/取引額表!BE$46)","v":1.0360444874044977E-2},{"$f":"IF(取引額表!BF$46=0,0,取引額表!BF23/取引額表!BF$46)","v":1.2504997136274365E-2},{"$f":"IF(取引額表!BG$46=0,0,取引額表!BG23/取引額表!BG$46)","v":-1.0703804139351584E-3},{"$f":"IF(取引額表!BH$46=0,0,取引額表!BH23/取引額表!BH$46)","v":9.7607880286648631E-4}]
[null,"32","電子部品",{"$f":"IF(取引額表!D$54=0,0,取引額表!D24/取引額表!D$54)","v":0},{"$f":"IF(取引額表!E$54=0,0,取引額表!E24/取引額表!E$54)","v":0},{"$f":"IF(取引額表!F$54=0,0,取引額表!F24/取引額表!F$54)","v":0},{"$f":"IF(取引額表!G$54=0,0,取引額表!G24/取引額表!G$54)","v":0},{"$f":"IF(取引額表!H$54=0,0,取引額表!H24/取引額表!H$54)","v":0},{"$f":"IF(取引額表!I$54=0,0,取引額表!I24/取引額表!I$54)","v":0},{"$f":"IF(取引額表!J$54=0,0,取引額表!J24/取引額表!J$54)","v":0},{"$f":"IF(取引額表!K$54=0,0,取引額表!K24/取引額表!K$54)","v":0},{"$f":"IF(取引額表!L$54=0,0,取引額表!L24/取引額表!L$54)","v":0},{"$f":"IF(取引額表!M$54=0,0,取引額表!M24/取引額表!M$54)","v":0},{"$f":"IF(取引額表!N$54=0,0,取引額表!N24/取引額表!N$54)","v":0},{"$f":"IF(取引額表!O$54=0,0,取引額表!O24/取引額表!O$54)","v":1.2127827299739251E-4},{"$f":"IF(取引額表!P$54=0,0,取引額表!P24/取引額表!P$54)","v":1.1355443403028118E-2},{"$f":"IF(取引額表!Q$54=0,0,取引額表!Q24/取引額表!Q$54)","v":2.5760416036766038E-3},{"$f":"IF(取引額表!R$54=0,0,取引額表!R24/取引額表!R$54)","v":0.18535399574597386},{"$f":"IF(取引額表!S$54=0,0,取引額表!S24/取引額表!S$54)","v":0.28113308391234632},{"$f":"IF(取引額表!T$54=0,0,取引額表!T24/取引額表!T$54)","v":0.10639945783715751},{"$f":"IF(取引額表!U$54=0,0,取引額表!U24/取引額表!U$54)","v":0.30573114201432783},{"$f":"IF(取引額表!V$54=0,0,取引額表!V24/取引額表!V$54)","v":7.2639225181598066E-3},{"$f":"IF(取引額表!W$54=0,0,取引額表!W24/取引額表!W$54)","v":4.7252108170979935E-4},{"$f":"IF(取引額表!X$54=0,0,取引額表!X24/取引額表!X$54)","v":3.1311712750687465E-4},{"$f":"IF(取引額表!Y$54=0,0,取引額表!Y24/取引額表!Y$54)","v":0},{"$f":"IF(取引額表!Z$54=0,0,取引額表!Z24/取引額表!Z$54)","v":0},{"$f":"IF(取引額表!AA$54=0,0,取引額表!AA24/取引額表!AA$54)","v":0},{"$f":"IF(取引額表!AB$54=0,0,取引額表!AB24/取引額表!AB$54)","v":1.7063866951478118E-5},{"$f":"IF(取引額表!AC$54=0,0,取引額表!AC24/取引額表!AC$54)","v":2.1447644512441423E-5},{"$f":"IF(取引額表!AD$54=0,0,取引額表!AD24/取引額表!AD$54)","v":0},{"$f":"IF(取引額表!AE$54=0,0,取引額表!AE24/取引額表!AE$54)","v":2.6120094972665322E-6},{"$f":"IF(取引額表!AF$54=0,0,取引額表!AF24/取引額表!AF$54)","v":5.8793715154586924E-4},{"$f":"IF(取引額表!AG$54=0,0,取引額表!AG24/取引額表!AG$54)","v":5.5366674452605265E-4},{"$f":"IF(取引額表!AH$54=0,0,取引額表!AH24/取引額表!AH$54)","v":5.2560259516281358E-4},{"$f":"IF(取引額表!AI$54=0,0,取引額表!AI24/取引額表!AI$54)","v":2.6276651093371452E-6},{"$f":"IF(取引額表!AJ$54=0,0,取引額表!AJ24/取引額表!AJ$54)","v":0},{"$f":"IF(取引額表!AK$54=0,0,取引額表!AK24/取引額表!AK$54)","v":1.3541700776056846E-2},{"$f":"IF(取引額表!AL$54=0,0,取引額表!AL24/取引額表!AL$54)","v":1.3321148922452264E-5},{"$f":"IF(取引額表!AM$54=0,0,取引額表!AM24/取引額表!AM$54)","v":2.9850746268656716E-2},{"$f":"IF(取引額表!AN$54=0,0,取引額表!AN24/取引額表!AN$54)","v":0},{"$f":"IF(取引額表!AO$54=0,0,取引額表!AO24/取引額表!AO$54)","v":2.1919508941308924E-3},{"$f":"IF(取引額表!AP$46=0,0,取引額表!AP24/取引額表!AP$46)","v":7.5717422578935406E-5},{"$f":"IF(取引額表!AQ$46=0,0,取引額表!AQ24/取引額表!AQ$46)","v":4.0401221696146017E-4},{"$f":"IF(取引額表!AR$46=0,0,取引額表!AR24/取引額表!AR$46)","v":0},{"$f":"IF(取引額表!AS$46=0,0,取引額表!AS24/取引額表!AS$46)","v":1.5749303396195937E-3},{"$f":"IF(取引額表!AT$46=0,0,取引額表!AT24/取引額表!AT$46)","v":0},{"$f":"IF(取引額表!AU$46=0,0,取引額表!AU24/取引額表!AU$46)","v":2.0748100526008183E-2},{"$f":"IF(取引額表!AV$46=0,0,取引額表!AV24/取引額表!AV$46)","v":1.0635538261997406E-2},{"$f":"IF(取引額表!AW$46=0,0,取引額表!AW24/取引額表!AW$46)","v":3.4570293168517988E-4},{"$f":"IF(取引額表!AX$46=0,0,取引額表!AX24/取引額表!AX$46)","v":2.1947060071809774E-3},{"$f":"IF(取引額表!AY$46=0,0,取引額表!AY24/取引額表!AY$46)","v":7.4643802799142607E-3},{"$f":"IF(取引額表!AZ$46=0,0,取引額表!AZ24/取引額表!AZ$46)","v":1.8425518851257813E-3},{"$f":"IF(取引額表!BA$46=0,0,取引額表!BA24/取引額表!BA$46)","v":2.7152398894135493E-3},{"$f":"IF(取引額表!BB$46=0,0,取引額表!BB24/取引額表!BB$46)","v":1.1234363436395034E-3},{"$f":"IF(取引額表!BC$46=0,0,取引額表!BC24/取引額表!BC$46)","v":2.3074271583201685E-3},{"$f":"IF(取引額表!BD$46=0,0,取引額表!BD24/取引額表!BD$46)","v":6.9947412047668871E-3},{"$f":"IF(取引額表!BE$46=0,0,取引額表!BE24/取引額表!BE$46)","v":5.7212341146099278E-3},{"$f":"IF(取引額表!BF$46=0,0,取引額表!BF24/取引額表!BF$46)","v":5.9995330438304068E-3},{"$f":"IF(取引額表!BG$46=0,0,取引額表!BG24/取引額表!BG$46)","v":-2.5954106413534862E-3},{"$f":"IF(取引額表!BH$46=0,0,取引額表!BH24/取引額表!BH$46)","v":8.3238078403062707E-4}]
[null,"33","電気機械　　　　　　",{"$f":"IF(取引額表!D$54=0,0,取引額表!D25/取引額表!D$54)","v":0},{"$f":"IF(取引額表!E$54=0,0,取引額表!E25/取引額表!E$54)","v":0},{"$f":"IF(取引額表!F$54=0,0,取引額表!F25/取引額表!F$54)","v":0},{"$f":"IF(取引額表!G$54=0,0,取引額表!G25/取引額表!G$54)","v":0},{"$f":"IF(取引額表!H$54=0,0,取引額表!H25/取引額表!H$54)","v":2.2223868434698867E-4},{"$f":"IF(取引額表!I$54=0,0,取引額表!I25/取引額表!I$54)","v":0},{"$f":"IF(取引額表!J$54=0,0,取引額表!J25/取引額表!J$54)","v":0},{"$f":"IF(取引額表!K$54=0,0,取引額表!K25/取引額表!K$54)","v":0},{"$f":"IF(取引額表!L$54=0,0,取引額表!L25/取引額表!L$54)","v":1.7474116464986239E-4},{"$f":"IF(取引額表!M$54=0,0,取引額表!M25/取引額表!M$54)","v":0},{"$f":"IF(取引額表!N$54=0,0,取引額表!N25/取引額表!N$54)","v":0},{"$f":"IF(取引額表!O$54=0,0,取引額表!O25/取引額表!O$54)","v":3.3351525074282943E-4},{"$f":"IF(取引額表!P$54=0,0,取引額表!P25/取引額表!P$54)","v":1.3518385003604902E-2},{"$f":"IF(取引額表!Q$54=0,0,取引額表!Q25/取引額表!Q$54)","v":1.8334643526637238E-2},{"$f":"IF(取引額表!R$54=0,0,取引額表!R25/取引額表!R$54)","v":1.1850501367365542E-2},{"$f":"IF(取引額表!S$54=0,0,取引額表!S25/取引額表!S$54)","v":5.451630144307857E-2},{"$f":"IF(取引額表!T$54=0,0,取引額表!T25/取引額表!T$54)","v":9.0134572562687573E-2},{"$f":"IF(取引額表!U$54=0,0,取引額表!U25/取引額表!U$54)","v":1.2220817530552043E-2},{"$f":"IF(取引額表!V$54=0,0,取引額表!V25/取引額表!V$54)","v":1.8159806295399514E-2},{"$f":"IF(取引額表!W$54=0,0,取引額表!W25/取引額表!W$54)","v":3.2712997964524573E-4},{"$f":"IF(取引額表!X$54=0,0,取引額表!X25/取引額表!X$54)","v":7.9519349708429051E-3},{"$f":"IF(取引額表!Y$54=0,0,取引額表!Y25/取引額表!Y$54)","v":0},{"$f":"IF(取引額表!Z$54=0,0,取引額表!Z25/取引額表!Z$54)","v":8.7707757751173093E-5},{"$f":"IF(取引額表!AA$54=0,0,取引額表!AA25/取引額表!AA$54)","v":0},{"$f":"IF(取引額表!AB$54=0,0,取引額表!AB25/取引額表!AB$54)","v":1.9545883962602208E-4},{"$f":"IF(取引額表!AC$54=0,0,取引額表!AC25/取引額表!AC$54)","v":3.574607418740237E-6},{"$f":"IF(取引額表!AD$54=0,0,取引額表!AD25/取引額表!AD$54)","v":1.2084154048795814E-5},{"$f":"IF(取引額表!AE$54=0,0,取引額表!AE25/取引額表!AE$54)","v":3.0038109218565121E-4},{"$f":"IF(取引額表!AF$54=0,0,取引額表!AF25/取引額表!AF$54)","v":1.2417638114546375E-4},{"$f":"IF(取引額表!AG$54=0,0,取引額表!AG25/取引額表!AG$54)","v":7.6994281660654196E-4},{"$f":"IF(取引額表!AH$54=0,0,取引額表!AH25/取引額表!AH$54)","v":4.3526464911920504E-4},{"$f":"IF(取引額表!AI$54=0,0,取引額表!AI25/取引額表!AI$54)","v":1.4189391590420584E-4},{"$f":"IF(取引額表!AJ$54=0,0,取引額表!AJ25/取引額表!AJ$54)","v":0},{"$f":"IF(取引額表!AK$54=0,0,取引額表!AK25/取引額表!AK$54)","v":7.0925701561937197E-3},{"$f":"IF(取引額表!AL$54=0,0,取引額表!AL25/取引額表!AL$54)","v":1.5452532750044625E-4},{"$f":"IF(取引額表!AM$54=0,0,取引額表!AM25/取引額表!AM$54)","v":0},{"$f":"IF(取引額表!AN$54=0,0,取引額表!AN25/取引額表!AN$54)","v":1.2603982858583312E-3},{"$f":"IF(取引額表!AO$54=0,0,取引額表!AO25/取引額表!AO$54)","v":1.5812713878707602E-3},{"$f":"IF(取引額表!AP$46=0,0,取引額表!AP25/取引額表!AP$46)","v":3.8832221008339735E-3},{"$f":"IF(取引額表!AQ$46=0,0,取引額表!AQ25/取引額表!AQ$46)","v":1.0053541201579865E-2},{"$f":"IF(取引額表!AR$46=0,0,取引額表!AR25/取引額表!AR$46)","v":0},{"$f":"IF(取引額表!AS$46=0,0,取引額表!AS25/取引額表!AS$46)","v":3.2398566986460216E-2},{"$f":"IF(取引額表!AT$46=0,0,取引額表!AT25/取引額表!AT$46)","v":3.9899894152529931E-2},{"$f":"IF(取引額表!AU$46=0,0,取引額表!AU25/取引額表!AU$46)","v":-0.25482174167153709},{"$f":"IF(取引額表!AV$46=0,0,取引額表!AV25/取引額表!AV$46)","v":5.395590142671855E-2},{"$f":"IF(取引額表!AW$46=0,0,取引額表!AW25/取引額表!AW$46)","v":1.1893041521169403E-2},{"$f":"IF(取引額表!AX$46=0,0,取引額表!AX25/取引額表!AX$46)","v":8.1703330984036274E-3},{"$f":"IF(取引額表!AY$46=0,0,取引額表!AY25/取引額表!AY$46)","v":1.5827134031017525E-2},{"$f":"IF(取引額表!AZ$46=0,0,取引額表!AZ25/取引額表!AZ$46)","v":2.3690780289734189E-3},{"$f":"IF(取引額表!BA$46=0,0,取引額表!BA25/取引額表!BA$46)","v":4.4581997895921516E-3},{"$f":"IF(取引額表!BB$46=0,0,取引額表!BB25/取引額表!BB$46)","v":9.4527652434010356E-3},{"$f":"IF(取引額表!BC$46=0,0,取引額表!BC25/取引額表!BC$46)","v":7.3664739183696782E-3},{"$f":"IF(取引額表!BD$46=0,0,取引額表!BD25/取引額表!BD$46)","v":3.9403595548368683E-2},{"$f":"IF(取引額表!BE$46=0,0,取引額表!BE25/取引額表!BE$46)","v":1.7096254004745133E-2},{"$f":"IF(取引額表!BF$46=0,0,取引額表!BF25/取引額表!BF$46)","v":2.1971067276951407E-2},{"$f":"IF(取引額表!BG$46=0,0,取引額表!BG25/取引額表!BG$46)","v":-9.4553572667109995E-5},{"$f":"IF(取引額表!BH$46=0,0,取引額表!BH25/取引額表!BH$46)","v":1.5317408013989574E-3}]
[null,"34","情報・通信機器",{"$f":"IF(取引額表!D$54=0,0,取引額表!D26/取引額表!D$54)","v":0},{"$f":"IF(取引額表!E$54=0,0,取引額表!E26/取引額表!E$54)","v":0},{"$f":"IF(取引額表!F$54=0,0,取引額表!F26/取引額表!F$54)","v":7.2087398762259362E-6},{"$f":"IF(取引額表!G$54=0,0,取引額表!G26/取引額表!G$54)","v":0},{"$f":"IF(取引額表!H$54=0,0,取引額表!H26/取引額表!H$54)","v":0},{"$f":"IF(取引額表!I$54=0,0,取引額表!I26/取引額表!I$54)","v":0},{"$f":"IF(取引額表!J$54=0,0,取引額表!J26/取引額表!J$54)","v":0},{"$f":"IF(取引額表!K$54=0,0,取引額表!K26/取引額表!K$54)","v":0},{"$f":"IF(取引額表!L$54=0,0,取引額表!L26/取引額表!L$54)","v":4.3685291162465597E-5},{"$f":"IF(取引額表!M$54=0,0,取引額表!M26/取引額表!M$54)","v":0},{"$f":"IF(取引額表!N$54=0,0,取引額表!N26/取引額表!N$54)","v":0},{"$f":"IF(取引額表!O$54=0,0,取引額表!O26/取引額表!O$54)","v":9.0958704748044392E-5},{"$f":"IF(取引額表!P$54=0,0,取引額表!P26/取引額表!P$54)","v":2.343186733958183E-3},{"$f":"IF(取引額表!Q$54=0,0,取引額表!Q26/取引額表!Q$54)","v":4.8376368144161576E-4},{"$f":"IF(取引額表!R$54=0,0,取引額表!R26/取引額表!R$54)","v":0},{"$f":"IF(取引額表!S$54=0,0,取引額表!S26/取引額表!S$54)","v":0},{"$f":"IF(取引額表!T$54=0,0,取引額表!T26/取引額表!T$54)","v":9.6814793300416309E-5},{"$f":"IF(取引額表!U$54=0,0,取引額表!U26/取引額表!U$54)","v":2.6759376316898439E-2},{"$f":"IF(取引額表!V$54=0,0,取引額表!V26/取引額表!V$54)","v":1.8159806295399517E-3},{"$f":"IF(取引額表!W$54=0,0,取引額表!W26/取引額表!W$54)","v":7.2695551032276822E-5},{"$f":"IF(取引額表!X$54=0,0,取引額表!X26/取引額表!X$54)","v":1.8135992038764521E-3},{"$f":"IF(取引額表!Y$54=0,0,取引額表!Y26/取引額表!Y$54)","v":2.5802622836611341E-5},{"$f":"IF(取引額表!Z$54=0,0,取引額表!Z26/取引額表!Z$54)","v":2.1926939437793273E-5},{"$f":"IF(取引額表!AA$54=0,0,取引額表!AA26/取引額表!AA$54)","v":1.7497812773403324E-5},{"$f":"IF(取引額表!AB$54=0,0,取引額表!AB26/取引額表!AB$54)","v":4.4055801947452596E-4},{"$f":"IF(取引額表!AC$54=0,0,取引額表!AC26/取引額表!AC$54)","v":1.6085733384331067E-4},{"$f":"IF(取引額表!AD$54=0,0,取引額表!AD26/取引額表!AD$54)","v":9.5330548607166975E-5},{"$f":"IF(取引額表!AE$54=0,0,取引額表!AE26/取引額表!AE$54)","v":1.3843650335512619E-4},{"$f":"IF(取引額表!AF$54=0,0,取引額表!AF26/取引額表!AF$54)","v":4.0040547389761782E-4},{"$f":"IF(取引額表!AG$54=0,0,取引額表!AG26/取引額表!AG$54)","v":5.8394539461732113E-4},{"$f":"IF(取引額表!AH$54=0,0,取引額表!AH26/取引額表!AH$54)","v":1.1086929741715599E-4},{"$f":"IF(取引額表!AI$54=0,0,取引額表!AI26/取引額表!AI$54)","v":4.467030685873147E-5},{"$f":"IF(取引額表!AJ$54=0,0,取引額表!AJ26/取引額表!AJ$54)","v":1.0041504886865712E-4},{"$f":"IF(取引額表!AK$54=0,0,取引額表!AK26/取引額表!AK$54)","v":1.3065260814041062E-3},{"$f":"IF(取引額表!AL$54=0,0,取引額表!AL26/取引額表!AL$54)","v":1.8649608491433169E-4},{"$f":"IF(取引額表!AM$54=0,0,取引額表!AM26/取引額表!AM$54)","v":0},{"$f":"IF(取引額表!AN$54=0,0,取引額表!AN26/取引額表!AN$54)","v":0},{"$f":"IF(取引額表!AO$54=0,0,取引額表!AO26/取引額表!AO$54)","v":3.6243339322480895E-4},{"$f":"IF(取引額表!AP$46=0,0,取引額表!AP26/取引額表!AP$46)","v":6.3927138205929759E-3},{"$f":"IF(取引額表!AQ$46=0,0,取引額表!AQ26/取引額表!AQ$46)","v":1.4968767632411745E-2},{"$f":"IF(取引額表!AR$46=0,0,取引額表!AR26/取引額表!AR$46)","v":0},{"$f":"IF(取引額表!AS$46=0,0,取引額表!AS26/取引額表!AS$46)","v":1.6666570517073282E-2},{"$f":"IF(取引額表!AT$46=0,0,取引額表!AT26/取引額表!AT$46)","v":3.9720194513901519E-2},{"$f":"IF(取引額表!AU$46=0,0,取引額表!AU26/取引額表!AU$46)","v":-7.5978959672706015E-2},{"$f":"IF(取引額表!AV$46=0,0,取引額表!AV26/取引額表!AV$46)","v":2.1530479896238651E-2},{"$f":"IF(取引額表!AW$46=0,0,取引額表!AW26/取引額表!AW$46)","v":1.4459037071499304E-2},{"$f":"IF(取引額表!AX$46=0,0,取引額表!AX26/取引額表!AX$46)","v":8.5103522579557927E-3},{"$f":"IF(取引額表!AY$46=0,0,取引額表!AY26/取引額表!AY$46)","v":7.4234018408775694E-3},{"$f":"IF(取引額表!AZ$46=0,0,取引額表!AZ26/取引額表!AZ$46)","v":1.2864846705012134E-3},{"$f":"IF(取引額表!BA$46=0,0,取引額表!BA26/取引額表!BA$46)","v":2.2391309666528027E-3},{"$f":"IF(取引額表!BB$46=0,0,取引額表!BB26/取引額表!BB$46)","v":1.0448198904284188E-2},{"$f":"IF(取引額表!BC$46=0,0,取引額表!BC26/取引額表!BC$46)","v":7.1523248420028033E-3},{"$f":"IF(取引額表!BD$46=0,0,取引額表!BD26/取引額表!BD$46)","v":4.5307850144718782E-2},{"$f":"IF(取引額表!BE$46=0,0,取引額表!BE26/取引額表!BE$46)","v":1.7137102998838652E-2},{"$f":"IF(取引額表!BF$46=0,0,取引額表!BF26/取引額表!BF$46)","v":2.3293243649043463E-2},{"$f":"IF(取引額表!BG$46=0,0,取引額表!BG26/取引額表!BG$46)","v":6.5168360562780595E-4},{"$f":"IF(取引額表!BH$46=0,0,取引額表!BH26/取引額表!BH$46)","v":7.0380887244064782E-4}]
[null,"35","輸送機械  　　　　　",{"$f":"IF(取引額表!D$54=0,0,取引額表!D27/取引額表!D$54)","v":0},{"$f":"IF(取引額表!E$54=0,0,取引額表!E27/取引額表!E$54)","v":0},{"$f":"IF(取引額表!F$54=0,0,取引額表!F27/取引額表!F$54)","v":0},{"$f":"IF(取引額表!G$54=0,0,取引額表!G27/取引額表!G$54)","v":0},{"$f":"IF(取引額表!H$54=0,0,取引額表!H27/取引額表!H$54)","v":0},{"$f":"IF(取引額表!I$54=0,0,取引額表!I27/取引額表!I$54)","v":0},{"$f":"IF(取引額表!J$54=0,0,取引額表!J27/取引額表!J$54)","v":0},{"$f":"IF(取引額表!K$54=0,0,取引額表!K27/取引額表!K$54)","v":0},{"$f":"IF(取引額表!L$54=0,0,取引額表!L27/取引額表!L$54)","v":0},{"$f":"IF(取引額表!M$54=0,0,取引額表!M27/取引額表!M$54)","v":0},{"$f":"IF(取引額表!N$54=0,0,取引額表!N27/取引額表!N$54)","v":0},{"$f":"IF(取引額表!O$54=0,0,取引額表!O27/取引額表!O$54)","v":0},{"$f":"IF(取引額表!P$54=0,0,取引額表!P27/取引額表!P$54)","v":0},{"$f":"IF(取引額表!Q$54=0,0,取引額表!Q27/取引額表!Q$54)","v":1.6810787930096147E-3},{"$f":"IF(取引額表!R$54=0,0,取引額表!R27/取引額表!R$54)","v":0},{"$f":"IF(取引額表!S$54=0,0,取引額表!S27/取引額表!S$54)","v":0},{"$f":"IF(取引額表!T$54=0,0,取引額表!T27/取引額表!T$54)","v":0},{"$f":"IF(取引額表!U$54=0,0,取引額表!U27/取引額表!U$54)","v":0},{"$f":"IF(取引額表!V$54=0,0,取引額表!V27/取引額表!V$54)","v":0.2923728813559322},{"$f":"IF(取引額表!W$54=0,0,取引額表!W27/取引額表!W$54)","v":0},{"$f":"IF(取引額表!X$54=0,0,取引額表!X27/取引額表!X$54)","v":0},{"$f":"IF(取引額表!Y$54=0,0,取引額表!Y27/取引額表!Y$54)","v":0},{"$f":"IF(取引額表!Z$54=0,0,取引額表!Z27/取引額表!Z$54)","v":0},{"$f":"IF(取引額表!AA$54=0,0,取引額表!AA27/取引額表!AA$54)","v":0},{"$f":"IF(取引額表!AB$54=0,0,取引額表!AB27/取引額表!AB$54)","v":0},{"$f":"IF(取引額表!AC$54=0,0,取引額表!AC27/取引額表!AC$54)","v":0},{"$f":"IF(取引額表!AD$54=0,0,取引額表!AD27/取引額表!AD$54)","v":0},{"$f":"IF(取引額表!AE$54=0,0,取引額表!AE27/取引額表!AE$54)","v":2.099010832003385E-2},{"$f":"IF(取引額表!AF$54=0,0,取引額表!AF27/取引額表!AF$54)","v":0},{"$f":"IF(取引額表!AG$54=0,0,取引額表!AG27/取引額表!AG$54)","v":3.2700942098569984E-3},{"$f":"IF(取引額表!AH$54=0,0,取引額表!AH27/取引額表!AH$54)","v":1.3961318934012238E-4},{"$f":"IF(取引額表!AI$54=0,0,取引額表!AI27/取引額表!AI$54)","v":0},{"$f":"IF(取引額表!AJ$54=0,0,取引額表!AJ27/取引額表!AJ$54)","v":0},{"$f":"IF(取引額表!AK$54=0,0,取引額表!AK27/取引額表!AK$54)","v":1.9745243786633487E-2},{"$f":"IF(取引額表!AL$54=0,0,取引額表!AL27/取引額表!AL$54)","v":6.3941514827770872E-5},{"$f":"IF(取引額表!AM$54=0,0,取引額表!AM27/取引額表!AM$54)","v":0},{"$f":"IF(取引額表!AN$54=0,0,取引額表!AN27/取引額表!AN$54)","v":0},{"$f":"IF(取引額表!AO$54=0,0,取引額表!AO27/取引額表!AO$54)","v":3.1930915805714346E-3},{"$f":"IF(取引額表!AP$46=0,0,取引額表!AP27/取引額表!AP$46)","v":0},{"$f":"IF(取引額表!AQ$46=0,0,取引額表!AQ27/取引額表!AQ$46)","v":1.6424208228049946E-2},{"$f":"IF(取引額表!AR$46=0,0,取引額表!AR27/取引額表!AR$46)","v":0},{"$f":"IF(取引額表!AS$46=0,0,取引額表!AS27/取引額表!AS$46)","v":7.0785330648836685E-3},{"$f":"IF(取引額表!AT$46=0,0,取引額表!AT27/取引額表!AT$46)","v":5.1795133646127582E-2},{"$f":"IF(取引額表!AU$46=0,0,取引額表!AU27/取引額表!AU$46)","v":-0.85885447106954993},{"$f":"IF(取引額表!AV$46=0,0,取引額表!AV27/取引額表!AV$46)","v":3.1128404669260703E-3},{"$f":"IF(取引額表!AW$46=0,0,取引額表!AW27/取引額表!AW$46)","v":1.5488017305228913E-2},{"$f":"IF(取引額表!AX$46=0,0,取引額表!AX27/取引額表!AX$46)","v":1.1674126394886674E-2},{"$f":"IF(取引額表!AY$46=0,0,取引額表!AY27/取引額表!AY$46)","v":1.6359853738494516E-3},{"$f":"IF(取引額表!AZ$46=0,0,取引額表!AZ27/取引額表!AZ$46)","v":6.2847179986214171E-4},{"$f":"IF(取引額表!BA$46=0,0,取引額表!BA27/取引額表!BA$46)","v":7.8487020771658548E-4},{"$f":"IF(取引額表!BB$46=0,0,取引額表!BB27/取引額表!BB$46)","v":1.0662125596168078E-2},{"$f":"IF(取引額表!BC$46=0,0,取引額表!BC27/取引額表!BC$46)","v":9.3160676126171418E-3},{"$f":"IF(取引額表!BD$46=0,0,取引額表!BD27/取引額表!BD$46)","v":2.5837058879482545E-2},{"$f":"IF(取引額表!BE$46=0,0,取引額表!BE27/取引額表!BE$46)","v":3.3750768887316152E-2},{"$f":"IF(取引額表!BF$46=0,0,取引額表!BF27/取引額表!BF$46)","v":3.2021389413606244E-2},{"$f":"IF(取引額表!BG$46=0,0,取引額表!BG27/取引額表!BG$46)","v":-5.6279192353956486E-3},{"$f":"IF(取引額表!BH$46=0,0,取引額表!BH27/取引額表!BH$46)","v":2.4498361931562374E-4}]
[null,"39","その他の製造工業製品",{"$f":"IF(取引額表!D$54=0,0,取引額表!D28/取引額表!D$54)","v":2.7929060187124703E-4},{"$f":"IF(取引額表!E$54=0,0,取引額表!E28/取引額表!E$54)","v":6.0728744939271256E-3},{"$f":"IF(取引額表!F$54=0,0,取引額表!F28/取引額表!F$54)","v":6.6392494260040878E-3},{"$f":"IF(取引額表!G$54=0,0,取引額表!G28/取引額表!G$54)","v":2.0517395182872437E-2},{"$f":"IF(取引額表!H$54=0,0,取引額表!H28/取引額表!H$54)","v":1.0815615971553448E-2},{"$f":"IF(取引額表!I$54=0,0,取引額表!I28/取引額表!I$54)","v":4.2364466803468592E-3},{"$f":"IF(取引額表!J$54=0,0,取引額表!J28/取引額表!J$54)","v":1.59692691136606E-2},{"$f":"IF(取引額表!K$54=0,0,取引額表!K28/取引額表!K$54)","v":9.8709187547456334E-3},{"$f":"IF(取引額表!L$54=0,0,取引額表!L28/取引額表!L$54)","v":5.7664584334454587E-3},{"$f":"IF(取引額表!M$54=0,0,取引額表!M28/取引額表!M$54)","v":7.2761246608531683E-3},{"$f":"IF(取引額表!N$54=0,0,取引額表!N28/取引額表!N$54)","v":1.5382983237852747E-2},{"$f":"IF(取引額表!O$54=0,0,取引額表!O28/取引額表!O$54)","v":1.5766175489661028E-3},{"$f":"IF(取引額表!P$54=0,0,取引額表!P28/取引額表!P$54)","v":1.0814708002883922E-3},{"$f":"IF(取引額表!Q$54=0,0,取引額表!Q28/取引額表!Q$54)","v":2.6244179718207658E-3},{"$f":"IF(取引額表!R$54=0,0,取引額表!R28/取引額表!R$54)","v":4.8617441507140683E-3},{"$f":"IF(取引額表!S$54=0,0,取引額表!S28/取引額表!S$54)","v":6.9481560662747197E-3},{"$f":"IF(取引額表!T$54=0,0,取引額表!T28/取引額表!T$54)","v":3.0012585923129055E-3},{"$f":"IF(取引額表!U$54=0,0,取引額表!U28/取引額表!U$54)","v":6.5318162663295411E-3},{"$f":"IF(取引額表!V$54=0,0,取引額表!V28/取引額表!V$54)","v":6.0532687651331722E-4},{"$f":"IF(取引額表!W$54=0,0,取引額表!W28/取引額表!W$54)","v":4.3799069496946785E-2},{"$f":"IF(取引額表!X$54=0,0,取引額表!X28/取引額表!X$54)","v":3.6830014601798716E-3},{"$f":"IF(取引額表!Y$54=0,0,取引額表!Y28/取引額表!Y$54)","v":1.1733742734949008E-2},{"$f":"IF(取引額表!Z$54=0,0,取引額表!Z28/取引額表!Z$54)","v":2.6531596719729859E-3},{"$f":"IF(取引額表!AA$54=0,0,取引額表!AA28/取引額表!AA$54)","v":5.8967629046369208E-3},{"$f":"IF(取引額表!AB$54=0,0,取引額表!AB28/取引額表!AB$54)","v":6.1740173151711743E-3},{"$f":"IF(取引額表!AC$54=0,0,取引額表!AC28/取引額表!AC$54)","v":1.4101826266930234E-2},{"$f":"IF(取引額表!AD$54=0,0,取引額表!AD28/取引額表!AD$54)","v":6.9819556726375819E-5},{"$f":"IF(取引額表!AE$54=0,0,取引額表!AE28/取引額表!AE$54)","v":2.4265568229606084E-3},{"$f":"IF(取引額表!AF$54=0,0,取引額表!AF28/取引額表!AF$54)","v":1.2301064368981247E-2},{"$f":"IF(取引額表!AG$54=0,0,取引額表!AG28/取引額表!AG$54)","v":8.4780220255551812E-3},{"$f":"IF(取引額表!AH$54=0,0,取引額表!AH28/取引額表!AH$54)","v":1.6154067260707099E-2},{"$f":"IF(取引額表!AI$54=0,0,取引額表!AI28/取引額表!AI$54)","v":4.5826479506839816E-3},{"$f":"IF(取引額表!AJ$54=0,0,取引額表!AJ28/取引額表!AJ$54)","v":3.8693265497389211E-2},{"$f":"IF(取引額表!AK$54=0,0,取引額表!AK28/取引額表!AK$54)","v":6.3050525557483876E-3},{"$f":"IF(取引額表!AL$54=0,0,取引額表!AL28/取引額表!AL$54)","v":6.2316334659231693E-3},{"$f":"IF(取引額表!AM$54=0,0,取引額表!AM28/取引額表!AM$54)","v":0.15867384389527772},{"$f":"IF(取引額表!AN$54=0,0,取引額表!AN28/取引額表!AN$54)","v":1.8765930033890709E-3},{"$f":"IF(取引額表!AO$54=0,0,取引額表!AO28/取引額表!AO$54)","v":7.0530665364832807E-3},{"$f":"IF(取引額表!AP$46=0,0,取引額表!AP28/取引額表!AP$46)","v":1.6647016192711656E-2},{"$f":"IF(取引額表!AQ$46=0,0,取引額表!AQ28/取引額表!AQ$46)","v":9.4249073915070036E-3},{"$f":"IF(取引額表!AR$46=0,0,取引額表!AR28/取引額表!AR$46)","v":0},{"$f":"IF(取引額表!AS$46=0,0,取引額表!AS28/取引額表!AS$46)","v":7.0381502356626536E-4},{"$f":"IF(取引額表!AT$46=0,0,取引額表!AT28/取引額表!AT$46)","v":1.1404352675881021E-2},{"$f":"IF(取引額表!AU$46=0,0,取引額表!AU28/取引額表!AU$46)","v":-7.802454704850964E-2},{"$f":"IF(取引額表!AV$46=0,0,取引額表!AV28/取引額表!AV$46)","v":9.8573281452658881E-3},{"$f":"IF(取引額表!AW$46=0,0,取引額表!AW28/取引額表!AW$46)","v":7.4648882012019755E-3},{"$f":"IF(取引額表!AX$46=0,0,取引額表!AX28/取引額表!AX$46)","v":1.06556919193784E-2},{"$f":"IF(取引額表!AY$46=0,0,取引額表!AY28/取引額表!AY$46)","v":3.375992939099735E-3},{"$f":"IF(取引額表!AZ$46=0,0,取引額表!AZ28/取引額表!AZ$46)","v":8.375762420282552E-3},{"$f":"IF(取引額表!BA$46=0,0,取引額表!BA28/取引額表!BA$46)","v":7.5996379027720015E-3},{"$f":"IF(取引額表!BB$46=0,0,取引額表!BB28/取引額表!BB$46)","v":7.5091159752487457E-3},{"$f":"IF(取引額表!BC$46=0,0,取引額表!BC28/取引額表!BC$46)","v":9.9939061289550431E-3},{"$f":"IF(取引額表!BD$46=0,0,取引額表!BD28/取引額表!BD$46)","v":2.1300158986832629E-2},{"$f":"IF(取引額表!BE$46=0,0,取引額表!BE28/取引額表!BE$46)","v":2.5774765296404576E-2},{"$f":"IF(取引額表!BF$46=0,0,取引額表!BF28/取引額表!BF$46)","v":2.4796931600572076E-2},{"$f":"IF(取引額表!BG$46=0,0,取引額表!BG28/取引額表!BG$46)","v":-5.6757622107870909E-3},{"$f":"IF(取引額表!BH$46=0,0,取引額表!BH28/取引額表!BH$46)","v":4.0798966916534138E-3}]
[null,"41","建設　　　　　　　　",{"$f":"IF(取引額表!D$54=0,0,取引額表!D29/取引額表!D$54)","v":4.8875855327468231E-3},{"$f":"IF(取引額表!E$54=0,0,取引額表!E29/取引額表!E$54)","v":1.0121457489878543E-2},{"$f":"IF(取引額表!F$54=0,0,取引額表!F29/取引額表!F$54)","v":1.0128279526097441E-3},{"$f":"IF(取引額表!G$54=0,0,取引額表!G29/取引額表!G$54)","v":4.4603033006244425E-3},{"$f":"IF(取引額表!H$54=0,0,取引額表!H29/取引額表!H$54)","v":5.8522853544707015E-3},{"$f":"IF(取引額表!I$54=0,0,取引額表!I29/取引額表!I$54)","v":1.0326338783345469E-2},{"$f":"IF(取引額表!J$54=0,0,取引額表!J29/取引額表!J$54)","v":1.1048730038413607E-3},{"$f":"IF(取引額表!K$54=0,0,取引額表!K29/取引額表!K$54)","v":8.6370539104024292E-3},{"$f":"IF(取引額表!L$54=0,0,取引額表!L29/取引額表!L$54)","v":1.1270805119916124E-2},{"$f":"IF(取引額表!M$54=0,0,取引額表!M29/取引額表!M$54)","v":9.6067049659550804E-3},{"$f":"IF(取引額表!N$54=0,0,取引額表!N29/取引額表!N$54)","v":1.0343730108211331E-2},{"$f":"IF(取引額表!O$54=0,0,取引額表!O29/取引額表!O$54)","v":1.230974470923534E-2},{"$f":"IF(取引額表!P$54=0,0,取引額表!P29/取引額表!P$54)","v":4.1456380677721699E-3},{"$f":"IF(取引額表!Q$54=0,0,取引額表!Q29/取引額表!Q$54)","v":2.080183830198948E-3},{"$f":"IF(取引額表!R$54=0,0,取引額表!R29/取引額表!R$54)","v":4.5578851412944391E-3},{"$f":"IF(取引額表!S$54=0,0,取引額表!S29/取引額表!S$54)","v":6.5918403705683233E-3},{"$f":"IF(取引額表!T$54=0,0,取引額表!T29/取引額表!T$54)","v":4.4534804918191498E-3},{"$f":"IF(取引額表!U$54=0,0,取引額表!U29/取引額表!U$54)","v":3.3712600084281502E-3},{"$f":"IF(取引額表!V$54=0,0,取引額表!V29/取引額表!V$54)","v":6.0532687651331722E-4},{"$f":"IF(取引額表!W$54=0,0,取引額表!W29/取引額表!W$54)","v":2.4716487350974121E-3},{"$f":"IF(取引額表!X$54=0,0,取引額表!X29/取引額表!X$54)","v":1.2896705449788103E-3},{"$f":"IF(取引額表!Y$54=0,0,取引額表!Y29/取引額表!Y$54)","v":5.1831018623043033E-2},{"$f":"IF(取引額表!Z$54=0,0,取引額表!Z29/取引額表!Z$54)","v":6.02990834539315E-2},{"$f":"IF(取引額表!AA$54=0,0,取引額表!AA29/取引額表!AA$54)","v":7.2265966754155734E-3},{"$f":"IF(取引額表!AB$54=0,0,取引額表!AB29/取引額表!AB$54)","v":4.388516327793782E-3},{"$f":"IF(取引額表!AC$54=0,0,取引額表!AC29/取引額表!AC$54)","v":1.5263573678020812E-3},{"$f":"IF(取引額表!AD$54=0,0,取引額表!AD29/取引額表!AD$54)","v":2.6105800796748558E-2},{"$f":"IF(取引額表!AE$54=0,0,取引額表!AE29/取引額表!AE$54)","v":1.0283481390738336E-2},{"$f":"IF(取引額表!AF$54=0,0,取引額表!AF29/取引額表!AF$54)","v":4.2853522554485556E-3},{"$f":"IF(取引額表!AG$54=0,0,取引額表!AG29/取引額表!AG$54)","v":2.1160450892355073E-2},{"$f":"IF(取引額表!AH$54=0,0,取引額表!AH29/取引額表!AH$54)","v":1.0142487578532419E-2},{"$f":"IF(取引額表!AI$54=0,0,取引額表!AI29/取引額表!AI$54)","v":5.6705013059495596E-3},{"$f":"IF(取引額表!AJ$54=0,0,取引額表!AJ29/取引額表!AJ$54)","v":2.2091310751104565E-3},{"$f":"IF(取引額表!AK$54=0,0,取引額表!AK29/取引額表!AK$54)","v":9.3978191820295355E-4},{"$f":"IF(取引額表!AL$54=0,0,取引額表!AL29/取引額表!AL$54)","v":5.3924010838086759E-3},{"$f":"IF(取引額表!AM$54=0,0,取引額表!AM29/取引額表!AM$54)","v":0},{"$f":"IF(取引額表!AN$54=0,0,取引額表!AN29/取引額表!AN$54)","v":0},{"$f":"IF(取引額表!AO$54=0,0,取引額表!AO29/取引額表!AO$54)","v":9.6990972383287251E-3},{"$f":"IF(取引額表!AP$46=0,0,取引額表!AP29/取引額表!AP$46)","v":0},{"$f":"IF(取引額表!AQ$46=0,0,取引額表!AQ29/取引額表!AQ$46)","v":0},{"$f":"IF(取引額表!AR$46=0,0,取引額表!AR29/取引額表!AR$46)","v":0},{"$f":"IF(取引額表!AS$46=0,0,取引額表!AS29/取引額表!AS$46)","v":0.81234676158554531},{"$f":"IF(取引額表!AT$46=0,0,取引額表!AT29/取引額表!AT$46)","v":0.25496748970562133},{"$f":"IF(取引額表!AU$46=0,0,取引額表!AU29/取引額表!AU$46)","v":0},{"$f":"IF(取引額表!AV$46=0,0,取引額表!AV29/取引額表!AV$46)","v":0},{"$f":"IF(取引額表!AW$46=0,0,取引額表!AW29/取引額表!AW$46)","v":6.1480373588678541E-2},{"$f":"IF(取引額表!AX$46=0,0,取引額表!AX29/取引額表!AX$46)","v":4.3626730374950247E-2},{"$f":"IF(取引額表!AY$46=0,0,取引額表!AY29/取引額表!AY$46)","v":0},{"$f":"IF(取引額表!AZ$46=0,0,取引額表!AZ29/取引額表!AZ$46)","v":0},{"$f":"IF(取引額表!BA$46=0,0,取引額表!BA29/取引額表!BA$46)","v":0},{"$f":"IF(取引額表!BB$46=0,0,取引額表!BB29/取引額表!BB$46)","v":4.1301181800427599E-2},{"$f":"IF(取引額表!BC$46=0,0,取引額表!BC29/取引額表!BC$46)","v":3.417940055424451E-2},{"$f":"IF(取引額表!BD$46=0,0,取引額表!BD29/取引額表!BD$46)","v":0},{"$f":"IF(取引額表!BE$46=0,0,取引額表!BE29/取引額表!BE$46)","v":0},{"$f":"IF(取引額表!BF$46=0,0,取引額表!BF29/取引額表!BF$46)","v":0},{"$f":"IF(取引額表!BG$46=0,0,取引額表!BG29/取引額表!BG$46)","v":7.2800305968566875E-2},{"$f":"IF(取引額表!BH$46=0,0,取引額表!BH29/取引額表!BH$46)","v":4.7834534623066305E-2}]
[null,"46","電力・ガス・熱供給",{"$f":"IF(取引額表!D$54=0,0,取引額表!D30/取引額表!D$54)","v":3.2118419215193409E-3},{"$f":"IF(取引額表!E$54=0,0,取引額表!E30/取引額表!E$54)","v":5.0607287449392713E-3},{"$f":"IF(取引額表!F$54=0,0,取引額表!F30/取引額表!F$54)","v":6.6248319462516355E-3},{"$f":"IF(取引額表!G$54=0,0,取引額表!G30/取引額表!G$54)","v":3.5682426404995541E-3},{"$f":"IF(取引額表!H$54=0,0,取引額表!H30/取引額表!H$54)","v":4.6670123712867616E-3},{"$f":"IF(取引額表!I$54=0,0,取引額表!I30/取引額表!I$54)","v":1.8931621102800028E-2},{"$f":"IF(取引額表!J$54=0,0,取引額表!J30/取引額表!J$54)","v":3.6229556637588809E-3},{"$f":"IF(取引額表!K$54=0,0,取引額表!K30/取引額表!K$54)","v":1.2623386484434321E-2},{"$f":"IF(取引額表!L$54=0,0,取引額表!L30/取引額表!L$54)","v":1.0790266917129003E-2},{"$f":"IF(取引額表!M$54=0,0,取引額表!M30/取引額表!M$54)","v":1.3768272509656664E-2},{"$f":"IF(取引額表!N$54=0,0,取引額表!N30/取引額表!N$54)","v":8.752387014640357E-3},{"$f":"IF(取引額表!O$54=0,0,取引額表!O30/取引額表!O$54)","v":1.0005457522284883E-2},{"$f":"IF(取引額表!P$54=0,0,取引額表!P30/取引額表!P$54)","v":2.343186733958183E-3},{"$f":"IF(取引額表!Q$54=0,0,取引額表!Q30/取引額表!Q$54)","v":2.6969825240370079E-3},{"$f":"IF(取引額表!R$54=0,0,取引額表!R30/取引額表!R$54)","v":3.6463081130355514E-3},{"$f":"IF(取引額表!S$54=0,0,取引額表!S30/取引額表!S$54)","v":8.0171031533939063E-3},{"$f":"IF(取引額表!T$54=0,0,取引額表!T30/取引額表!T$54)","v":3.1948881789137379E-3},{"$f":"IF(取引額表!U$54=0,0,取引額表!U30/取引額表!U$54)","v":1.0535187526337969E-3},{"$f":"IF(取引額表!V$54=0,0,取引額表!V30/取引額表!V$54)","v":4.2372881355932203E-3},{"$f":"IF(取引額表!W$54=0,0,取引額表!W30/取引額表!W$54)","v":4.1436464088397788E-3},{"$f":"IF(取引額表!X$54=0,0,取引額表!X30/取引額表!X$54)","v":1.8042986951386241E-3},{"$f":"IF(取引額表!Y$54=0,0,取引額表!Y30/取引額表!Y$54)","v":2.3815820878192267E-2},{"$f":"IF(取引額表!Z$54=0,0,取引額表!Z30/取引額表!Z$54)","v":8.3103100469236503E-3},{"$f":"IF(取引額表!AA$54=0,0,取引額表!AA30/取引額表!AA$54)","v":1.3525809273840769E-2},{"$f":"IF(取引額表!AB$54=0,0,取引額表!AB30/取引額表!AB$54)","v":6.6037165102220321E-3},{"$f":"IF(取引額表!AC$54=0,0,取引額表!AC30/取引額表!AC$54)","v":2.8275144682235274E-3},{"$f":"IF(取引額表!AD$54=0,0,取引額表!AD30/取引額表!AD$54)","v":1.5883949155250498E-3},{"$f":"IF(取引額表!AE$54=0,0,取引額表!AE30/取引額表!AE$54)","v":3.2075476626433012E-3},{"$f":"IF(取引額表!AF$54=0,0,取引額表!AF30/取引額表!AF$54)","v":2.3948302078053724E-3},{"$f":"IF(取引額表!AG$54=0,0,取引額表!AG30/取引額表!AG$54)","v":4.9267689219935464E-3},{"$f":"IF(取引額表!AH$54=0,0,取引額表!AH30/取引額表!AH$54)","v":7.9538455221122659E-3},{"$f":"IF(取引額表!AI$54=0,0,取引額表!AI30/取引額表!AI$54)","v":4.3908283977023696E-3},{"$f":"IF(取引額表!AJ$54=0,0,取引額表!AJ30/取引額表!AJ$54)","v":1.8074708796358282E-3},{"$f":"IF(取引額表!AK$54=0,0,取引額表!AK30/取引額表!AK$54)","v":2.6949146992370412E-3},{"$f":"IF(取引額表!AL$54=0,0,取引額表!AL30/取引額表!AL$54)","v":1.2082282072664203E-2},{"$f":"IF(取引額表!AM$54=0,0,取引額表!AM30/取引額表!AM$54)","v":0},{"$f":"IF(取引額表!AN$54=0,0,取引額表!AN30/取引額表!AN$54)","v":2.9689381844662912E-3},{"$f":"IF(取引額表!AO$54=0,0,取引額表!AO30/取引額表!AO$54)","v":6.6588979770759397E-3},{"$f":"IF(取引額表!AP$46=0,0,取引額表!AP30/取引額表!AP$46)","v":1.6225161981200446E-4},{"$f":"IF(取引額表!AQ$46=0,0,取引額表!AQ30/取引額表!AQ$46)","v":1.3000837156244633E-2},{"$f":"IF(取引額表!AR$46=0,0,取引額表!AR30/取引額表!AR$46)","v":0},{"$f":"IF(取引額表!AS$46=0,0,取引額表!AS30/取引額表!AS$46)","v":0},{"$f":"IF(取引額表!AT$46=0,0,取引額表!AT30/取引額表!AT$46)","v":0},{"$f":"IF(取引額表!AU$46=0,0,取引額表!AU30/取引額表!AU$46)","v":0},{"$f":"IF(取引額表!AV$46=0,0,取引額表!AV30/取引額表!AV$46)","v":0},{"$f":"IF(取引額表!AW$46=0,0,取引額表!AW30/取引額表!AW$46)","v":8.112304203279061E-3},{"$f":"IF(取引額表!AX$46=0,0,取引額表!AX30/取引額表!AX$46)","v":1.0662454432495985E-2},{"$f":"IF(取引額表!AY$46=0,0,取引額表!AY30/取引額表!AY$46)","v":3.9717563989408649E-4},{"$f":"IF(取引額表!AZ$46=0,0,取引額表!AZ30/取引額表!AZ$46)","v":4.4057900498722782E-2},{"$f":"IF(取引額表!BA$46=0,0,取引額表!BA30/取引額表!BA$46)","v":3.7280356225381062E-2},{"$f":"IF(取引額表!BB$46=0,0,取引額表!BB30/取引額表!BB$46)","v":1.7685891374064632E-2},{"$f":"IF(取引額表!BC$46=0,0,取引額表!BC30/取引額表!BC$46)","v":1.6426537489174664E-2},{"$f":"IF(取引額表!BD$46=0,0,取引額表!BD30/取引額表!BD$46)","v":0},{"$f":"IF(取引額表!BE$46=0,0,取引額表!BE30/取引額表!BE$46)","v":0},{"$f":"IF(取引額表!BF$46=0,0,取引額表!BF30/取引額表!BF$46)","v":0},{"$f":"IF(取引額表!BG$46=0,0,取引額表!BG30/取引額表!BG$46)","v":3.1174369527251954E-2},{"$f":"IF(取引額表!BH$46=0,0,取引額表!BH30/取引額表!BH$46)","v":2.2989161995863157E-2}]
[null,"47","水道",{"$f":"IF(取引額表!D$54=0,0,取引額表!D31/取引額表!D$54)","v":1.5360983102918587E-3},{"$f":"IF(取引額表!E$54=0,0,取引額表!E31/取引額表!E$54)","v":5.0607287449392713E-3},{"$f":"IF(取引額表!F$54=0,0,取引額表!F31/取引額表!F$54)","v":2.0580952346625049E-3},{"$f":"IF(取引額表!G$54=0,0,取引額表!G31/取引額表!G$54)","v":0},{"$f":"IF(取引額表!H$54=0,0,取引額表!H31/取引額表!H$54)","v":9.6303429883695094E-4},{"$f":"IF(取引額表!I$54=0,0,取引額表!I31/取引額表!I$54)","v":3.243529489640564E-3},{"$f":"IF(取引額表!J$54=0,0,取引額表!J31/取引額表!J$54)","v":3.9955291185425953E-3},{"$f":"IF(取引額表!K$54=0,0,取引額表!K31/取引額表!K$54)","v":1.6135155656795748E-3},{"$f":"IF(取引額表!L$54=0,0,取引額表!L31/取引額表!L$54)","v":1.3542440260364335E-3},{"$f":"IF(取引額表!M$54=0,0,取引額表!M31/取引額表!M$54)","v":2.7977211724125564E-3},{"$f":"IF(取引額表!N$54=0,0,取引額表!N31/取引額表!N$54)","v":2.493104179927859E-3},{"$f":"IF(取引額表!O$54=0,0,取引額表!O31/取引額表!O$54)","v":1.0308653204778365E-3},{"$f":"IF(取引額表!P$54=0,0,取引額表!P31/取引額表!P$54)","v":1.8024513338139869E-4},{"$f":"IF(取引額表!Q$54=0,0,取引額表!Q31/取引額表!Q$54)","v":7.4983370623450446E-4},{"$f":"IF(取引額表!R$54=0,0,取引額表!R31/取引額表!R$54)","v":6.0771801883925853E-4},{"$f":"IF(取引額表!S$54=0,0,取引額表!S31/取引額表!S$54)","v":1.0689470871191875E-3},{"$f":"IF(取引額表!T$54=0,0,取引額表!T31/取引額表!T$54)","v":4.840739665020815E-4},{"$f":"IF(取引額表!U$54=0,0,取引額表!U31/取引額表!U$54)","v":0},{"$f":"IF(取引額表!V$54=0,0,取引額表!V31/取引額表!V$54)","v":0},{"$f":"IF(取引額表!W$54=0,0,取引額表!W31/取引額表!W$54)","v":1.3812154696132596E-3},{"$f":"IF(取引額表!X$54=0,0,取引額表!X31/取引額表!X$54)","v":1.0168556220025236E-3},{"$f":"IF(取引額表!Y$54=0,0,取引額表!Y31/取引額表!Y$54)","v":2.431897202350619E-3},{"$f":"IF(取引額表!Z$54=0,0,取引額表!Z31/取引額表!Z$54)","v":8.4024031925623827E-2},{"$f":"IF(取引額表!AA$54=0,0,取引額表!AA31/取引額表!AA$54)","v":1.4838145231846019E-2},{"$f":"IF(取引額表!AB$54=0,0,取引額表!AB31/取引額表!AB$54)","v":2.4804657504921375E-3},{"$f":"IF(取引額表!AC$54=0,0,取引額表!AC31/取引額表!AC$54)","v":1.297582493002706E-3},{"$f":"IF(取引額表!AD$54=0,0,取引額表!AD31/取引額表!AD$54)","v":5.3975888084621302E-4},{"$f":"IF(取引額表!AE$54=0,0,取引額表!AE31/取引額表!AE$54)","v":3.5653929637688162E-3},{"$f":"IF(取引額表!AF$54=0,0,取引額表!AF31/取引額表!AF$54)","v":1.8753167764825138E-3},{"$f":"IF(取引額表!AG$54=0,0,取引額表!AG31/取引額表!AG$54)","v":3.5512531035616344E-3},{"$f":"IF(取引額表!AH$54=0,0,取引額表!AH31/取引額表!AH$54)","v":1.1000698065946701E-2},{"$f":"IF(取引額表!AI$54=0,0,取引額表!AI31/取引額表!AI$54)","v":6.2223109789103599E-3},{"$f":"IF(取引額表!AJ$54=0,0,取引額表!AJ31/取引額表!AJ$54)","v":2.4099611728477708E-3},{"$f":"IF(取引額表!AK$54=0,0,取引額表!AK31/取引額表!AK$54)","v":7.4003732931661155E-4},{"$f":"IF(取引額表!AL$54=0,0,取引額表!AL31/取引額表!AL$54)","v":1.1570749954042036E-2},{"$f":"IF(取引額表!AM$54=0,0,取引額表!AM31/取引額表!AM$54)","v":0},{"$f":"IF(取引額表!AN$54=0,0,取引額表!AN31/取引額表!AN$54)","v":3.9212391115592531E-3},{"$f":"IF(取引額表!AO$54=0,0,取引額表!AO31/取引額表!AO$54)","v":3.7401524592974248E-3},{"$f":"IF(取引額表!AP$46=0,0,取引額表!AP31/取引額表!AP$46)","v":2.4878581704507348E-4},{"$f":"IF(取引額表!AQ$46=0,0,取引額表!AQ31/取引額表!AQ$46)","v":8.442092093319923E-3},{"$f":"IF(取引額表!AR$46=0,0,取引額表!AR31/取引額表!AR$46)","v":-2.0827265127888171E-3},{"$f":"IF(取引額表!AS$46=0,0,取引額表!AS31/取引額表!AS$46)","v":0},{"$f":"IF(取引額表!AT$46=0,0,取引額表!AT31/取引額表!AT$46)","v":0},{"$f":"IF(取引額表!AU$46=0,0,取引額表!AU31/取引額表!AU$46)","v":0},{"$f":"IF(取引額表!AV$46=0,0,取引額表!AV31/取引額表!AV$46)","v":0},{"$f":"IF(取引額表!AW$46=0,0,取引額表!AW31/取引額表!AW$46)","v":4.8503603582496051E-3},{"$f":"IF(取引額表!AX$46=0,0,取引額表!AX31/取引額表!AX$46)","v":6.1551041893633512E-3},{"$f":"IF(取引額表!AY$46=0,0,取引額表!AY31/取引額表!AY$46)","v":3.0576219896608244E-4},{"$f":"IF(取引額表!AZ$46=0,0,取引額表!AZ31/取引額表!AZ$46)","v":0},{"$f":"IF(取引額表!BA$46=0,0,取引額表!BA31/取引額表!BA$46)","v":4.7464096102561596E-5},{"$f":"IF(取引額表!BB$46=0,0,取引額表!BB31/取引額表!BB$46)","v":3.2739456561960366E-3},{"$f":"IF(取引額表!BC$46=0,0,取引額表!BC31/取引額表!BC$46)","v":4.8325001369558043E-3},{"$f":"IF(取引額表!BD$46=0,0,取引額表!BD31/取引額表!BD$46)","v":0},{"$f":"IF(取引額表!BE$46=0,0,取引額表!BE31/取引額表!BE$46)","v":0},{"$f":"IF(取引額表!BF$46=0,0,取引額表!BF31/取引額表!BF$46)","v":0},{"$f":"IF(取引額表!BG$46=0,0,取引額表!BG31/取引額表!BG$46)","v":5.7708819725120876E-3},{"$f":"IF(取引額表!BH$46=0,0,取引額表!BH31/取引額表!BH$46)","v":6.7631494809372488E-3}]
[null,"48","廃棄物処理",{"$f":"IF(取引額表!D$54=0,0,取引額表!D32/取引額表!D$54)","v":8.378718056137411E-4},{"$f":"IF(取引額表!E$54=0,0,取引額表!E32/取引額表!E$54)","v":4.048582995951417E-3},{"$f":"IF(取引額表!F$54=0,0,取引額表!F32/取引額表!F$54)","v":5.875122999124138E-4},{"$f":"IF(取引額表!G$54=0,0,取引額表!G32/取引額表!G$54)","v":0},{"$f":"IF(取引額表!H$54=0,0,取引額表!H32/取引額表!H$54)","v":1.4815912289799243E-4},{"$f":"IF(取引額表!I$54=0,0,取引額表!I32/取引額表!I$54)","v":4.9645859535314757E-3},{"$f":"IF(取引額表!J$54=0,0,取引額表!J32/取引額表!J$54)","v":4.2396289682284776E-4},{"$f":"IF(取引額表!K$54=0,0,取引額表!K32/取引額表!K$54)","v":0},{"$f":"IF(取引額表!L$54=0,0,取引額表!L32/取引額表!L$54)","v":6.8585907125070988E-3},{"$f":"IF(取引額表!M$54=0,0,取引額表!M32/取引額表!M$54)","v":2.2972741006684299E-4},{"$f":"IF(取引額表!N$54=0,0,取引額表!N32/取引額表!N$54)","v":0},{"$f":"IF(取引額表!O$54=0,0,取引額表!O32/取引額表!O$54)","v":6.0639136498696257E-5},{"$f":"IF(取引額表!P$54=0,0,取引額表!P32/取引額表!P$54)","v":0},{"$f":"IF(取引額表!Q$54=0,0,取引額表!Q32/取引額表!Q$54)","v":2.4188184072080789E-5},{"$f":"IF(取引額表!R$54=0,0,取引額表!R32/取引額表!R$54)","v":0},{"$f":"IF(取引額表!S$54=0,0,取引額表!S32/取引額表!S$54)","v":7.1263139141279175E-4},{"$f":"IF(取引額表!T$54=0,0,取引額表!T32/取引額表!T$54)","v":0},{"$f":"IF(取引額表!U$54=0,0,取引額表!U32/取引額表!U$54)","v":0},{"$f":"IF(取引額表!V$54=0,0,取引額表!V32/取引額表!V$54)","v":0},{"$f":"IF(取引額表!W$54=0,0,取引額表!W32/取引額表!W$54)","v":3.6347775516138413E-4},{"$f":"IF(取引額表!X$54=0,0,取引額表!X32/取引額表!X$54)","v":1.360974445302158E-3},{"$f":"IF(取引額表!Y$54=0,0,取引額表!Y32/取引額表!Y$54)","v":1.0179134709043174E-2},{"$f":"IF(取引額表!Z$54=0,0,取引額表!Z32/取引額表!Z$54)","v":2.1488400649037408E-3},{"$f":"IF(取引額表!AA$54=0,0,取引額表!AA32/取引額表!AA$54)","v":0},{"$f":"IF(取引額表!AB$54=0,0,取引額表!AB32/取引額表!AB$54)","v":1.968549741947794E-3},{"$f":"IF(取引額表!AC$54=0,0,取引額表!AC32/取引額表!AC$54)","v":2.9490511204606955E-3},{"$f":"IF(取引額表!AD$54=0,0,取引額表!AD32/取引額表!AD$54)","v":2.2825624314392094E-5},{"$f":"IF(取引額表!AE$54=0,0,取引額表!AE32/取引額表!AE$54)","v":6.1042661951118855E-3},{"$f":"IF(取引額表!AF$54=0,0,取引額表!AF32/取引額表!AF$54)","v":4.3081601621895588E-3},{"$f":"IF(取引額表!AG$54=0,0,取引額表!AG32/取引額表!AG$54)","v":3.8864810152863929E-2},{"$f":"IF(取引額表!AH$54=0,0,取引額表!AH32/取引額表!AH$54)","v":5.2847698435511022E-3},{"$f":"IF(取引額表!AI$54=0,0,取引額表!AI32/取引額表!AI$54)","v":5.0871596516767134E-3},{"$f":"IF(取引額表!AJ$54=0,0,取引額表!AJ32/取引額表!AJ$54)","v":0},{"$f":"IF(取引額表!AK$54=0,0,取引額表!AK32/取引額表!AK$54)","v":3.9130292412980122E-4},{"$f":"IF(取引額表!AL$54=0,0,取引額表!AL32/取引額表!AL$54)","v":2.1372451331182412E-2},{"$f":"IF(取引額表!AM$54=0,0,取引額表!AM32/取引額表!AM$54)","v":0},{"$f":"IF(取引額表!AN$54=0,0,取引額表!AN32/取引額表!AN$54)","v":6.9461949976192478E-3},{"$f":"IF(取引額表!AO$54=0,0,取引額表!AO32/取引額表!AO$54)","v":4.4062943587924504E-3},{"$f":"IF(取引額表!AP$46=0,0,取引額表!AP32/取引額表!AP$46)","v":0},{"$f":"IF(取引額表!AQ$46=0,0,取引額表!AQ32/取引額表!AQ$46)","v":1.2925324436376126E-3},{"$f":"IF(取引額表!AR$46=0,0,取引額表!AR32/取引額表!AR$46)","v":1.0623207659318514E-2},{"$f":"IF(取引額表!AS$46=0,0,取引額表!AS32/取引額表!AS$46)","v":0},{"$f":"IF(取引額表!AT$46=0,0,取引額表!AT32/取引額表!AT$46)","v":0},{"$f":"IF(取引額表!AU$46=0,0,取引額表!AU32/取引額表!AU$46)","v":0},{"$f":"IF(取引額表!AV$46=0,0,取引額表!AV32/取引額表!AV$46)","v":0},{"$f":"IF(取引額表!AW$46=0,0,取引額表!AW32/取引額表!AW$46)","v":2.9511459119791563E-3},{"$f":"IF(取引額表!AX$46=0,0,取引額表!AX32/取引額表!AX$46)","v":5.6882202837252958E-3},{"$f":"IF(取引額表!AY$46=0,0,取引額表!AY32/取引額表!AY$46)","v":1.7021813138317992E-4},{"$f":"IF(取引額表!AZ$46=0,0,取引額表!AZ32/取引額表!AZ$46)","v":1.1907947706512358E-2},{"$f":"IF(取引額表!BA$46=0,0,取引額表!BA32/取引額表!BA$46)","v":1.008587576150515E-2},{"$f":"IF(取引額表!BB$46=0,0,取引額表!BB32/取引額表!BB$46)","v":5.2929189622563932E-3},{"$f":"IF(取引額表!BC$46=0,0,取引額表!BC32/取引額表!BC$46)","v":6.6405286822541626E-3},{"$f":"IF(取引額表!BD$46=0,0,取引額表!BD32/取引額表!BD$46)","v":1.6985772716772432E-6},{"$f":"IF(取引額表!BE$46=0,0,取引額表!BE32/取引額表!BE$46)","v":2.6209854582330909E-3},{"$f":"IF(取引額表!BF$46=0,0,取引額表!BF32/取引額表!BF$46)","v":2.0485938791622851E-3},{"$f":"IF(取引額表!BG$46=0,0,取引額表!BG32/取引額表!BG$46)","v":7.7672645906212484E-3},{"$f":"IF(取引額表!BH$46=0,0,取引額表!BH32/取引額表!BH$46)","v":8.4750689127650707E-3}]
[null,"51","商業　　　　　　　　",{"$f":"IF(取引額表!D$54=0,0,取引額表!D33/取引額表!D$54)","v":4.0427314620863006E-2},{"$f":"IF(取引額表!E$54=0,0,取引額表!E33/取引額表!E$54)","v":2.2267206477732792E-2},{"$f":"IF(取引額表!F$54=0,0,取引額表!F33/取引額表!F$54)","v":2.9876622417018394E-2},{"$f":"IF(取引額表!G$54=0,0,取引額表!G33/取引額表!G$54)","v":7.0472792149866195E-2},{"$f":"IF(取引額表!H$54=0,0,取引額表!H33/取引額表!H$54)","v":5.4152159419216236E-2},{"$f":"IF(取引額表!I$54=0,0,取引額表!I33/取引額表!I$54)","v":3.8061825643741311E-2},{"$f":"IF(取引額表!J$54=0,0,取引額表!J33/取引額表!J$54)","v":1.0226498965787478E-2},{"$f":"IF(取引額表!K$54=0,0,取引額表!K33/取引額表!K$54)","v":4.1761579347000762E-2},{"$f":"IF(取引額表!L$54=0,0,取引額表!L33/取引額表!L$54)","v":2.5381154165392512E-2},{"$f":"IF(取引額表!M$54=0,0,取引額表!M33/取引額表!M$54)","v":4.715731545160224E-2},{"$f":"IF(取引額表!N$54=0,0,取引額表!N33/取引額表!N$54)","v":5.9834500318268619E-2},{"$f":"IF(取引額表!O$54=0,0,取引額表!O33/取引額表!O$54)","v":5.254381177612031E-2},{"$f":"IF(取引額表!P$54=0,0,取引額表!P33/取引額表!P$54)","v":2.5414563806777216E-2},{"$f":"IF(取引額表!Q$54=0,0,取引額表!Q33/取引額表!Q$54)","v":2.8082481707685795E-2},{"$f":"IF(取引額表!R$54=0,0,取引額表!R33/取引額表!R$54)","v":3.5855363111516256E-2},{"$f":"IF(取引額表!S$54=0,0,取引額表!S33/取引額表!S$54)","v":2.333867806876893E-2},{"$f":"IF(取引額表!T$54=0,0,取引額表!T33/取引額表!T$54)","v":3.7951398973763192E-2},{"$f":"IF(取引額表!U$54=0,0,取引額表!U33/取引額表!U$54)","v":2.5284450063211124E-2},{"$f":"IF(取引額表!V$54=0,0,取引額表!V33/取引額表!V$54)","v":2.784503631961259E-2},{"$f":"IF(取引額表!W$54=0,0,取引額表!W33/取引額表!W$54)","v":4.5943588252398956E-2},{"$f":"IF(取引額表!X$54=0,0,取引額表!X33/取引額表!X$54)","v":2.5604300555240371E-2},{"$f":"IF(取引額表!Y$54=0,0,取引額表!Y33/取引額表!Y$54)","v":8.6696812731014115E-3},{"$f":"IF(取引額表!Z$54=0,0,取引額表!Z33/取引額表!Z$54)","v":8.8804104723062757E-3},{"$f":"IF(取引額表!AA$54=0,0,取引額表!AA33/取引額表!AA$54)","v":1.0708661417322834E-2},{"$f":"IF(取引額表!AB$54=0,0,取引額表!AB33/取引額表!AB$54)","v":6.4051551493321049E-3},{"$f":"IF(取引額表!AC$54=0,0,取引額表!AC33/取引額表!AC$54)","v":2.8775589720858906E-3},{"$f":"IF(取引額表!AD$54=0,0,取引額表!AD33/取引額表!AD$54)","v":1.0486360346788368E-3},{"$f":"IF(取引額表!AE$54=0,0,取引額表!AE33/取引額表!AE$54)","v":1.0730135014770914E-2},{"$f":"IF(取引額表!AF$54=0,0,取引額表!AF33/取引額表!AF$54)","v":5.5423213380638619E-3},{"$f":"IF(取引額表!AG$54=0,0,取引額表!AG33/取引額表!AG$54)","v":6.0946597112281889E-3},{"$f":"IF(取引額表!AH$54=0,0,取引額表!AH33/取引額表!AH$54)","v":9.7523919024350182E-3},{"$f":"IF(取引額表!AI$54=0,0,取引額表!AI33/取引額表!AI$54)","v":6.910759237556692E-3},{"$f":"IF(取引額表!AJ$54=0,0,取引額表!AJ33/取引額表!AJ$54)","v":1.95139911634757E-2},{"$f":"IF(取引額表!AK$54=0,0,取引額表!AK33/取引額表!AK$54)","v":9.613936278201644E-3},{"$f":"IF(取引額表!AL$54=0,0,取引額表!AL33/取引額表!AL$54)","v":3.7837391399333412E-2},{"$f":"IF(取引額表!AM$54=0,0,取引額表!AM33/取引額表!AM$54)","v":0.1474186444825055},{"$f":"IF(取引額表!AN$54=0,0,取引額表!AN33/取引額表!AN$54)","v":7.3943366103688766E-3},{"$f":"IF(取引額表!AO$54=0,0,取引額表!AO33/取引額表!AO$54)","v":1.8684301532719549E-2},{"$f":"IF(取引額表!AP$46=0,0,取引額表!AP33/取引額表!AP$46)","v":0.1187141018291166},{"$f":"IF(取引額表!AQ$46=0,0,取引額表!AQ33/取引額表!AQ$46)","v":0.16233279873905257},{"$f":"IF(取引額表!AR$46=0,0,取引額表!AR33/取引額表!AR$46)","v":1.4433448658837794E-3},{"$f":"IF(取引額表!AS$46=0,0,取引額表!AS33/取引額表!AS$46)","v":0.10174742271014936},{"$f":"IF(取引額表!AT$46=0,0,取引額表!AT33/取引額表!AT$46)","v":6.2450007341387677E-2},{"$f":"IF(取引額表!AU$46=0,0,取引額表!AU33/取引額表!AU$46)","v":0.16014026884862653},{"$f":"IF(取引額表!AV$46=0,0,取引額表!AV33/取引額表!AV$46)","v":0},{"$f":"IF(取引額表!AW$46=0,0,取引額表!AW33/取引額表!AW$46)","v":0.11532396381164498},{"$f":"IF(取引額表!AX$46=0,0,取引額表!AX33/取引額表!AX$46)","v":8.2282066856639191E-2},{"$f":"IF(取引額表!AY$46=0,0,取引額表!AY33/取引額表!AY$46)","v":0.17249716303114362},{"$f":"IF(取引額表!AZ$46=0,0,取引額表!AZ33/取引額表!AZ$46)","v":0.14598386246604225},{"$f":"IF(取引額表!BA$46=0,0,取引額表!BA33/取引額表!BA$46)","v":0.15009957673769969},{"$f":"IF(取引額表!BB$46=0,0,取引額表!BB33/取引額表!BB$46)","v":0.12673807406874435},{"$f":"IF(取引額表!BC$46=0,0,取引額表!BC33/取引額表!BC$46)","v":9.6967888552624559E-2},{"$f":"IF(取引額表!BD$46=0,0,取引額表!BD33/取引額表!BD$46)","v":1.0819937220584038E-3},{"$f":"IF(取引額表!BE$46=0,0,取引額表!BE33/取引額表!BE$46)","v":0.12817369372279208},{"$f":"IF(取引額表!BF$46=0,0,取引額表!BF33/取引額表!BF$46)","v":0.10040040192380002},{"$f":"IF(取引額表!BG$46=0,0,取引額表!BG33/取引額表!BG$46)","v":0.14682499577481414},{"$f":"IF(取引額表!BH$46=0,0,取引額表!BH33/取引額表!BH$46)","v":9.5596552908453827E-2}]
[null,"53","金融・保険　　　　　",{"$f":"IF(取引額表!D$54=0,0,取引額表!D34/取引額表!D$54)","v":1.1031978773914259E-2},{"$f":"IF(取引額表!E$54=0,0,取引額表!E34/取引額表!E$54)","v":7.08502024291498E-2},{"$f":"IF(取引額表!F$54=0,0,取引額表!F34/取引額表!F$54)","v":5.9616278776388493E-3},{"$f":"IF(取引額表!G$54=0,0,取引額表!G34/取引額表!G$54)","v":2.7653880463871544E-2},{"$f":"IF(取引額表!H$54=0,0,取引額表!H34/取引額表!H$54)","v":1.9112526853841027E-2},{"$f":"IF(取引額表!I$54=0,0,取引額表!I34/取引額表!I$54)","v":1.0922089097769245E-2},{"$f":"IF(取引額表!J$54=0,0,取引額表!J34/取引額表!J$54)","v":7.1559798039492785E-3},{"$f":"IF(取引額表!K$54=0,0,取引額表!K34/取引額表!K$54)","v":4.6507213363705391E-3},{"$f":"IF(取引額表!L$54=0,0,取引額表!L34/取引額表!L$54)","v":1.6338298894762134E-2},{"$f":"IF(取引額表!M$54=0,0,取引額表!M34/取引額表!M$54)","v":1.1796374406146105E-2},{"$f":"IF(取引額表!N$54=0,0,取引額表!N34/取引額表!N$54)","v":9.7602376405686395E-3},{"$f":"IF(取引額表!O$54=0,0,取引額表!O34/取引額表!O$54)","v":2.3467345824995451E-2},{"$f":"IF(取引額表!P$54=0,0,取引額表!P34/取引額表!P$54)","v":8.6517664023071372E-3},{"$f":"IF(取引額表!Q$54=0,0,取引額表!Q34/取引額表!Q$54)","v":1.0763741912075952E-2},{"$f":"IF(取引額表!R$54=0,0,取引額表!R34/取引額表!R$54)","v":2.2789425706472195E-2},{"$f":"IF(取引額表!S$54=0,0,取引額表!S34/取引額表!S$54)","v":7.3044717619811152E-3},{"$f":"IF(取引額表!T$54=0,0,取引額表!T34/取引額表!T$54)","v":7.5515538774324721E-3},{"$f":"IF(取引額表!U$54=0,0,取引額表!U34/取引額表!U$54)","v":9.2709650231774122E-3},{"$f":"IF(取引額表!V$54=0,0,取引額表!V34/取引額表!V$54)","v":6.0532687651331718E-3},{"$f":"IF(取引額表!W$54=0,0,取引額表!W34/取引額表!W$54)","v":1.6610933410875255E-2},{"$f":"IF(取引額表!X$54=0,0,取引額表!X34/取引額表!X$54)","v":1.9884487681476177E-2},{"$f":"IF(取引額表!Y$54=0,0,取引額表!Y34/取引額表!Y$54)","v":2.450604103907162E-2},{"$f":"IF(取引額表!Z$54=0,0,取引額表!Z34/取引額表!Z$54)","v":5.7448581327018376E-3},{"$f":"IF(取引額表!AA$54=0,0,取引額表!AA34/取引額表!AA$54)","v":1.1146106736657918E-2},{"$f":"IF(取引額表!AB$54=0,0,取引額表!AB34/取引額表!AB$54)","v":2.298813130490493E-2},{"$f":"IF(取引額表!AC$54=0,0,取引額表!AC34/取引額表!AC$54)","v":6.6755793544973921E-2},{"$f":"IF(取引額表!AD$54=0,0,取引額表!AD34/取引額表!AD$54)","v":9.4299367461669739E-2},{"$f":"IF(取引額表!AE$54=0,0,取引額表!AE34/取引額表!AE$54)","v":3.0205277826390178E-2},{"$f":"IF(取引額表!AF$54=0,0,取引額表!AF34/取引額表!AF$54)","v":6.2037506335529654E-3},{"$f":"IF(取引額表!AG$54=0,0,取引額表!AG34/取引額表!AG$54)","v":4.855397818206985E-2},{"$f":"IF(取引額表!AH$54=0,0,取引額表!AH34/取引額表!AH$54)","v":2.4966123270233646E-3},{"$f":"IF(取引額表!AI$54=0,0,取引額表!AI34/取引額表!AI$54)","v":9.6671799372513578E-3},{"$f":"IF(取引額表!AJ$54=0,0,取引額表!AJ34/取引額表!AJ$54)","v":8.344490560985407E-2},{"$f":"IF(取引額表!AK$54=0,0,取引額表!AK34/取引額表!AK$54)","v":1.4425816169488195E-2},{"$f":"IF(取引額表!AL$54=0,0,取引額表!AL34/取引額表!AL$54)","v":8.5761556762747673E-3},{"$f":"IF(取引額表!AM$54=0,0,取引額表!AM34/取引額表!AM$54)","v":0},{"$f":"IF(取引額表!AN$54=0,0,取引額表!AN34/取引額表!AN$54)","v":7.9265047755090606E-3},{"$f":"IF(取引額表!AO$54=0,0,取引額表!AO34/取引額表!AO$54)","v":2.6540831295263394E-2},{"$f":"IF(取引額表!AP$46=0,0,取引額表!AP34/取引額表!AP$46)","v":1.081677465413363E-5},{"$f":"IF(取引額表!AQ$46=0,0,取引額表!AQ34/取引額表!AQ$46)","v":7.1923374138311708E-2},{"$f":"IF(取引額表!AR$46=0,0,取引額表!AR34/取引額表!AR$46)","v":0},{"$f":"IF(取引額表!AS$46=0,0,取引額表!AS34/取引額表!AS$46)","v":0},{"$f":"IF(取引額表!AT$46=0,0,取引額表!AT34/取引額表!AT$46)","v":0},{"$f":"IF(取引額表!AU$46=0,0,取引額表!AU34/取引額表!AU$46)","v":0},{"$f":"IF(取引額表!AV$46=0,0,取引額表!AV34/取引額表!AV$46)","v":0},{"$f":"IF(取引額表!AW$46=0,0,取引額表!AW34/取引額表!AW$46)","v":4.4859378279814725E-2},{"$f":"IF(取引額表!AX$46=0,0,取引額表!AX34/取引額表!AX$46)","v":4.9584098680755417E-2},{"$f":"IF(取引額表!AY$46=0,0,取引額表!AY34/取引額表!AY$46)","v":2.4943260622872273E-2},{"$f":"IF(取引額表!AZ$46=0,0,取引額表!AZ34/取引額表!AZ$46)","v":2.1599735868073054E-3},{"$f":"IF(取引額表!BA$46=0,0,取引額表!BA34/取引額表!BA$46)","v":5.696670173464145E-3},{"$f":"IF(取引額表!BB$46=0,0,取引額表!BB34/取引額表!BB$46)","v":3.2005328252199657E-2},{"$f":"IF(取引額表!BC$46=0,0,取引額表!BC34/取引額表!BC$46)","v":4.0080314910402294E-2},{"$f":"IF(取引額表!BD$46=0,0,取引額表!BD34/取引額表!BD$46)","v":1.4089698468562731E-2},{"$f":"IF(取引額表!BE$46=0,0,取引額表!BE34/取引額表!BE$46)","v":4.2846794897675643E-2},{"$f":"IF(取引額表!BF$46=0,0,取引額表!BF34/取引額表!BF$46)","v":3.6562519603436171E-2},{"$f":"IF(取引額表!BG$46=0,0,取引額表!BG34/取引額表!BG$46)","v":2.8529700437862307E-2},{"$f":"IF(取引額表!BH$46=0,0,取引額表!BH34/取引額表!BH$46)","v":4.1485721844530907E-2}]
[null,"55","不動産　　　　　　　",{"$f":"IF(取引額表!D$54=0,0,取引額表!D35/取引額表!D$54)","v":1.4173998044965786E-2},{"$f":"IF(取引額表!E$54=0,0,取引額表!E35/取引額表!E$54)","v":6.0728744939271256E-3},{"$f":"IF(取引額表!F$54=0,0,取引額表!F35/取引額表!F$54)","v":2.6311900548224667E-3},{"$f":"IF(取引額表!G$54=0,0,取引額表!G35/取引額表!G$54)","v":2.6761819803746653E-3},{"$f":"IF(取引額表!H$54=0,0,取引額表!H35/取引額表!H$54)","v":3.9262167567967994E-3},{"$f":"IF(取引額表!I$54=0,0,取引額表!I35/取引額表!I$54)","v":2.8463626133580461E-3},{"$f":"IF(取引額表!J$54=0,0,取引額表!J35/取引額表!J$54)","v":7.9653635160656247E-4},{"$f":"IF(取引額表!K$54=0,0,取引額表!K35/取引額表!K$54)","v":4.2710706150341686E-3},{"$f":"IF(取引額表!L$54=0,0,取引額表!L35/取引額表!L$54)","v":3.3200821283473855E-3},{"$f":"IF(取引額表!M$54=0,0,取引額表!M35/取引額表!M$54)","v":1.7677908507002416E-3},{"$f":"IF(取引額表!N$54=0,0,取引額表!N35/取引額表!N$54)","v":1.1669849352853809E-3},{"$f":"IF(取引額表!O$54=0,0,取引額表!O35/取引額表!O$54)","v":6.852222424352677E-3},{"$f":"IF(取引額表!P$54=0,0,取引額表!P35/取引額表!P$54)","v":3.6049026676279738E-3},{"$f":"IF(取引額表!Q$54=0,0,取引額表!Q35/取引額表!Q$54)","v":2.9388643647578158E-3},{"$f":"IF(取引額表!R$54=0,0,取引額表!R35/取引額表!R$54)","v":1.6712245518079611E-3},{"$f":"IF(取引額表!S$54=0,0,取引額表!S35/取引額表!S$54)","v":1.0689470871191875E-3},{"$f":"IF(取引額表!T$54=0,0,取引額表!T35/取引額表!T$54)","v":2.7108142124116566E-3},{"$f":"IF(取引額表!U$54=0,0,取引額表!U35/取引額表!U$54)","v":1.4749262536873156E-3},{"$f":"IF(取引額表!V$54=0,0,取引額表!V35/取引額表!V$54)","v":0},{"$f":"IF(取引額表!W$54=0,0,取引額表!W35/取引額表!W$54)","v":2.4716487350974121E-3},{"$f":"IF(取引額表!X$54=0,0,取引額表!X35/取引額表!X$54)","v":6.2251405151861807E-3},{"$f":"IF(取引額表!Y$54=0,0,取引額表!Y35/取引額表!Y$54)","v":1.1591828309347645E-2},{"$f":"IF(取引額表!Z$54=0,0,取引額表!Z35/取引額表!Z$54)","v":1.688374336710082E-3},{"$f":"IF(取引額表!AA$54=0,0,取引額表!AA35/取引額表!AA$54)","v":3.6920384951881014E-3},{"$f":"IF(取引額表!AB$54=0,0,取引額表!AB35/取引額表!AB$54)","v":3.8354919125026955E-2},{"$f":"IF(取引額表!AC$54=0,0,取引額表!AC35/取引額表!AC$54)","v":1.9796175884983433E-2},{"$f":"IF(取引額表!AD$54=0,0,取引額表!AD35/取引額表!AD$54)","v":2.8229926541770221E-2},{"$f":"IF(取引額表!AE$54=0,0,取引額表!AE35/取引額表!AE$54)","v":4.5545609603836516E-2},{"$f":"IF(取引額表!AF$54=0,0,取引額表!AF35/取引額表!AF$54)","v":2.9457678661936139E-2},{"$f":"IF(取引額表!AG$54=0,0,取引額表!AG35/取引額表!AG$54)","v":8.0454698813942017E-4},{"$f":"IF(取引額表!AH$54=0,0,取引額表!AH35/取引額表!AH$54)","v":5.9294542766804908E-3},{"$f":"IF(取引額表!AI$54=0,0,取引額表!AI35/取引額表!AI$54)","v":2.427174261494721E-2},{"$f":"IF(取引額表!AJ$54=0,0,取引額表!AJ35/取引額表!AJ$54)","v":1.569821930646673E-2},{"$f":"IF(取引額表!AK$54=0,0,取引額表!AK35/取引額表!AK$54)","v":7.3987360424375391E-3},{"$f":"IF(取引額表!AL$54=0,0,取引額表!AL35/取引額表!AL$54)","v":1.7248223624791191E-2},{"$f":"IF(取引額表!AM$54=0,0,取引額表!AM35/取引額表!AM$54)","v":0},{"$f":"IF(取引額表!AN$54=0,0,取引額表!AN35/取引額表!AN$54)","v":4.3581771839901411E-2},{"$f":"IF(取引額表!AO$54=0,0,取引額表!AO35/取引額表!AO$54)","v":1.6645984433752693E-2},{"$f":"IF(取引額表!AP$46=0,0,取引額表!AP35/取引額表!AP$46)","v":0},{"$f":"IF(取引額表!AQ$46=0,0,取引額表!AQ35/取引額表!AQ$46)","v":0.19370469236807888},{"$f":"IF(取引額表!AR$46=0,0,取引額表!AR35/取引額表!AR$46)","v":0.15811197703909463},{"$f":"IF(取引額表!AS$46=0,0,取引額表!AS35/取引額表!AS$46)","v":0},{"$f":"IF(取引額表!AT$46=0,0,取引額表!AT35/取引額表!AT$46)","v":0},{"$f":"IF(取引額表!AU$46=0,0,取引額表!AU35/取引額表!AU$46)","v":0},{"$f":"IF(取引額表!AV$46=0,0,取引額表!AV35/取引額表!AV$46)","v":0},{"$f":"IF(取引額表!AW$46=0,0,取引額表!AW35/取引額表!AW$46)","v":0.15274020974557126},{"$f":"IF(取引額表!AX$46=0,0,取引額表!AX35/取引額表!AX$46)","v":0.10159025905970501},{"$f":"IF(取引額表!AY$46=0,0,取引額表!AY35/取引額表!AY$46)","v":1.1663094187366033E-3},{"$f":"IF(取引額表!AZ$46=0,0,取引額表!AZ35/取引額表!AZ$46)","v":0},{"$f":"IF(取引額表!BA$46=0,0,取引額表!BA35/取引額表!BA$46)","v":1.8104861399946174E-4},{"$f":"IF(取引額表!BB$46=0,0,取引額表!BB35/取引額表!BB$46)","v":0.10266698487994408},{"$f":"IF(取引額表!BC$46=0,0,取引額表!BC35/取引額表!BC$46)","v":7.9630184359996789E-2},{"$f":"IF(取引額表!BD$46=0,0,取引額表!BD35/取引額表!BD$46)","v":0},{"$f":"IF(取引額表!BE$46=0,0,取引額表!BE35/取引額表!BE$46)","v":3.1923963872389641E-3},{"$f":"IF(取引額表!BF$46=0,0,取引額表!BF35/取引額表!BF$46)","v":2.494763446611654E-3},{"$f":"IF(取引額表!BG$46=0,0,取引額表!BG35/取引額表!BG$46)","v":0.17906521620353819},{"$f":"IF(取引額表!BH$46=0,0,取引額表!BH35/取引額表!BH$46)","v":0.11044683113985006}]
[null,"57","運輸・郵便　　　",{"$f":"IF(取引額表!D$54=0,0,取引額表!D36/取引額表!D$54)","v":4.8596564725596987E-2},{"$f":"IF(取引額表!E$54=0,0,取引額表!E36/取引額表!E$54)","v":0.33198380566801622},{"$f":"IF(取引額表!F$54=0,0,取引額表!F36/取引額表!F$54)","v":4.5415061220223402E-2},{"$f":"IF(取引額表!G$54=0,0,取引額表!G36/取引額表!G$54)","v":1.9625334522747548E-2},{"$f":"IF(取引額表!H$54=0,0,取引額表!H36/取引額表!H$54)","v":4.4447736869397736E-2},{"$f":"IF(取引額表!I$54=0,0,取引額表!I36/取引額表!I$54)","v":2.654398623154829E-2},{"$f":"IF(取引額表!J$54=0,0,取引額表!J36/取引額表!J$54)","v":3.8632013052918281E-2},{"$f":"IF(取引額表!K$54=0,0,取引額表!K36/取引額表!K$54)","v":1.7463933181473046E-2},{"$f":"IF(取引額表!L$54=0,0,取引額表!L36/取引額表!L$54)","v":5.8581975448866369E-2},{"$f":"IF(取引額表!M$54=0,0,取引額表!M36/取引額表!M$54)","v":3.2885179849233913E-2},{"$f":"IF(取引額表!N$54=0,0,取引額表!N36/取引額表!N$54)","v":3.0129429238277106E-2},{"$f":"IF(取引額表!O$54=0,0,取引額表!O36/取引額表!O$54)","v":3.8202655994178644E-2},{"$f":"IF(取引額表!P$54=0,0,取引額表!P36/取引額表!P$54)","v":1.6943042537851477E-2},{"$f":"IF(取引額表!Q$54=0,0,取引額表!Q36/取引額表!Q$54)","v":1.8153232146096633E-2},{"$f":"IF(取引額表!R$54=0,0,取引額表!R36/取引額表!R$54)","v":1.9750835612275905E-2},{"$f":"IF(取引額表!S$54=0,0,取引額表!S36/取引額表!S$54)","v":1.1045786566898272E-2},{"$f":"IF(取引額表!T$54=0,0,取引額表!T36/取引額表!T$54)","v":2.0234291799787009E-2},{"$f":"IF(取引額表!U$54=0,0,取引額表!U36/取引額表!U$54)","v":1.4327855035819638E-2},{"$f":"IF(取引額表!V$54=0,0,取引額表!V36/取引額表!V$54)","v":9.6852300242130755E-3},{"$f":"IF(取引額表!W$54=0,0,取引額表!W36/取引額表!W$54)","v":0.13877580692061645},{"$f":"IF(取引額表!X$54=0,0,取引額表!X36/取引額表!X$54)","v":3.4483186230286796E-2},{"$f":"IF(取引額表!Y$54=0,0,取引額表!Y36/取引額表!Y$54)","v":4.3799952265147754E-2},{"$f":"IF(取引額表!Z$54=0,0,取引額表!Z36/取引額表!Z$54)","v":1.2761478752795685E-2},{"$f":"IF(取引額表!AA$54=0,0,取引額表!AA36/取引額表!AA$54)","v":5.6692913385826771E-2},{"$f":"IF(取引額表!AB$54=0,0,取引額表!AB36/取引額表!AB$54)","v":4.1395389963653967E-2},{"$f":"IF(取引額表!AC$54=0,0,取引額表!AC36/取引額表!AC$54)","v":2.3667475719479109E-2},{"$f":"IF(取引額表!AD$54=0,0,取引額表!AD36/取引額表!AD$54)","v":1.9697171099537177E-3},{"$f":"IF(取引額表!AE$54=0,0,取引額表!AE36/取引額表!AE$54)","v":8.6167581305325633E-2},{"$f":"IF(取引額表!AF$54=0,0,取引額表!AF36/取引額表!AF$54)","v":1.701723264064876E-2},{"$f":"IF(取引額表!AG$54=0,0,取引額表!AG36/取引額表!AG$54)","v":2.0351578382774044E-2},{"$f":"IF(取引額表!AH$54=0,0,取引額表!AH36/取引額表!AH$54)","v":2.3619266620128938E-2},{"$f":"IF(取引額表!AI$54=0,0,取引額表!AI36/取引額表!AI$54)","v":1.2179227781777668E-2},{"$f":"IF(取引額表!AJ$54=0,0,取引額表!AJ36/取引額表!AJ$54)","v":2.3697951533003081E-2},{"$f":"IF(取引額表!AK$54=0,0,取引額表!AK36/取引額表!AK$54)","v":1.1480402108778938E-2},{"$f":"IF(取引額表!AL$54=0,0,取引額表!AL36/取引額表!AL$54)","v":2.984736627564654E-2},{"$f":"IF(取引額表!AM$54=0,0,取引額表!AM36/取引額表!AM$54)","v":4.3675067286518231E-2},{"$f":"IF(取引額表!AN$54=0,0,取引額表!AN36/取引額表!AN$54)","v":7.4223454611657289E-2},{"$f":"IF(取引額表!AO$54=0,0,取引額表!AO36/取引額表!AO$54)","v":2.9458242156520213E-2},{"$f":"IF(取引額表!AP$46=0,0,取引額表!AP36/取引額表!AP$46)","v":2.594944239526658E-2},{"$f":"IF(取引額表!AQ$46=0,0,取引額表!AQ36/取引額表!AQ$46)","v":5.1197240757549736E-2},{"$f":"IF(取引額表!AR$46=0,0,取引額表!AR36/取引額表!AR$46)","v":-2.2496761650362434E-4},{"$f":"IF(取引額表!AS$46=0,0,取引額表!AS36/取引額表!AS$46)","v":1.7133857540916459E-3},{"$f":"IF(取引額表!AT$46=0,0,取引額表!AT36/取引額表!AT$46)","v":8.1215470824010493E-3},{"$f":"IF(取引額表!AU$46=0,0,取引額表!AU36/取引額表!AU$46)","v":0.17358270017533606},{"$f":"IF(取引額表!AV$46=0,0,取引額表!AV36/取引額表!AV$46)","v":0},{"$f":"IF(取引額表!AW$46=0,0,取引額表!AW36/取引額表!AW$46)","v":3.3559243584772046E-2},{"$f":"IF(取引額表!AX$46=0,0,取引額表!AX36/取引額表!AX$46)","v":4.5852138191685057E-2},{"$f":"IF(取引額表!AY$46=0,0,取引額表!AY36/取引額表!AY$46)","v":0.13869310301349136},{"$f":"IF(取引額表!AZ$46=0,0,取引額表!AZ36/取引額表!AZ$46)","v":7.4747597615861819E-2},{"$f":"IF(取引額表!BA$46=0,0,取引額表!BA36/取引額表!BA$46)","v":8.4673990164656376E-2},{"$f":"IF(取引額表!BB$46=0,0,取引額表!BB36/取引額表!BB$46)","v":5.0336211814406707E-2},{"$f":"IF(取引額表!BC$46=0,0,取引額表!BC36/取引額表!BC$46)","v":5.4258975850320711E-2},{"$f":"IF(取引額表!BD$46=0,0,取引額表!BD36/取引額表!BD$46)","v":1.5474038944979686E-2},{"$f":"IF(取引額表!BE$46=0,0,取引額表!BE36/取引額表!BE$46)","v":5.7047995193118373E-2},{"$f":"IF(取引額表!BF$46=0,0,取引額表!BF36/取引額表!BF$46)","v":4.7962857311483149E-2},{"$f":"IF(取引額表!BG$46=0,0,取引額表!BG36/取引額表!BG$46)","v":5.2146295325911161E-2},{"$f":"IF(取引額表!BH$46=0,0,取引額表!BH36/取引額表!BH$46)","v":5.6774360595719491E-2}]
[null,"59","情報通信",{"$f":"IF(取引額表!D$54=0,0,取引額表!D37/取引額表!D$54)","v":5.3065214355536936E-3},{"$f":"IF(取引額表!E$54=0,0,取引額表!E37/取引額表!E$54)","v":3.0364372469635628E-3},{"$f":"IF(取引額表!F$54=0,0,取引額表!F37/取引額表!F$54)","v":4.5991760410321473E-3},{"$f":"IF(取引額表!G$54=0,0,取引額表!G37/取引額表!G$54)","v":3.5682426404995541E-3},{"$f":"IF(取引額表!H$54=0,0,取引額表!H37/取引額表!H$54)","v":1.2371286761982368E-2},{"$f":"IF(取引額表!I$54=0,0,取引額表!I37/取引額表!I$54)","v":1.3437479314225193E-2},{"$f":"IF(取引額表!J$54=0,0,取引額表!J37/取引額表!J$54)","v":1.5545306216837751E-3},{"$f":"IF(取引額表!K$54=0,0,取引額表!K37/取引額表!K$54)","v":8.8268792710706149E-3},{"$f":"IF(取引額表!L$54=0,0,取引額表!L37/取引額表!L$54)","v":1.210082565200297E-2},{"$f":"IF(取引額表!M$54=0,0,取引額表!M37/取引額表!M$54)","v":6.3478209629250701E-3},{"$f":"IF(取引額表!N$54=0,0,取引額表!N37/取引額表!N$54)","v":8.3810736261404617E-3},{"$f":"IF(取引額表!O$54=0,0,取引額表!O37/取引額表!O$54)","v":1.2703899096476866E-2},{"$f":"IF(取引額表!P$54=0,0,取引額表!P37/取引額表!P$54)","v":1.0634462869502523E-2},{"$f":"IF(取引額表!Q$54=0,0,取引額表!Q37/取引額表!Q$54)","v":2.3184374433089436E-2},{"$f":"IF(取引額表!R$54=0,0,取引額表!R37/取引額表!R$54)","v":1.3065937405044059E-2},{"$f":"IF(取引額表!S$54=0,0,取引額表!S37/取引額表!S$54)","v":8.0171031533939063E-3},{"$f":"IF(取引額表!T$54=0,0,取引額表!T37/取引額表!T$54)","v":4.0081324426372349E-2},{"$f":"IF(取引額表!U$54=0,0,取引額表!U37/取引額表!U$54)","v":6.0682680151706699E-2},{"$f":"IF(取引額表!V$54=0,0,取引額表!V37/取引額表!V$54)","v":1.2106537530266344E-3},{"$f":"IF(取引額表!W$54=0,0,取引額表!W37/取引額表!W$54)","v":7.0878162256469901E-3},{"$f":"IF(取引額表!X$54=0,0,取引額表!X37/取引額表!X$54)","v":1.0546776908696905E-2},{"$f":"IF(取引額表!Y$54=0,0,取引額表!Y37/取引額表!Y$54)","v":1.8358566148248968E-2},{"$f":"IF(取引額表!Z$54=0,0,取引額表!Z37/取引額表!Z$54)","v":5.5935622505810641E-2},{"$f":"IF(取引額表!AA$54=0,0,取引額表!AA37/取引額表!AA$54)","v":1.273840769903762E-2},{"$f":"IF(取引額表!AB$54=0,0,取引額表!AB37/取引額表!AB$54)","v":4.4981904544728273E-2},{"$f":"IF(取引額表!AC$54=0,0,取引額表!AC37/取引額表!AC$54)","v":6.1315241053651284E-2},{"$f":"IF(取引額表!AD$54=0,0,取引額表!AD37/取引額表!AD$54)","v":5.2109557625973947E-3},{"$f":"IF(取引額表!AE$54=0,0,取引額表!AE37/取引額表!AE$54)","v":1.7813904771357747E-2},{"$f":"IF(取引額表!AF$54=0,0,取引額表!AF37/取引額表!AF$54)","v":0.12782057780030409},{"$f":"IF(取引額表!AG$54=0,0,取引額表!AG37/取引額表!AG$54)","v":2.7674686183419412E-2},{"$f":"IF(取引額表!AH$54=0,0,取引額表!AH37/取引額表!AH$54)","v":2.4378926620950189E-2},{"$f":"IF(取引額表!AI$54=0,0,取引額表!AI37/取引額表!AI$54)","v":2.0099010421319823E-2},{"$f":"IF(取引額表!AJ$54=0,0,取引額表!AJ37/取引額表!AJ$54)","v":5.9412237247288793E-2},{"$f":"IF(取引額表!AK$54=0,0,取引額表!AK37/取引額表!AK$54)","v":4.5672746324372113E-2},{"$f":"IF(取引額表!AL$54=0,0,取引額表!AL37/取引額表!AL$54)","v":2.4657446655459141E-2},{"$f":"IF(取引額表!AM$54=0,0,取引額表!AM37/取引額表!AM$54)","v":0},{"$f":"IF(取引額表!AN$54=0,0,取引額表!AN37/取引額表!AN$54)","v":4.4422037363806961E-2},{"$f":"IF(取引額表!AO$54=0,0,取引額表!AO37/取引額表!AO$54)","v":2.8257347877332608E-2},{"$f":"IF(取引額表!AP$46=0,0,取引額表!AP37/取引額表!AP$46)","v":1.5089400642516414E-2},{"$f":"IF(取引額表!AQ$46=0,0,取引額表!AQ37/取引額表!AQ$46)","v":6.1870982876628317E-2},{"$f":"IF(取引額表!AR$46=0,0,取引額表!AR37/取引額表!AR$46)","v":8.7618966427727382E-5},{"$f":"IF(取引額表!AS$46=0,0,取引額表!AS37/取引額表!AS$46)","v":0.1098355265055584},{"$f":"IF(取引額表!AT$46=0,0,取引額表!AT37/取引額表!AT$46)","v":0.34180624434329643},{"$f":"IF(取引額表!AU$46=0,0,取引額表!AU37/取引額表!AU$46)","v":-4.1203974284044417E-2},{"$f":"IF(取引額表!AV$46=0,0,取引額表!AV37/取引額表!AV$46)","v":2.5940337224383917E-4},{"$f":"IF(取引額表!AW$46=0,0,取引額表!AW37/取引額表!AW$46)","v":8.0747932835132222E-2},{"$f":"IF(取引額表!AX$46=0,0,取引額表!AX37/取引額表!AX$46)","v":7.1452578350138851E-2},{"$f":"IF(取引額表!AY$46=0,0,取引額表!AY37/取引額表!AY$46)","v":9.2863447232379263E-3},{"$f":"IF(取引額表!AZ$46=0,0,取引額表!AZ37/取引額表!AZ$46)","v":1.4455430633511158E-2},{"$f":"IF(取引額表!BA$46=0,0,取引額表!BA37/取引額表!BA$46)","v":1.3653022777872923E-2},{"$f":"IF(取引額表!BB$46=0,0,取引額表!BB37/取引額表!BB$46)","v":5.8725928428994323E-2},{"$f":"IF(取引額表!BC$46=0,0,取引額表!BC37/取引額表!BC$46)","v":5.893613578640871E-2},{"$f":"IF(取引額表!BD$46=0,0,取引額表!BD37/取引額表!BD$46)","v":9.3489693033115464E-3},{"$f":"IF(取引額表!BE$46=0,0,取引額表!BE37/取引額表!BE$46)","v":7.4144249197863499E-2},{"$f":"IF(取引額表!BF$46=0,0,取引額表!BF37/取引額表!BF$46)","v":5.9984565947908033E-2},{"$f":"IF(取引額表!BG$46=0,0,取引額表!BG37/取引額表!BG$46)","v":5.7766004819967451E-2},{"$f":"IF(取引額表!BH$46=0,0,取引額表!BH37/取引額表!BH$46)","v":5.8517273717884455E-2}]
[null,"61","公務　　　　　　　　",{"$f":"IF(取引額表!D$54=0,0,取引額表!D38/取引額表!D$54)","v":0},{"$f":"IF(取引額表!E$54=0,0,取引額表!E38/取引額表!E$54)","v":0},{"$f":"IF(取引額表!F$54=0,0,取引額表!F38/取引額表!F$54)","v":0},{"$f":"IF(取引額表!G$54=0,0,取引額表!G38/取引額表!G$54)","v":0},{"$f":"IF(取引額表!H$54=0,0,取引額表!H38/取引額表!H$54)","v":0},{"$f":"IF(取引額表!I$54=0,0,取引額表!I38/取引額表!I$54)","v":0},{"$f":"IF(取引額表!J$54=0,0,取引額表!J38/取引額表!J$54)","v":0},{"$f":"IF(取引額表!K$54=0,0,取引額表!K38/取引額表!K$54)","v":0},{"$f":"IF(取引額表!L$54=0,0,取引額表!L38/取引額表!L$54)","v":0},{"$f":"IF(取引額表!M$54=0,0,取引額表!M38/取引額表!M$54)","v":0},{"$f":"IF(取引額表!N$54=0,0,取引額表!N38/取引額表!N$54)","v":0},{"$f":"IF(取引額表!O$54=0,0,取引額表!O38/取引額表!O$54)","v":0},{"$f":"IF(取引額表!P$54=0,0,取引額表!P38/取引額表!P$54)","v":0},{"$f":"IF(取引額表!Q$54=0,0,取引額表!Q38/取引額表!Q$54)","v":0},{"$f":"IF(取引額表!R$54=0,0,取引額表!R38/取引額表!R$54)","v":0},{"$f":"IF(取引額表!S$54=0,0,取引額表!S38/取引額表!S$54)","v":0},{"$f":"IF(取引額表!T$54=0,0,取引額表!T38/取引額表!T$54)","v":0},{"$f":"IF(取引額表!U$54=0,0,取引額表!U38/取引額表!U$54)","v":0},{"$f":"IF(取引額表!V$54=0,0,取引額表!V38/取引額表!V$54)","v":0},{"$f":"IF(取引額表!W$54=0,0,取引額表!W38/取引額表!W$54)","v":0},{"$f":"IF(取引額表!X$54=0,0,取引額表!X38/取引額表!X$54)","v":0},{"$f":"IF(取引額表!Y$54=0,0,取引額表!Y38/取引額表!Y$54)","v":0},{"$f":"IF(取引額表!Z$54=0,0,取引額表!Z38/取引額表!Z$54)","v":0},{"$f":"IF(取引額表!AA$54=0,0,取引額表!AA38/取引額表!AA$54)","v":0},{"$f":"IF(取引額表!AB$54=0,0,取引額表!AB38/取引額表!AB$54)","v":0},{"$f":"IF(取引額表!AC$54=0,0,取引額表!AC38/取引額表!AC$54)","v":0},{"$f":"IF(取引額表!AD$54=0,0,取引額表!AD38/取引額表!AD$54)","v":0},{"$f":"IF(取引額表!AE$54=0,0,取引額表!AE38/取引額表!AE$54)","v":0},{"$f":"IF(取引額表!AF$54=0,0,取引額表!AF38/取引額表!AF$54)","v":0},{"$f":"IF(取引額表!AG$54=0,0,取引額表!AG38/取引額表!AG$54)","v":0},{"$f":"IF(取引額表!AH$54=0,0,取引額表!AH38/取引額表!AH$54)","v":0},{"$f":"IF(取引額表!AI$54=0,0,取引額表!AI38/取引額表!AI$54)","v":0},{"$f":"IF(取引額表!AJ$54=0,0,取引額表!AJ38/取引額表!AJ$54)","v":0},{"$f":"IF(取引額表!AK$54=0,0,取引額表!AK38/取引額表!AK$54)","v":0},{"$f":"IF(取引額表!AL$54=0,0,取引額表!AL38/取引額表!AL$54)","v":0},{"$f":"IF(取引額表!AM$54=0,0,取引額表!AM38/取引額表!AM$54)","v":0},{"$f":"IF(取引額表!AN$54=0,0,取引額表!AN38/取引額表!AN$54)","v":0.21197098283057447},{"$f":"IF(取引額表!AO$54=0,0,取引額表!AO38/取引額表!AO$54)","v":1.1222978395766588E-3},{"$f":"IF(取引額表!AP$46=0,0,取引額表!AP38/取引額表!AP$46)","v":0},{"$f":"IF(取引額表!AQ$46=0,0,取引額表!AQ38/取引額表!AQ$46)","v":8.7303436940362588E-3},{"$f":"IF(取引額表!AR$46=0,0,取引額表!AR38/取引額表!AR$46)","v":0.23780497912537327},{"$f":"IF(取引額表!AS$46=0,0,取引額表!AS38/取引額表!AS$46)","v":0},{"$f":"IF(取引額表!AT$46=0,0,取引額表!AT38/取引額表!AT$46)","v":0},{"$f":"IF(取引額表!AU$46=0,0,取引額表!AU38/取引額表!AU$46)","v":0},{"$f":"IF(取引額表!AV$46=0,0,取引額表!AV38/取引額表!AV$46)","v":0},{"$f":"IF(取引額表!AW$46=0,0,取引額表!AW38/取引額表!AW$46)","v":5.3461547840647682E-2},{"$f":"IF(取引額表!AX$46=0,0,取引額表!AX38/取引額表!AX$46)","v":3.1267967152039285E-2},{"$f":"IF(取引額表!AY$46=0,0,取引額表!AY38/取引額表!AY$46)","v":0},{"$f":"IF(取引額表!AZ$46=0,0,取引額表!AZ38/取引額表!AZ$46)","v":0},{"$f":"IF(取引額表!BA$46=0,0,取引額表!BA38/取引額表!BA$46)","v":0},{"$f":"IF(取引額表!BB$46=0,0,取引額表!BB38/取引額表!BB$46)","v":3.5914308547816791E-2},{"$f":"IF(取引額表!BC$46=0,0,取引額表!BC38/取引額表!BC$46)","v":2.4496916560589936E-2},{"$f":"IF(取引額表!BD$46=0,0,取引額表!BD38/取引額表!BD$46)","v":0},{"$f":"IF(取引額表!BE$46=0,0,取引額表!BE38/取引額表!BE$46)","v":0},{"$f":"IF(取引額表!BF$46=0,0,取引額表!BF38/取引額表!BF$46)","v":0},{"$f":"IF(取引額表!BG$46=0,0,取引額表!BG38/取引額表!BG$46)","v":6.3305032373274853E-2},{"$f":"IF(取引額表!BH$46=0,0,取引額表!BH38/取引額表!BH$46)","v":3.4283766958294062E-2}]
[null,"63","教育・研究　　　　　",{"$f":"IF(取引額表!D$54=0,0,取引額表!D39/取引額表!D$54)","v":3.4911325233905879E-4},{"$f":"IF(取引額表!E$54=0,0,取引額表!E39/取引額表!E$54)","v":1.0121457489878543E-3},{"$f":"IF(取引額表!F$54=0,0,取引額表!F39/取引額表!F$54)","v":3.8963239031001187E-3},{"$f":"IF(取引額表!G$54=0,0,取引額表!G39/取引額表!G$54)","v":9.8126672613737739E-3},{"$f":"IF(取引額表!H$54=0,0,取引額表!H39/取引額表!H$54)","v":5.3337284243277277E-3},{"$f":"IF(取引額表!I$54=0,0,取引額表!I39/取引額表!I$54)","v":5.8052558416628056E-2},{"$f":"IF(取引額表!J$54=0,0,取引額表!J39/取引額表!J$54)","v":1.6444621452522579E-3},{"$f":"IF(取引額表!K$54=0,0,取引額表!K39/取引額表!K$54)","v":1.9552012148823083E-2},{"$f":"IF(取引額表!L$54=0,0,取引額表!L39/取引額表!L$54)","v":9.741819929229829E-3},{"$f":"IF(取引額表!M$54=0,0,取引額表!M39/取引額表!M$54)","v":9.078075721228776E-3},{"$f":"IF(取引額表!N$54=0,0,取引額表!N39/取引額表!N$54)","v":2.3870146403564607E-2},{"$f":"IF(取引額表!O$54=0,0,取引額表!O39/取引額表!O$54)","v":9.8235401127887943E-3},{"$f":"IF(取引額表!P$54=0,0,取引額表!P39/取引額表!P$54)","v":1.8565248738284065E-2},{"$f":"IF(取引額表!Q$54=0,0,取引額表!Q39/取引額表!Q$54)","v":2.9376549555542118E-2},{"$f":"IF(取引額表!R$54=0,0,取引額表!R39/取引額表!R$54)","v":6.2291096931024005E-2},{"$f":"IF(取引額表!S$54=0,0,取引額表!S39/取引額表!S$54)","v":4.471761981115268E-2},{"$f":"IF(取引額表!T$54=0,0,取引額表!T39/取引額表!T$54)","v":7.5805983154225959E-2},{"$f":"IF(取引額表!U$54=0,0,取引額表!U39/取引額表!U$54)","v":6.8478718921196793E-2},{"$f":"IF(取引額表!V$54=0,0,取引額表!V39/取引額表!V$54)","v":2.5423728813559324E-2},{"$f":"IF(取引額表!W$54=0,0,取引額表!W39/取引額表!W$54)","v":9.8865949403896484E-3},{"$f":"IF(取引額表!X$54=0,0,取引額表!X39/取引額表!X$54)","v":2.083313957273463E-3},{"$f":"IF(取引額表!Y$54=0,0,取引額表!Y39/取引額表!Y$54)","v":1.2204640601717165E-2},{"$f":"IF(取引額表!Z$54=0,0,取引額表!Z39/取引額表!Z$54)","v":1.3156163662675965E-4},{"$f":"IF(取引額表!AA$54=0,0,取引額表!AA39/取引額表!AA$54)","v":2.6246719160104987E-4},{"$f":"IF(取引額表!AB$54=0,0,取引額表!AB39/取引額表!AB$54)","v":2.2788018683383049E-3},{"$f":"IF(取引額表!AC$54=0,0,取引額表!AC39/取引額表!AC$54)","v":6.6845158730442431E-4},{"$f":"IF(取引額表!AD$54=0,0,取引額表!AD39/取引額表!AD$54)","v":1.3426837831995349E-6},{"$f":"IF(取引額表!AE$54=0,0,取引額表!AE39/取引額表!AE$54)","v":3.1004552732553734E-3},{"$f":"IF(取引額表!AF$54=0,0,取引額表!AF39/取引額表!AF$54)","v":1.8436391282311202E-2},{"$f":"IF(取引額表!AG$54=0,0,取引額表!AG39/取引額表!AG$54)","v":1.2544012180668379E-4},{"$f":"IF(取引額表!AH$54=0,0,取引額表!AH39/取引額表!AH$54)","v":6.3647189257996966E-3},{"$f":"IF(取引額表!AI$54=0,0,取引額表!AI39/取引額表!AI$54)","v":4.0413489381605295E-3},{"$f":"IF(取引額表!AJ$54=0,0,取引額表!AJ39/取引額表!AJ$54)","v":0},{"$f":"IF(取引額表!AK$54=0,0,取引額表!AK39/取引額表!AK$54)","v":1.9139461017060153E-3},{"$f":"IF(取引額表!AL$54=0,0,取引額表!AL39/取引額表!AL$54)","v":7.4332010987283631E-4},{"$f":"IF(取引額表!AM$54=0,0,取引額表!AM39/取引額表!AM$54)","v":0},{"$f":"IF(取引額表!AN$54=0,0,取引額表!AN39/取引額表!AN$54)","v":1.8261770719547377E-2},{"$f":"IF(取引額表!AO$54=0,0,取引額表!AO39/取引額表!AO$54)","v":5.4192986587591726E-3},{"$f":"IF(取引額表!AP$46=0,0,取引額表!AP39/取引額表!AP$46)","v":0},{"$f":"IF(取引額表!AQ$46=0,0,取引額表!AQ39/取引額表!AQ$46)","v":3.1831486274317394E-2},{"$f":"IF(取引額表!AR$46=0,0,取引額表!AR39/取引額表!AR$46)","v":0.1562033044190744},{"$f":"IF(取引額表!AS$46=0,0,取引額表!AS39/取引額表!AS$46)","v":0},{"$f":"IF(取引額表!AT$46=0,0,取引額表!AT39/取引額表!AT$46)","v":0},{"$f":"IF(取引額表!AU$46=0,0,取引額表!AU39/取引額表!AU$46)","v":0},{"$f":"IF(取引額表!AV$46=0,0,取引額表!AV39/取引額表!AV$46)","v":0},{"$f":"IF(取引額表!AW$46=0,0,取引額表!AW39/取引額表!AW$46)","v":5.1393307133864495E-2},{"$f":"IF(取引額表!AX$46=0,0,取引額表!AX39/取引額表!AX$46)","v":3.4016928734337509E-2},{"$f":"IF(取引額表!AY$46=0,0,取引額表!AY39/取引額表!AY$46)","v":4.0946917160509392E-3},{"$f":"IF(取引額表!AZ$46=0,0,取引額表!AZ39/取引額表!AZ$46)","v":9.3233936318719186E-3},{"$f":"IF(取引額表!BA$46=0,0,取引額表!BA39/取引額表!BA$46)","v":8.511731460866586E-3},{"$f":"IF(取引額表!BB$46=0,0,取引額表!BB39/取引額表!BB$46)","v":3.7318644128772303E-2},{"$f":"IF(取引額表!BC$46=0,0,取引額表!BC39/取引額表!BC$46)","v":2.8493800855769802E-2},{"$f":"IF(取引額表!BD$46=0,0,取引額表!BD39/取引額表!BD$46)","v":1.2406408392330584E-2},{"$f":"IF(取引額表!BE$46=0,0,取引額表!BE39/取引額表!BE$46)","v":8.5839886192802511E-3},{"$f":"IF(取引額表!BF$46=0,0,取引額表!BF39/取引額表!BF$46)","v":9.4193002858528989E-3},{"$f":"IF(取引額表!BG$46=0,0,取引額表!BG39/取引額表!BG$46)","v":5.8596604167887513E-2},{"$f":"IF(取引額表!BH$46=0,0,取引額表!BH39/取引額表!BH$46)","v":3.6114322525383685E-2}]
[null,"64","医療・福祉",{"$f":"IF(取引額表!D$54=0,0,取引額表!D40/取引額表!D$54)","v":2.1645021645021645E-3},{"$f":"IF(取引額表!E$54=0,0,取引額表!E40/取引額表!E$54)","v":0},{"$f":"IF(取引額表!F$54=0,0,取引額表!F40/取引額表!F$54)","v":0},{"$f":"IF(取引額表!G$54=0,0,取引額表!G40/取引額表!G$54)","v":0},{"$f":"IF(取引額表!H$54=0,0,取引額表!H40/取引額表!H$54)","v":0},{"$f":"IF(取引額表!I$54=0,0,取引額表!I40/取引額表!I$54)","v":0},{"$f":"IF(取引額表!J$54=0,0,取引額表!J40/取引額表!J$54)","v":0},{"$f":"IF(取引額表!K$54=0,0,取引額表!K40/取引額表!K$54)","v":0},{"$f":"IF(取引額表!L$54=0,0,取引額表!L40/取引額表!L$54)","v":0},{"$f":"IF(取引額表!M$54=0,0,取引額表!M40/取引額表!M$54)","v":2.5620157256525241E-6},{"$f":"IF(取引額表!N$54=0,0,取引額表!N40/取引額表!N$54)","v":0},{"$f":"IF(取引額表!O$54=0,0,取引額表!O40/取引額表!O$54)","v":0},{"$f":"IF(取引額表!P$54=0,0,取引額表!P40/取引額表!P$54)","v":0},{"$f":"IF(取引額表!Q$54=0,0,取引額表!Q40/取引額表!Q$54)","v":0},{"$f":"IF(取引額表!R$54=0,0,取引額表!R40/取引額表!R$54)","v":0},{"$f":"IF(取引額表!S$54=0,0,取引額表!S40/取引額表!S$54)","v":0},{"$f":"IF(取引額表!T$54=0,0,取引額表!T40/取引額表!T$54)","v":0},{"$f":"IF(取引額表!U$54=0,0,取引額表!U40/取引額表!U$54)","v":0},{"$f":"IF(取引額表!V$54=0,0,取引額表!V40/取引額表!V$54)","v":0},{"$f":"IF(取引額表!W$54=0,0,取引額表!W40/取引額表!W$54)","v":0},{"$f":"IF(取引額表!X$54=0,0,取引額表!X40/取引額表!X$54)","v":0},{"$f":"IF(取引額表!Y$54=0,0,取引額表!Y40/取引額表!Y$54)","v":6.4506557091528353E-6},{"$f":"IF(取引額表!Z$54=0,0,取引額表!Z40/取引額表!Z$54)","v":1.9734245494013944E-4},{"$f":"IF(取引額表!AA$54=0,0,取引額表!AA40/取引額表!AA$54)","v":0},{"$f":"IF(取引額表!AB$54=0,0,取引額表!AB40/取引額表!AB$54)","v":1.7063866951478118E-5},{"$f":"IF(取引額表!AC$54=0,0,取引額表!AC40/取引額表!AC$54)","v":7.8641363212285208E-5},{"$f":"IF(取引額表!AD$54=0,0,取引額表!AD40/取引額表!AD$54)","v":6.7134189159976744E-6},{"$f":"IF(取引額表!AE$54=0,0,取引額表!AE40/取引額表!AE$54)","v":7.7837883018542651E-4},{"$f":"IF(取引額表!AF$54=0,0,取引額表!AF40/取引額表!AF$54)","v":3.2184490623416118E-4},{"$f":"IF(取引額表!AG$54=0,0,取引額表!AG40/取引額表!AG$54)","v":1.2976564324829358E-5},{"$f":"IF(取引額表!AH$54=0,0,取引額表!AH40/取引額表!AH$54)","v":3.6956432472385333E-5},{"$f":"IF(取引額表!AI$54=0,0,取引額表!AI40/取引額表!AI$54)","v":3.0935501332226209E-2},{"$f":"IF(取引額表!AJ$54=0,0,取引額表!AJ40/取引額表!AJ$54)","v":0},{"$f":"IF(取引額表!AK$54=0,0,取引額表!AK40/取引額表!AK$54)","v":8.1862536428828718E-6},{"$f":"IF(取引額表!AL$54=0,0,取引額表!AL40/取引額表!AL$54)","v":4.5291906336337697E-5},{"$f":"IF(取引額表!AM$54=0,0,取引額表!AM40/取引額表!AM$54)","v":0},{"$f":"IF(取引額表!AN$54=0,0,取引額表!AN40/取引額表!AN$54)","v":2.9129204828725877E-3},{"$f":"IF(取引額表!AO$54=0,0,取引額表!AO40/取引額表!AO$54)","v":1.8415294096013411E-3},{"$f":"IF(取引額表!AP$46=0,0,取引額表!AP40/取引額表!AP$46)","v":4.365650250408333E-2},{"$f":"IF(取引額表!AQ$46=0,0,取引額表!AQ40/取引額表!AQ$46)","v":3.3469000686897434E-2},{"$f":"IF(取引額表!AR$46=0,0,取引額表!AR40/取引額表!AR$46)","v":0.43417684349121322},{"$f":"IF(取引額表!AS$46=0,0,取引額表!AS40/取引額表!AS$46)","v":0},{"$f":"IF(取引額表!AT$46=0,0,取引額表!AT40/取引額表!AT$46)","v":0},{"$f":"IF(取引額表!AU$46=0,0,取引額表!AU40/取引額表!AU$46)","v":0},{"$f":"IF(取引額表!AV$46=0,0,取引額表!AV40/取引額表!AV$46)","v":0},{"$f":"IF(取引額表!AW$46=0,0,取引額表!AW40/取引額表!AW$46)","v":0.10950654373094271},{"$f":"IF(取引額表!AX$46=0,0,取引額表!AX40/取引額表!AX$46)","v":6.3629838425979093E-2},{"$f":"IF(取引額表!AY$46=0,0,取引額表!AY40/取引額表!AY$46)","v":3.1521876182070359E-6},{"$f":"IF(取引額表!AZ$46=0,0,取引額表!AZ40/取引額表!AZ$46)","v":1.1404591029940745E-2},{"$f":"IF(取引額表!BA$46=0,0,取引額表!BA40/取引額表!BA$46)","v":9.6347221882416272E-3},{"$f":"IF(取引額表!BB$46=0,0,取引額表!BB40/取引額表!BB$46)","v":7.6726446221527841E-2},{"$f":"IF(取引額表!BC$46=0,0,取引額表!BC40/取引額表!BC$46)","v":5.1937243830392658E-2},{"$f":"IF(取引額表!BD$46=0,0,取引額表!BD40/取引額表!BD$46)","v":0},{"$f":"IF(取引額表!BE$46=0,0,取引額表!BE40/取引額表!BE$46)","v":5.2051118241213307E-2},{"$f":"IF(取引額表!BF$46=0,0,取引額表!BF40/取引額表!BF$46)","v":4.0676410881340795E-2},{"$f":"IF(取引額表!BG$46=0,0,取引額表!BG40/取引額表!BG$46)","v":0.10422068464147069},{"$f":"IF(取引額表!BH$46=0,0,取引額表!BH40/取引額表!BH$46)","v":5.6436099315054271E-2}]
[null,"65","その他の非営利団体サービス",{"$f":"IF(取引額表!D$54=0,0,取引額表!D41/取引額表!D$54)","v":5.5858120374249406E-4},{"$f":"IF(取引額表!E$54=0,0,取引額表!E41/取引額表!E$54)","v":2.0242914979757085E-3},{"$f":"IF(取引額表!F$54=0,0,取引額表!F41/取引額表!F$54)","v":7.1366524774636774E-4},{"$f":"IF(取引額表!G$54=0,0,取引額表!G41/取引額表!G$54)","v":8.9206066012488853E-4},{"$f":"IF(取引額表!H$54=0,0,取引額表!H41/取引額表!H$54)","v":4.4447736869397735E-4},{"$f":"IF(取引額表!I$54=0,0,取引額表!I41/取引額表!I$54)","v":2.5153902164559475E-3},{"$f":"IF(取引額表!J$54=0,0,取引額表!J41/取引額表!J$54)","v":4.8819969937176409E-4},{"$f":"IF(取引額表!K$54=0,0,取引額表!K41/取引額表!K$54)","v":5.6947608200455578E-4},{"$f":"IF(取引額表!L$54=0,0,取引額表!L41/取引額表!L$54)","v":9.6107640557424319E-4},{"$f":"IF(取引額表!M$54=0,0,取引額表!M41/取引額表!M$54)","v":1.0734845890484075E-3},{"$f":"IF(取引額表!N$54=0,0,取引額表!N41/取引額表!N$54)","v":6.895820072140887E-4},{"$f":"IF(取引額表!O$54=0,0,取引額表!O41/取引額表!O$54)","v":1.3340610029713177E-3},{"$f":"IF(取引額表!P$54=0,0,取引額表!P41/取引額表!P$54)","v":1.9826964671953856E-3},{"$f":"IF(取引額表!Q$54=0,0,取引額表!Q41/取引額表!Q$54)","v":1.0159037310273932E-3},{"$f":"IF(取引額表!R$54=0,0,取引額表!R41/取引額表!R$54)","v":1.0635065329687025E-3},{"$f":"IF(取引額表!S$54=0,0,取引額表!S41/取引額表!S$54)","v":5.3447354355959376E-4},{"$f":"IF(取引額表!T$54=0,0,取引額表!T41/取引額表!T$54)","v":7.7451834640333047E-4},{"$f":"IF(取引額表!U$54=0,0,取引額表!U41/取引額表!U$54)","v":1.0535187526337969E-3},{"$f":"IF(取引額表!V$54=0,0,取引額表!V41/取引額表!V$54)","v":0},{"$f":"IF(取引額表!W$54=0,0,取引額表!W41/取引額表!W$54)","v":9.450421634195987E-4},{"$f":"IF(取引額表!X$54=0,0,取引額表!X41/取引額表!X$54)","v":1.2090661359176347E-3},{"$f":"IF(取引額表!Y$54=0,0,取引額表!Y41/取引額表!Y$54)","v":3.1479199860665837E-3},{"$f":"IF(取引額表!Z$54=0,0,取引額表!Z41/取引額表!Z$54)","v":8.6172871990527564E-3},{"$f":"IF(取引額表!AA$54=0,0,取引額表!AA41/取引額表!AA$54)","v":2.4846894138232721E-3},{"$f":"IF(取引額表!AB$54=0,0,取引額表!AB41/取引額表!AB$54)","v":5.2432609359996402E-4},{"$f":"IF(取引額表!AC$54=0,0,取引額表!AC41/取引額表!AC$54)","v":2.2162565996189467E-3},{"$f":"IF(取引額表!AD$54=0,0,取引額表!AD41/取引額表!AD$54)","v":4.0280513495986046E-4},{"$f":"IF(取引額表!AE$54=0,0,取引額表!AE41/取引額表!AE$54)","v":1.2929447011469333E-3},{"$f":"IF(取引額表!AF$54=0,0,取引額表!AF41/取引額表!AF$54)","v":1.2214901165737457E-3},{"$f":"IF(取引額表!AG$54=0,0,取引額表!AG41/取引額表!AG$54)","v":0},{"$f":"IF(取引額表!AH$54=0,0,取引額表!AH41/取引額表!AH$54)","v":1.0840553525233031E-3},{"$f":"IF(取引額表!AI$54=0,0,取引額表!AI41/取引額表!AI$54)","v":1.429449819479407E-3},{"$f":"IF(取引額表!AJ$54=0,0,取引額表!AJ41/取引額表!AJ$54)","v":0},{"$f":"IF(取引額表!AK$54=0,0,取引額表!AK41/取引額表!AK$54)","v":1.976161629391925E-3},{"$f":"IF(取引額表!AL$54=0,0,取引額表!AL41/取引額表!AL$54)","v":3.1944115116040528E-3},{"$f":"IF(取引額表!AM$54=0,0,取引額表!AM41/取引額表!AM$54)","v":0},{"$f":"IF(取引額表!AN$54=0,0,取引額表!AN41/取引額表!AN$54)","v":2.2126992129512927E-3},{"$f":"IF(取引額表!AO$54=0,0,取引額表!AO41/取引額表!AO$54)","v":1.292837284015501E-3},{"$f":"IF(取引額表!AP$46=0,0,取引額表!AP41/取引額表!AP$46)","v":0},{"$f":"IF(取引額表!AQ$46=0,0,取引額表!AQ41/取引額表!AQ$46)","v":1.2179396756862842E-2},{"$f":"IF(取引額表!AR$46=0,0,取引額表!AR41/取引額表!AR$46)","v":0},{"$f":"IF(取引額表!AS$46=0,0,取引額表!AS41/取引額表!AS$46)","v":0},{"$f":"IF(取引額表!AT$46=0,0,取引額表!AT41/取引額表!AT$46)","v":0},{"$f":"IF(取引額表!AU$46=0,0,取引額表!AU41/取引額表!AU$46)","v":0},{"$f":"IF(取引額表!AV$46=0,0,取引額表!AV41/取引額表!AV$46)","v":0},{"$f":"IF(取引額表!AW$46=0,0,取引額表!AW41/取引額表!AW$46)","v":7.5963796344155638E-3},{"$f":"IF(取引額表!AX$46=0,0,取引額表!AX41/取引額表!AX$46)","v":5.4765536231448902E-3},{"$f":"IF(取引額表!AY$46=0,0,取引額表!AY41/取引額表!AY$46)","v":3.7195813894843021E-4},{"$f":"IF(取引額表!AZ$46=0,0,取引額表!AZ41/取引額表!AZ$46)","v":0},{"$f":"IF(取引額表!BA$46=0,0,取引額表!BA41/取引額表!BA$46)","v":5.7739828248476989E-5},{"$f":"IF(取引額表!BB$46=0,0,取引額表!BB41/取引額表!BB$46)","v":5.1220345777485401E-3},{"$f":"IF(取引額表!BC$46=0,0,取引額表!BC41/取引額表!BC$46)","v":4.3031142955263614E-3},{"$f":"IF(取引額表!BD$46=0,0,取引額表!BD41/取引額表!BD$46)","v":7.2529249500618285E-4},{"$f":"IF(取引額表!BE$46=0,0,取引額表!BE41/取引額表!BE$46)","v":4.8957044432780842E-3},{"$f":"IF(取引額表!BF$46=0,0,取引額表!BF41/取引額表!BF$46)","v":3.984346203828224E-3},{"$f":"IF(取引額表!BG$46=0,0,取引額表!BG41/取引額表!BG$46)","v":5.9897140433853692E-3},{"$f":"IF(取引額表!BH$46=0,0,取引額表!BH41/取引額表!BH$46)","v":4.4304664713520426E-3}]
[null,"66","対事業所サービス",{"$f":"IF(取引額表!D$54=0,0,取引額表!D42/取引額表!D$54)","v":4.6222594609691386E-2},{"$f":"IF(取引額表!E$54=0,0,取引額表!E42/取引額表!E$54)","v":5.0607287449392711E-2},{"$f":"IF(取引額表!F$54=0,0,取引額表!F42/取引額表!F$54)","v":2.7342750350524976E-2},{"$f":"IF(取引額表!G$54=0,0,取引額表!G42/取引額表!G$54)","v":5.6199821587867974E-2},{"$f":"IF(取引額表!H$54=0,0,取引額表!H42/取引額表!H$54)","v":5.7041262315727093E-2},{"$f":"IF(取引額表!I$54=0,0,取引額表!I42/取引額表!I$54)","v":6.3811478122724571E-2},{"$f":"IF(取引額表!J$54=0,0,取引額表!J42/取引額表!J$54)","v":2.1930444390200032E-2},{"$f":"IF(取引額表!K$54=0,0,取引額表!K42/取引額表!K$54)","v":5.808656036446469E-2},{"$f":"IF(取引額表!L$54=0,0,取引額表!L42/取引額表!L$54)","v":9.0210126250491462E-2},{"$f":"IF(取引額表!M$54=0,0,取引額表!M42/取引額表!M$54)","v":2.2188764194634628E-2},{"$f":"IF(取引額表!N$54=0,0,取引額表!N42/取引額表!N$54)","v":4.0154890727774242E-2},{"$f":"IF(取引額表!O$54=0,0,取引額表!O42/取引額表!O$54)","v":5.6485355648535567E-2},{"$f":"IF(取引額表!P$54=0,0,取引額表!P42/取引額表!P$54)","v":6.88536409516943E-2},{"$f":"IF(取引額表!Q$54=0,0,取引額表!Q42/取引額表!Q$54)","v":5.8136300417246177E-2},{"$f":"IF(取引額表!R$54=0,0,取引額表!R42/取引額表!R$54)","v":4.3755697356426621E-2},{"$f":"IF(取引額表!S$54=0,0,取引額表!S42/取引額表!S$54)","v":4.9884197398895422E-2},{"$f":"IF(取引額表!T$54=0,0,取引額表!T42/取引額表!T$54)","v":6.3026430438571007E-2},{"$f":"IF(取引額表!U$54=0,0,取引額表!U42/取引額表!U$54)","v":5.0358196375895489E-2},{"$f":"IF(取引額表!V$54=0,0,取引額表!V42/取引額表!V$54)","v":2.3607748184019371E-2},{"$f":"IF(取引額表!W$54=0,0,取引額表!W42/取引額表!W$54)","v":5.194097121256179E-2},{"$f":"IF(取引額表!X$54=0,0,取引額表!X42/取引額表!X$54)","v":0.13729410998781633},{"$f":"IF(取引額表!Y$54=0,0,取引額表!Y42/取引額表!Y$54)","v":8.7296723711965327E-2},{"$f":"IF(取引額表!Z$54=0,0,取引額表!Z42/取引額表!Z$54)","v":0.18243213612244003},{"$f":"IF(取引額表!AA$54=0,0,取引額表!AA42/取引額表!AA$54)","v":7.9107611548556431E-2},{"$f":"IF(取引額表!AB$54=0,0,取引額表!AB42/取引額表!AB$54)","v":8.4853956567804825E-2},{"$f":"IF(取引額表!AC$54=0,0,取引額表!AC42/取引額表!AC$54)","v":0.10244467401367645},{"$f":"IF(取引額表!AD$54=0,0,取引額表!AD42/取引額表!AD$54)","v":4.0561134406674748E-2},{"$f":"IF(取引額表!AE$54=0,0,取引額表!AE42/取引額表!AE$54)","v":0.11903188479993314},{"$f":"IF(取引額表!AF$54=0,0,取引額表!AF42/取引額表!AF$54)","v":0.17112772427774961},{"$f":"IF(取引額表!AG$54=0,0,取引額表!AG42/取引額表!AG$54)","v":8.2777503828086477E-2},{"$f":"IF(取引額表!AH$54=0,0,取引額表!AH42/取引額表!AH$54)","v":7.9690387221286907E-2},{"$f":"IF(取引額表!AI$54=0,0,取引額表!AI42/取引額表!AI$54)","v":8.5336052090833128E-2},{"$f":"IF(取引額表!AJ$54=0,0,取引額表!AJ42/取引額表!AJ$54)","v":7.6884455750435135E-2},{"$f":"IF(取引額表!AK$54=0,0,取引額表!AK42/取引額表!AK$54)","v":0.13170699760961393},{"$f":"IF(取引額表!AL$54=0,0,取引額表!AL42/取引額表!AL$54)","v":4.6650663526427827E-2},{"$f":"IF(取引額表!AM$54=0,0,取引額表!AM42/取引額表!AM$54)","v":0},{"$f":"IF(取引額表!AN$54=0,0,取引額表!AN42/取引額表!AN$54)","v":8.6351287006694116E-2},{"$f":"IF(取引額表!AO$54=0,0,取引額表!AO42/取引額表!AO$54)","v":7.7539984826438299E-2},{"$f":"IF(取引額表!AP$46=0,0,取引額表!AP42/取引額表!AP$46)","v":7.1282544970740621E-3},{"$f":"IF(取引額表!AQ$46=0,0,取引額表!AQ42/取引額表!AQ$46)","v":1.6001030346147242E-2},{"$f":"IF(取引額表!AR$46=0,0,取引額表!AR42/取引額表!AR$46)","v":0},{"$f":"IF(取引額表!AS$46=0,0,取引額表!AS42/取引額表!AS$46)","v":1.331479569172902E-2},{"$f":"IF(取引額表!AT$46=0,0,取引額表!AT42/取引額表!AT$46)","v":6.3144699846817018E-2},{"$f":"IF(取引額表!AU$46=0,0,取引額表!AU42/取引額表!AU$46)","v":0},{"$f":"IF(取引額表!AV$46=0,0,取引額表!AV42/取引額表!AV$46)","v":0},{"$f":"IF(取引額表!AW$46=0,0,取引額表!AW42/取引額表!AW$46)","v":1.7578013867325621E-2},{"$f":"IF(取引額表!AX$46=0,0,取引額表!AX42/取引額表!AX$46)","v":8.0663391716814081E-2},{"$f":"IF(取引額表!AY$46=0,0,取引額表!AY42/取引額表!AY$46)","v":4.1457571554658935E-2},{"$f":"IF(取引額表!AZ$46=0,0,取引額表!AZ42/取引額表!AZ$46)","v":0.10784865703975301},{"$f":"IF(取引額表!BA$46=0,0,取引額表!BA42/取引額表!BA$46)","v":9.7542632055391085E-2},{"$f":"IF(取引額表!BB$46=0,0,取引額表!BB42/取引額表!BB$46)","v":4.3824135556286489E-2},{"$f":"IF(取引額表!BC$46=0,0,取引額表!BC42/取引額表!BC$46)","v":8.4318576261495415E-2},{"$f":"IF(取引額表!BD$46=0,0,取引額表!BD42/取引額表!BD$46)","v":2.1371499232243074E-2},{"$f":"IF(取引額表!BE$46=0,0,取引額表!BE42/取引額表!BE$46)","v":8.1879433718944669E-2},{"$f":"IF(取引額表!BF$46=0,0,取引額表!BF42/取引額表!BF$46)","v":6.8656662124546644E-2},{"$f":"IF(取引額表!BG$46=0,0,取引額表!BG42/取引額表!BG$46)","v":2.488514147224442E-2},{"$f":"IF(取引額表!BH$46=0,0,取引額表!BH42/取引額表!BH$46)","v":9.057572336900524E-2}]
[null,"67","対個人サービス",{"$f":"IF(取引額表!D$54=0,0,取引額表!D43/取引額表!D$54)","v":6.2840385421030582E-4},{"$f":"IF(取引額表!E$54=0,0,取引額表!E43/取引額表!E$54)","v":0},{"$f":"IF(取引額表!F$54=0,0,取引額表!F43/取引額表!F$54)","v":2.739321152965856E-3},{"$f":"IF(取引額表!G$54=0,0,取引額表!G43/取引額表!G$54)","v":0},{"$f":"IF(取引額表!H$54=0,0,取引額表!H43/取引額表!H$54)","v":0},{"$f":"IF(取引額表!I$54=0,0,取引額表!I43/取引額表!I$54)","v":0},{"$f":"IF(取引額表!J$54=0,0,取引額表!J43/取引額表!J$54)","v":5.1389442039133059E-5},{"$f":"IF(取引額表!K$54=0,0,取引額表!K43/取引額表!K$54)","v":0},{"$f":"IF(取引額表!L$54=0,0,取引額表!L43/取引額表!L$54)","v":4.3685291162465597E-5},{"$f":"IF(取引額表!M$54=0,0,取引額表!M43/取引額表!M$54)","v":1.0077261854233262E-4},{"$f":"IF(取引額表!N$54=0,0,取引額表!N43/取引額表!N$54)","v":0},{"$f":"IF(取引額表!O$54=0,0,取引額表!O43/取引額表!O$54)","v":0},{"$f":"IF(取引額表!P$54=0,0,取引額表!P43/取引額表!P$54)","v":0},{"$f":"IF(取引額表!Q$54=0,0,取引額表!Q43/取引額表!Q$54)","v":2.4188184072080788E-4},{"$f":"IF(取引額表!R$54=0,0,取引額表!R43/取引額表!R$54)","v":0},{"$f":"IF(取引額表!S$54=0,0,取引額表!S43/取引額表!S$54)","v":0},{"$f":"IF(取引額表!T$54=0,0,取引額表!T43/取引額表!T$54)","v":1.9362958660083262E-4},{"$f":"IF(取引額表!U$54=0,0,取引額表!U43/取引額表!U$54)","v":0},{"$f":"IF(取引額表!V$54=0,0,取引額表!V43/取引額表!V$54)","v":0},{"$f":"IF(取引額表!W$54=0,0,取引額表!W43/取引額表!W$54)","v":0},{"$f":"IF(取引額表!X$54=0,0,取引額表!X43/取引額表!X$54)","v":1.8911034433583516E-4},{"$f":"IF(取引額表!Y$54=0,0,取引額表!Y43/取引額表!Y$54)","v":6.4506557091528353E-5},{"$f":"IF(取引額表!Z$54=0,0,取引額表!Z43/取引額表!Z$54)","v":2.1926939437793273E-4},{"$f":"IF(取引額表!AA$54=0,0,取引額表!AA43/取引額表!AA$54)","v":5.2493438320209976E-5},{"$f":"IF(取引額表!AB$54=0,0,取引額表!AB43/取引額表!AB$54)","v":6.9651602374669775E-4},{"$f":"IF(取引額表!AC$54=0,0,取引額表!AC43/取引額表!AC$54)","v":1.465589041683497E-4},{"$f":"IF(取引額表!AD$54=0,0,取引額表!AD43/取引額表!AD$54)","v":4.9142226465102975E-4},{"$f":"IF(取引額表!AE$54=0,0,取引額表!AE43/取引額表!AE$54)","v":6.8957050727836441E-4},{"$f":"IF(取引額表!AF$54=0,0,取引額表!AF43/取引額表!AF$54)","v":7.3618854536239226E-3},{"$f":"IF(取引額表!AG$54=0,0,取引額表!AG43/取引額表!AG$54)","v":3.1576306523751438E-4},{"$f":"IF(取引額表!AH$54=0,0,取引額表!AH43/取引額表!AH$54)","v":1.0881616227980126E-3},{"$f":"IF(取引額表!AI$54=0,0,取引額表!AI43/取引額表!AI$54)","v":1.8327964137626589E-2},{"$f":"IF(取引額表!AJ$54=0,0,取引額表!AJ43/取引額表!AJ$54)","v":1.8409425625920471E-3},{"$f":"IF(取引額表!AK$54=0,0,取引額表!AK43/取引額表!AK$54)","v":9.3159566456007072E-4},{"$f":"IF(取引額表!AL$54=0,0,取引額表!AL43/取引額表!AL$54)","v":1.3779396445384621E-2},{"$f":"IF(取引額表!AM$54=0,0,取引額表!AM43/取引額表!AM$54)","v":0},{"$f":"IF(取引額表!AN$54=0,0,取引額表!AN43/取引額表!AN$54)","v":2.8849116320757359E-3},{"$f":"IF(取引額表!AO$54=0,0,取引額表!AO43/取引額表!AO$54)","v":2.7041624081237279E-3},{"$f":"IF(取引額表!AP$46=0,0,取引額表!AP43/取引額表!AP$46)","v":0.66442038313015828},{"$f":"IF(取引額表!AQ$46=0,0,取引額表!AQ43/取引額表!AQ$46)","v":0.14083045592817015},{"$f":"IF(取引額表!AR$46=0,0,取引額表!AR43/取引額表!AR$46)","v":0},{"$f":"IF(取引額表!AS$46=0,0,取引額表!AS43/取引額表!AS$46)","v":0},{"$f":"IF(取引額表!AT$46=0,0,取引額表!AT43/取引額表!AT$46)","v":0},{"$f":"IF(取引額表!AU$46=0,0,取引額表!AU43/取引額表!AU$46)","v":0},{"$f":"IF(取引額表!AV$46=0,0,取引額表!AV43/取引額表!AV$46)","v":2.8534370946822307E-3},{"$f":"IF(取引額表!AW$46=0,0,取引額表!AW43/取引額表!AW$46)","v":0.10252482677796738},{"$f":"IF(取引額表!AX$46=0,0,取引額表!AX43/取引額表!AX$46)","v":6.0466875790622314E-2},{"$f":"IF(取引額表!AY$46=0,0,取引額表!AY43/取引額表!AY$46)","v":7.8615559198083468E-3},{"$f":"IF(取引額表!AZ$46=0,0,取引額表!AZ43/取引額表!AZ$46)","v":3.1376671821873134E-2},{"$f":"IF(取引額表!BA$46=0,0,取引額表!BA43/取引額表!BA$46)","v":2.7726371932571624E-2},{"$f":"IF(取引額表!BB$46=0,0,取引額表!BB43/取引額表!BB$46)","v":7.7974351924183866E-2},{"$f":"IF(取引額表!BC$46=0,0,取引額表!BC43/取引額表!BC$46)","v":5.337694867977253E-2},{"$f":"IF(取引額表!BD$46=0,0,取引額表!BD43/取引額表!BD$46)","v":3.9508907339212678E-3},{"$f":"IF(取引額表!BE$46=0,0,取引額表!BE43/取引額表!BE$46)","v":5.9880825434673671E-2},{"$f":"IF(取引額表!BF$46=0,0,取引額表!BF43/取引額表!BF$46)","v":4.7658482065802213E-2},{"$f":"IF(取引額表!BG$46=0,0,取引額表!BG43/取引額表!BG$46)","v":0.10109532104193508},{"$f":"IF(取引額表!BH$46=0,0,取引額表!BH43/取引額表!BH$46)","v":5.5661553646963777E-2}]
[null,"68","事務用品",{"$f":"IF(取引額表!D$54=0,0,取引額表!D44/取引額表!D$54)","v":7.6804915514592934E-4},{"$f":"IF(取引額表!E$54=0,0,取引額表!E44/取引額表!E$54)","v":0},{"$f":"IF(取引額表!F$54=0,0,取引額表!F44/取引額表!F$54)","v":4.9740305145958962E-4},{"$f":"IF(取引額表!G$54=0,0,取引額表!G44/取引額表!G$54)","v":8.9206066012488853E-4},{"$f":"IF(取引額表!H$54=0,0,取引額表!H44/取引額表!H$54)","v":1.3334321060819319E-3},{"$f":"IF(取引額表!I$54=0,0,取引額表!I44/取引額表!I$54)","v":7.2813927318461636E-4},{"$f":"IF(取引額表!J$54=0,0,取引額表!J44/取引額表!J$54)","v":8.9931523568482856E-5},{"$f":"IF(取引額表!K$54=0,0,取引額表!K44/取引額表!K$54)","v":9.4912680334092639E-5},{"$f":"IF(取引額表!L$54=0,0,取引額表!L44/取引額表!L$54)","v":8.7370582324931194E-4},{"$f":"IF(取引額表!M$54=0,0,取引額表!M44/取引額表!M$54)","v":1.7250905886060329E-4},{"$f":"IF(取引額表!N$54=0,0,取引額表!N44/取引額表!N$54)","v":3.1826861871419476E-4},{"$f":"IF(取引額表!O$54=0,0,取引額表!O44/取引額表!O$54)","v":3.941543872415257E-4},{"$f":"IF(取引額表!P$54=0,0,取引額表!P44/取引額表!P$54)","v":7.2098053352559477E-4},{"$f":"IF(取引額表!Q$54=0,0,取引額表!Q44/取引額表!Q$54)","v":9.4333917881115074E-4},{"$f":"IF(取引額表!R$54=0,0,取引額表!R44/取引額表!R$54)","v":1.3673655423883319E-3},{"$f":"IF(取引額表!S$54=0,0,取引額表!S44/取引額表!S$54)","v":1.2471049349723855E-3},{"$f":"IF(取引額表!T$54=0,0,取引額表!T44/取引額表!T$54)","v":1.1617775196049957E-3},{"$f":"IF(取引額表!U$54=0,0,取引額表!U44/取引額表!U$54)","v":4.2140750105351877E-4},{"$f":"IF(取引額表!V$54=0,0,取引額表!V44/取引額表!V$54)","v":0},{"$f":"IF(取引額表!W$54=0,0,取引額表!W44/取引額表!W$54)","v":8.7234661238732192E-4},{"$f":"IF(取引額表!X$54=0,0,取引額表!X44/取引額表!X$54)","v":5.8903222006243742E-4},{"$f":"IF(取引額表!Y$54=0,0,取引額表!Y44/取引額表!Y$54)","v":8.3858524218986859E-5},{"$f":"IF(取引額表!Z$54=0,0,取引額表!Z44/取引額表!Z$54)","v":6.3588124369600492E-4},{"$f":"IF(取引額表!AA$54=0,0,取引額表!AA44/取引額表!AA$54)","v":3.2895888013998249E-3},{"$f":"IF(取引額表!AB$54=0,0,取引額表!AB44/取引額表!AB$54)","v":1.9127043591975019E-3},{"$f":"IF(取引額表!AC$54=0,0,取引額表!AC44/取引額表!AC$54)","v":2.7131270308238396E-3},{"$f":"IF(取引額表!AD$54=0,0,取引額表!AD44/取引額表!AD$54)","v":3.3835631336628279E-4},{"$f":"IF(取引額表!AE$54=0,0,取引額表!AE44/取引額表!AE$54)","v":2.6459656207309971E-3},{"$f":"IF(取引額表!AF$54=0,0,取引額表!AF44/取引額表!AF$54)","v":1.3076533198175368E-3},{"$f":"IF(取引額表!AG$54=0,0,取引額表!AG44/取引額表!AG$54)","v":2.4612217002759683E-3},{"$f":"IF(取引額表!AH$54=0,0,取引額表!AH44/取引額表!AH$54)","v":3.0345337330103068E-3},{"$f":"IF(取引額表!AI$54=0,0,取引額表!AI44/取引額表!AI$54)","v":1.8945465438320818E-3},{"$f":"IF(取引額表!AJ$54=0,0,取引額表!AJ44/取引額表!AJ$54)","v":3.0459231490159327E-3},{"$f":"IF(取引額表!AK$54=0,0,取引額表!AK44/取引額表!AK$54)","v":1.0625757228461966E-3},{"$f":"IF(取引額表!AL$54=0,0,取引額表!AL44/取引額表!AL$54)","v":1.7130997514273611E-3},{"$f":"IF(取引額表!AM$54=0,0,取引額表!AM44/取引額表!AM$54)","v":0},{"$f":"IF(取引額表!AN$54=0,0,取引額表!AN44/取引額表!AN$54)","v":1.4004425398425903E-4},{"$f":"IF(取引額表!AO$54=0,0,取引額表!AO44/取引額表!AO$54)","v":1.2121647120374747E-3},{"$f":"IF(取引額表!AP$46=0,0,取引額表!AP44/取引額表!AP$46)","v":0},{"$f":"IF(取引額表!AQ$46=0,0,取引額表!AQ44/取引額表!AQ$46)","v":0},{"$f":"IF(取引額表!AR$46=0,0,取引額表!AR44/取引額表!AR$46)","v":0},{"$f":"IF(取引額表!AS$46=0,0,取引額表!AS44/取引額表!AS$46)","v":0},{"$f":"IF(取引額表!AT$46=0,0,取引額表!AT44/取引額表!AT$46)","v":0},{"$f":"IF(取引額表!AU$46=0,0,取引額表!AU44/取引額表!AU$46)","v":0},{"$f":"IF(取引額表!AV$46=0,0,取引額表!AV44/取引額表!AV$46)","v":0},{"$f":"IF(取引額表!AW$46=0,0,取引額表!AW44/取引額表!AW$46)","v":0},{"$f":"IF(取引額表!AX$46=0,0,取引額表!AX44/取引額表!AX$46)","v":1.1055356444627663E-3},{"$f":"IF(取引額表!AY$46=0,0,取引額表!AY44/取引額表!AY$46)","v":0},{"$f":"IF(取引額表!AZ$46=0,0,取引額表!AZ44/取引額表!AZ$46)","v":0},{"$f":"IF(取引額表!BA$46=0,0,取引額表!BA44/取引額表!BA$46)","v":0},{"$f":"IF(取引額表!BB$46=0,0,取引額表!BB44/取引額表!BB$46)","v":0},{"$f":"IF(取引額表!BC$46=0,0,取引額表!BC44/取引額表!BC$46)","v":8.6613287987275238E-4},{"$f":"IF(取引額表!BD$46=0,0,取引額表!BD44/取引額表!BD$46)","v":0},{"$f":"IF(取引額表!BE$46=0,0,取引額表!BE44/取引額表!BE$46)","v":0},{"$f":"IF(取引額表!BF$46=0,0,取引額表!BF44/取引額表!BF$46)","v":0},{"$f":"IF(取引額表!BG$46=0,0,取引額表!BG44/取引額表!BG$46)","v":0},{"$f":"IF(取引額表!BH$46=0,0,取引額表!BH44/取引額表!BH$46)","v":1.2121647120374747E-3}]
[null,"69","分類不明",{"$f":"IF(取引額表!D$54=0,0,取引額表!D45/取引額表!D$54)","v":1.6198854908532328E-2},{"$f":"IF(取引額表!E$54=0,0,取引額表!E45/取引額表!E$54)","v":5.0607287449392713E-3},{"$f":"IF(取引額表!F$54=0,0,取引額表!F45/取引額表!F$54)","v":1.2579251084014259E-3},{"$f":"IF(取引額表!G$54=0,0,取引額表!G45/取引額表!G$54)","v":1.7841213202497771E-3},{"$f":"IF(取引額表!H$54=0,0,取引額表!H45/取引額表!H$54)","v":4.0002963182457956E-3},{"$f":"IF(取引額表!I$54=0,0,取引額表!I45/取引額表!I$54)","v":1.7872509432713313E-3},{"$f":"IF(取引額表!J$54=0,0,取引額表!J45/取引額表!J$54)","v":2.1840512866631552E-3},{"$f":"IF(取引額表!K$54=0,0,取引額表!K45/取引額表!K$54)","v":2.0880789673500379E-3},{"$f":"IF(取引額表!L$54=0,0,取引額表!L45/取引額表!L$54)","v":6.8149054213446332E-3},{"$f":"IF(取引額表!M$54=0,0,取引額表!M45/取引額表!M$54)","v":2.9762082679663489E-3},{"$f":"IF(取引額表!N$54=0,0,取引額表!N45/取引額表!N$54)","v":2.2278803309993636E-3},{"$f":"IF(取引額表!O$54=0,0,取引額表!O45/取引額表!O$54)","v":3.8202655994178641E-3},{"$f":"IF(取引額表!P$54=0,0,取引額表!P45/取引額表!P$54)","v":1.0634462869502523E-2},{"$f":"IF(取引額表!Q$54=0,0,取引額表!Q45/取引額表!Q$54)","v":9.9050613775170833E-3},{"$f":"IF(取引額表!R$54=0,0,取引額表!R45/取引額表!R$54)","v":2.7347310847766638E-3},{"$f":"IF(取引額表!S$54=0,0,取引額表!S45/取引額表!S$54)","v":1.9597363263851772E-3},{"$f":"IF(取引額表!T$54=0,0,取引額表!T45/取引額表!T$54)","v":4.1630361119179013E-3},{"$f":"IF(取引額表!U$54=0,0,取引額表!U45/取引額表!U$54)","v":5.2675937631689847E-3},{"$f":"IF(取引額表!V$54=0,0,取引額表!V45/取引額表!V$54)","v":1.8159806295399517E-3},{"$f":"IF(取引額表!W$54=0,0,取引額表!W45/取引額表!W$54)","v":1.7810410002907823E-3},{"$f":"IF(取引額表!X$54=0,0,取引額表!X45/取引額表!X$54)","v":1.7469455579220184E-2},{"$f":"IF(取引額表!Y$54=0,0,取引額表!Y45/取引額表!Y$54)","v":3.1479199860665837E-3},{"$f":"IF(取引額表!Z$54=0,0,取引額表!Z45/取引額表!Z$54)","v":8.1348945314213047E-3},{"$f":"IF(取引額表!AA$54=0,0,取引額表!AA45/取引額表!AA$54)","v":2.309711286089239E-3},{"$f":"IF(取引額表!AB$54=0,0,取引額表!AB45/取引額表!AB$54)","v":6.6362929834930355E-3},{"$f":"IF(取引額表!AC$54=0,0,取引額表!AC45/取引額表!AC$54)","v":3.4673691961780296E-3},{"$f":"IF(取引額表!AD$54=0,0,取引額表!AD45/取引額表!AD$54)","v":5.8970671758123575E-3},{"$f":"IF(取引額表!AE$54=0,0,取引額表!AE45/取引額表!AE$54)","v":8.3923865147173676E-3},{"$f":"IF(取引額表!AF$54=0,0,取引額表!AF45/取引額表!AF$54)","v":5.3623922959959453E-3},{"$f":"IF(取引額表!AG$54=0,0,取引額表!AG45/取引額表!AG$54)","v":7.2236208074883432E-4},{"$f":"IF(取引額表!AH$54=0,0,取引額表!AH45/取引額表!AH$54)","v":1.1041760768693796E-2},{"$f":"IF(取引額表!AI$54=0,0,取引額表!AI45/取引額表!AI$54)","v":3.8442740549602433E-3},{"$f":"IF(取引額表!AJ$54=0,0,取引額表!AJ45/取引額表!AJ$54)","v":2.9120364171910562E-3},{"$f":"IF(取引額表!AK$54=0,0,取引額表!AK45/取引額表!AK$54)","v":7.6066668849667637E-3},{"$f":"IF(取引額表!AL$54=0,0,取引額表!AL45/取引額表!AL$54)","v":2.4510914017312167E-3},{"$f":"IF(取引額表!AM$54=0,0,取引額表!AM45/取引額表!AM$54)","v":1.1010521164668461E-3},{"$f":"IF(取引額表!AN$54=0,0,取引額表!AN45/取引額表!AN$54)","v":0},{"$f":"IF(取引額表!AO$54=0,0,取引額表!AO45/取引額表!AO$54)","v":5.5274058370164908E-3},{"$f":"IF(取引額表!AP$46=0,0,取引額表!AP45/取引額表!AP$46)","v":0},{"$f":"IF(取引額表!AQ$46=0,0,取引額表!AQ45/取引額表!AQ$46)","v":9.1995191717979534E-5},{"$f":"IF(取引額表!AR$46=0,0,取引額表!AR45/取引額表!AR$46)","v":1.8234217337662183E-3},{"$f":"IF(取引額表!AS$46=0,0,取引額表!AS45/取引額表!AS$46)","v":1.3903231203235241E-3},{"$f":"IF(取引額表!AT$46=0,0,取引額表!AT45/取引額表!AT$46)","v":0},{"$f":"IF(取引額表!AU$46=0,0,取引額表!AU45/取引額表!AU$46)","v":4.9678550555230863E-3},{"$f":"IF(取引額表!AV$46=0,0,取引額表!AV45/取引額表!AV$46)","v":0},{"$f":"IF(取引額表!AW$46=0,0,取引額表!AW45/取引額表!AW$46)","v":4.8723552888962419E-4},{"$f":"IF(取引額表!AX$46=0,0,取引額表!AX45/取引額表!AX$46)","v":5.3168230633075372E-3},{"$f":"IF(取引額表!AY$46=0,0,取引額表!AY45/取引額表!AY$46)","v":9.1413440928004029E-5},{"$f":"IF(取引額表!AZ$46=0,0,取引額表!AZ45/取引額表!AZ$46)","v":2.8735931789088337E-3},{"$f":"IF(取引額表!BA$46=0,0,取引額表!BA45/取引額表!BA$46)","v":2.4417096861008491E-3},{"$f":"IF(取引額表!BB$46=0,0,取引額表!BB45/取引額表!BB$46)","v":1.1287363292492394E-3},{"$f":"IF(取引額表!BC$46=0,0,取引額表!BC45/取引額表!BC$46)","v":4.6942198080796192E-3},{"$f":"IF(取引額表!BD$46=0,0,取引額表!BD45/取引額表!BD$46)","v":5.0345830332513483E-3},{"$f":"IF(取引額表!BE$46=0,0,取引額表!BE45/取引額表!BE$46)","v":2.6760841014290024E-3},{"$f":"IF(取引額表!BF$46=0,0,取引額表!BF45/取引額表!BF$46)","v":3.1914858077617915E-3},{"$f":"IF(取引額表!BG$46=0,0,取引額表!BG45/取引額表!BG$46)","v":-4.4445841044120566E-4},{"$f":"IF(取引額表!BH$46=0,0,取引額表!BH45/取引額表!BH$46)","v":5.294582421565202E-3}]
[null,"70","内生部門計　　",{"$f":"IF(取引額表!D$54=0,0,取引額表!D46/取引額表!D$54)","v":0.48107806172322304},{"$f":"IF(取引額表!E$54=0,0,取引額表!E46/取引額表!E$54)","v":0.63259109311740891},{"$f":"IF(取引額表!F$54=0,0,取引額表!F46/取引額表!F$54)","v":0.74467724669389168},{"$f":"IF(取引額表!G$54=0,0,取引額表!G46/取引額表!G$54)","v":0.5771632471008028},{"$f":"IF(取引額表!H$54=0,0,取引額表!H46/取引額表!H$54)","v":0.61737906511593454},{"$f":"IF(取引額表!I$54=0,0,取引額表!I46/取引額表!I$54)","v":0.73581783279274504},{"$f":"IF(取引額表!J$54=0,0,取引額表!J46/取引額表!J$54)","v":0.91200842786849445},{"$f":"IF(取引額表!K$54=0,0,取引額表!K46/取引額表!K$54)","v":0.65812452543659838},{"$f":"IF(取引額表!L$54=0,0,取引額表!L46/取引額表!L$54)","v":0.54602245423965756},{"$f":"IF(取引額表!M$54=0,0,取引額表!M46/取引額表!M$54)","v":0.83885262687742379},{"$f":"IF(取引額表!N$54=0,0,取引額表!N46/取引額表!N$54)","v":0.81142584341183954},{"$f":"IF(取引額表!O$54=0,0,取引額表!O46/取引額表!O$54)","v":0.62864592808198416},{"$f":"IF(取引額表!P$54=0,0,取引額表!P46/取引額表!P$54)","v":0.47927180966113914},{"$f":"IF(取引額表!Q$54=0,0,取引額表!Q46/取引額表!Q$54)","v":0.58947813992864484},{"$f":"IF(取引額表!R$54=0,0,取引額表!R46/取引額表!R$54)","v":0.62701306593740502},{"$f":"IF(取引額表!S$54=0,0,取引額表!S46/取引額表!S$54)","v":0.61232852307144126},{"$f":"IF(取引額表!T$54=0,0,取引額表!T46/取引額表!T$54)","v":0.69745377093619909},{"$f":"IF(取引額表!U$54=0,0,取引額表!U46/取引額表!U$54)","v":0.6837336704593342},{"$f":"IF(取引額表!V$54=0,0,取引額表!V46/取引額表!V$54)","v":0.55992736077481842},{"$f":"IF(取引額表!W$54=0,0,取引額表!W46/取引額表!W$54)","v":0.51515702239022976},{"$f":"IF(取引額表!X$54=0,0,取引額表!X46/取引額表!X$54)","v":0.53215340879146089},{"$f":"IF(取引額表!Y$54=0,0,取引額表!Y46/取引額表!Y$54)","v":0.79034723879682367},{"$f":"IF(取引額表!Z$54=0,0,取引額表!Z46/取引額表!Z$54)","v":0.50390299521992721},{"$f":"IF(取引額表!AA$54=0,0,取引額表!AA46/取引額表!AA$54)","v":0.27286089238845146},{"$f":"IF(取引額表!AB$54=0,0,取引額表!AB46/取引額表!AB$54)","v":0.2925879215744675},{"$f":"IF(取引額表!AC$54=0,0,取引額表!AC46/取引額表!AC$54)","v":0.31564855889701915},{"$f":"IF(取引額表!AD$54=0,0,取引額表!AD46/取引額表!AD$54)","v":0.20874436240646529},{"$f":"IF(取引額表!AE$54=0,0,取引額表!AE46/取引額表!AE$54)","v":0.43800787259662477},{"$f":"IF(取引額表!AF$54=0,0,取引額表!AF46/取引額表!AF$54)","v":0.43133046122655855},{"$f":"IF(取引額表!AG$54=0,0,取引額表!AG46/取引額表!AG$54)","v":0.29014732726030124},{"$f":"IF(取引額表!AH$54=0,0,取引額表!AH46/取引額表!AH$54)","v":0.24442573810208187},{"$f":"IF(取引額表!AI$54=0,0,取引額表!AI46/取引額表!AI$54)","v":0.38593042993856519},{"$f":"IF(取引額表!AJ$54=0,0,取引額表!AJ46/取引額表!AJ$54)","v":0.37297496318114876},{"$f":"IF(取引額表!AK$54=0,0,取引額表!AK46/取引額表!AK$54)","v":0.33339336586004781},{"$f":"IF(取引額表!AL$54=0,0,取引額表!AL46/取引額表!AL$54)","v":0.43328901831125133},{"$f":"IF(取引額表!AM$54=0,0,取引額表!AM46/取引額表!AM$54)","v":1},{"$f":"IF(取引額表!AN$54=0,0,取引額表!AN46/取引額表!AN$54)","v":0.59944542475422236},{"$f":"IF(取引額表!AO$54=0,0,取引額表!AO46/取引額表!AO$54)","v":0.47616377599836757},{"$f":"IF(取引額表!AP$46=0,0,取引額表!AP46/取引額表!AP$46)","v":1},{"$f":"IF(取引額表!AQ$46=0,0,取引額表!AQ46/取引額表!AQ$46)","v":1},{"$f":"IF(取引額表!AR$46=0,0,取引額表!AR46/取引額表!AR$46)","v":1},{"$f":"IF(取引額表!AS$46=0,0,取引額表!AS46/取引額表!AS$46)","v":1},{"$f":"IF(取引額表!AT$46=0,0,取引額表!AT46/取引額表!AT$46)","v":1},{"$f":"IF(取引額表!AU$46=0,0,取引額表!AU46/取引額表!AU$46)","v":1},{"$f":"IF(取引額表!AV$46=0,0,取引額表!AV46/取引額表!AV$46)","v":1},{"$f":"IF(取引額表!AW$46=0,0,取引額表!AW46/取引額表!AW$46)","v":1},{"$f":"IF(取引額表!AX$46=0,0,取引額表!AX46/取引額表!AX$46)","v":1},{"$f":"IF(取引額表!AY$46=0,0,取引額表!AY46/取引額表!AY$46)","v":1},{"$f":"IF(取引額表!AZ$46=0,0,取引額表!AZ46/取引額表!AZ$46)","v":1},{"$f":"IF(取引額表!BA$46=0,0,取引額表!BA46/取引額表!BA$46)","v":1},{"$f":"IF(取引額表!BB$46=0,0,取引額表!BB46/取引額表!BB$46)","v":1},{"$f":"IF(取引額表!BC$46=0,0,取引額表!BC46/取引額表!BC$46)","v":1},{"$f":"IF(取引額表!BD$46=0,0,取引額表!BD46/取引額表!BD$46)","v":1},{"$f":"IF(取引額表!BE$46=0,0,取引額表!BE46/取引額表!BE$46)","v":1},{"$f":"IF(取引額表!BF$46=0,0,取引額表!BF46/取引額表!BF$46)","v":1},{"$f":"IF(取引額表!BG$46=0,0,取引額表!BG46/取引額表!BG$46)","v":1},{"$f":"IF(取引額表!BH$46=0,0,取引額表!BH46/取引額表!BH$46)","v":1}]
[null,"71","家計外消費支出（行）",{"$f":"IF(取引額表!D$54=0,0,取引額表!D47/取引額表!D$54)","v":5.5858120374249406E-3},{"$f":"IF(取引額表!E$54=0,0,取引額表!E47/取引額表!E$54)","v":6.7813765182186236E-2},{"$f":"IF(取引額表!F$54=0,0,取引額表!F47/取引額表!F$54)","v":8.6865315508522535E-3},{"$f":"IF(取引額表!G$54=0,0,取引額表!G47/取引額表!G$54)","v":1.6057091882247992E-2},{"$f":"IF(取引額表!H$54=0,0,取引額表!H47/取引額表!H$54)","v":1.3038002815023335E-2},{"$f":"IF(取引額表!I$54=0,0,取引額表!I47/取引額表!I$54)","v":1.4628979943072747E-2},{"$f":"IF(取引額表!J$54=0,0,取引額表!J47/取引額表!J$54)","v":4.4837288179143597E-3},{"$f":"IF(取引額表!K$54=0,0,取引額表!K47/取引額表!K$54)","v":1.6704631738800303E-2},{"$f":"IF(取引額表!L$54=0,0,取引額表!L47/取引額表!L$54)","v":2.1493163251933074E-2},{"$f":"IF(取引額表!M$54=0,0,取引額表!M47/取引額表!M$54)","v":5.3845030500797213E-3},{"$f":"IF(取引額表!N$54=0,0,取引額表!N47/取引額表!N$54)","v":7.6914916189263736E-3},{"$f":"IF(取引額表!O$54=0,0,取引額表!O47/取引額表!O$54)","v":2.0496028136559336E-2},{"$f":"IF(取引額表!P$54=0,0,取引額表!P47/取引額表!P$54)","v":9.1925018024513333E-3},{"$f":"IF(取引額表!Q$54=0,0,取引額表!Q47/取引額表!Q$54)","v":7.5225252464171249E-3},{"$f":"IF(取引額表!R$54=0,0,取引額表!R47/取引額表!R$54)","v":1.6104527499240351E-2},{"$f":"IF(取引額表!S$54=0,0,取引額表!S47/取引額表!S$54)","v":8.7297345448066992E-3},{"$f":"IF(取引額表!T$54=0,0,取引額表!T47/取引額表!T$54)","v":2.701132733081615E-2},{"$f":"IF(取引額表!U$54=0,0,取引額表!U47/取引額表!U$54)","v":3.286978508217446E-2},{"$f":"IF(取引額表!V$54=0,0,取引額表!V47/取引額表!V$54)","v":6.6585956416464892E-3},{"$f":"IF(取引額表!W$54=0,0,取引額表!W47/取引額表!W$54)","v":1.4393719104390811E-2},{"$f":"IF(取引額表!X$54=0,0,取引額表!X47/取引額表!X$54)","v":1.9171448678242699E-2},{"$f":"IF(取引額表!Y$54=0,0,取引額表!Y47/取引額表!Y$54)","v":1.0353302413190301E-2},{"$f":"IF(取引額表!Z$54=0,0,取引額表!Z47/取引額表!Z$54)","v":1.232293996403982E-2},{"$f":"IF(取引額表!AA$54=0,0,取引額表!AA47/取引額表!AA$54)","v":2.468941382327209E-2},{"$f":"IF(取引額表!AB$54=0,0,取引額表!AB47/取引額表!AB$54)","v":2.1900697601906188E-2},{"$f":"IF(取引額表!AC$54=0,0,取引額表!AC47/取引額表!AC$54)","v":3.0287648658986026E-2},{"$f":"IF(取引額表!AD$54=0,0,取引額表!AD47/取引額表!AD$54)","v":5.2378094382613859E-3},{"$f":"IF(取引額表!AE$54=0,0,取引額表!AE47/取引額表!AE$54)","v":2.3918170966469633E-2},{"$f":"IF(取引額表!AF$54=0,0,取引額表!AF47/取引額表!AF$54)","v":1.8208312214901167E-2},{"$f":"IF(取引額表!AG$54=0,0,取引額表!AG47/取引額表!AG$54)","v":7.777287552014395E-3},{"$f":"IF(取引額表!AH$54=0,0,取引額表!AH47/取引額表!AH$54)","v":9.2924896316675561E-3},{"$f":"IF(取引額表!AI$54=0,0,取引額表!AI47/取引額表!AI$54)","v":9.9824997503718139E-3},{"$f":"IF(取引額表!AJ$54=0,0,取引額表!AJ47/取引額表!AJ$54)","v":2.8919534074173251E-2},{"$f":"IF(取引額表!AK$54=0,0,取引額表!AK47/取引額表!AK$54)","v":1.7083074101967976E-2},{"$f":"IF(取引額表!AL$54=0,0,取引額表!AL47/取引額表!AL$54)","v":2.0765006940318589E-2},{"$f":"IF(取引額表!AM$54=0,0,取引額表!AM47/取引額表!AM$54)","v":0},{"$f":"IF(取引額表!AN$54=0,0,取引額表!AN47/取引額表!AN$54)","v":3.2490266924348095E-3},{"$f":"IF(取引額表!AO$54=0,0,取引額表!AO47/取引額表!AO$54)","v":1.3709740086023062E-2}]
[null,"91","雇用者所得",{"$f":"IF(取引額表!D$54=0,0,取引額表!D48/取引額表!D$54)","v":0.18335428012847368},{"$f":"IF(取引額表!E$54=0,0,取引額表!E48/取引額表!E$54)","v":0.16093117408906882},{"$f":"IF(取引額表!F$54=0,0,取引額表!F48/取引額表!F$54)","v":0.1304601699099989},{"$f":"IF(取引額表!G$54=0,0,取引額表!G48/取引額表!G$54)","v":0.36931311329170385},{"$f":"IF(取引額表!H$54=0,0,取引額表!H48/取引額表!H$54)","v":0.21668271723831395},{"$f":"IF(取引額表!I$54=0,0,取引額表!I48/取引額表!I$54)","v":0.11524458860131065},{"$f":"IF(取引額表!J$54=0,0,取引額表!J48/取引額表!J$54)","v":1.3720981024448527E-2},{"$f":"IF(取引額表!K$54=0,0,取引額表!K48/取引額表!K$54)","v":0.24886104783599089},{"$f":"IF(取引額表!L$54=0,0,取引額表!L48/取引額表!L$54)","v":0.16159189200996024},{"$f":"IF(取引額表!M$54=0,0,取引額表!M48/取引額表!M$54)","v":3.3161877547604385E-2},{"$f":"IF(取引額表!N$54=0,0,取引額表!N48/取引額表!N$54)","v":0.13128580521960534},{"$f":"IF(取引額表!O$54=0,0,取引額表!O48/取引額表!O$54)","v":0.30334728033472802},{"$f":"IF(取引額表!P$54=0,0,取引額表!P48/取引額表!P$54)","v":0.42483777937995676},{"$f":"IF(取引額表!Q$54=0,0,取引額表!Q48/取引額表!Q$54)","v":0.21408961722198705},{"$f":"IF(取引額表!R$54=0,0,取引額表!R48/取引額表!R$54)","v":0.2698268003646308},{"$f":"IF(取引額表!S$54=0,0,取引額表!S48/取引額表!S$54)","v":0.32478175663637981},{"$f":"IF(取引額表!T$54=0,0,取引額表!T48/取引額表!T$54)","v":0.13534708103398199},{"$f":"IF(取引額表!U$54=0,0,取引額表!U48/取引額表!U$54)","v":0.15191740412979352},{"$f":"IF(取引額表!V$54=0,0,取引額表!V48/取引額表!V$54)","v":0.3728813559322034},{"$f":"IF(取引額表!W$54=0,0,取引額表!W48/取引額表!W$54)","v":0.36943879034603083},{"$f":"IF(取引額表!X$54=0,0,取引額表!X48/取引額表!X$54)","v":0.36769561295002839},{"$f":"IF(取引額表!Y$54=0,0,取引額表!Y48/取引額表!Y$54)","v":4.5309405701089517E-2},{"$f":"IF(取引額表!Z$54=0,0,取引額表!Z48/取引額表!Z$54)","v":0.13680217515239224},{"$f":"IF(取引額表!AA$54=0,0,取引額表!AA48/取引額表!AA$54)","v":0.51744531933508309},{"$f":"IF(取引額表!AB$54=0,0,取引額表!AB48/取引額表!AB$54)","v":0.42521605182451522},{"$f":"IF(取引額表!AC$54=0,0,取引額表!AC48/取引額表!AC$54)","v":0.33390050437710678},{"$f":"IF(取引額表!AD$54=0,0,取引額表!AD48/取引額表!AD$54)","v":4.6683772458064626E-2},{"$f":"IF(取引額表!AE$54=0,0,取引額表!AE48/取引額表!AE$54)","v":0.26785634992568835},{"$f":"IF(取引額表!AF$54=0,0,取引額表!AF48/取引額表!AF$54)","v":0.31069183983781046},{"$f":"IF(取引額表!AG$54=0,0,取引額表!AG48/取引額表!AG$54)","v":0.39106174249305753},{"$f":"IF(取引額表!AH$54=0,0,取引額表!AH48/取引額表!AH$54)","v":0.65469962632940504},{"$f":"IF(取引額表!AI$54=0,0,取引額表!AI48/取引額表!AI$54)","v":0.49883857202167298},{"$f":"IF(取引額表!AJ$54=0,0,取引額表!AJ48/取引額表!AJ$54)","v":0.53859285044852057},{"$f":"IF(取引額表!AK$54=0,0,取引額表!AK48/取引額表!AK$54)","v":0.39405677985526705},{"$f":"IF(取引額表!AL$54=0,0,取引額表!AL48/取引額表!AL$54)","v":0.31334006495392214},{"$f":"IF(取引額表!AM$54=0,0,取引額表!AM48/取引額表!AM$54)","v":0},{"$f":"IF(取引額表!AN$54=0,0,取引額表!AN48/取引額表!AN$54)","v":3.8120045934515304E-2},{"$f":"IF(取引額表!AO$54=0,0,取引額表!AO48/取引額表!AO$54)","v":0.25857101588715803}]
[null,"92","営業余剰",{"$f":"IF(取引額表!D$54=0,0,取引額表!D49/取引額表!D$54)","v":0.25652841781874042},{"$f":"IF(取引額表!E$54=0,0,取引額表!E49/取引額表!E$54)","v":2.3279352226720649E-2},{"$f":"IF(取引額表!F$54=0,0,取引額表!F49/取引額表!F$54)","v":4.8147173633313028E-2},{"$f":"IF(取引額表!G$54=0,0,取引額表!G49/取引額表!G$54)","v":-5.0847457627118647E-2},{"$f":"IF(取引額表!H$54=0,0,取引額表!H49/取引額表!H$54)","v":6.7264241795688573E-2},{"$f":"IF(取引額表!I$54=0,0,取引額表!I49/取引額表!I$54)","v":4.3820745349837827E-2},{"$f":"IF(取引額表!J$54=0,0,取引額表!J49/取引額表!J$54)","v":-2.826419312152318E-4},{"$f":"IF(取引額表!K$54=0,0,取引額表!K49/取引額表!K$54)","v":-2.3917995444191344E-2},{"$f":"IF(取引額表!L$54=0,0,取引額表!L49/取引額表!L$54)","v":0.16499934472063257},{"$f":"IF(取引額表!M$54=0,0,取引額表!M49/取引額表!M$54)","v":6.783449036810188E-2},{"$f":"IF(取引額表!N$54=0,0,取引額表!N49/取引額表!N$54)","v":1.771695310842351E-2},{"$f":"IF(取引額表!O$54=0,0,取引額表!O49/取引額表!O$54)","v":-4.2386756412588683E-2},{"$f":"IF(取引額表!P$54=0,0,取引額表!P49/取引額表!P$54)","v":3.9653929343907712E-2},{"$f":"IF(取引額表!Q$54=0,0,取引額表!Q49/取引額表!Q$54)","v":0.11617584809820403},{"$f":"IF(取引額表!R$54=0,0,取引額表!R49/取引額表!R$54)","v":-1.6864175022789425E-2},{"$f":"IF(取引額表!S$54=0,0,取引額表!S49/取引額表!S$54)","v":-2.2447888829502941E-2},{"$f":"IF(取引額表!T$54=0,0,取引額表!T49/取引額表!T$54)","v":3.4659696001549035E-2},{"$f":"IF(取引額表!U$54=0,0,取引額表!U49/取引額表!U$54)","v":2.9498525073746312E-3},{"$f":"IF(取引額表!V$54=0,0,取引額表!V49/取引額表!V$54)","v":2.0581113801452784E-2},{"$f":"IF(取引額表!W$54=0,0,取引額表!W49/取引額表!W$54)","v":1.602936900261704E-2},{"$f":"IF(取引額表!X$54=0,0,取引額表!X49/取引額表!X$54)","v":1.9927890055586039E-2},{"$f":"IF(取引額表!Y$54=0,0,取引額表!Y49/取引額表!Y$54)","v":-4.1187436702940852E-2},{"$f":"IF(取引額表!Z$54=0,0,取引額表!Z49/取引額表!Z$54)","v":0.13147392886900847},{"$f":"IF(取引額表!AA$54=0,0,取引額表!AA49/取引額表!AA$54)","v":3.1671041119860015E-2},{"$f":"IF(取引額表!AB$54=0,0,取引額表!AB49/取引額表!AB$54)","v":0.15533703464120116},{"$f":"IF(取引額表!AC$54=0,0,取引額表!AC49/取引額表!AC$54)","v":0.21727536273328782},{"$f":"IF(取引額表!AD$54=0,0,取引額表!AD49/取引額表!AD$54)","v":0.41583990912716157},{"$f":"IF(取引額表!AE$54=0,0,取引額表!AE49/取引額表!AE$54)","v":6.3834900103696773E-2},{"$f":"IF(取引額表!AF$54=0,0,取引額表!AF49/取引額表!AF$54)","v":0.12889761784085149},{"$f":"IF(取引額表!AG$54=0,0,取引額表!AG49/取引額表!AG$54)","v":0},{"$f":"IF(取引額表!AH$54=0,0,取引額表!AH49/取引額表!AH$54)","v":3.7408122202603374E-3},{"$f":"IF(取引額表!AI$54=0,0,取引額表!AI49/取引額表!AI$54)","v":3.1214033833815949E-2},{"$f":"IF(取引額表!AJ$54=0,0,取引額表!AJ49/取引額表!AJ$54)","v":-4.3178471013522561E-3},{"$f":"IF(取引額表!AK$54=0,0,取引額表!AK49/取引額表!AK$54)","v":8.4044991650021286E-2},{"$f":"IF(取引額表!AL$54=0,0,取引額表!AL49/取引額表!AL$54)","v":9.6730190785494871E-2},{"$f":"IF(取引額表!AM$54=0,0,取引額表!AM49/取引額表!AM$54)","v":0},{"$f":"IF(取引額表!AN$54=0,0,取引額表!AN49/取引額表!AN$54)","v":0.29518527854802118},{"$f":"IF(取引額表!AO$54=0,0,取引額表!AO49/取引額表!AO$54)","v":0.11500171725805791}]
[null,"93","資本減耗引当",{"$f":"IF(取引額表!D$54=0,0,取引額表!D50/取引額表!D$54)","v":0.13000977517106549},{"$f":"IF(取引額表!E$54=0,0,取引額表!E50/取引額表!E$54)","v":6.0728744939271252E-2},{"$f":"IF(取引額表!F$54=0,0,取引額表!F50/取引額表!F$54)","v":3.3059281072372146E-2},{"$f":"IF(取引額表!G$54=0,0,取引額表!G50/取引額表!G$54)","v":5.0847457627118647E-2},{"$f":"IF(取引額表!H$54=0,0,取引額表!H50/取引額表!H$54)","v":5.2226090821542337E-2},{"$f":"IF(取引額表!I$54=0,0,取引額表!I50/取引額表!I$54)","v":7.1556232210233661E-2},{"$f":"IF(取引額表!J$54=0,0,取引額表!J50/取引額表!J$54)","v":6.5842722612639237E-2},{"$f":"IF(取引額表!K$54=0,0,取引額表!K50/取引額表!K$54)","v":7.0330296127562641E-2},{"$f":"IF(取引額表!L$54=0,0,取引額表!L50/取引額表!L$54)","v":7.6886112445939458E-2},{"$f":"IF(取引額表!M$54=0,0,取引額表!M50/取引額表!M$54)","v":4.5550077586376227E-2},{"$f":"IF(取引額表!N$54=0,0,取引額表!N50/取引額表!N$54)","v":1.9838743899851474E-2},{"$f":"IF(取引額表!O$54=0,0,取引額表!O50/取引額表!O$54)","v":6.3822691164877807E-2},{"$f":"IF(取引額表!P$54=0,0,取引額表!P50/取引額表!P$54)","v":3.9113193943763516E-2},{"$f":"IF(取引額表!Q$54=0,0,取引額表!Q50/取引額表!Q$54)","v":6.3179536796275027E-2},{"$f":"IF(取引額表!R$54=0,0,取引額表!R50/取引額表!R$54)","v":8.8422971741112119E-2},{"$f":"IF(取引額表!S$54=0,0,取引額表!S50/取引額表!S$54)","v":6.8768929271334406E-2},{"$f":"IF(取引額表!T$54=0,0,取引額表!T50/取引額表!T$54)","v":9.7008422887017137E-2},{"$f":"IF(取引額表!U$54=0,0,取引額表!U50/取引額表!U$54)","v":0.12115465655288664},{"$f":"IF(取引額表!V$54=0,0,取引額表!V50/取引額表!V$54)","v":4.1162227602905568E-2},{"$f":"IF(取引額表!W$54=0,0,取引額表!W50/取引額表!W$54)","v":5.2122710090142486E-2},{"$f":"IF(取引額表!X$54=0,0,取引額表!X50/取引額表!X$54)","v":2.8444055889857177E-2},{"$f":"IF(取引額表!Y$54=0,0,取引額表!Y50/取引額表!Y$54)","v":0.16562058533249904},{"$f":"IF(取引額表!Z$54=0,0,取引額表!Z50/取引額表!Z$54)","v":0.23222821558566856},{"$f":"IF(取引額表!AA$54=0,0,取引額表!AA50/取引額表!AA$54)","v":0.11352580927384077},{"$f":"IF(取引額表!AB$54=0,0,取引額表!AB50/取引額表!AB$54)","v":6.9328940163223648E-2},{"$f":"IF(取引額表!AC$54=0,0,取引額表!AC50/取引額表!AC$54)","v":0.11298976589896015},{"$f":"IF(取引額表!AD$54=0,0,取引額表!AD50/取引額表!AD$54)","v":0.26692150804871795},{"$f":"IF(取引額表!AE$54=0,0,取引額表!AE50/取引額表!AE$54)","v":0.16532452911998788},{"$f":"IF(取引額表!AF$54=0,0,取引額表!AF50/取引額表!AF$54)","v":9.0636087176887994E-2},{"$f":"IF(取引額表!AG$54=0,0,取引額表!AG50/取引額表!AG$54)","v":0.31013123632053846},{"$f":"IF(取引額表!AH$54=0,0,取引額表!AH50/取引額表!AH$54)","v":7.9530242680573238E-2},{"$f":"IF(取引額表!AI$54=0,0,取引額表!AI50/取引額表!AI$54)","v":7.2867781147028368E-2},{"$f":"IF(取引額表!AJ$54=0,0,取引額表!AJ50/取引額表!AJ$54)","v":5.5127861828892753E-2},{"$f":"IF(取引額表!AK$54=0,0,取引額表!AK50/取引額表!AK$54)","v":0.13486034251285242},{"$f":"IF(取引額表!AL$54=0,0,取引額表!AL50/取引額表!AL$54)","v":8.5796191749946044E-2},{"$f":"IF(取引額表!AM$54=0,0,取引額表!AM50/取引額表!AM$54)","v":0},{"$f":"IF(取引額表!AN$54=0,0,取引額表!AN50/取引額表!AN$54)","v":5.4757303307845277E-2},{"$f":"IF(取引額表!AO$54=0,0,取引額表!AO50/取引額表!AO$54)","v":0.1110619595011825}]
[null,"94","間接税（関税・輸入品商品税を除く。）",{"$f":"IF(取引額表!D$54=0,0,取引額表!D51/取引額表!D$54)","v":4.2591816785365173E-2},{"$f":"IF(取引額表!E$54=0,0,取引額表!E51/取引額表!E$54)","v":5.4655870445344132E-2},{"$f":"IF(取引額表!F$54=0,0,取引額表!F51/取引額表!F$54)","v":4.0249999098907516E-2},{"$f":"IF(取引額表!G$54=0,0,取引額表!G51/取引額表!G$54)","v":3.7466547725245318E-2},{"$f":"IF(取引額表!H$54=0,0,取引額表!H51/取引額表!H$54)","v":3.3409882213497298E-2},{"$f":"IF(取引額表!I$54=0,0,取引額表!I51/取引額表!I$54)","v":1.8931621102800028E-2},{"$f":"IF(取引額表!J$54=0,0,取引額表!J51/取引額表!J$54)","v":4.2267816077186946E-3},{"$f":"IF(取引額表!K$54=0,0,取引額表!K51/取引額表!K$54)","v":2.9897494305239181E-2},{"$f":"IF(取引額表!L$54=0,0,取引額表!L51/取引額表!L$54)","v":2.9007033331877156E-2},{"$f":"IF(取引額表!M$54=0,0,取引額表!M51/取引額表!M$54)","v":9.2232566123490872E-3},{"$f":"IF(取引額表!N$54=0,0,取引額表!N51/取引額表!N$54)","v":1.2041162741353702E-2},{"$f":"IF(取引額表!O$54=0,0,取引額表!O51/取引額表!O$54)","v":2.6074828694439393E-2},{"$f":"IF(取引額表!P$54=0,0,取引額表!P51/取引額表!P$54)","v":7.9307858687815425E-3},{"$f":"IF(取引額表!Q$54=0,0,取引額表!Q51/取引額表!Q$54)","v":9.5785208925439919E-3},{"$f":"IF(取引額表!R$54=0,0,取引額表!R51/取引額表!R$54)","v":1.5496809480401094E-2},{"$f":"IF(取引額表!S$54=0,0,取引額表!S51/取引額表!S$54)","v":7.838945305540709E-3},{"$f":"IF(取引額表!T$54=0,0,取引額表!T51/取引額表!T$54)","v":8.5197018104366355E-3},{"$f":"IF(取引額表!U$54=0,0,取引額表!U51/取引額表!U$54)","v":7.3746312684365781E-3},{"$f":"IF(取引額表!V$54=0,0,取引額表!V51/取引額表!V$54)","v":-1.2106537530266344E-3},{"$f":"IF(取引額表!W$54=0,0,取引額表!W51/取引額表!W$54)","v":3.2894736842105261E-2},{"$f":"IF(取引額表!X$54=0,0,取引額表!X51/取引額表!X$54)","v":3.5524843208923525E-2},{"$f":"IF(取引額表!Y$54=0,0,取引額表!Y51/取引額表!Y$54)","v":3.3266031492101174E-2},{"$f":"IF(取引額表!Z$54=0,0,取引額表!Z51/取引額表!Z$54)","v":3.8109020742884706E-2},{"$f":"IF(取引額表!AA$54=0,0,取引額表!AA51/取引額表!AA$54)","v":3.982502187226597E-2},{"$f":"IF(取引額表!AB$54=0,0,取引額表!AB51/取引額表!AB$54)","v":3.6164539112709941E-2},{"$f":"IF(取引額表!AC$54=0,0,取引額表!AC51/取引額表!AC$54)","v":1.6807804082916593E-2},{"$f":"IF(取引額表!AD$54=0,0,取引額表!AD51/取引額表!AD$54)","v":5.7508489118219278E-2},{"$f":"IF(取引額表!AE$54=0,0,取引額表!AE51/取引額表!AE$54)","v":4.8993462140228344E-2},{"$f":"IF(取引額表!AF$54=0,0,取引額表!AF51/取引額表!AF$54)","v":2.0286365940192602E-2},{"$f":"IF(取引額表!AG$54=0,0,取引額表!AG51/取引額表!AG$54)","v":8.824063740883964E-4},{"$f":"IF(取引額表!AH$54=0,0,取引額表!AH51/取引額表!AH$54)","v":1.1181373958033917E-2},{"$f":"IF(取引額表!AI$54=0,0,取引額表!AI51/取引額表!AI$54)","v":1.4796382230677465E-2},{"$f":"IF(取引額表!AJ$54=0,0,取引額表!AJ51/取引額表!AJ$54)","v":2.2359084214754316E-2},{"$f":"IF(取引額表!AK$54=0,0,取引額表!AK51/取引額表!AK$54)","v":3.6811945381315693E-2},{"$f":"IF(取引額表!AL$54=0,0,取引額表!AL51/取引額表!AL$54)","v":5.0095512637773981E-2},{"$f":"IF(取引額表!AM$54=0,0,取引額表!AM51/取引額表!AM$54)","v":0},{"$f":"IF(取引額表!AN$54=0,0,取引額表!AN51/取引額表!AN$54)","v":9.2429207629610953E-3},{"$f":"IF(取引額表!AO$54=0,0,取引額表!AO51/取引額表!AO$54)","v":2.9198429020296863E-2}]
[null,"95","（控除）経常補助金",{"$f":"IF(取引額表!D$54=0,0,取引額表!D52/取引額表!D$54)","v":-9.9148163664292702E-2},{"$f":"IF(取引額表!E$54=0,0,取引額表!E52/取引額表!E$54)","v":0},{"$f":"IF(取引額表!F$54=0,0,取引額表!F52/取引額表!F$54)","v":-5.2804019593354987E-3},{"$f":"IF(取引額表!G$54=0,0,取引額表!G52/取引額表!G$54)","v":0},{"$f":"IF(取引額表!H$54=0,0,取引額表!H52/取引額表!H$54)","v":0},{"$f":"IF(取引額表!I$54=0,0,取引額表!I52/取引額表!I$54)","v":0},{"$f":"IF(取引額表!J$54=0,0,取引額表!J52/取引額表!J$54)","v":0},{"$f":"IF(取引額表!K$54=0,0,取引額表!K52/取引額表!K$54)","v":0},{"$f":"IF(取引額表!L$54=0,0,取引額表!L52/取引額表!L$54)","v":0},{"$f":"IF(取引額表!M$54=0,0,取引額表!M52/取引額表!M$54)","v":-6.8320419350733973E-6},{"$f":"IF(取引額表!N$54=0,0,取引額表!N52/取引額表!N$54)","v":0},{"$f":"IF(取引額表!O$54=0,0,取引額表!O52/取引額表!O$54)","v":0},{"$f":"IF(取引額表!P$54=0,0,取引額表!P52/取引額表!P$54)","v":0},{"$f":"IF(取引額表!Q$54=0,0,取引額表!Q52/取引額表!Q$54)","v":-2.4188184072080789E-5},{"$f":"IF(取引額表!R$54=0,0,取引額表!R52/取引額表!R$54)","v":0},{"$f":"IF(取引額表!S$54=0,0,取引額表!S52/取引額表!S$54)","v":0},{"$f":"IF(取引額表!T$54=0,0,取引額表!T52/取引額表!T$54)","v":0},{"$f":"IF(取引額表!U$54=0,0,取引額表!U52/取引額表!U$54)","v":0},{"$f":"IF(取引額表!V$54=0,0,取引額表!V52/取引額表!V$54)","v":0},{"$f":"IF(取引額表!W$54=0,0,取引額表!W52/取引額表!W$54)","v":-3.6347775516138411E-5},{"$f":"IF(取引額表!X$54=0,0,取引額表!X52/取引額表!X$54)","v":-2.9172595740987032E-3},{"$f":"IF(取引額表!Y$54=0,0,取引額表!Y52/取引額表!Y$54)","v":-3.7091270327628805E-3},{"$f":"IF(取引額表!Z$54=0,0,取引額表!Z52/取引額表!Z$54)","v":-5.4839275533920977E-2},{"$f":"IF(取引額表!AA$54=0,0,取引額表!AA52/取引額表!AA$54)","v":-1.7497812773403324E-5},{"$f":"IF(取引額表!AB$54=0,0,取引額表!AB52/取引額表!AB$54)","v":-5.351849180236319E-4},{"$f":"IF(取引額表!AC$54=0,0,取引額表!AC52/取引額表!AC$54)","v":-2.6909644648276502E-2},{"$f":"IF(取引額表!AD$54=0,0,取引額表!AD52/取引額表!AD$54)","v":-9.3585059689007578E-4},{"$f":"IF(取引額表!AE$54=0,0,取引額表!AE52/取引額表!AE$54)","v":-7.9352848526957238E-3},{"$f":"IF(取引額表!AF$54=0,0,取引額表!AF52/取引額表!AF$54)","v":-5.0684237202230105E-5},{"$f":"IF(取引額表!AG$54=0,0,取引額表!AG52/取引額表!AG$54)","v":0},{"$f":"IF(取引額表!AH$54=0,0,取引額表!AH52/取引額表!AH$54)","v":-2.8702829220219276E-3},{"$f":"IF(取引額表!AI$54=0,0,取引額表!AI52/取引額表!AI$54)","v":-1.3629698922131773E-2},{"$f":"IF(取引額表!AJ$54=0,0,取引額表!AJ52/取引額表!AJ$54)","v":-1.3656446646137368E-2},{"$f":"IF(取引額表!AK$54=0,0,取引額表!AK52/取引額表!AK$54)","v":-2.5049936147221588E-4},{"$f":"IF(取引額表!AL$54=0,0,取引額表!AL52/取引額表!AL$54)","v":-1.5985378706942718E-5},{"$f":"IF(取引額表!AM$54=0,0,取引額表!AM52/取引額表!AM$54)","v":0},{"$f":"IF(取引額表!AN$54=0,0,取引額表!AN52/取引額表!AN$54)","v":0},{"$f":"IF(取引額表!AO$54=0,0,取引額表!AO52/取引額表!AO$54)","v":-3.7066377510859656E-3}]
[null,"96","粗付加価値部門計",{"$f":"IF(取引額表!D$54=0,0,取引額表!D53/取引額表!D$54)","v":0.51892193827677702},{"$f":"IF(取引額表!E$54=0,0,取引額表!E53/取引額表!E$54)","v":0.36740890688259109},{"$f":"IF(取引額表!F$54=0,0,取引額表!F53/取引額表!F$54)","v":0.25532275330610832},{"$f":"IF(取引額表!G$54=0,0,取引額表!G53/取引額表!G$54)","v":0.42283675289919714},{"$f":"IF(取引額表!H$54=0,0,取引額表!H53/取引額表!H$54)","v":0.38262093488406551},{"$f":"IF(取引額表!I$54=0,0,取引額表!I53/取引額表!I$54)","v":0.2641821672072549},{"$f":"IF(取引額表!J$54=0,0,取引額表!J53/取引額表!J$54)","v":8.7991572131505588E-2},{"$f":"IF(取引額表!K$54=0,0,取引額表!K53/取引額表!K$54)","v":0.34187547456340167},{"$f":"IF(取引額表!L$54=0,0,取引額表!L53/取引額表!L$54)","v":0.45397754576034249},{"$f":"IF(取引額表!M$54=0,0,取引額表!M53/取引額表!M$54)","v":0.16114737312257624},{"$f":"IF(取引額表!N$54=0,0,取引額表!N53/取引額表!N$54)","v":0.1885741565881604},{"$f":"IF(取引額表!O$54=0,0,取引額表!O53/取引額表!O$54)","v":0.37135407191801589},{"$f":"IF(取引額表!P$54=0,0,取引額表!P53/取引額表!P$54)","v":0.52072819033886086},{"$f":"IF(取引額表!Q$54=0,0,取引額表!Q53/取引額表!Q$54)","v":0.41052186007135516},{"$f":"IF(取引額表!R$54=0,0,取引額表!R53/取引額表!R$54)","v":0.37298693406259498},{"$f":"IF(取引額表!S$54=0,0,取引額表!S53/取引額表!S$54)","v":0.38767147692855869},{"$f":"IF(取引額表!T$54=0,0,取引額表!T53/取引額表!T$54)","v":0.30254622906380096},{"$f":"IF(取引額表!U$54=0,0,取引額表!U53/取引額表!U$54)","v":0.3162663295406658},{"$f":"IF(取引額表!V$54=0,0,取引額表!V53/取引額表!V$54)","v":0.44007263922518158},{"$f":"IF(取引額表!W$54=0,0,取引額表!W53/取引額表!W$54)","v":0.4848429776097703},{"$f":"IF(取引額表!X$54=0,0,取引額表!X53/取引額表!X$54)","v":0.46784659120853911},{"$f":"IF(取引額表!Y$54=0,0,取引額表!Y53/取引額表!Y$54)","v":0.2096527612031763},{"$f":"IF(取引額表!Z$54=0,0,取引額表!Z53/取引額表!Z$54)","v":0.49609700478007279},{"$f":"IF(取引額表!AA$54=0,0,取引額表!AA53/取引額表!AA$54)","v":0.72713910761154854},{"$f":"IF(取引額表!AB$54=0,0,取引額表!AB53/取引額表!AB$54)","v":0.70741207842553255},{"$f":"IF(取引額表!AC$54=0,0,取引額表!AC53/取引額表!AC$54)","v":0.68435144110298085},{"$f":"IF(取引額表!AD$54=0,0,取引額表!AD53/取引額表!AD$54)","v":0.79125563759353468},{"$f":"IF(取引額表!AE$54=0,0,取引額表!AE53/取引額表!AE$54)","v":0.56199212740337523},{"$f":"IF(取引額表!AF$54=0,0,取引額表!AF53/取引額表!AF$54)","v":0.56866953877344151},{"$f":"IF(取引額表!AG$54=0,0,取引額表!AG53/取引額表!AG$54)","v":0.70985267273969876},{"$f":"IF(取引額表!AH$54=0,0,取引額表!AH53/取引額表!AH$54)","v":0.7555742618979181},{"$f":"IF(取引額表!AI$54=0,0,取引額表!AI53/取引額表!AI$54)","v":0.61406957006143481},{"$f":"IF(取引額表!AJ$54=0,0,取引額表!AJ53/取引額表!AJ$54)","v":0.62702503681885124},{"$f":"IF(取引額表!AK$54=0,0,取引額表!AK53/取引額表!AK$54)","v":0.66660663413995225},{"$f":"IF(取引額表!AL$54=0,0,取引額表!AL53/取引額表!AL$54)","v":0.56671098168874867},{"$f":"IF(取引額表!AM$54=0,0,取引額表!AM53/取引額表!AM$54)","v":0},{"$f":"IF(取引額表!AN$54=0,0,取引額表!AN53/取引額表!AN$54)","v":0.40055457524577764},{"$f":"IF(取引額表!AO$54=0,0,取引額表!AO53/取引額表!AO$54)","v":0.52383622400163243}]
[null,"97","市内生産額",{"$f":"IF(取引額表!D$54=0,0,取引額表!D54/取引額表!D$54)","v":1},{"$f":"IF(取引額表!E$54=0,0,取引額表!E54/取引額表!E$54)","v":1},{"$f":"IF(取引額表!F$54=0,0,取引額表!F54/取引額表!F$54)","v":1},{"$f":"IF(取引額表!G$54=0,0,取引額表!G54/取引額表!G$54)","v":1},{"$f":"IF(取引額表!H$54=0,0,取引額表!H54/取引額表!H$54)","v":1},{"$f":"IF(取引額表!I$54=0,0,取引額表!I54/取引額表!I$54)","v":1},{"$f":"IF(取引額表!J$54=0,0,取引額表!J54/取引額表!J$54)","v":1},{"$f":"IF(取引額表!K$54=0,0,取引額表!K54/取引額表!K$54)","v":1},{"$f":"IF(取引額表!L$54=0,0,取引額表!L54/取引額表!L$54)","v":1},{"$f":"IF(取引額表!M$54=0,0,取引額表!M54/取引額表!M$54)","v":1},{"$f":"IF(取引額表!N$54=0,0,取引額表!N54/取引額表!N$54)","v":1},{"$f":"IF(取引額表!O$54=0,0,取引額表!O54/取引額表!O$54)","v":1},{"$f":"IF(取引額表!P$54=0,0,取引額表!P54/取引額表!P$54)","v":1},{"$f":"IF(取引額表!Q$54=0,0,取引額表!Q54/取引額表!Q$54)","v":1},{"$f":"IF(取引額表!R$54=0,0,取引額表!R54/取引額表!R$54)","v":1},{"$f":"IF(取引額表!S$54=0,0,取引額表!S54/取引額表!S$54)","v":1},{"$f":"IF(取引額表!T$54=0,0,取引額表!T54/取引額表!T$54)","v":1},{"$f":"IF(取引額表!U$54=0,0,取引額表!U54/取引額表!U$54)","v":1},{"$f":"IF(取引額表!V$54=0,0,取引額表!V54/取引額表!V$54)","v":1},{"$f":"IF(取引額表!W$54=0,0,取引額表!W54/取引額表!W$54)","v":1},{"$f":"IF(取引額表!X$54=0,0,取引額表!X54/取引額表!X$54)","v":1},{"$f":"IF(取引額表!Y$54=0,0,取引額表!Y54/取引額表!Y$54)","v":1},{"$f":"IF(取引額表!Z$54=0,0,取引額表!Z54/取引額表!Z$54)","v":1},{"$f":"IF(取引額表!AA$54=0,0,取引額表!AA54/取引額表!AA$54)","v":1},{"$f":"IF(取引額表!AB$54=0,0,取引額表!AB54/取引額表!AB$54)","v":1},{"$f":"IF(取引額表!AC$54=0,0,取引額表!AC54/取引額表!AC$54)","v":1},{"$f":"IF(取引額表!AD$54=0,0,取引額表!AD54/取引額表!AD$54)","v":1},{"$f":"IF(取引額表!AE$54=0,0,取引額表!AE54/取引額表!AE$54)","v":1},{"$f":"IF(取引額表!AF$54=0,0,取引額表!AF54/取引額表!AF$54)","v":1},{"$f":"IF(取引額表!AG$54=0,0,取引額表!AG54/取引額表!AG$54)","v":1},{"$f":"IF(取引額表!AH$54=0,0,取引額表!AH54/取引額表!AH$54)","v":1},{"$f":"IF(取引額表!AI$54=0,0,取引額表!AI54/取引額表!AI$54)","v":1},{"$f":"IF(取引額表!AJ$54=0,0,取引額表!AJ54/取引額表!AJ$54)","v":1},{"$f":"IF(取引額表!AK$54=0,0,取引額表!AK54/取引額表!AK$54)","v":1},{"$f":"IF(取引額表!AL$54=0,0,取引額表!AL54/取引額表!AL$54)","v":1},{"$f":"IF(取引額表!AM$54=0,0,取引額表!AM54/取引額表!AM$54)","v":1},{"$f":"IF(取引額表!AN$54=0,0,取引額表!AN54/取引額表!AN$54)","v":1},{"$f":"IF(取引額表!AO$54=0,0,取引額表!AO54/取引額表!AO$54)","v":1}]
[null,"91","雇用者所得",{"$f":"IF(取引額表!D$54=0,0,取引額表!D55/取引額表!D$54)","v":0.18335428012847368},{"$f":"IF(取引額表!E$54=0,0,取引額表!E55/取引額表!E$54)","v":0.16093117408906882},{"$f":"IF(取引額表!F$54=0,0,取引額表!F55/取引額表!F$54)","v":0.1304601699099989},{"$f":"IF(取引額表!G$54=0,0,取引額表!G55/取引額表!G$54)","v":0.36931311329170385},{"$f":"IF(取引額表!H$54=0,0,取引額表!H55/取引額表!H$54)","v":0.21668271723831395},{"$f":"IF(取引額表!I$54=0,0,取引額表!I55/取引額表!I$54)","v":0.11524458860131065},{"$f":"IF(取引額表!J$54=0,0,取引額表!J55/取引額表!J$54)","v":1.3720981024448527E-2},{"$f":"IF(取引額表!K$54=0,0,取引額表!K55/取引額表!K$54)","v":0.24886104783599089},{"$f":"IF(取引額表!L$54=0,0,取引額表!L55/取引額表!L$54)","v":0.16159189200996024},{"$f":"IF(取引額表!M$54=0,0,取引額表!M55/取引額表!M$54)","v":3.3161877547604385E-2},{"$f":"IF(取引額表!N$54=0,0,取引額表!N55/取引額表!N$54)","v":0.13128580521960534},{"$f":"IF(取引額表!O$54=0,0,取引額表!O55/取引額表!O$54)","v":0.30334728033472802},{"$f":"IF(取引額表!P$54=0,0,取引額表!P55/取引額表!P$54)","v":0.42483777937995676},{"$f":"IF(取引額表!Q$54=0,0,取引額表!Q55/取引額表!Q$54)","v":0.21408961722198705},{"$f":"IF(取引額表!R$54=0,0,取引額表!R55/取引額表!R$54)","v":0.2698268003646308},{"$f":"IF(取引額表!S$54=0,0,取引額表!S55/取引額表!S$54)","v":0.32478175663637981},{"$f":"IF(取引額表!T$54=0,0,取引額表!T55/取引額表!T$54)","v":0.13534708103398199},{"$f":"IF(取引額表!U$54=0,0,取引額表!U55/取引額表!U$54)","v":0.15191740412979352},{"$f":"IF(取引額表!V$54=0,0,取引額表!V55/取引額表!V$54)","v":0.3728813559322034},{"$f":"IF(取引額表!W$54=0,0,取引額表!W55/取引額表!W$54)","v":0.36943879034603083},{"$f":"IF(取引額表!X$54=0,0,取引額表!X55/取引額表!X$54)","v":0.36769561295002839},{"$f":"IF(取引額表!Y$54=0,0,取引額表!Y55/取引額表!Y$54)","v":4.5309405701089517E-2},{"$f":"IF(取引額表!Z$54=0,0,取引額表!Z55/取引額表!Z$54)","v":0.13680217515239224},{"$f":"IF(取引額表!AA$54=0,0,取引額表!AA55/取引額表!AA$54)","v":0.51744531933508309},{"$f":"IF(取引額表!AB$54=0,0,取引額表!AB55/取引額表!AB$54)","v":0.42521605182451522},{"$f":"IF(取引額表!AC$54=0,0,取引額表!AC55/取引額表!AC$54)","v":0.33390050437710678},{"$f":"IF(取引額表!AD$54=0,0,取引額表!AD55/取引額表!AD$54)","v":4.6683772458064626E-2},{"$f":"IF(取引額表!AE$54=0,0,取引額表!AE55/取引額表!AE$54)","v":0.26785634992568835},{"$f":"IF(取引額表!AF$54=0,0,取引額表!AF55/取引額表!AF$54)","v":0.31069183983781046},{"$f":"IF(取引額表!AG$54=0,0,取引額表!AG55/取引額表!AG$54)","v":0.39106174249305753},{"$f":"IF(取引額表!AH$54=0,0,取引額表!AH55/取引額表!AH$54)","v":0.65469962632940504},{"$f":"IF(取引額表!AI$54=0,0,取引額表!AI55/取引額表!AI$54)","v":0.49883857202167298},{"$f":"IF(取引額表!AJ$54=0,0,取引額表!AJ55/取引額表!AJ$54)","v":0.53859285044852057},{"$f":"IF(取引額表!AK$54=0,0,取引額表!AK55/取引額表!AK$54)","v":0.39405677985526705},{"$f":"IF(取引額表!AL$54=0,0,取引額表!AL55/取引額表!AL$54)","v":0.31334006495392214},{"$f":"IF(取引額表!AM$54=0,0,取引額表!AM55/取引額表!AM$54)","v":0},{"$f":"IF(取引額表!AN$54=0,0,取引額表!AN55/取引額表!AN$54)","v":3.8120045934515304E-2},{"$f":"IF(取引額表!AO$54=0,0,取引額表!AO55/取引額表!AO$54)","v":0.25857101588715803}]
[null,null,"賃金・俸給",{"$f":"IF(取引額表!D$54=0,0,取引額表!D56/取引額表!D$54)","v":0.16282642089093702},{"$f":"IF(取引額表!E$54=0,0,取引額表!E56/取引額表!E$54)","v":0.1396761133603239},{"$f":"IF(取引額表!F$54=0,0,取引額表!F56/取引額表!F$54)","v":0.10972422965603498},{"$f":"IF(取引額表!G$54=0,0,取引額表!G56/取引額表!G$54)","v":0.3113291703835861},{"$f":"IF(取引額表!H$54=0,0,取引額表!H56/取引額表!H$54)","v":0.18068005037410179},{"$f":"IF(取引額表!I$54=0,0,取引額表!I56/取引額表!I$54)","v":9.2010326338783352E-2},{"$f":"IF(取引額表!J$54=0,0,取引額表!J56/取引額表!J$54)","v":1.0971645875354909E-2},{"$f":"IF(取引額表!K$54=0,0,取引額表!K56/取引額表!K$54)","v":0.20690964312832194},{"$f":"IF(取引額表!L$54=0,0,取引額表!L56/取引額表!L$54)","v":0.13337119391900748},{"$f":"IF(取引額表!M$54=0,0,取引額表!M56/取引額表!M$54)","v":2.6440856293975933E-2},{"$f":"IF(取引額表!N$54=0,0,取引額表!N56/取引額表!N$54)","v":0.10693825588796944},{"$f":"IF(取引額表!O$54=0,0,取引額表!O56/取引額表!O$54)","v":0.2543205384755321},{"$f":"IF(取引額表!P$54=0,0,取引額表!P56/取引額表!P$54)","v":0.35075702956020188},{"$f":"IF(取引額表!Q$54=0,0,取引額表!Q56/取引額表!Q$54)","v":0.1733809034286751},{"$f":"IF(取引額表!R$54=0,0,取引額表!R56/取引額表!R$54)","v":0.22044971133394106},{"$f":"IF(取引額表!S$54=0,0,取引額表!S56/取引額表!S$54)","v":0.26117940495278819},{"$f":"IF(取引額表!T$54=0,0,取引額表!T56/取引額表!T$54)","v":0.10843256849646626},{"$f":"IF(取引額表!U$54=0,0,取引額表!U56/取引額表!U$54)","v":0.12642225031605561},{"$f":"IF(取引額表!V$54=0,0,取引額表!V56/取引額表!V$54)","v":0.31174334140435833},{"$f":"IF(取引額表!W$54=0,0,取引額表!W56/取引額表!W$54)","v":0.30950130851991858},{"$f":"IF(取引額表!X$54=0,0,取引額表!X56/取引額表!X$54)","v":0.31789448882853893},{"$f":"IF(取引額表!Y$54=0,0,取引額表!Y56/取引額表!Y$54)","v":3.6368796888203686E-2},{"$f":"IF(取引額表!Z$54=0,0,取引額表!Z56/取引額表!Z$54)","v":9.7816076831995794E-2},{"$f":"IF(取引額表!AA$54=0,0,取引額表!AA56/取引額表!AA$54)","v":0.45406824146981628},{"$f":"IF(取引額表!AB$54=0,0,取引額表!AB56/取引額表!AB$54)","v":0.36743779832681028},{"$f":"IF(取引額表!AC$54=0,0,取引額表!AC56/取引額表!AC$54)","v":0.24848168549889008},{"$f":"IF(取引額表!AD$54=0,0,取引額表!AD56/取引額表!AD$54)","v":4.2814157794883567E-2},{"$f":"IF(取引額表!AE$54=0,0,取引額表!AE56/取引額表!AE$54)","v":0.22633323494764226},{"$f":"IF(取引額表!AF$54=0,0,取引額表!AF56/取引額表!AF$54)","v":0.26471870248352763},{"$f":"IF(取引額表!AG$54=0,0,取引額表!AG56/取引額表!AG$54)","v":0.2876947566029085},{"$f":"IF(取引額表!AH$54=0,0,取引額表!AH56/取引額表!AH$54)","v":0.52626781094731656},{"$f":"IF(取引額表!AI$54=0,0,取引額表!AI56/取引額表!AI$54)","v":0.43390633950484281},{"$f":"IF(取引額表!AJ$54=0,0,取引額表!AJ56/取引額表!AJ$54)","v":0.48738117552550542},{"$f":"IF(取引額表!AK$54=0,0,取引額表!AK56/取引額表!AK$54)","v":0.34344772258423656},{"$f":"IF(取引額表!AL$54=0,0,取引額表!AL56/取引額表!AL$54)","v":0.28216591224559934},{"$f":"IF(取引額表!AM$54=0,0,取引額表!AM56/取引額表!AM$54)","v":0},{"$f":"IF(取引額表!AN$54=0,0,取引額表!AN56/取引額表!AN$54)","v":3.4310842226143459E-2},{"$f":"IF(取引額表!AO$54=0,0,取引額表!AO56/取引額表!AO$54)","v":0.2185460014580381}]
[null,null,"社会保険料（雇用主負担）",{"$f":"IF(取引額表!D$54=0,0,取引額表!D57/取引額表!D$54)","v":1.2987012987012988E-2},{"$f":"IF(取引額表!E$54=0,0,取引額表!E57/取引額表!E$54)","v":1.5182186234817813E-2},{"$f":"IF(取引額表!F$54=0,0,取引額表!F57/取引額表!F$54)","v":1.4067855868454915E-2},{"$f":"IF(取引額表!G$54=0,0,取引額表!G57/取引額表!G$54)","v":3.9250669045495096E-2},{"$f":"IF(取引額表!H$54=0,0,取引額表!H57/取引額表!H$54)","v":2.3631380102229795E-2},{"$f":"IF(取引額表!I$54=0,0,取引額表!I57/取引額表!I$54)","v":1.1915006288475541E-2},{"$f":"IF(取引額表!J$54=0,0,取引額表!J57/取引額表!J$54)","v":1.4260570165859424E-3},{"$f":"IF(取引額表!K$54=0,0,取引額表!K57/取引額表!K$54)","v":2.7050113895216402E-2},{"$f":"IF(取引額表!L$54=0,0,取引額表!L57/取引額表!L$54)","v":1.7430431173823775E-2},{"$f":"IF(取引額表!M$54=0,0,取引額表!M57/取引額表!M$54)","v":3.44078711955134E-3},{"$f":"IF(取引額表!N$54=0,0,取引額表!N57/取引額表!N$54)","v":1.3897729683853171E-2},{"$f":"IF(取引額表!O$54=0,0,取引額表!O57/取引額表!O$54)","v":3.3260566369534901E-2},{"$f":"IF(取引額表!P$54=0,0,取引額表!P57/取引額表!P$54)","v":4.5782263878875268E-2},{"$f":"IF(取引額表!Q$54=0,0,取引額表!Q57/取引額表!Q$54)","v":2.2591763923323457E-2},{"$f":"IF(取引額表!R$54=0,0,取引額表!R57/取引額表!R$54)","v":2.8714676390154969E-2},{"$f":"IF(取引額表!S$54=0,0,取引額表!S57/取引額表!S$54)","v":3.4028148939960805E-2},{"$f":"IF(取引額表!T$54=0,0,取引額表!T57/取引額表!T$54)","v":1.4328589408461613E-2},{"$f":"IF(取引額表!U$54=0,0,取引額表!U57/取引額表!U$54)","v":1.6224188790560472E-2},{"$f":"IF(取引額表!V$54=0,0,取引額表!V57/取引額表!V$54)","v":3.7530266343825669E-2},{"$f":"IF(取引額表!W$54=0,0,取引額表!W57/取引額表!W$54)","v":3.9473684210526314E-2},{"$f":"IF(取引額表!X$54=0,0,取引額表!X57/取引額表!X$54)","v":3.5093919637404165E-2},{"$f":"IF(取引額表!Y$54=0,0,取引額表!Y57/取引額表!Y$54)","v":5.0379621088483643E-3},{"$f":"IF(取引額表!Z$54=0,0,取引額表!Z57/取引額表!Z$54)","v":1.9887734070078499E-2},{"$f":"IF(取引額表!AA$54=0,0,取引額表!AA57/取引額表!AA$54)","v":5.431321084864392E-2},{"$f":"IF(取引額表!AB$54=0,0,取引額表!AB57/取引額表!AB$54)","v":4.1033946236409019E-2},{"$f":"IF(取引額表!AC$54=0,0,取引額表!AC57/取引額表!AC$54)","v":3.724383469585453E-2},{"$f":"IF(取引額表!AD$54=0,0,取引額表!AD57/取引額表!AD$54)","v":2.8612591419982089E-3},{"$f":"IF(取引額表!AE$54=0,0,取引額表!AE57/取引額表!AE$54)","v":2.6130543010654386E-2},{"$f":"IF(取引額表!AF$54=0,0,取引額表!AF57/取引額表!AF$54)","v":3.2045108971109987E-2},{"$f":"IF(取引額表!AG$54=0,0,取引額表!AG57/取引額表!AG$54)","v":6.2222625937556772E-2},{"$f":"IF(取引額表!AH$54=0,0,取引額表!AH57/取引額表!AH$54)","v":8.3919845604237667E-2},{"$f":"IF(取引額表!AI$54=0,0,取引額表!AI57/取引額表!AI$54)","v":4.9452657357725076E-2},{"$f":"IF(取引額表!AJ$54=0,0,取引額表!AJ57/取引額表!AJ$54)","v":3.3873343151693665E-2},{"$f":"IF(取引額表!AK$54=0,0,取引額表!AK57/取引額表!AK$54)","v":3.8372245325649167E-2},{"$f":"IF(取引額表!AL$54=0,0,取引額表!AL57/取引額表!AL$54)","v":2.5374124467487071E-2},{"$f":"IF(取引額表!AM$54=0,0,取引額表!AM57/取引額表!AM$54)","v":0},{"$f":"IF(取引額表!AN$54=0,0,取引額表!AN57/取引額表!AN$54)","v":2.8569027812788842E-3},{"$f":"IF(取引額表!AO$54=0,0,取引額表!AO57/取引額表!AO$54)","v":2.6720565040185024E-2}]
[null,null,"その他の給与及び手当",{"$f":"IF(取引額表!D$54=0,0,取引額表!D58/取引額表!D$54)","v":7.5408462505236699E-3},{"$f":"IF(取引額表!E$54=0,0,取引額表!E58/取引額表!E$54)","v":6.0728744939271256E-3},{"$f":"IF(取引額表!F$54=0,0,取引額表!F58/取引額表!F$54)","v":6.6680843855089914E-3},{"$f":"IF(取引額表!G$54=0,0,取引額表!G58/取引額表!G$54)","v":1.8733273862622659E-2},{"$f":"IF(取引額表!H$54=0,0,取引額表!H58/取引額表!H$54)","v":1.2371286761982368E-2},{"$f":"IF(取引額表!I$54=0,0,取引額表!I58/取引額表!I$54)","v":1.1319255974051765E-2},{"$f":"IF(取引額表!J$54=0,0,取引額表!J58/取引額表!J$54)","v":1.3232781325076763E-3},{"$f":"IF(取引額表!K$54=0,0,取引額表!K58/取引額表!K$54)","v":1.4901290812452544E-2},{"$f":"IF(取引額表!L$54=0,0,取引額表!L58/取引額表!L$54)","v":1.0790266917129003E-2},{"$f":"IF(取引額表!M$54=0,0,取引額表!M58/取引額表!M$54)","v":3.2802341340771148E-3},{"$f":"IF(取引額表!N$54=0,0,取引額表!N58/取引額表!N$54)","v":1.0449819647782729E-2},{"$f":"IF(取引額表!O$54=0,0,取引額表!O58/取引額表!O$54)","v":1.5766175489661027E-2},{"$f":"IF(取引額表!P$54=0,0,取引額表!P58/取引額表!P$54)","v":2.8298485940879595E-2},{"$f":"IF(取引額表!Q$54=0,0,取引額表!Q58/取引額表!Q$54)","v":1.8116949869988512E-2},{"$f":"IF(取引額表!R$54=0,0,取引額表!R58/取引額表!R$54)","v":2.0662412640534793E-2},{"$f":"IF(取引額表!S$54=0,0,取引額表!S58/取引額表!S$54)","v":2.9574202743630856E-2},{"$f":"IF(取引額表!T$54=0,0,取引額表!T58/取引額表!T$54)","v":1.2585923129054119E-2},{"$f":"IF(取引額表!U$54=0,0,取引額表!U58/取引額表!U$54)","v":9.2709650231774122E-3},{"$f":"IF(取引額表!V$54=0,0,取引額表!V58/取引額表!V$54)","v":2.3607748184019371E-2},{"$f":"IF(取引額表!W$54=0,0,取引額表!W58/取引額表!W$54)","v":2.0463797615585925E-2},{"$f":"IF(取引額表!X$54=0,0,取引額表!X58/取引額表!X$54)","v":1.470720448408528E-2},{"$f":"IF(取引額表!Y$54=0,0,取引額表!Y58/取引額表!Y$54)","v":3.9026467040374655E-3},{"$f":"IF(取引額表!Z$54=0,0,取引額表!Z58/取引額表!Z$54)","v":1.909836425031794E-2},{"$f":"IF(取引額表!AA$54=0,0,取引額表!AA58/取引額表!AA$54)","v":9.0638670166229215E-3},{"$f":"IF(取引額表!AB$54=0,0,取引額表!AB58/取引額表!AB$54)","v":1.6744307261295891E-2},{"$f":"IF(取引額表!AC$54=0,0,取引額表!AC58/取引額表!AC$54)","v":4.8174984182362171E-2},{"$f":"IF(取引額表!AD$54=0,0,取引額表!AD58/取引額表!AD$54)","v":1.0083555211828506E-3},{"$f":"IF(取引額表!AE$54=0,0,取引額表!AE58/取引額表!AE$54)","v":1.5392571967391673E-2},{"$f":"IF(取引額表!AF$54=0,0,取引額表!AF58/取引額表!AF$54)","v":1.3928028383172834E-2},{"$f":"IF(取引額表!AG$54=0,0,取引額表!AG58/取引額表!AG$54)","v":4.1144359952592288E-2},{"$f":"IF(取引額表!AH$54=0,0,取引額表!AH58/取引額表!AH$54)","v":4.4511969777850775E-2},{"$f":"IF(取引額表!AI$54=0,0,取引額表!AI58/取引額表!AI$54)","v":1.5479575159105122E-2},{"$f":"IF(取引額表!AJ$54=0,0,取引額表!AJ58/取引額表!AJ$54)","v":1.7338331771321464E-2},{"$f":"IF(取引額表!AK$54=0,0,取引額表!AK58/取引額表!AK$54)","v":1.2236811945381315E-2},{"$f":"IF(取引額表!AL$54=0,0,取引額表!AL58/取引額表!AL$54)","v":5.8000282408357156E-3},{"$f":"IF(取引額表!AM$54=0,0,取引額表!AM58/取引額表!AM$54)","v":0},{"$f":"IF(取引額表!AN$54=0,0,取引額表!AN58/取引額表!AN$54)","v":9.5230092709296143E-4},{"$f":"IF(取引額表!AO$54=0,0,取引額表!AO58/取引額表!AO$54)","v":1.3304449388934927E-2}]

{"sheet":"逆行列","index":5,"n_rows":45,"n_cols":40,"rows_kept":45,"cut":false,"hidden":true,"merged":[]}
[]
[]
[]
[]
[null,"平成23年千葉市産業連関表　逆行列係数表（I-A)-1型　統合大分類（37部門）"]
[]
[null,null,null,"01","06","11","15","16","20","21","22","25","26","27","28","29","30","31","32","33","34","35","39","41","46","47","48","51","53","55","57","59","61","63","64","65","66","67","68","69"]
[null,null,null,"農林水産業　　　　　","鉱業","飲食料品　　　　　　　","繊維製品　","パルプ・紙・木製品","化学製品  　　　  　","石油・石炭製品　　　","プラスチック・ゴム","窯業・土石製品　　","鉄鋼　　　　　　　　","非鉄金属　　　　　　","金属製品　　　　　　","はん用機械","生産用機械","業務用機械","電子部品","電気機械　　　　　　","情報・通信機器","輸送機械  　　　　　","その他の製造工業製品","建設　　　　　　　　","電力・ガス・熱供給","水道","廃棄物処理","商業　　　　　　　　","金融・保険　　　　　","不動産　　　　　　　","運輸・郵便　　　","情報通信","公務　　　　　　　　","教育・研究　　　　　","医療・福祉","その他の非営利団体サービス","対事業所サービス","対個人サービス","事務用品","分類不明"]
[null,"01","農林水産業　　　　　",{"$f":"MINVERSE(単位行列マイナス市内品投入係数!D9:AN45)","v":1.0055868575821341},6.1558282509617951E-6,2.1681000390842232E-2,3.1907243663659472E-4,3.228147480715827E-4,9.6396737645174709E-5,4.201570102753495E-6,3.6351302424218122E-4,3.0887073455635913E-5,6.7015742151533779E-6,6.439885000014534E-6,4.600277603711938E-6,3.3755720947676441E-6,5.1988527405282881E-6,7.3646859074402257E-6,5.8887651620139505E-6,8.0884305856182483E-6,7.4636041565914334E-6,2.9166843147705408E-6,1.3298056178187362E-3,5.0338362446008649E-5,7.508056891749496E-6,7.5192922691863404E-6,3.579353322231848E-6,9.8909269227369302E-6,5.2569948571120287E-6,2.9390866720111871E-6,1.5898917772012009E-5,1.7280403086786721E-5,6.0445915292552218E-6,6.6475223169021447E-5,1.8111454937821947E-4,1.1653434610903223E-4,4.9438582808179853E-6,2.0286763981785072E-3,3.6887377677426986E-5,1.6678827352785341E-5]
[null,"06","鉱業",3.9678327893607426E-6,1.0000100682848141,5.8454416871291531E-6,3.1111742012559631E-6,9.5580801362346442E-6,3.0879831200794378E-5,1.1364256855829898E-3,9.7807125441670679E-6,1.5843357413105103E-4,2.4115960383234105E-4,8.1794477601273332E-6,6.1085075171512937E-5,1.7747778632256132E-5,1.9681031713316848E-5,7.1691883594038972E-6,8.4990635003177862E-6,1.0993632874392625E-5,2.9391793868159842E-6,1.4234822213331129E-5,7.6523933744268797E-6,2.0377937432036021E-5,6.4496504151215336E-4,9.8231585084115073E-6,1.1065868555129326E-5,5.2761897516874072E-6,2.5941325333570109E-6,2.0078288277032878E-6,8.2800085534124647E-6,2.7349206354473734E-6,5.0476001693365684E-6,6.9015208194578164E-6,4.1870821418502504E-6,2.3225406635114525E-6,2.7164013875375606E-6,9.7205152807510479E-6,1.5540593320748332E-6,9.2605728831920561E-6]
[null,"11","飲食料品　　　　　　　",1.3239537463720051E-2,5.8380457957560911E-5,1.0568590289064654,2.5768028614917796E-4,3.1976911499979492E-4,1.7876087368814207E-3,1.1500296664579075E-5,3.2217287878168352E-5,3.0278741410002841E-4,3.1840443588369772E-5,2.1088659246239493E-5,2.7032197662633526E-5,2.2730959562423247E-5,3.4660962160955588E-5,3.3147665003801686E-5,2.6308724486297641E-5,4.858401010189402E-5,4.1261228833393522E-5,1.4991008272580706E-5,2.3353539678235471E-4,3.5002829137194105E-5,2.5589621266471148E-5,3.9371466820885522E-5,2.0001756958948024E-5,7.0624542894907259E-5,2.6499117281158799E-5,2.150014038288861E-5,2.3510775965855982E-4,2.3707620575905486E-4,8.0563865044061929E-5,3.6215797763452032E-4,2.6575640374390318E-3,9.211925689774289E-4,4.597731651623342E-5,3.7502096065124446E-2,2.2822192489419419E-5,4.7275236421466635E-4]
[null,"15","繊維製品　",8.1934701985668845E-6,1.507467433287464E-5,3.735394856666813E-6,1.0006222656893875,1.4212832629689519E-5,2.4629692426735534E-6,9.0863182389533214E-7,6.9078508583555715E-6,8.4762158956266443E-6,3.5695172156719036E-6,2.4496228928848596E-6,5.5077925040316815E-6,3.2399608268969735E-6,3.0992673038938525E-6,4.3241289380374528E-6,1.1250044146116178E-5,5.2055766053269195E-6,3.9814481629035103E-6,5.8395164767971067E-7,6.529147257726942E-6,9.5928196210724812E-6,2.1457759560594493E-6,3.7554312791118483E-6,6.7852917192816022E-6,9.3815422478553706E-6,3.9383002482680106E-6,8.5780492033237755E-7,9.5987617654344216E-6,3.3625224837596902E-6,1.0155874453885216E-5,2.6990787434219022E-6,8.7647830051937042E-6,3.4599057380059646E-5,5.5313189516234481E-6,8.4216124234911002E-6,4.8424594866260874E-5,5.0327571673792061E-6]
[null,"16","パルプ・紙・木製品",6.1499159074466982E-4,8.0364155701015752E-5,1.4062725281563515E-4,1.292654793203712E-4,1.0040876410487167,1.3196800634681188E-4,1.3302054430444092E-5,1.4591853029193757E-4,1.8159968980191728E-4,5.4837967227914654E-5,8.6651813081577484E-5,9.940981542359129E-5,3.4861105740075926E-5,4.1171638222481113E-5,2.2062923430716801E-4,9.8380600617557686E-5,2.3547910628794185E-4,1.252631087564397E-4,4.092937735296163E-5,1.1920881177586355E-3,8.7177881783877069E-4,8.1445867585834057E-5,1.1575991783875347E-4,1.1542910522371961E-4,1.3931769719793471E-4,9.3928330152556728E-5,4.2948173832922364E-5,1.2537115775335369E-4,1.7469882524015116E-4,7.5583501860916334E-5,1.3392117711380391E-4,1.1501538399266288E-4,2.4810649796033014E-4,6.9566204653253699E-5,1.2699341324502462E-4,7.88970425469308E-3,7.5999895282877946E-5]
[null,"20","化学製品  　　　  　",2.4025064244768634E-3,5.3334241511446376E-4,2.4768051243460377E-4,1.9496650261091411E-3,9.0921739415889729E-4,1.0118510717556988,6.8305605746050451E-5,5.9160007023179818E-3,1.092792653677584E-3,2.5846648294605305E-4,1.5896613186074636E-4,4.1808300251233341E-4,1.183750613688001E-4,1.528576710097919E-4,5.329065081181053E-4,3.1429761875761438E-4,4.1221075565417534E-4,2.9557194330474248E-4,3.3207013132520739E-4,6.9582367033881856E-4,2.0216568432442845E-4,1.0120596111930178E-4,3.2021036219469998E-4,4.827588988388514E-4,1.8634082618965385E-5,1.9277554365128948E-5,1.3267800230348545E-5,3.7317536119724016E-5,5.1691418833520563E-5,5.4442788050641993E-5,1.3467325286197512E-4,3.2590321782621908E-3,6.3759620701024227E-5,1.0534430379876064E-4,2.3113706899056355E-4,5.7203431290829923E-4,3.7850147605462953E-4]
[null,"21","石油・石炭製品　　　",8.7173863336759822E-4,4.8339857073279357E-3,7.8835681361272736E-4,1.36695279385549E-4,5.7769843390157241E-4,1.5365080731186028E-3,1.0057370112731865,3.5689234480803188E-4,2.6496187729257346E-3,7.4194055993981791E-3,4.9170183348884455E-4,2.215054256670252E-3,6.3621986127094957E-4,7.7203618947600599E-4,5.0995464711016305E-4,3.3739922189076726E-4,5.4837314931715337E-4,1.8691974583831972E-4,5.3238768809624757E-4,7.7531431927110417E-4,9.4659167798817091E-4,6.3572317392483566E-3,1.5741900350763143E-3,1.5826953166862957E-3,3.9348353115028925E-4,1.8519756327943236E-4,1.3639421143296805E-4,4.6990077623122826E-3,2.4710840929293457E-4,7.0003392942598699E-4,8.454523924216541E-4,4.4897060217369787E-4,4.5757398887060624E-4,3.2838617353250847E-4,8.3448746598293363E-4,1.9695284134347226E-4,3.1399984868449517E-3]
[null,"22","プラスチック・ゴム",4.6133315292167513E-4,2.2944233640607111E-4,4.6823597096812915E-4,9.5880113761525525E-4,1.082003024546912E-3,5.1832190419309906E-4,3.0054773410602503E-5,1.0110658827044376,2.4951533789575387E-4,1.2695543336254666E-4,1.1902699782223358E-4,2.4282339446814614E-4,5.9782530879574599E-4,1.7556326810003434E-3,3.1947872714330628E-3,9.0091744310381644E-4,1.8916107737943404E-3,1.0123269731234829E-3,1.2621439211422405E-3,1.8199256478498903E-3,6.6818143383517764E-4,9.2472751556141368E-5,1.4435048820800561E-3,5.8764984290583246E-4,2.461179844999352E-4,1.6511578577483704E-4,7.1863222707978347E-5,1.8478794866538852E-4,2.5344361028183842E-4,1.4351859699613241E-4,2.0947056499217624E-4,1.5809589999681335E-4,2.5883429747517161E-4,4.2859174878759169E-4,1.8633710204272024E-4,2.6564365081527671E-3,4.6214882351594175E-4]
[null,"25","窯業・土石製品　　",1.9170215652030687E-3,4.2225259902037597E-4,3.5169482762323774E-4,5.8239026322424309E-4,4.2140003179404377E-3,3.810440375044031E-3,8.5247644209873665E-4,2.3148859272286676E-3,1.0395767452323643,3.5031391682159014E-3,9.8085011142698257E-4,4.3022147375074461E-3,4.7213662334641112E-3,2.0491499857683455E-3,3.1146310880961177E-3,1.2547479584661176E-2,4.0689538116300142E-3,1.180078097664866E-3,1.0414929233905264E-3,1.8106448700511643E-3,2.297731557158576E-2,1.3682594566370985E-3,3.8752665818692464E-3,5.758915162317026E-4,3.1902375100720812E-4,1.5430874040205228E-4,6.9041781555467222E-4,4.3459012102951638E-4,2.7790223536486454E-4,6.803554315671131E-4,1.2883586076887666E-3,6.0962303041285507E-4,2.4114976323624053E-4,5.3180915874312905E-4,8.1700261912063133E-4,3.9602240054573109E-3,3.8362155094381896E-3]
[null,"26","鉄鋼　　　　　　　　",3.8428494162323938E-4,1.4894020009506895E-3,1.8637836623220053E-4,2.3170842701540243E-4,3.6076373056241354E-2,1.0126482986714935E-3,1.5171228114093245E-4,1.6669198986977891E-3,1.2003984807376805E-2,1.7707958249613329,3.2821383545606506E-4,0.38521950323970483,0.10960768667950288,0.12331017919779275,2.1624478620112349E-2,4.4512613697791827E-3,5.2303811338179663E-2,8.6589137149489515E-3,7.9747609630542587E-2,2.4735314429447648E-3,1.6944567116865355E-2,1.0591686268413608E-3,1.8714311498982401E-3,2.7789077143394427E-4,3.2738398118881064E-4,1.7919559339588863E-4,5.629637202685143E-4,5.7600800162734412E-4,3.1071678587119581E-4,5.290059307994612E-4,4.0094337270822074E-4,2.6408694106476948E-4,2.2805065527247158E-4,8.6558409707230774E-4,3.4879691618032476E-4,4.6594850522439654E-4,1.2145552926298507E-2]
[null,"27","非鉄金属　　　　　　",1.4076769010797697E-5,2.398389314691528E-5,3.5280301943153736E-5,1.023838606774196E-5,3.4634422909409201E-4,3.7262359453045767E-4,5.7139437496827482E-6,1.3761037254195608E-4,4.9505918844052941E-4,1.115339671217184E-3,1.036647423719294,2.9499280326299496E-3,1.7236792252159504E-3,1.0188036160212123E-3,3.1792571744775695E-3,1.3945023067909871E-3,4.636332343503172E-3,2.1030935074324345E-3,1.1641784119973307E-3,7.0961578581831062E-4,6.1659214621055637E-4,4.6253926551305894E-5,6.4323271658786883E-5,1.2828976120902432E-5,1.2150130151804723E-5,9.2770218228398942E-6,2.079747045098172E-5,1.8561001160400966E-5,1.5353816384691545E-5,2.3231672514437441E-5,1.8422088114713406E-5,8.096074448948762E-5,1.8219605329158648E-5,4.8120722784495971E-5,2.8083431875936294E-5,7.2102205673701372E-5,3.9574726363820475E-4]
[null,"28","金属製品　　　　　　",1.4989215289593858E-4,2.7113783505869067E-3,2.4185698085664483E-4,1.9757798714629211E-4,2.7170952365920486E-3,1.3285436169936402E-3,1.6424290165841684E-4,5.3564911827281409E-4,1.0986505263906009E-3,1.9459291797072162E-4,1.9094329758234245E-4,1.0048230742096922,1.8301281101115352E-3,3.002953459558973E-3,1.594453344110512E-3,9.0837013019345631E-4,3.4914371058090772E-3,9.9189751159108768E-4,9.5966391302900887E-4,5.8105528141092692E-4,7.1330573270488975E-3,4.704952300538015E-4,5.7348728954316496E-4,1.0178404385630949E-4,2.4290586027187971E-4,4.5949278370589122E-5,2.2089659011033651E-4,2.5329678839273811E-4,9.3046042204999671E-5,3.2366119905328339E-4,1.1378373959550226E-4,1.0129356091746976E-4,1.5561148180319993E-4,1.3752862826127632E-4,2.6796688045737326E-4,9.7488846694223806E-5,4.0818134404957965E-4]
[null,"29","はん用機械",1.7474082624985355E-6,7.1900824213165579E-6,1.1395848102115164E-6,1.8827274620772148E-6,1.0397124777502874E-5,2.5393319275562655E-6,8.9033104809919904E-7,3.8050437083434157E-6,7.357517163914101E-6,2.2086236848992524E-6,2.4711970385114264E-6,8.5257557892543761E-6,1.0005084018332517,1.6435943271986828E-4,2.3065886766462063E-5,8.596622428600391E-6,2.2514844596157001E-5,6.326158488087434E-6,5.0883567879772531E-5,2.3542945637106318E-6,2.7308192995668526E-5,4.1852144648894262E-6,2.5281284432729859E-5,2.9299054802776871E-6,2.8598775551601387E-6,3.2387608795143077E-6,2.101958100686906E-6,4.2512292911170114E-6,5.2831857172030408E-6,3.5980884003992826E-6,2.9019081250589826E-6,2.8664417800540557E-6,2.6764932264197513E-6,3.7212129903588478E-5,2.1617137868810695E-6,5.415499940570643E-7,3.7004615391160625E-6]
[null,"30","生産用機械",1.4970469507350376E-4,1.0755840097546774E-3,9.9771383895078694E-5,1.685421048295786E-4,2.4435405434368695E-4,2.0715137450179607E-4,7.7598867847377076E-5,9.1948762205684687E-4,5.0051203923054811E-4,1.6336335324274831E-4,1.5435184348647389E-4,4.3553317960563884E-4,1.4056108981119256E-3,1.0426672879882495,2.3663825016846687E-4,7.5033577990911112E-4,1.0178780814822245E-3,3.5006410453236261E-4,4.1864334525587734E-4,1.8339355402790332E-4,3.963442593741776E-4,2.8146160993128001E-4,5.8729196874388317E-4,2.3458350998870419E-4,2.5461535700433937E-4,3.0166122514166887E-4,1.3996754860313729E-4,3.7015571735153017E-4,4.8695679045575692E-4,2.52991383911991E-4,2.3256307460962355E-4,2.4632964396218066E-4,2.4397851554346008E-4,3.5773370104421488E-3,1.6629172068832794E-4,4.1932160045026064E-5,3.2093793568084425E-4]
[null,"31","業務用機械",4.1574018438022849E-5,1.091207749760733E-5,5.7549081308450011E-6,8.5725808731609662E-6,9.253806002557012E-6,9.8729675125248047E-6,3.3650474938350836E-6,8.2844214477536461E-6,1.2774289775708728E-5,7.9843421810882197E-6,6.9878451566295582E-6,1.1076398433234954E-5,6.4087818531320792E-5,2.053242996698886E-4,1.0003210563513598,7.8227413355954102E-6,3.9591593702556838E-5,8.2781701337737864E-6,1.6130360389290154E-5,1.0467647731705398E-5,2.1162026727956465E-5,1.2313409623977077E-5,2.6024235617977372E-5,1.2750986341278182E-5,3.1255771540095001E-5,1.4793112190957081E-5,6.4960103508835585E-6,1.7228675100323346E-5,2.3100754396486299E-5,7.2593539100605683E-5,1.1942150388005294E-5,1.9908397269333475E-4,1.2580043541075766E-5,1.5229709027932885E-4,1.8204282863577915E-5,5.4472179739851329E-4,2.7572214577430405E-5]
[null,"32","電子部品",9.547094791452902E-7,1.4343989233137725E-6,6.3399369812024395E-7,1.0732510820375153E-6,1.1696084597408566E-6,1.3390924334369906E-6,4.4949690139255613E-7,1.0920309260120072E-6,1.7179095249161673E-6,9.8388129224340584E-7,8.8976703308194386E-7,1.5200053013620885E-6,1.7501105246390278E-5,5.1773858069527081E-6,2.6462745000745163E-4,1.000400814528138,1.5289980204258462E-4,4.3582709130445614E-4,1.0897599641064937E-5,1.8293710012549465E-6,2.7755584787318654E-6,1.7141685750677187E-6,3.4318001846167392E-6,1.5647467112806806E-6,1.6807963598014087E-6,2.0195250403538553E-6,8.873617346639514E-7,2.230617999819803E-6,3.9350938367648385E-6,2.4594142369162928E-6,2.3073408812870449E-6,1.6447271580972317E-6,1.659230026207817E-6,2.1535115566218551E-5,1.1122116102178498E-6,4.2840429232887287E-5,2.1845742506377775E-6]
[null,"33","電気機械　　　　　　",7.0219635925339432E-6,1.2062507038863521E-5,4.3491613427226804E-6,7.3509446032824367E-6,1.1973774342796244E-5,1.0112909961361069E-5,3.2213976858152228E-6,8.5289491338847429E-6,1.5681686279238964E-5,9.0675440012477197E-6,7.3252911368638212E-6,1.6691375674058464E-5,2.3668155253636744E-4,3.2973655926734415E-4,2.0655440600368178E-4,9.2391647467632331E-4,1.0015245143101699,2.1376057872147871E-4,3.089846204285699E-4,1.3574186812204627E-5,1.4873360575937445E-4,1.7965139277756596E-5,3.1661329959251796E-5,1.0352097666310013E-5,1.4072859798207388E-5,1.2063614904563228E-5,9.2667541512067296E-6,2.028937290650394E-5,2.1758347569897492E-5,2.5517171628801103E-5,1.8052368944562875E-5,1.2990448740326264E-5,9.9733944539297256E-6,1.3405431495283333E-4,1.0170700551462756E-5,2.389934971651213E-6,3.7447717024459341E-5]
[null,"34","情報・通信機器",1.3399531280668146E-7,2.4199584175576173E-7,9.8498973309664852E-8,1.4836013737123885E-7,1.6229753089223754E-7,1.8943322044810836E-7,5.9862824575494839E-8,1.5539072171419326E-7,2.8632531693368076E-7,1.9290118084745263E-7,1.4895129499958673E-7,3.4634351014558335E-7,3.4076688363986582E-6,8.5937894283923647E-7,1.399321902611799E-7,1.3419013493365903E-7,3.2393652187797099E-7,1.0000372132704982,2.5878620206821081E-6,2.61978661439831E-7,2.7645900078390137E-6,3.6077254227509478E-7,5.5743699218747728E-7,2.0564740133188309E-7,8.129313574761599E-7,4.5238156137164013E-7,3.0888987161325976E-7,4.6274192950405494E-7,9.2185112005749834E-7,1.0384558012166449E-6,3.4114458959535814E-7,2.4983846310287665E-7,3.4547384555924059E-7,2.0505196337099509E-6,4.1352510841616048E-7,8.8660313625398755E-8,4.2613582245001644E-7]
[null,"35","輸送機械  　　　　　",6.8806812620636668E-7,2.5180633805826844E-6,5.4777139387985734E-7,5.6665878957067703E-7,7.4790944033080566E-7,7.165483569550448E-7,4.1939207930363063E-7,5.7351535709342668E-7,1.078501997874955E-6,7.6673189366869447E-7,5.6009098439412756E-7,8.7239473744252047E-7,6.6782465704624055E-7,1.3855007623785893E-6,5.2873196729926546E-7,4.8568191590307E-7,6.9881692240409788E-7,5.602584800956512E-7,1.0001222686454461,1.2810644895501525E-6,1.1989306619254642E-6,9.9388941617128898E-7,1.5364771799456891E-6,9.4049921580913251E-7,9.0812827182239349E-7,9.3413540175525478E-7,3.9346620094013068E-7,1.0161780932279505E-5,1.3796931391332174E-6,2.1544493454824003E-6,8.1348180739940906E-7,7.2397779814191794E-7,7.9114277665689638E-7,9.2348235342842745E-6,6.5566909837269826E-7,3.9324088387533218E-7,1.5858881003358877E-6]
[null,"39","その他の製造工業製品",2.4090961042366862E-4,1.3375227793338831E-3,1.2178385652600605E-3,3.3686480168243775E-3,1.9482106666728978E-3,1.0409741496823371E-3,2.5385682725061862E-3,1.7410461925953737E-3,1.2212963597827457E-3,2.3016759279114269E-3,2.6699320366630071E-3,1.002071022166127E-3,5.2917359884257532E-4,8.5205884947402817E-4,1.1338800897958893E-3,1.3501104650338006E-3,9.5531214030511002E-4,1.3979167780464562E-3,3.3505457275348287E-4,1.0069514212000552,8.747287312372208E-4,2.1480361475356108E-3,8.978140985713821E-4,1.1934659208654671E-3,1.2520747456357866E-3,2.5807478443570855E-3,2.8387053321919127E-4,7.4274446618708453E-4,2.3791235388044983E-3,1.6530263218845545E-3,2.7490831970030643E-3,9.8072490038794658E-4,6.3489995407021256E-3,1.2527290533116292E-3,1.2757999869801833E-3,2.4381316866910811E-2,9.6098561356167816E-4]
[null,"41","建設　　　　　　　　",6.4925795898293477E-3,1.4136386631590342E-2,2.5069076108441149E-3,5.5138794519280681E-3,7.6945037245766531E-3,1.3168144880251278E-2,2.0955502591441287E-3,1.0494017117878113E-2,1.3776218279697487E-2,2.006106701377566E-2,1.2383877483661048E-2,1.8498560270582363E-2,6.4283376833681599E-3,4.8525508528163754E-3,6.4232041312921023E-3,8.2319844729879504E-3,6.9932114981324303E-3,5.0236033019556191E-3,2.3270227460666002E-3,4.5824251883893816E-3,1.0030558616646574,5.470811589155674E-2,6.7469699979288131E-2,9.8399657853092699E-3,6.8196683888982089E-3,3.1749717017309953E-3,2.7438524534921727E-2,1.3203937745297257E-2,6.6991694696578296E-3,2.2657960948181573E-2,1.2197880421929727E-2,7.8398746116838183E-3,3.818840417964577E-3,2.0217508230796861E-3,8.3221878655859744E-3,1.1819549502682738E-3,7.9012303984215271E-3]
[null,"46","電力・ガス・熱供給",4.1087775824391231E-3,6.7535573949058575E-3,7.7568861860598422E-3,4.413421866140705E-3,6.1239513303364352E-3,2.0809130683277097E-2,4.068466528446394E-3,1.3892814176855719E-2,1.2565377360998994E-2,2.604347448858332E-2,1.009488953161666E-2,1.6763831860685335E-2,4.7028739973134096E-3,5.511483183709396E-3,5.1389618932792119E-3,9.1831931923084548E-3,5.3551180762321324E-3,2.3072578861057019E-3,6.0057654370907444E-3,5.2723661979552517E-3,3.2203883224310079E-3,1.0253994830350754,1.0401168392072892E-2,1.4552727297348139E-2,7.5055335680878155E-3,3.6961859078625211E-3,2.1868834023036922E-3,4.3240248435027695E-3,3.6875306172141709E-3,6.1528272125851175E-3,8.8932538096744233E-3,5.5005848848802084E-3,2.7044197457505251E-3,3.4384853418800614E-3,1.3729407171409627E-2,1.007745459976641E-3,5.5827648661831491E-3]
[null,"47","水道",2.1638146108822671E-3,6.8297182831530889E-3,2.7849436516476818E-3,4.3730009129476423E-4,1.6433722069307112E-3,4.6855600390098701E-3,4.6167785877358212E-3,2.3200856604451109E-3,2.2627953982881773E-3,6.1916719071455975E-3,3.4388672251485148E-3,3.000849429536693E-3,1.067927192708704E-3,1.9383456334967073E-3,1.723827743191542E-3,1.9282199625349581E-3,1.9172057939114708E-3,1.1188041882133014E-3,7.0895864747825654E-4,2.2570371468200647E-3,1.6900173807287311E-3,3.4629920722892989E-3,1.092350775095057,1.6591193570583643E-2,3.1948631525499432E-3,1.9014605384609503E-3,8.8134614782164086E-4,4.604423175186027E-3,2.9338062470999236E-3,4.7689916656786331E-3,1.2497245983777489E-2,7.536156789435651E-3,3.1101642960210465E-3,1.187291303508571E-3,1.3535647476194882E-2,4.7644788810010622E-4,6.1614748603035369E-3]
[null,"48","廃棄物処理",1.3204242350042883E-3,5.1439294584775808E-3,9.887377921996563E-4,3.9678738361081565E-4,6.7171833480669687E-4,5.1550932530158976E-3,6.5802564950377901E-4,4.9953548996948865E-4,6.8670880234919162E-3,1.2305723746280093E-3,5.3357659369163526E-4,8.9724767093859504E-4,5.3189205592101755E-4,6.6128471942553872E-4,6.4471010648109494E-4,1.1719507588682869E-3,8.1579356662451108E-4,7.3891916542926023E-4,3.4643210968767049E-4,1.1259516384973353E-3,1.8986397155787171E-3,9.6288787622768532E-3,2.762149965756861E-3,1.0005581229866198,2.3095654401179338E-3,3.1532759899793096E-3,4.3544957287220987E-4,6.0385069258392099E-3,4.6336865899102523E-3,3.4228211848490085E-2,5.1285407854944143E-3,5.1488617094367925E-3,6.41524424765992E-4,7.940138793929005E-4,1.9293613220632298E-2,4.2644648173859756E-4,1.4019609029900145E-2]
[null,"51","商業　　　　　　　　",2.3846269159406779E-2,1.4934228460499249E-2,1.8808414500484712E-2,4.0209224610984855E-2,3.2447001597364224E-2,2.3003066569675042E-2,6.2644099313605246E-3,2.4641997904488264E-2,1.6481885409788434E-2,4.7995900509934929E-2,3.5556788489448245E-2,4.1017795840169208E-2,1.8169524968398069E-2,2.0772248183284599E-2,2.1940141091470564E-2,1.4395249307693977E-2,2.4272309343994776E-2,1.5617817403884529E-2,1.821157218846791E-2,2.7280965097588466E-2,1.6495774764665089E-2,6.913791122009209E-3,8.0814498628289846E-3,7.3889869407477021E-3,1.0048459188420222,2.9836045066605459E-3,1.5667675196165199E-3,7.7678836484342305E-3,5.0321229968383202E-3,5.0063515412407797E-3,6.8432569896730855E-3,5.4359180119515254E-3,1.2333761984148175E-2,6.5656157267543628E-3,2.3170253315452933E-2,8.3551089416695062E-2,6.9239418625296366E-3]
[null,"53","金融・保険　　　　　",1.2254626693195056E-2,6.2915165016380642E-2,7.3146740188978843E-3,2.3794028580344909E-2,1.8233361915363608E-2,1.1757179090204515E-2,7.0545358060720475E-3,6.2711828792142215E-3,1.6865366109855826E-2,2.0360944373293843E-2,1.044255938929408E-2,2.5941788702038827E-2,1.0243656732388747E-2,1.2407368125050968E-2,2.0029163625907776E-2,7.6844532077837632E-3,9.240444831571085E-3,9.5079702161353676E-3,6.6834438330529659E-3,1.7296242971088876E-2,1.9407706593252173E-2,2.378177229969284E-2,9.9557684311825535E-3,1.1769337720349457E-2,2.3118244181660155E-2,1.0552964856957341,7.6060694178928578E-2,3.0447896763196647E-2,1.0527017221412955E-2,4.0017225912373618E-2,4.7958204367221499E-3,1.156639359462555E-2,6.7762776529891891E-2,1.4055438686072478E-2,1.095275998990167E-2,3.3904451115748906E-3,2.1195091898696481E-2]
[null,"55","不動産　　　　　　　",1.8775684295862873E-2,1.9780950702881668E-2,6.3281664601455992E-3,6.4352164046335286E-3,8.5314918209203686E-3,6.9353761022502005E-3,2.9265807999893281E-3,7.430241578016303E-3,8.3269991997423024E-3,9.1287884786671863E-3,5.0869030107723373E-3,1.3328775262610403E-2,7.1336836323647786E-3,7.192154498987891E-3,5.2573336564039133E-3,3.5731649237993541E-3,7.2805907558667945E-3,5.598854206709713E-3,2.1147152021601069E-3,9.422119883308995E-3,1.0931799405602471E-2,1.6413869411852956E-2,7.1658912995693101E-3,7.5688925069232298E-3,4.3411993132581456E-2,2.4915938046299862E-2,1.0316754659397043,5.2184604242036872E-2,3.6081584796759138E-2,4.4946775151725052E-3,9.2563029183686911E-3,2.8137551221697588E-2,2.1180362124210789E-2,1.1051014194153818E-2,2.1763994304388957E-2,5.3588663738491299E-3,5.0532845295020321E-2]
[null,"57","運輸・郵便　　　",3.495315610625941E-2,0.22068055001587533,3.3754594717389438E-2,1.5773306304899298E-2,3.2943797800197745E-2,2.1624953120556133E-2,2.6791147254923594E-2,1.4409051695579808E-2,4.340304170791999E-2,4.271528605087805E-2,2.3463788872166626E-2,3.7494314520610798E-2,1.6225228895875281E-2,1.8127158074685894E-2,1.6668613461051373E-2,1.0343411928912236E-2,1.8331761096506929E-2,1.2900435097443239E-2,9.7837662748950904E-3,9.3871467421797611E-2,2.7055580518151198E-2,3.3489282781696682E-2,1.434593989524624E-2,3.9468585332878121E-2,2.97506281660662E-2,1.8671239291991343E-2,4.1015258874966716E-3,1.0596541761561429,1.5286053273178866E-2,1.7374417306474103E-2,1.8423470065975209E-2,1.0827480374788199E-2,1.9253952855124688E-2,1.0086460206176024E-2,2.4251094428188239E-2,3.3860980614208232E-2,5.521411866878842E-2]
[null,"59","情報通信",8.5333879178099425E-3,1.2315639527308601E-2,6.8302489853356201E-3,7.747518910410642E-3,1.4645681717536885E-2,1.6167903088384616E-2,3.3353747498192309E-3,1.1031421163929757E-2,1.5558472390175666E-2,1.488319261923097E-2,1.1152465918266182E-2,1.818250513636456E-2,1.3260203948696397E-2,2.3914564836075458E-2,1.5155523557958326E-2,1.0168232614895616E-2,3.653059342985493E-2,5.0944460837065379E-2,3.9956545881065795E-3,1.1061035132432675E-2,1.5217846448180595E-2,2.0411612776734464E-2,5.4992520423689642E-2,1.4839731084310569E-2,3.9505214710054977E-2,5.3490613765540096E-2,9.8303988590263611E-3,2.0914532871472276E-2,1.1046955552094442,2.7012910327908039E-2,2.3220338787552006E-2,2.0457504739366708E-2,5.2277527384006539E-2,4.0307339907983616E-2,2.3912318345674657E-2,4.3231307468320299E-3,4.5159589982860272E-2]
[null,"61","公務　　　　　　　　",2.8991157004913675E-3,1.3852006637842826E-3,4.2717535553580399E-4,4.9517992387427862E-4,9.1524932110606126E-4,6.2806624245617844E-4,4.6728582337319434E-4,5.7017384500093542E-4,1.4713065553828716E-3,1.1971825058000362E-3,6.2035732652490475E-4,1.1497091260071104E-3,2.0311195896576756E-3,2.0113837634012652E-3,7.3689666435161421E-4,5.5979549158601287E-4,1.0619949415254669E-3,1.1743664052972049E-3,4.7403100592372535E-4,6.0455352666531875E-4,3.1927799411222602E-3,9.403572102100944E-4,1.9951352650040542E-3,6.2865322839754986E-4,1.37298228926612E-3,8.4670841897575605E-4,1.20695215463047E-3,1.7646983508852083E-3,1.3070294846202588E-3,1.0003917282411559,2.0609563099428766E-3,8.7827148418324842E-4,7.4821751515218395E-4,1.4985393406575667E-3,6.5900311420527601E-4,3.7222877713960316E-4,0.21239563980562487]
[null,"63","教育・研究　　　　　",1.2008985759459818E-3,2.2653775947152938E-3,4.2059007241034866E-3,9.5031763217497522E-3,5.9670540593030983E-3,5.4014386976572452E-2,1.8091265368909437E-3,1.8861726668094131E-2,1.0224130421062757E-2,1.5628033045822894E-2,2.3019261736559746E-2,1.3175420067161681E-2,1.8515071585948228E-2,2.9693218987417946E-2,5.7325689128479226E-2,4.1244550118338254E-2,7.0336181444667592E-2,6.3294612696446845E-2,2.4055941419395561E-2,9.867914195438315E-3,3.2287896732540789E-3,1.217800225170435E-2,1.9341432721637229E-3,1.0388928097072626E-3,3.2025216101704049E-3,1.9054690151895737E-3,4.9415329011611179E-4,3.7983806359503818E-3,1.8952473298561128E-2,9.7968860773991551E-4,1.0066838158873244,4.6425382974704327E-3,1.3036338532903904E-3,2.9569060519912594E-3,1.6932398180649435E-3,8.128425676208888E-4,1.7968981546438393E-2]
[null,"64","医療・福祉",1.7669371510364627E-3,1.5887888891925978E-4,6.5465497540987479E-5,2.0248045234277458E-5,3.6793999326083559E-5,2.8155715637421834E-5,2.375758068322327E-5,2.0473018791079985E-5,4.9026804709049045E-5,5.0213881015419772E-5,2.6568444254055974E-5,4.4325164222152546E-5,3.7508539575561261E-5,4.180136856048421E-5,2.5866442389411002E-5,1.7506692857991972E-5,3.57797063338569E-5,3.6702848131623989E-5,1.3954265852301467E-5,7.1518772573308051E-5,5.7631325679668222E-5,4.4112538142772288E-5,2.1562567472397493E-4,3.8705579976897511E-5,5.9330309254863257E-5,1.0047069441483918E-4,2.866412116952822E-5,6.7627804010367179E-4,3.059746341372247E-4,3.5773980556996708E-5,7.1675070484442143E-5,1.0243313381639303,3.8823682822420985E-5,4.1042981031075235E-5,7.1045215630339954E-5,2.7427692385741657E-5,2.3446160491549799E-3]
[null,"65","その他の非営利団体サービス",6.2719708203968073E-4,2.0281187422677809E-3,7.2076239116574043E-4,8.4732989817373294E-4,5.8121447088310338E-4,2.1828583525580524E-3,4.8804673007657988E-4,6.4065260687956333E-4,1.0521825803527281E-3,1.7246134212046947E-3,7.3627512411284033E-4,1.6016530190277401E-3,1.7527596095195037E-3,1.1094690762231334E-3,1.0283530452008412E-3,5.976095945335304E-4,8.9153864849060344E-4,1.0242793327124426E-3,1.7934145111209702E-4,9.7394322597136197E-4,1.229498760232895E-3,2.7049939946718754E-3,7.3658144187854109E-3,2.1640070172692085E-3,6.8036151184773074E-4,1.9697159606823825E-3,5.5355678772748E-4,1.3336559317749994E-3,1.3391864958656973E-3,3.5664218495857938E-4,1.1001916540817579E-3,1.3736022205688924E-3,1.0003436113952191,1.7267115664031561E-3,2.712610943831508E-3,1.2883118302354271E-4,2.0410399604478529E-3]
[null,"66","対事業所サービス",4.586910023119984E-2,7.0753807663531704E-2,3.0499029307669515E-2,5.1858962365429369E-2,5.5558040201798664E-2,6.3494222065277162E-2,2.2335606552484732E-2,5.3999010560211752E-2,8.4428116589359753E-2,4.7346893609700715E-2,4.2771140893042896E-2,6.572646596362712E-2,6.3236179816144614E-2,5.9610122831919764E-2,4.5918819810537241E-2,4.7516115972507135E-2,6.4585354490594604E-2,5.3626842206589254E-2,2.5104449951929016E-2,5.5541565765365092E-2,0.11619872280752841,8.4787835256520588E-2,0.17087714351743491,7.2084738190984765E-2,7.8343387208818158E-2,9.3371858607694189E-2,4.3188664884611129E-2,0.10679505727485737,0.15082940322420582,7.736478255284969E-2,7.1686881599686877E-2,7.6134943837848718E-2,7.5415112388889136E-2,1.1097805433680741,5.0409578229647305E-2,1.1671191588691647E-2,9.8488531769245352E-2]
[null,"67","対個人サービス",6.4999749269818469E-4,2.6795156214113296E-4,2.1903991678621565E-3,1.2417647213673272E-4,1.7275404610058595E-4,2.1365001423602633E-4,9.6447476836160353E-5,1.421399518549515E-4,2.3584671903680184E-4,3.2237150538131981E-4,1.4860516487438094E-4,2.437246328407867E-4,1.8086420233073337E-4,4.2738480927934303E-4,1.9159261615358926E-4,1.4206420546279851E-4,4.7448546642428192E-4,3.8820906676188881E-4,8.4175806596396797E-5,1.799560184205012E-4,3.623268576100232E-4,2.7301054750084817E-4,6.3761823475401371E-4,2.0732308912943203E-4,8.1836732641418569E-4,4.9209013737937484E-4,4.7460435523498232E-4,7.6912326780680335E-4,6.0157188615616707E-3,4.5065005425006834E-4,1.0042623372369945E-3,1.371603156613419E-2,1.695867528437122E-3,9.9320920510669085E-4,1.0102045881797754,9.7128202959273718E-5,2.5382635919514746E-3]
[null,"68","事務用品",1.0503979661448557E-3,9.3436625522925413E-4,7.6037384429040447E-4,1.1874645095351492E-3,1.6643440890662831E-3,1.1698239336775773E-3,2.4007899636610137E-4,3.5408105803556893E-4,1.2915254577056245E-3,7.2409681373981048E-4,6.4031964703407343E-4,8.815008025900308E-4,1.0153655714855805E-3,1.3358250000313635E-3,1.7767515630851859E-3,1.5440656252891484E-3,1.6495924115446515E-3,8.4907310808578532E-4,2.0713961297356346E-4,1.3522432286455757E-3,9.544187399370055E-4,4.9401210567467794E-4,1.1227556754064207E-3,3.5727987811790016E-3,2.2470153191006138E-3,3.1280309455661479E-3,6.554866950918988E-4,3.1167950556098617E-3,1.7969774925291199E-3,2.8829120853540746E-3,3.2882347797531385E-3,2.2056354018782378E-3,3.483991691700637E-3,1.3444304819348715E-3,2.0775487344847311E-3,1.0003221974893932,1.1933342185338413E-3]
[null,"69","分類不明",1.3676946069588173E-2,6.5348598439601262E-3,2.0152539268888489E-3,2.3360741043979083E-3,4.3178047715974766E-3,2.9629821689234853E-3,2.2044801469203431E-3,2.6898674402838791E-3,6.9410753100997173E-3,5.6478603335859794E-3,2.9266143801425309E-3,5.4238986424196434E-3,9.5820643115153252E-3,9.4889580476632349E-3,3.4764034893427168E-3,2.6409062415559481E-3,5.010095850592461E-3,5.5402224852439353E-3,2.2363014012281666E-3,2.8520579495945925E-3,1.5062344376042289E-2,4.4362544233788317E-3,9.4123036953540889E-3,2.9657513495610099E-3,6.4772181122711783E-3,3.9944543713915717E-3,5.6939498912224719E-3,8.3251883221002361E-3,6.1660773902480308E-3,1.8480276683382798E-3,9.7228228242455753E-3,4.1433571352794026E-3,3.5298110390431319E-3,7.0695494291090248E-3,3.1089307857387642E-3,1.7560364733371103E-3,1.0020033731474927]

{"sheet":"単位行列","index":6,"n_rows":45,"n_cols":40,"rows_kept":45,"cut":false,"hidden":true,"merged":[]}
[]
[]
[]
[]
[]
[]
[null,null,null,"01","06","11","15","16","20","21","22","25","26","27","28","29","30","31","32","33","34","35","39","41","46","47","48","51","53","55","57","59","61","63","64","65","66","67","68","69"]
[null,null,null,"農林水産業　　　　　","鉱業","飲食料品　　　　　　　","繊維製品　","パルプ・紙・木製品","化学製品  　　　  　","石油・石炭製品　　　","プラスチック・ゴム","窯業・土石製品　　","鉄鋼　　　　　　　　","非鉄金属　　　　　　","金属製品　　　　　　","はん用機械","生産用機械","業務用機械","電子部品","電気機械　　　　　　","情報・通信機器","輸送機械  　　　　　","その他の製造工業製品","建設　　　　　　　　","電力・ガス・熱供給","水道","廃棄物処理","商業　　　　　　　　","金融・保険　　　　　","不動産　　　　　　　","運輸・郵便　　　","情報通信","公務　　　　　　　　","教育・研究　　　　　","医療・福祉","その他の非営利団体サービス","対事業所サービス","対個人サービス","事務用品","分類不明"]
[null,"01","農林水産業　　　　　",{"$f":"IF($B9=D$7,1,0)","v":1},{"$f":"IF($B9=E$7,1,0)","v":0},{"$f":"IF($B9=F$7,1,0)","v":0},0,0,0,0,0,0,0,0,0,0,0,0,0,0,0,0,0,0,0,0,0,0,0,0,0,0,0,0,0,0,0,0,0,0]
[null,"06","鉱業",{"$f":"IF($B10=D$7,1,0)","v":0},1,0,0,0,0,0,0,0,0,0,0,0,0,0,0,0,0,0,0,0,0,0,0,0,0,0,0,0,0,0,0,0,0,0,0,0]
[null,"11","飲食料品　　　　　　　",0,0,{"$f":"IF($B11=F$7,1,0)","v":1},0,0,0,0,0,0,0,0,0,0,0,0,0,0,0,0,0,0,0,0,0,0,0,0,0,0,0,0,0,0,0,0,0,0]
[null,"15","繊維製品　",0,0,0,1,0,0,0,0,0,0,0,0,0,0,0,0,0,0,0,0,0,0,0,0,0,0,0,0,0,0,0,0,0,0,0,0,0]
[null,"16","パルプ・紙・木製品",0,0,0,0,1,0,0,0,0,0,0,0,0,0,0,0,0,0,0,0,0,0,0,0,0,0,0,0,0,0,0,0,0,0,0,0,0]
[null,"20","化学製品  　　　  　",0,0,0,0,0,1,0,0,0,0,0,0,0,0,0,0,0,0,0,0,0,0,0,0,0,0,0,0,0,0,0,0,0,0,0,0,0]
[null,"21","石油・石炭製品　　　",0,0,{"$f":"IF($B15=F$7,1,0)","v":0},0,0,0,1,0,0,0,0,0,0,0,0,0,0,0,0,0,0,0,0,0,0,0,0,0,0,0,0,0,0,0,0,0,0]
[null,"22","プラスチック・ゴム",0,0,0,0,0,0,0,1,0,0,0,0,0,0,0,0,0,0,0,0,0,0,0,0,0,0,0,0,0,0,0,0,0,0,0,0,0]
[null,"25","窯業・土石製品　　",0,0,0,0,0,0,0,0,1,0,0,0,0,0,0,0,0,0,0,0,0,0,0,0,0,0,0,0,0,0,0,0,0,0,0,0,0]
[null,"26","鉄鋼　　　　　　　　",0,0,0,0,0,0,0,0,0,1,0,0,0,0,0,0,0,0,0,0,0,0,0,0,0,0,0,0,0,0,0,0,0,0,0,0,0]
[null,"27","非鉄金属　　　　　　",0,0,{"$f":"IF($B19=F$7,1,0)","v":0},0,0,0,0,0,0,0,1,0,0,0,0,0,0,0,0,0,0,0,0,0,0,0,0,0,0,0,0,0,0,0,0,0,0]
[null,"28","金属製品　　　　　　",0,0,0,0,0,0,0,0,0,0,0,1,0,0,0,0,0,0,0,0,0,0,0,0,0,0,0,0,0,0,0,0,0,0,0,0,0]
[null,"29","はん用機械",0,0,0,0,0,0,0,0,0,0,0,0,1,0,0,0,0,0,0,0,0,0,0,0,0,0,0,0,0,0,0,0,0,0,0,0,0]
[null,"30","生産用機械",0,0,0,0,0,0,0,0,0,0,0,0,0,1,0,0,0,0,0,0,0,0,0,0,0,0,0,0,0,0,0,0,0,0,0,0,0]
[null,"31","業務用機械",0,0,{"$f":"IF($B23=F$7,1,0)","v":0},0,0,0,0,0,0,0,0,0,0,0,1,0,0,0,0,0,0,0,0,0,0,0,0,0,0,0,0,0,0,0,0,0,0]
[null,"32","電子部品",0,0,0,0,0,0,0,0,0,0,0,0,0,0,0,1,0,0,0,0,0,0,0,0,0,0,0,0,0,0,0,0,0,0,0,0,0]
[null,"33","電気機械　　　　　　",0,0,0,0,0,0,0,0,0,0,0,0,0,0,0,0,1,0,0,0,0,0,0,0,0,0,0,0,0,0,0,0,0,0,0,0,0]
[null,"34","情報・通信機器",0,0,0,0,0,0,0,0,0,0,0,0,0,0,0,0,0,1,0,0,0,0,0,0,0,0,0,0,0,0,0,0,0,0,0,0,0]
[null,"35","輸送機械  　　　　　",0,0,{"$f":"IF($B27=F$7,1,0)","v":0},0,0,0,0,0,0,0,0,0,0,0,0,0,0,0,1,0,0,0,0,0,0,0,0,0,0,0,0,0,0,0,0,0,0]
[null,"39","その他の製造工業製品",0,0,0,0,0,0,0,0,0,0,0,0,0,0,0,0,0,0,0,1,0,0,0,0,0,0,0,0,0,0,0,0,0,0,0,0,0]
[null,"41","建設　　　　　　　　",0,0,0,0,0,0,0,0,0,0,0,0,0,0,0,0,0,0,0,0,1,0,0,0,0,0,0,0,0,0,0,0,0,0,0,0,0]
[null,"46","電力・ガス・熱供給",0,0,0,0,0,0,0,0,0,0,0,0,0,0,0,0,0,0,0,0,0,1,0,0,0,0,0,0,0,0,0,0,0,0,0,0,0]
[null,"47","水道",0,0,{"$f":"IF($B31=F$7,1,0)","v":0},0,0,0,0,0,0,0,0,0,0,0,0,0,0,0,0,0,0,0,1,0,0,0,0,0,0,0,0,0,0,0,0,0,0]
[null,"48","廃棄物処理",0,0,0,0,0,0,0,0,0,0,0,0,0,0,0,0,0,0,0,0,0,0,0,1,0,0,0,0,0,0,0,0,0,0,0,0,0]
[null,"51","商業　　　　　　　　",0,0,0,0,0,0,0,0,0,0,0,0,0,0,0,0,0,0,0,0,0,0,0,0,1,0,0,0,0,0,0,0,0,0,0,0,0]
[null,"53","金融・保険　　　　　",0,0,0,0,0,0,0,0,0,0,0,0,0,0,0,0,0,0,0,0,0,0,0,0,0,1,0,0,0,0,0,0,0,0,0,0,0]
[null,"55","不動産　　　　　　　",0,0,{"$f":"IF($B35=F$7,1,0)","v":0},0,0,0,0,0,0,0,0,0,0,0,0,0,0,0,0,0,0,0,0,0,0,0,1,0,0,0,0,0,0,0,0,0,0]
[null,"57","運輸・郵便　　　",0,0,0,0,0,0,0,0,0,0,0,0,0,0,0,0,0,0,0,0,0,0,0,0,0,0,0,1,0,0,0,0,0,0,0,0,0]
[null,"59","情報通信",0,0,0,0,0,0,0,0,0,0,0,0,0,0,0,0,0,0,0,0,0,0,0,0,0,0,0,0,1,0,0,0,0,0,0,0,0]
[null,"61","公務　　　　　　　　",0,0,0,0,0,0,0,0,0,0,0,0,0,0,0,0,0,0,0,0,0,0,0,0,0,0,0,0,0,1,0,0,0,0,0,0,0]
[null,"63","教育・研究　　　　　",0,0,{"$f":"IF($B39=F$7,1,0)","v":0},0,0,0,0,0,0,0,0,0,0,0,0,0,0,0,0,0,0,0,0,0,0,0,0,0,0,0,1,0,0,0,0,0,0]
[null,"64","医療・福祉",0,0,0,0,0,0,0,0,0,0,0,0,0,0,0,0,0,0,0,0,0,0,0,0,0,0,0,0,0,0,0,1,0,0,0,0,0]
[null,"65","その他の非営利団体サービス",0,0,0,0,0,0,0,0,0,0,0,0,0,0,0,0,0,0,0,0,0,0,0,0,0,0,0,0,0,0,0,0,1,0,0,0,0]
[null,"66","対事業所サービス",0,0,0,0,0,0,0,0,0,0,0,0,0,0,0,0,0,0,0,0,0,0,0,0,0,0,0,0,0,0,0,0,0,1,0,0,0]
[null,"67","対個人サービス",0,0,{"$f":"IF($B43=F$7,1,0)","v":0},0,0,0,0,0,0,0,0,0,0,0,0,0,0,0,0,0,0,0,0,0,0,0,0,0,0,0,0,0,0,0,1,0,0]
[null,"68","事務用品",0,0,0,0,0,0,0,0,0,0,0,0,0,0,0,0,0,0,0,0,0,0,0,0,0,0,0,0,0,0,0,0,0,0,0,1,0]
[null,"69","分類不明",0,0,0,0,0,0,0,0,0,0,0,0,0,0,0,0,0,0,0,0,0,0,0,0,0,0,0,0,0,0,0,0,0,0,0,0,1]

{"sheet":"移輸入係数","index":7,"n_rows":45,"n_cols":46,"rows_kept":45,"cut":false,"hidden":true,"merged":[]}
[]
[]
[]
[]
[]
[]
[null,null,null,null,null,null,null,null,null,"M"]
[null,null,null,"移輸入係数","市内品係数","比率",null,null,null,1,2,3,4,5,6,7,8,9,10,11,12,13,14,15,16,17,18,19,20,21,22,23,24,25,26,27,28,29,30,31,32,33,34,35,36,37]
[null,"01","農林水産業　　　　　",{"$f":"-取引額表!BF9/(取引額表!BH9-取引額表!BF9-取引額表!BA9-取引額表!AV9)","v":0.94287847938961411},{"$f":"1-D9","v":5.712152061038589E-2},{"$f":"D9/E9","v":16.506536753823376},null,null,1,{"$f":"IF($I9=J$8,$D9,0)","v":0.94287847938961411},{"$f":"IF($I9=K$8,$D9,0)","v":0},0,0,0,0,0,0,0,0,0,0,0,0,0,0,0,0,0,0,0,0,0,0,0,0,0,0,0,0,0,0,0,0,0,0,0]
[null,"06","鉱業",{"$f":"-取引額表!BF10/(取引額表!BH10-取引額表!BF10-取引額表!BA10-取引額表!AV10)","v":0.99845670455595603},{"$f":"1-D10","v":1.5432954440439683E-3},{"$f":"D10/E10","v":646.96407185629596},null,null,2,{"$f":"IF($I10=J$8,$D10,0)","v":0},0.99845670455595603,0,0,0,0,0,0,0,0,0,0,0,0,0,0,0,0,0,0,0,0,0,0,0,0,0,0,0,0,0,0,0,0,0,0,0]
[null,"11","飲食料品　　　　　　　",{"$f":"-取引額表!BF11/(取引額表!BH11-取引額表!BF11-取引額表!BA11-取引額表!AV11)","v":0.7498380875416244},0.2501619124583756,2.9974110773812934,null,null,3,0,{"$f":"IF($I11=K$8,$D11,0)","v":0},0.7498380875416244,0,0,0,0,0,0,0,0,0,0,0,0,0,0,0,0,0,0,0,0,0,0,0,0,0,0,0,0,0,0,0,0,0,0]
[null,"15","繊維製品　",{"$f":"-取引額表!BF12/(取引額表!BH12-取引額表!BF12-取引額表!BA12-取引額表!AV12)","v":0.99756631783889027},2.4336821611097292E-3,409.90000000000504,null,null,4,0,0,0,0.99756631783889027,0,0,0,0,0,0,0,0,0,0,0,0,0,0,0,0,0,0,0,0,0,0,0,0,0,0,0,0,0,0,0,0,0]
[null,"16","パルプ・紙・木製品",{"$f":"-取引額表!BF13/(取引額表!BH13-取引額表!BF13-取引額表!BA13-取引額表!AV13)","v":0.98405013885761461},1.5949861142385391E-2,61.69647058823513,null,null,5,0,0,0,0,0.98405013885761461,0,0,0,0,0,0,0,0,0,0,0,0,0,0,0,0,0,0,0,0,0,0,0,0,0,0,0,0,0,0,0,0]
[null,"20","化学製品  　　　  　",{"$f":"-取引額表!BF14/(取引額表!BH14-取引額表!BF14-取引額表!BA14-取引額表!AV14)","v":0.97070574007687993},2.929425992312007E-2,33.136380390711444,null,null,6,0,0,0,0,0,0.97070574007687993,0,0,0,0,0,0,0,0,0,0,0,0,0,0,0,0,0,0,0,0,0,0,0,0,0,0,0,0,0,0,0]
[null,"21","石油・石炭製品　　　",{"$f":"-取引額表!BF15/(取引額表!BH15-取引額表!BF15-取引額表!BA15-取引額表!AV15)","v":0.91595612730614129},8.4043872693858712E-2,10.898547365167675,null,null,7,0,{"$f":"IF($I15=K$8,$D15,0)","v":0},0,0,0,0,0.91595612730614129,0,0,0,0,0,0,0,0,0,0,0,0,0,0,0,0,0,0,0,0,0,0,0,0,0,0,0,0,0,0]
[null,"22","プラスチック・ゴム",{"$f":"-取引額表!BF16/(取引額表!BH16-取引額表!BF16-取引額表!BA16-取引額表!AV16)","v":0.95413485321002256},4.586514678997744E-2,20.803048065650632,null,null,8,0,0,0,0,0,0,0,0.95413485321002256,0,0,0,0,0,0,0,0,0,0,0,0,0,0,0,0,0,0,0,0,0,0,0,0,0,0,0,0,0]
[null,"25","窯業・土石製品　　",{"$f":"-取引額表!BF17/(取引額表!BH17-取引額表!BF17-取引額表!BA17-取引額表!AV17)","v":0.57559912854030504},0.42440087145969496,1.3562628336755649,null,null,9,0,0,0,0,0,0,0,0,0.57559912854030504,0,0,0,0,0,0,0,0,0,0,0,0,0,0,0,0,0,0,0,0,0,0,0,0,0,0,0,0]
[null,"26","鉄鋼　　　　　　　　",{"$f":"-取引額表!BF18/(取引額表!BH18-取引額表!BF18-取引額表!BA18-取引額表!AV18)","v":0.16936864429469217},0.83063135570530777,0.20390350440223562,null,null,10,0,0,0,0,0,0,0,0,0,0.16936864429469217,0,0,0,0,0,0,0,0,0,0,0,0,0,0,0,0,0,0,0,0,0,0,0,0,0,0,0]
[null,"27","非鉄金属　　　　　　",{"$f":"-取引額表!BF19/(取引額表!BH19-取引額表!BF19-取引額表!BA19-取引額表!AV19)","v":0.93921866110373597},6.0781338896264026E-2,15.452418096723859,null,null,11,0,{"$f":"IF($I19=K$8,$D19,0)","v":0},0,0,0,0,0,0,0,0,0.93921866110373597,0,0,0,0,0,0,0,0,0,0,0,0,0,0,0,0,0,0,0,0,0,0,0,0,0,0]
[null,"28","金属製品　　　　　　",{"$f":"-取引額表!BF20/(取引額表!BH20-取引額表!BF20-取引額表!BA20-取引額表!AV20)","v":0.92362099185483038},7.6379008145169625E-2,12.092602591792653,null,null,12,0,0,0,0,0,0,0,0,0,0,0,0.92362099185483038,0,0,0,0,0,0,0,0,0,0,0,0,0,0,0,0,0,0,0,0,0,0,0,0,0]
[null,"29","はん用機械",{"$f":"-取引額表!BF21/(取引額表!BH21-取引額表!BF21-取引額表!BA21-取引額表!AV21)","v":0.9958806986968749},4.1193013031251002E-3,241.75961538461678,null,null,13,0,0,0,0,0,0,0,0,0,0,0,0,0.9958806986968749,0,0,0,0,0,0,0,0,0,0,0,0,0,0,0,0,0,0,0,0,0,0,0,0]
[null,"30","生産用機械",{"$f":"-取引額表!BF22/(取引額表!BH22-取引額表!BF22-取引額表!BA22-取引額表!AV22)","v":0.73433333333333328},0.26566666666666672,2.764115432873274,null,null,14,0,0,0,0,0,0,0,0,0,0,0,0,0,0.73433333333333328,0,0,0,0,0,0,0,0,0,0,0,0,0,0,0,0,0,0,0,0,0,0,0]
[null,"31","業務用機械",{"$f":"-取引額表!BF23/(取引額表!BH23-取引額表!BF23-取引額表!BA23-取引額表!AV23)","v":0.97998661896035144},2.0013381039648559E-2,48.966569767441968,null,null,15,0,{"$f":"IF($I23=K$8,$D23,0)","v":0},0,0,0,0,0,0,0,0,0,0,0,0,0.97998661896035144,0,0,0,0,0,0,0,0,0,0,0,0,0,0,0,0,0,0,0,0,0,0]
[null,"32","電子部品",{"$f":"-取引額表!BF24/(取引額表!BH24-取引額表!BF24-取引額表!BA24-取引額表!AV24)","v":0.99857901890522671},1.4209810947732882E-3,702.73913043476909,null,null,16,0,0,0,0,0,0,0,0,0,0,0,0,0,0,0,0.99857901890522671,0,0,0,0,0,0,0,0,0,0,0,0,0,0,0,0,0,0,0,0,0]
[null,"33","電気機械　　　　　　",{"$f":"-取引額表!BF25/(取引額表!BH25-取引額表!BF25-取引額表!BA25-取引額表!AV25)","v":0.98322287005199249},1.6777129948007508E-2,58.604950495049508,null,null,17,0,0,0,0,0,0,0,0,0,0,0,0,0,0,0,0,0.98322287005199249,0,0,0,0,0,0,0,0,0,0,0,0,0,0,0,0,0,0,0,0]
[null,"34","情報・通信機器",{"$f":"-取引額表!BF26/(取引額表!BH26-取引額表!BF26-取引額表!BA26-取引額表!AV26)","v":0.99861553150859328},1.3844684914067207E-3,721.29885057472654,null,null,18,{"$f":"IF($I26=J$8,$D26,0)","v":0},0,0,0,0,0,0,0,0,0,0,0,0,0,0,0,0,0.99861553150859328,0,0,0,0,0,0,0,0,0,0,0,0,0,0,0,0,0,0,0]
[null,"35","輸送機械  　　　　　",{"$f":"-取引額表!BF27/(取引額表!BH27-取引額表!BF27-取引額表!BA27-取引額表!AV27)","v":0.99958286502207339},4.1713497792661425E-4,2396.3055555555161,null,null,19,0,{"$f":"IF($I27=K$8,$D27,0)","v":0},0,0,0,0,0,0,0,0,0,0,0,0,0,0,0,0,0.99958286502207339,0,0,0,0,0,0,0,0,0,0,0,0,0,0,0,0,0,0]
[null,"39","その他の製造工業製品",{"$f":"-取引額表!BF28/(取引額表!BH28-取引額表!BF28-取引額表!BA28-取引額表!AV28)","v":0.8483370795077908},0.1516629204922092,5.5935694549108277,null,null,20,0,0,0,0,0,0,0,0,0,0,0,0,0,0,0,0,0,0,0,0.8483370795077908,0,0,0,0,0,0,0,0,0,0,0,0,0,0,0,0,0]
[null,"41","建設　　　　　　　　",{"$f":"-取引額表!BF29/(取引額表!BH29-取引額表!BF29-取引額表!BA29-取引額表!AV29)","v":0},1,0,null,null,21,0,0,0,0,0,0,0,0,0,0,0,0,0,0,0,0,0,0,0,0,0,0,0,0,0,0,0,0,0,0,0,0,0,0,0,0,0]
[null,"46","電力・ガス・熱供給",{"$f":"-取引額表!BF30/(取引額表!BH30-取引額表!BF30-取引額表!BA30-取引額表!AV30)","v":0},1,0,null,null,22,0,0,0,0,0,0,0,0,0,0,0,0,0,0,0,0,0,0,0,0,0,0,0,0,0,0,0,0,0,0,0,0,0,0,0,0,0]
[null,"47","水道",{"$f":"-取引額表!BF31/(取引額表!BH31-取引額表!BF31-取引額表!BA31-取引額表!AV31)","v":0},1,0,null,null,23,0,{"$f":"IF($I31=K$8,$D31,0)","v":0},0,0,0,0,0,0,0,0,0,0,0,0,0,0,0,0,0,0,0,0,0,0,0,0,0,0,0,0,0,0,0,0,0,0,0]
[null,"48","廃棄物処理",{"$f":"-取引額表!BF32/(取引額表!BH32-取引額表!BF32-取引額表!BA32-取引額表!AV32)","v":0.13122666856884704},{"$f":"1-D32","v":0.86877333143115298},0.15104822376703705,null,null,24,0,0,0,0,0,0,0,0,0,0,0,0,0,0,0,0,0,0,0,0,0,0,0,0.13122666856884704,0,0,0,0,0,0,0,0,0,0,0,0,0]
[null,"51","商業　　　　　　　　",{"$f":"-取引額表!BF33/(取引額表!BH33-取引額表!BF33-取引額表!BA33-取引額表!AV33)","v":0.44460352187570373},0.55539647812429627,0.80051555850197997,null,null,25,0,0,0,0,0,0,0,0,0,0,0,0,0,0,0,0,0,0,0,0,0,0,0,0,0.44460352187570373,0,0,0,0,0,0,0,0,0,0,0,0]
[null,"53","金融・保険　　　　　",{"$f":"-取引額表!BF34/(取引額表!BH34-取引額表!BF34-取引額表!BA34-取引額表!AV34)","v":0.26868061427675188},0.73131938572324806,0.36739162057223002,null,null,26,0,0,0,0,0,0,0,0,0,0,0,0,0,0,0,0,0,0,0,0,0,0,0,0,0,0.26868061427675188,0,0,0,0,0,0,0,0,0,0,0]
[null,"55","不動産　　　　　　　",{"$f":"-取引額表!BF35/(取引額表!BH35-取引額表!BF35-取引額表!BA35-取引額表!AV35)","v":8.9478757282380628E-3},0.99105212427176193,9.0286630835013631E-3,null,null,27,0,{"$f":"IF($I35=K$8,$D35,0)","v":0},0,0,0,0,0,0,0,0,0,0,0,0,0,0,0,0,0,0,0,0,0,0,0,0,8.9478757282380628E-3,0,0,0,0,0,0,0,0,0,0]
[null,"57","運輸・郵便　　　",{"$f":"-取引額表!BF36/(取引額表!BH36-取引額表!BF36-取引額表!BA36-取引額表!AV36)","v":0.38114312851567916},0.61885687148432078,0.61588251836246388,null,null,28,0,0,0,0,0,0,0,0,0,0,0,0,0,0,0,0,0,0,0,0,0,0,0,0,0,0,0,0.38114312851567916,0,0,0,0,0,0,0,0,0]
[null,"59","情報通信",{"$f":"-取引額表!BF37/(取引額表!BH37-取引額表!BF37-取引額表!BA37-取引額表!AV37)","v":0.30588985761823817},0.69411014238176183,0.44069354262511007,null,null,29,0,0,0,0,0,0,0,0,0,0,0,0,0,0,0,0,0,0,0,0,0,0,0,0,0,0,0,0,0.30588985761823817,0,0,0,0,0,0,0,0]
[null,"61","公務　　　　　　　　",{"$f":"-取引額表!BF38/(取引額表!BH38-取引額表!BF38-取引額表!BA38-取引額表!AV38)","v":0},1,0,null,null,30,0,0,0,0,0,0,0,0,0,0,0,0,0,0,0,0,0,0,0,0,0,0,0,0,0,0,0,0,0,0,0,0,0,0,0,0,0]
[null,"63","教育・研究　　　　　",{"$f":"-取引額表!BF39/(取引額表!BH39-取引額表!BF39-取引額表!BA39-取引額表!AV39)","v":0.10089419548250375},0.89910580451749622,0.11221615406726071,null,null,31,0,{"$f":"IF($I39=K$8,$D39,0)","v":0},0,0,0,0,0,0,0,0,0,0,0,0,0,0,0,0,0,0,0,0,0,0,0,0,0,0,0,0,0.10089419548250375,0,0,0,0,0,0]
[null,"64","医療・福祉",{"$f":"-取引額表!BF40/(取引額表!BH40-取引額表!BF40-取引額表!BA40-取引額表!AV40)","v":0.23292947328146921},0.76707052671853082,0.30366109134439528,null,null,32,0,0,0,0,0,0,0,0,0,0,0,0,0,0,0,0,0,0,0,0,0,0,0,0,0,0,0,0,0,0,0,0.23292947328146921,0,0,0,0,0]
[null,"65","その他の非営利団体サービス",{"$f":"-取引額表!BF41/(取引額表!BH41-取引額表!BF41-取引額表!BA41-取引額表!AV41)","v":0.26508940037538281},0.73491059962461724,0.36070972511593524,null,null,33,0,0,0,0,0,0,0,0,0,0,0,0,0,0,0,0,0,0,0,0,0,0,0,0,0,0,0,0,0,0,0,0,0.26508940037538281,0,0,0,0]
[null,"66","対事業所サービス",{"$f":"-取引額表!BF42/(取引額表!BH42-取引額表!BF42-取引額表!BA42-取引額表!AV42)","v":0.31013361815288709},0.68986638184711291,0.4495560681222156,null,null,34,0,0,0,0,0,0,0,0,0,0,0,0,0,0,0,0,0,0,0,0,0,0,0,0,0,0,0,0,0,0,0,0,0,0.31013361815288709,0,0,0]
[null,"67","対個人サービス",{"$f":"-取引額表!BF43/(取引額表!BH43-取引額表!BF43-取引額表!BA43-取引額表!AV43)","v":0.28719442226263414},0.71280557773736586,0.40290709168447514,null,null,35,0,{"$f":"IF($I43=K$8,$D43,0)","v":0},0,0,0,0,0,0,0,0,0,0,0,0,0,0,0,0,0,0,0,0,0,0,0,0,0,0,0,0,0,0,0,0,0.28719442226263414,0,0]
[null,"68","事務用品",{"$f":"-取引額表!BF44/(取引額表!BH44-取引額表!BF44-取引額表!BA44-取引額表!AV44)","v":0},1,0,null,null,36,0,0,0,0,0,0,0,0,0,0,0,0,0,0,0,0,0,0,0,0,0,0,0,0,0,0,0,0,0,0,0,0,0,0,0,0,0]
[null,"69","分類不明",{"$f":"-取引額表!BF45/(取引額表!BH45-取引額表!BF45-取引額表!BA45-取引額表!AV45)","v":0.21871740734145659},0.78128259265854338,0.27994660241591507,null,null,37,0,0,0,0,0,0,0,0,0,0,0,0,0,0,0,0,0,0,0,0,0,0,0,0,0,0,0,0,0,0,0,0,0,0,0,0,0.21871740734145659]

{"sheet":"付加価値率","index":8,"n_rows":45,"n_cols":8,"rows_kept":45,"cut":false,"hidden":true,"merged":[]}
[]
[]
[]
[]
[]
[]
[]
[null,null,null,"粗付加価値額","市内生産額","付加価値率","雇用者数","雇用者数/生産額"]
[null,"01","農林水産業　　　　　",{"$f":"TRANSPOSE(取引額表!D53:AN53)","v":7432},{"$f":"TRANSPOSE(取引額表!D54:AN54)","v":14322},{"$f":"IF(E9=0,0,D9/E9)","v":0.51892193827677702},1225,{"$f":"IF(E9=0,0,G9/E9)","v":8.5532746823069397E-2}]
[null,"06","鉱業",363,988,{"$f":"IF(E10=0,0,D10/E10)","v":0.36740890688259109},3,{"$f":"IF(E10=0,0,G10/E10)","v":3.0364372469635628E-3}]
[null,"11","飲食料品　　　　　　　",70837,277441,0.25532275330610832,8209,2.9588272821969356E-2]
[null,"15","繊維製品　",474,1121,0.42283675289919714,161,0.14362176628010706]
[null,"16","パルプ・紙・木製品",5165,13499,0.38262093488406551,681,5.044818134676643E-2]
[null,"20","化学製品  　　　  　",3991,15107,0.2641821672072549,927,6.1362282385649038E-2]
[null,"21","石油・石炭製品　　　",6849,77837,8.7991572131505588E-2,175,2.2482880892120715E-3]
[null,"22","プラスチック・ゴム",3602,10536,0.34187547456340167,870,8.2574031890660593E-2]
[null,"25","窯業・土石製品　　",10392,22891,0.45397754576034249,546,2.3852168974706215E-2]
[null,"26","鉄鋼　　　　　　　　",188696,1170953,0.16114737312257624,5156,4.4032510271548048E-3]
[null,"27","非鉄金属　　　　　　",3555,18852,0.1885741565881604,422,2.2384892849565033E-2]
[null,"28","金属製品　　　　　　",12248,32982,0.37135407191801589,2378,7.2099933296949845E-2]
[null,"29","はん用機械",2889,5548,0.52072819033886086,652,0.11751982696467195]
[null,"30","生産用機械",33944,82685,0.41052186007135516,2703,3.2690330773417188E-2]
[null,"31","業務用機械",2455,6582,0.37298693406259498,459,6.9735642661804917E-2]
[null,"32","電子部品",2176,5613,0.38767147692855869,930,0.16568679850347406]
[null,"33","電気機械　　　　　　",3125,10329,0.30254622906380096,806,7.8032723400135534E-2]
[null,"34","情報・通信機器",1501,4746,0.3162663295406658,586,0.12347239780868099]
[null,"35","輸送機械  　　　　　",727,1652,0.44007263922518158,459,0.2778450363196126]
[null,"39","その他の製造工業製品",13339,27512,0.4848429776097703,3493,0.12696277987787147]
[null,"41","建設　　　　　　　　",150910,322563,0.46784659120853911,40577,0.1257955810182817]
[null,"46","電力・ガス・熱供給",32501,155023,0.2096527612031763,2097,1.3527025022093495E-2]
[null,"47","水道",22625,45606,0.49609700478007279,782,1.7146866640354339E-2]
[null,"48","廃棄物処理",41556,57150,0.72713910761154854,2393,4.1872265966754155E-2]
[null,"51","商業　　　　　　　　",456024,644637,0.70741207842553255,80958,0.12558695824161506]
[null,"53","金融・保険　　　　　",191448,279751,0.68435144110298085,15698,5.6114187259384239E-2]
[null,"55","不動産　　　　　　　",589309,744777,0.79125563759353468,5797,7.7835378912077041E-3]
[null,"57","運輸・郵便　　　",215157,382847,0.56199212740337523,24582,6.4208417461805889E-2]
[null,"59","情報通信",224397,394600,0.56866953877344151,14728,3.7323872275722252E-2]
[null,"61","公務　　　　　　　　",164108,231186,0.70985267273969876,15616,6.754734283217842E-2]
[null,"63","教育・研究　　　　　",184005,243530,0.7555742618979181,23293,9.5647353508807945E-2]
[null,"64","医療・福祉",233694,380566,0.61406957006143481,40877,0.10741106667437449]
[null,"65","その他の非営利団体サービス",18733,29876,0.62702503681885124,2619,8.7662337662337664E-2]
[null,"66","対事業所サービス",407150,610780,0.66660663413995225,63782,0.10442712597007106]
[null,"67","対個人サービス",212711,375343,0.56671098168874867,51895,0.13826020466613204]
[null,"68","事務用品",0,8174,0,0,0]
[null,"69","分類不明",14301,35703,0.40055457524577764,299,8.3746463882586903E-3]

{"sheet":"市内品投入係数表","index":9,"n_rows":45,"n_cols":40,"rows_kept":45,"cut":false,"hidden":true,"merged":[]}
[]
[]
[]
[]
[]
[]
[null,null,null,"01","06","11","15","16","20","21","22","25","26","27","28","29","30","31","32","33","34","35","39","41","46","47","48","51","53","55","57","59","61","63","64","65","66","67","68","69"]
[null,null,null,"農林水産業　　　　　","鉱業","飲食料品　　　　　　　","繊維製品　","パルプ・紙・木製品","化学製品  　　　  　","石油・石炭製品　　　","プラスチック・ゴム","窯業・土石製品　　","鉄鋼　　　　　　　　","非鉄金属　　　　　　","金属製品　　　　　　","はん用機械","生産用機械","業務用機械","電子部品","電気機械　　　　　　","情報・通信機器","輸送機械  　　　　　","その他の製造工業製品","建設　　　　　　　　","電力・ガス・熱供給","水道","廃棄物処理","商業　　　　　　　　","金融・保険　　　　　","不動産　　　　　　　","運輸・郵便　　　","情報通信","公務　　　　　　　　","教育・研究　　　　　","医療・福祉","その他の非営利団体サービス","対事業所サービス","対個人サービス","事務用品","分類不明"]
[null,"01","農林水産業　　　　　",{"$f":"投入係数表!D9*移輸入係数!$E9","v":5.2845981572937645E-3},{"$f":"投入係数表!E9*移輸入係数!$E9","v":0},{"$f":"投入係数表!F9*移輸入係数!$E9","v":2.0401146030192104E-2},{"$f":"投入係数表!G9*移輸入係数!$E9","v":3.0573516829822953E-4},{"$f":"投入係数表!H9*移輸入係数!$E9","v":3.0890221531655452E-4},{"$f":"投入係数表!I9*移輸入係数!$E9","v":5.2935810455113685E-5},{"$f":"投入係数表!J9*移輸入係数!$E9","v":0},{"$f":"投入係数表!K9*移輸入係数!$E9","v":3.5240118068290458E-4},{"$f":"投入係数表!L9*移輸入係数!$E9","v":1.9962962076059897E-5},{"$f":"投入係数表!M9*移輸入係数!$E9","v":0},{"$f":"投入係数表!N9*移輸入係数!$E9","v":0},{"$f":"投入係数表!O9*移輸入係数!$E9","v":0},{"$f":"投入係数表!P9*移輸入係数!$E9","v":0},{"$f":"投入係数表!Q9*移輸入係数!$E9","v":0},{"$f":"投入係数表!R9*移輸入係数!$E9","v":0},{"$f":"投入係数表!S9*移輸入係数!$E9","v":0},{"$f":"投入係数表!T9*移輸入係数!$E9","v":0},{"$f":"投入係数表!U9*移輸入係数!$E9","v":0},{"$f":"投入係数表!V9*移輸入係数!$E9","v":0},{"$f":"投入係数表!W9*移輸入係数!$E9","v":1.3059550910123846E-3},{"$f":"投入係数表!X9*移輸入係数!$E9","v":4.6042464134759201E-5},{"$f":"投入係数表!Y9*移輸入係数!$E9","v":0},{"$f":"投入係数表!Z9*移輸入係数!$E9","v":0},{"$f":"投入係数表!AA9*移輸入係数!$E9","v":0},{"$f":"投入係数表!AB9*移輸入係数!$E9","v":4.7849597726485419E-6},{"$f":"投入係数表!AC9*移輸入係数!$E9","v":0},{"$f":"投入係数表!AD9*移輸入係数!$E9","v":7.6696139395263136E-8},{"$f":"投入係数表!AE9*移輸入係数!$E9","v":7.4600977166316957E-6},{"$f":"投入係数表!AF9*移輸入係数!$E9","v":0},{"$f":"投入係数表!AG9*移輸入係数!$E9","v":2.4708036217757951E-7},{"$f":"投入係数表!AH9*移輸入係数!$E9","v":5.2540634076813701E-5},{"$f":"投入係数表!AI9*移輸入係数!$E9","v":1.0401668510323418E-4},{"$f":"投入係数表!AJ9*移輸入係数!$E9","v":8.603790425315856E-5},{"$f":"投入係数表!AK9*移輸入係数!$E9","v":3.7408900494702442E-7},{"$f":"投入係数表!AL9*移輸入係数!$E9","v":1.2374150685720731E-3},{"$f":"投入係数表!AM9*移輸入係数!$E9","v":0},{"$f":"投入係数表!AN9*移輸入係数!$E9","v":0}]
[null,"06","鉱業",{"$f":"投入係数表!D10*移輸入係数!$E10","v":0},{"$f":"投入係数表!E10*移輸入係数!$E10","v":0},{"$f":"投入係数表!F10*移輸入係数!$E10","v":2.7813038520693921E-8},{"$f":"投入係数表!G10*移輸入係数!$E10","v":0},{"$f":"投入係数表!H10*移輸入係数!$E10","v":0},{"$f":"投入係数表!I10*移輸入係数!$E10","v":1.522148812885095E-5},{"$f":"投入係数表!J10*移輸入係数!$E10","v":1.1272597758864779E-3},{"$f":"投入係数表!K10*移輸入係数!$E10","v":0},{"$f":"投入係数表!L10*移輸入係数!$E10","v":1.4043442444382448E-4},{"$f":"投入係数表!M10*移輸入係数!$E10","v":1.2190941795933308E-4},{"$f":"投入係数表!N10*移輸入係数!$E10","v":9.8236501848756726E-7},{"$f":"投入係数表!O10*移輸入係数!$E10","v":3.74336412356793E-7},{"$f":"投入係数表!P10*移輸入係数!$E10","v":0},{"$f":"投入係数表!Q10*移輸入係数!$E10","v":0},{"$f":"投入係数表!R10*移輸入係数!$E10","v":2.3447211243451355E-7},{"$f":"投入係数表!S10*移輸入係数!$E10","v":0},{"$f":"投入係数表!T10*移輸入係数!$E10","v":0},{"$f":"投入係数表!U10*移輸入係数!$E10","v":0},{"$f":"投入係数表!V10*移輸入係数!$E10","v":0},{"$f":"投入係数表!W10*移輸入係数!$E10","v":2.8608631741146548E-6},{"$f":"投入係数表!X10*移輸入係数!$E10","v":1.1970762923825761E-5},{"$f":"投入係数表!Y10*移輸入係数!$E10","v":6.2103945663414379E-4},{"$f":"投入係数表!Z10*移輸入係数!$E10","v":0},{"$f":"投入係数表!AA10*移輸入係数!$E10","v":0},{"$f":"投入係数表!AB10*移輸入係数!$E10","v":0},{"$f":"投入係数表!AC10*移輸入係数!$E10","v":0},{"$f":"投入係数表!AD10*移輸入係数!$E10","v":0},{"$f":"投入係数表!AE10*移輸入係数!$E10","v":4.0311023569310152E-9},{"$f":"投入係数表!AF10*移輸入係数!$E10","v":0},{"$f":"投入係数表!AG10*移輸入係数!$E10","v":0},{"$f":"投入係数表!AH10*移輸入係数!$E10","v":3.8023129241833902E-8},{"$f":"投入係数表!AI10*移輸入係数!$E10","v":0},{"$f":"投入係数表!AJ10*移輸入係数!$E10","v":0},{"$f":"投入係数表!AK10*移輸入係数!$E10","v":0},{"$f":"投入係数表!AL10*移輸入係数!$E10","v":-1.2335081064871079E-8},{"$f":"投入係数表!AM10*移輸入係数!$E10","v":0},{"$f":"投入係数表!AN10*移輸入係数!$E10","v":1.2967779548306599E-7}]
[null,"11","飲食料品　　　　　　　",{"$f":"投入係数表!D11*移輸入係数!$E11","v":1.2419014087271684E-2},{"$f":"投入係数表!E11*移輸入係数!$E11","v":0},{"$f":"投入係数表!F11*移輸入係数!$E11","v":5.3463079629162469E-2},{"$f":"投入係数表!G11*移輸入係数!$E11","v":2.2315960076572312E-4},{"$f":"投入係数表!H11*移輸入係数!$E11","v":2.7797827149237975E-4},{"$f":"投入係数表!I11*移輸入係数!$E11","v":1.639374418043237E-3},{"$f":"投入係数表!J11*移輸入係数!$E11","v":0},{"$f":"投入係数表!K11*移輸入係数!$E11","v":0},{"$f":"投入係数表!L11*移輸入係数!$E11","v":2.5135310762057749E-4},{"$f":"投入係数表!M11*移輸入係数!$E11","v":0},{"$f":"投入係数表!N11*移輸入係数!$E11","v":0},{"$f":"投入係数表!O11*移輸入係数!$E11","v":0},{"$f":"投入係数表!P11*移輸入係数!$E11","v":0},{"$f":"投入係数表!Q11*移輸入係数!$E11","v":0},{"$f":"投入係数表!R11*移輸入係数!$E11","v":0},{"$f":"投入係数表!S11*移輸入係数!$E11","v":0},{"$f":"投入係数表!T11*移輸入係数!$E11","v":0},{"$f":"投入係数表!U11*移輸入係数!$E11","v":0},{"$f":"投入係数表!V11*移輸入係数!$E11","v":0},{"$f":"投入係数表!W11*移輸入係数!$E11","v":1.7276375169777319E-4},{"$f":"投入係数表!X11*移輸入係数!$E11","v":7.7554435089695842E-7},{"$f":"投入係数表!Y11*移輸入係数!$E11","v":0},{"$f":"投入係数表!Z11*移輸入係数!$E11","v":0},{"$f":"投入係数表!AA11*移輸入係数!$E11","v":0},{"$f":"投入係数表!AB11*移輸入係数!$E11","v":2.8328841827976703E-5},{"$f":"投入係数表!AC11*移輸入係数!$E11","v":0},{"$f":"投入係数表!AD11*移輸入係数!$E11","v":0},{"$f":"投入係数表!AE11*移輸入係数!$E11","v":1.7773167920521294E-4},{"$f":"投入係数表!AF11*移輸入係数!$E11","v":0},{"$f":"投入係数表!AG11*移輸入係数!$E11","v":5.5186116526853511E-5},{"$f":"投入係数表!AH11*移輸入係数!$E11","v":2.9584293839778335E-4},{"$f":"投入係数表!AI11*移輸入係数!$E11","v":1.9720251871557805E-3},{"$f":"投入係数表!AJ11*移輸入係数!$E11","v":8.0384066126670437E-4},{"$f":"投入係数表!AK11*移輸入係数!$E11","v":1.228733320303754E-6},{"$f":"投入係数表!AL11*移輸入係数!$E11","v":3.5103966050206457E-2},{"$f":"投入係数表!AM11*移輸入係数!$E11","v":0},{"$f":"投入係数表!AN11*移輸入係数!$E11","v":3.2231039333068028E-4}]
[null,"15","繊維製品　",{"$f":"投入係数表!D12*移輸入係数!$E12","v":7.1368978331663618E-6},{"$f":"投入係数表!E12*移輸入係数!$E12","v":1.2316205268773933E-5},{"$f":"投入係数表!F12*移輸入係数!$E12","v":2.6841985910502673E-6},{"$f":"投入係数表!G12*移輸入係数!$E12","v":6.2090374493968124E-4},{"$f":"投入係数表!H12*移輸入係数!$E12","v":1.2980599718490295E-5},{"$f":"投入係数表!I12*移輸入係数!$E12","v":1.2887705890565854E-6},{"$f":"投入係数表!J12*移輸入係数!$E12","v":4.0646309717006671E-7},{"$f":"投入係数表!K12*移輸入係数!$E12","v":6.0056697217969772E-6},{"$f":"投入係数表!L12*移輸入係数!$E12","v":6.9105473973235065E-6},{"$f":"投入係数表!M12*移輸入係数!$E12","v":1.2075372244699426E-6},{"$f":"投入係数表!N12*移輸入係数!$E12","v":1.4200352096439116E-6},{"$f":"投入係数表!O12*移輸入係数!$E12","v":3.6156214266683867E-6},{"$f":"投入係数表!P12*移輸入係数!$E12","v":2.1932968286857686E-6},{"$f":"投入係数表!Q12*移輸入係数!$E12","v":1.9131564427904989E-6},{"$f":"投入係数表!R12*移輸入係数!$E12","v":3.3277331282266125E-6},{"$f":"投入係数表!S12*移輸入係数!$E12","v":1.0405909828368698E-5},{"$f":"投入係数表!T12*移輸入係数!$E12","v":4.0054794015747306E-6},{"$f":"投入係数表!U12*移輸入係数!$E12","v":3.0767157536153343E-6},{"$f":"投入係数表!V12*移輸入係数!$E12","v":0},{"$f":"投入係数表!W12*移輸入係数!$E12","v":4.9537002407002342E-6},{"$f":"投入係数表!X12*移輸入係数!$E12","v":8.2012273854294381E-6},{"$f":"投入係数表!Y12*移輸入係数!$E12","v":6.1225498334620949E-7},{"$f":"投入係数表!Z12*移輸入係数!$E12","v":1.5475328393672356E-6},{"$f":"投入係数表!AA12*移輸入係数!$E12","v":5.6211031542691909E-6},{"$f":"投入係数表!AB12*移輸入係数!$E12","v":8.3395831978173627E-6},{"$f":"投入係数表!AC12*移輸入係数!$E12","v":2.7751272002387967E-6},{"$f":"投入係数表!AD12*移輸入係数!$E12","v":6.862097699486465E-8},{"$f":"投入係数表!AE12*移輸入係数!$E12","v":8.0286395596193468E-6},{"$f":"投入係数表!AF12*移輸入係数!$E12","v":1.9365843856777875E-6},{"$f":"投入係数表!AG12*移輸入係数!$E12","v":8.8847410482322095E-6},{"$f":"投入係数表!AH12*移輸入係数!$E12","v":1.6788839283309428E-6},{"$f":"投入係数表!AI12*移輸入係数!$E12","v":7.616327927039429E-6},{"$f":"投入係数表!AJ12*移輸入係数!$E12","v":3.3398369462277044E-5},{"$f":"投入係数表!AK12*移輸入係数!$E12","v":4.56629188354522E-6},{"$f":"投入係数表!AL12*移輸入係数!$E12","v":7.1063417955743503E-6},{"$f":"投入係数表!AM12*移輸入係数!$E12","v":4.7042057922111234E-5},{"$f":"投入係数表!AN12*移輸入係数!$E12","v":1.6359513728995743E-6}]
[null,"16","パルプ・紙・木製品",{"$f":"投入係数表!D13*移輸入係数!$E13","v":5.8355866768677173E-4},{"$f":"投入係数表!E13*移輸入係数!$E13","v":3.2287168304423869E-5},{"$f":"投入係数表!F13*移輸入係数!$E13","v":1.0399796283381033E-4},{"$f":"投入係数表!G13*移輸入係数!$E13","v":9.9597705617036333E-5},{"$f":"投入係数表!H13*移輸入係数!$E13","v":4.0362045827386098E-3},{"$f":"投入係数表!I13*移輸入係数!$E13","v":9.2909762396896429E-5},{"$f":"投入係数表!J13*移輸入係数!$E13","v":1.6393089294176692E-6},{"$f":"投入係数表!K13*移輸入係数!$E13","v":1.1959368168645082E-4},{"$f":"投入係数表!L13*移輸入係数!$E13","v":1.3865809127319438E-4},{"$f":"投入係数表!M13*移輸入係数!$E13","v":7.6006658827903838E-6},{"$f":"投入係数表!N13*移輸入係数!$E13","v":5.4147629594348873E-5},{"$f":"投入係数表!O13*移輸入係数!$E13","v":5.6096776803004834E-5},{"$f":"投入係数表!P13*移輸入係数!$E13","v":8.6246545470721293E-6},{"$f":"投入係数表!Q13*移輸入係数!$E13","v":1.0416550785375958E-5},{"$f":"投入係数表!R13*移輸入係数!$E13","v":1.8416734227002276E-4},{"$f":"投入係数表!S13*移輸入係数!$E13","v":6.5356637497748806E-5},{"$f":"投入係数表!T13*移輸入係数!$E13","v":1.9456699621846834E-4},{"$f":"投入係数表!U13*移輸入係数!$E13","v":9.4099475766285494E-5},{"$f":"投入係数表!V13*移輸入係数!$E13","v":2.8964638878423834E-5},{"$f":"投入係数表!W13*移輸入係数!$E13","v":1.1478891051876663E-3},{"$f":"投入係数表!X13*移輸入係数!$E13","v":8.4050476867547391E-4},{"$f":"投入係数表!Y13*移輸入係数!$E13","v":1.5124398237233523E-5},{"$f":"投入係数表!Z13*移輸入係数!$E13","v":2.6579604587582551E-5},{"$f":"投入係数表!AA13*移輸入係数!$E13","v":6.670195648346647E-5},{"$f":"投入係数表!AB13*移輸入係数!$E13","v":1.0050359498503724E-4},{"$f":"投入係数表!AC13*移輸入係数!$E13","v":4.7207999349046485E-5},{"$f":"投入係数表!AD13*移輸入係数!$E13","v":6.3176078705487556E-6},{"$f":"投入係数表!AE13*移輸入係数!$E13","v":7.2740435616851888E-5},{"$f":"投入係数表!AF13*移輸入係数!$E13","v":1.2643478371358717E-4},{"$f":"投入係数表!AG13*移輸入係数!$E13","v":1.8489712985039253E-5},{"$f":"投入係数表!AH13*移輸入係数!$E13","v":8.3636400767158646E-5},{"$f":"投入係数表!AI13*移輸入係数!$E13","v":7.6445469967655942E-5},{"$f":"投入係数表!AJ13*移輸入係数!$E13","v":1.9272659902266453E-4},{"$f":"投入係数表!AK13*移輸入係数!$E13","v":4.2435122886106716E-5},{"$f":"投入係数表!AL13*移輸入係数!$E13","v":8.311845004304283E-5},{"$f":"投入係数表!AM13*移輸入係数!$E13","v":7.8129733317972971E-3},{"$f":"投入係数表!AN13*移輸入係数!$E13","v":3.43987706345034E-5}]
[null,"20","化学製品  　　　  　",{"$f":"投入係数表!D14*移輸入係数!$E14","v":2.3358500790534227E-3},{"$f":"投入係数表!E14*移輸入係数!$E14","v":5.0405103106583116E-4},{"$f":"投入係数表!F14*移輸入係数!$E14","v":1.7284649166542635E-4},{"$f":"投入係数表!G14*移輸入係数!$E14","v":1.9076547496768644E-3},{"$f":"投入係数表!H14*移輸入係数!$E14","v":8.6587226530297854E-4},{"$f":"投入係数表!I14*移輸入係数!$E14","v":1.1683187663784896E-2},{"$f":"投入係数表!J14*移輸入係数!$E14","v":5.8334857305440994E-5},{"$f":"投入係数表!K14*移輸入係数!$E14","v":5.7665428132641439E-3},{"$f":"投入係数表!L14*移輸入係数!$E14","v":1.0161042496595752E-3},{"$f":"投入係数表!M14*移輸入係数!$E14","v":1.3151674270089596E-4},{"$f":"投入係数表!N14*移輸入係数!$E14","v":1.3674384008246159E-4},{"$f":"投入係数表!O14*移輸入係数!$E14","v":3.384001282732626E-4},{"$f":"投入係数表!P14*移輸入係数!$E14","v":7.9202216807282093E-5},{"$f":"投入係数表!Q14*移輸入係数!$E14","v":1.0132621803244046E-4},{"$f":"投入係数表!R14*移輸入係数!$E14","v":4.8512220170466235E-4},{"$f":"投入係数表!S14*移輸入係数!$E14","v":2.7660712202482872E-4},{"$f":"投入係数表!T14*移輸入係数!$E14","v":3.6302306807622898E-4},{"$f":"投入係数表!U14*移輸入係数!$E14","v":2.6541364869240691E-4},{"$f":"投入係数表!V14*移輸入係数!$E14","v":3.0145424860353581E-4},{"$f":"投入係数表!W14*移輸入係数!$E14","v":6.5484042791214166E-4},{"$f":"投入係数表!X14*移輸入係数!$E14","v":1.4766872404768443E-4},{"$f":"投入係数表!Y14*移輸入係数!$E14","v":6.9161989716764257E-5},{"$f":"投入係数表!Z14*移輸入係数!$E14","v":2.4729838333555293E-4},{"$f":"投入係数表!AA14*移輸入係数!$E14","v":4.551759022175087E-4},{"$f":"投入係数表!AB14*移輸入係数!$E14","v":2.7265819296553006E-7},{"$f":"投入係数表!AC14*移輸入係数!$E14","v":5.2357739423844899E-7},{"$f":"投入係数表!AD14*移輸入係数!$E14","v":5.1132806061486981E-7},{"$f":"投入係数表!AE14*移輸入係数!$E14","v":1.0788880803976341E-5},{"$f":"投入係数表!AF14*移輸入係数!$E14","v":2.1009314643291888E-5},{"$f":"投入係数表!AG14*移輸入係数!$E14","v":2.0527497804994466E-5},{"$f":"投入係数表!AH14*移輸入係数!$E14","v":1.0753939297527755E-4},{"$f":"投入係数表!AI14*移輸入係数!$E14","v":3.1231271523487402E-3},{"$f":"投入係数表!AJ14*移輸入係数!$E14","v":4.3143239945684934E-5},{"$f":"投入係数表!AK14*移輸入係数!$E14","v":8.4317281091137697E-5},{"$f":"投入係数表!AL14*移輸入係数!$E14","v":1.9019966119694149E-4},{"$f":"投入係数表!AM14*移輸入係数!$E14","v":5.1965594431764258E-4},{"$f":"投入係数表!AN14*移輸入係数!$E14","v":3.2984041926712793E-4}]
[null,"21","石油・石炭製品　　　",{"$f":"投入係数表!D15*移輸入係数!$E15","v":6.1028925849471486E-4},{"$f":"投入係数表!E15*移輸入係数!$E15","v":3.7428445329248817E-3},{"$f":"投入係数表!F15*移輸入係数!$E15","v":5.213342833472012E-4},{"$f":"投入係数表!G15*移輸入係数!$E15","v":0},{"$f":"投入係数表!H15*移輸入係数!$E15","v":1.9922986341236229E-4},{"$f":"投入係数表!I15*移輸入係数!$E15","v":1.2016599259861973E-3},{"$f":"投入係数表!J15*移輸入係数!$E15","v":5.5369166228671123E-3},{"$f":"投入係数表!K15*移輸入係数!$E15","v":1.43582926014565E-4},{"$f":"投入係数表!L15*移輸入係数!$E15","v":2.1698452999899739E-3},{"$f":"投入係数表!M15*移輸入係数!$E15","v":3.9323488621243819E-3},{"$f":"投入係数表!N15*移輸入係数!$E15","v":2.6302718485771609E-4},{"$f":"投入係数表!O15*移輸入係数!$E15","v":3.5164800290317448E-4},{"$f":"投入係数表!P15*移輸入係数!$E15","v":3.0296998087187709E-5},{"$f":"投入係数表!Q15*移輸入係数!$E15","v":9.2495524159655839E-5},{"$f":"投入係数表!R15*移輸入係数!$E15","v":2.4260613509318073E-4},{"$f":"投入係数表!S15*移輸入係数!$E15","v":1.3475767935947416E-4},{"$f":"投入係数表!T15*移輸入係数!$E15","v":1.3018704260835893E-4},{"$f":"投入係数表!U15*移輸入係数!$E15","v":0},{"$f":"投入係数表!V15*移輸入係数!$E15","v":1.0174802989571273E-4},{"$f":"投入係数表!W15*移輸入係数!$E15","v":2.7798751145467955E-4},{"$f":"投入係数表!X15*移輸入係数!$E15","v":6.070820998586037E-4},{"$f":"投入係数表!Y15*移輸入係数!$E15","v":5.9250271551394432E-3},{"$f":"投入係数表!Z15*移輸入係数!$E15","v":1.1996790142459769E-3},{"$f":"投入係数表!AA15*移輸入係数!$E15","v":1.2602904444205935E-3},{"$f":"投入係数表!AB15*移輸入係数!$E15","v":1.6231556907818524E-4},{"$f":"投入係数表!AC15*移輸入係数!$E15","v":3.2445775889761753E-5},{"$f":"投入係数表!AD15*移輸入係数!$E15","v":5.2698309088535253E-5},{"$f":"投入係数表!AE15*移輸入係数!$E15","v":4.3110004047622087E-3},{"$f":"投入係数表!AF15*移輸入係数!$E15","v":6.8368178243103511E-5},{"$f":"投入係数表!AG15*移輸入係数!$E15","v":4.9186092477395186E-4},{"$f":"投入係数表!AH15*移輸入係数!$E15","v":6.2464340974781036E-4},{"$f":"投入係数表!AI15*移輸入係数!$E15","v":2.899618064856989E-4},{"$f":"投入係数表!AJ15*移輸入係数!$E15","v":3.0943988473438406E-4},{"$f":"投入係数表!AK15*移輸入係数!$E15","v":2.0406212254001847E-4},{"$f":"投入係数表!AL15*移輸入係数!$E15","v":5.4052402384745398E-4},{"$f":"投入係数表!AM15*移輸入係数!$E15","v":0},{"$f":"投入係数表!AN15*移輸入係数!$E15","v":2.6129092426458046E-3}]
[null,"22","プラスチック・ゴム",{"$f":"投入係数表!D16*移輸入係数!$E16","v":4.0350569023440568E-4},{"$f":"投入係数表!E16*移輸入係数!$E16","v":1.3926664005053878E-4},{"$f":"投入係数表!F16*移輸入係数!$E16","v":4.0055813910746911E-4},{"$f":"投入係数表!G16*移輸入係数!$E16","v":9.0011884868822808E-4},{"$f":"投入係数表!H16*移輸入係数!$E16","v":1.0125056480786191E-3},{"$f":"投入係数表!I16*移輸入係数!$E16","v":4.4325884896648612E-4},{"$f":"投入係数表!J16*移輸入係数!$E16","v":2.9462303782248442E-6},{"$f":"投入係数表!K16*移輸入係数!$E16","v":1.0896019591430668E-2},{"$f":"投入係数表!L16*移輸入係数!$E16","v":1.7231237708872744E-4},{"$f":"投入係数表!M16*移輸入係数!$E16","v":3.3881250548340101E-5},{"$f":"投入係数表!N16*移輸入係数!$E16","v":6.5688466121864575E-5},{"$f":"投入係数表!O16*移輸入係数!$E16","v":1.613109280103506E-4},{"$f":"投入係数表!P16*移輸入係数!$E16","v":5.3735301754659944E-4},{"$f":"投入係数表!Q16*移輸入係数!$E16","v":1.6113956754536427E-3},{"$f":"投入係数表!R16*移輸入係数!$E16","v":3.1078479897189214E-3},{"$f":"投入係数表!S16*移輸入係数!$E16","v":8.4163729188805919E-4},{"$f":"投入係数表!T16*移輸入係数!$E16","v":1.8028124307029568E-3},{"$f":"投入係数表!U16*移輸入係数!$E16","v":9.4706792781664329E-4},{"$f":"投入係数表!V16*移輸入係数!$E16","v":1.2215898660768809E-3},{"$f":"投入係数表!W16*移輸入係数!$E16","v":1.7354469979778467E-3},{"$f":"投入係数表!X16*移輸入係数!$E16","v":5.8667483764550474E-4},{"$f":"投入係数表!Y16*移輸入係数!$E16","v":0},{"$f":"投入係数表!Z16*移輸入係数!$E16","v":1.1917335207236605E-3},{"$f":"投入係数表!AA16*移輸入係数!$E16","v":5.0720512285679336E-4},{"$f":"投入係数表!AB16*移輸入係数!$E16","v":1.8178517529771385E-4},{"$f":"投入係数表!AC16*移輸入係数!$E16","v":9.2795639991017845E-5},{"$f":"投入係数表!AD16*移輸入係数!$E16","v":2.3339725358599219E-5},{"$f":"投入係数表!AE16*移輸入係数!$E16","v":9.9553965376433023E-5},{"$f":"投入係数表!AF16*移輸入係数!$E16","v":1.5145029464607351E-4},{"$f":"投入係数表!AG16*移輸入係数!$E16","v":5.5350998565673112E-5},{"$f":"投入係数表!AH16*移輸入係数!$E16","v":1.307042741027567E-4},{"$f":"投入係数表!AI16*移輸入係数!$E16","v":8.9062983760486561E-5},{"$f":"投入係数表!AJ16*移輸入係数!$E16","v":1.8115167094715951E-4},{"$f":"投入係数表!AK16*移輸入係数!$E16","v":3.5608979678128464E-4},{"$f":"投入係数表!AL16*移輸入係数!$E16","v":9.6778669797124584E-5},{"$f":"投入係数表!AM16*移輸入係数!$E16","v":2.5474402547895469E-3},{"$f":"投入係数表!AN16*移輸入係数!$E16","v":3.6355030506018022E-4}]
[null,"25","窯業・土石製品　　",{"$f":"投入係数表!D17*移輸入係数!$E17","v":1.6001708601329093E-3},{"$f":"投入係数表!E17*移輸入係数!$E17","v":0},{"$f":"投入係数表!F17*移輸入係数!$E17","v":1.9733100882097688E-4},{"$f":"投入係数表!G17*移輸入係数!$E17","v":3.7859132155191347E-4},{"$f":"投入係数表!H17*移輸入係数!$E17","v":3.7412922219204163E-3},{"$f":"投入係数表!I17*移輸入係数!$E17","v":3.2306943945101555E-3},{"$f":"投入係数表!J17*移輸入係数!$E17","v":7.3607818450169998E-4},{"$f":"投入係数表!K17*移輸入係数!$E17","v":1.8932081395791251E-3},{"$f":"投入係数表!L17*移輸入係数!$E17","v":3.767343369910009E-2},{"$f":"投入係数表!M17*移輸入係数!$E17","v":1.6085112447195799E-3},{"$f":"投入係数表!N17*移輸入係数!$E17","v":5.8531840960916975E-4},{"$f":"投入係数表!O17*移輸入係数!$E17","v":3.0238980290166854E-3},{"$f":"投入係数表!P17*移輸入係数!$E17","v":4.1307943509054663E-3},{"$f":"投入係数表!Q17*移輸入係数!$E17","v":1.4936282710863063E-3},{"$f":"投入係数表!R17*移輸入係数!$E17","v":2.7081185963699771E-3},{"$f":"投入係数表!S17*移輸入係数!$E17","v":1.1795213958259828E-2},{"$f":"投入係数表!T17*移輸入係数!$E17","v":3.533592307632275E-3},{"$f":"投入係数表!U17*移輸入係数!$E17","v":8.9422855343382845E-4},{"$f":"投入係数表!V17*移輸入係数!$E17","v":7.70703761730681E-4},{"$f":"投入係数表!W17*移輸入係数!$E17","v":1.5580287880717211E-3},{"$f":"投入係数表!X17*移輸入係数!$E17","v":2.1879019266013981E-2},{"$f":"投入係数表!Y17*移輸入係数!$E17","v":3.5589630757861958E-5},{"$f":"投入係数表!Z17*移輸入係数!$E17","v":1.9542205632271182E-3},{"$f":"投入係数表!AA17*移輸入係数!$E17","v":2.4506087065914148E-4},{"$f":"投入係数表!AB17*移輸入係数!$E17","v":8.0319476415537406E-5},{"$f":"投入係数表!AC17*移輸入係数!$E17","v":4.5511995109189425E-6},{"$f":"投入係数表!AD17*移輸入係数!$E17","v":1.9374429701279212E-5},{"$f":"投入係数表!AE17*移輸入係数!$E17","v":2.3279321244919234E-5},{"$f":"投入係数表!AF17*移輸入係数!$E17","v":1.0755217218948173E-6},{"$f":"投入係数表!AG17*移輸入係数!$E17","v":8.6280488258829086E-5},{"$f":"投入係数表!AH17*移輸入係数!$E17","v":8.5915340873662222E-4},{"$f":"投入係数表!AI17*移輸入係数!$E17","v":3.1225134144593732E-4},{"$f":"投入係数表!AJ17*移輸入係数!$E17","v":7.1027057079209899E-5},{"$f":"投入係数表!AK17*移輸入係数!$E17","v":3.7799874598721975E-4},{"$f":"投入係数表!AL17*移輸入係数!$E17","v":5.0881564903798051E-4},{"$f":"投入係数表!AM17*移輸入係数!$E17","v":3.686378991147338E-3},{"$f":"投入係数表!AN17*移輸入係数!$E17","v":3.387789495729016E-3}]
[null,"26","鉄鋼　　　　　　　　",{"$f":"投入係数表!D18*移輸入係数!$E18","v":0},{"$f":"投入係数表!E18*移輸入係数!$E18","v":0},{"$f":"投入係数表!F18*移輸入係数!$E18","v":0},{"$f":"投入係数表!G18*移輸入係数!$E18","v":0},{"$f":"投入係数表!H18*移輸入係数!$E18","v":1.9567432484946135E-2},{"$f":"投入係数表!I18*移輸入係数!$E18","v":1.0996642029593007E-4},{"$f":"投入係数表!J18*移輸入係数!$E18","v":0},{"$f":"投入係数表!K18*移輸入係数!$E18","v":6.3069958671625498E-4},{"$f":"投入係数表!L18*移輸入係数!$E18","v":6.0961106006068629E-3},{"$f":"投入係数表!M18*移輸入係数!$E18","v":0.435123590434147},{"$f":"投入係数表!N18*移輸入係数!$E18","v":0},{"$f":"投入係数表!O18*移輸入係数!$E18","v":0.21630867485758559},{"$f":"投入係数表!P18*移輸入係数!$E18","v":6.1234359135448967E-2},{"$f":"投入係数表!Q18*移輸入係数!$E18","v":6.6040642588216639E-2},{"$f":"投入係数表!R18*移輸入係数!$E18","v":1.1736359173593683E-2},{"$f":"投入係数表!S18*移輸入係数!$E18","v":2.0717689256857844E-3},{"$f":"投入係数表!T18*移輸入係数!$E18","v":2.8548178069066149E-2},{"$f":"投入係数表!U18*移輸入係数!$E18","v":4.5504456907581124E-3},{"$f":"投入係数表!V18*移輸入係数!$E18","v":4.474951008339733E-2},{"$f":"投入係数表!W18*移輸入係数!$E18","v":1.1472808780460051E-3},{"$f":"投入係数表!X18*移輸入係数!$E18","v":7.6969681029850443E-3},{"$f":"投入係数表!Y18*移輸入係数!$E18","v":0},{"$f":"投入係数表!Z18*移輸入係数!$E18","v":2.3677164461187127E-4},{"$f":"投入係数表!AA18*移輸入係数!$E18","v":0},{"$f":"投入係数表!AB18*移輸入係数!$E18","v":0},{"$f":"投入係数表!AC18*移輸入係数!$E18","v":0},{"$f":"投入係数表!AD18*移輸入係数!$E18","v":0},{"$f":"投入係数表!AE18*移輸入係数!$E18","v":6.2918892705059529E-5},{"$f":"投入係数表!AF18*移輸入係数!$E18","v":0},{"$f":"投入係数表!AG18*移輸入係数!$E18","v":3.5929137391767143E-6},{"$f":"投入係数表!AH18*移輸入係数!$E18","v":0},{"$f":"投入係数表!AI18*移輸入係数!$E18","v":0},{"$f":"投入係数表!AJ18*移輸入係数!$E18","v":0},{"$f":"投入係数表!AK18*移輸入係数!$E18","v":1.3055537206147803E-4},{"$f":"投入係数表!AL18*移輸入係数!$E18","v":2.2129927978017648E-5},{"$f":"投入係数表!AM18*移輸入係数!$E18","v":0},{"$f":"投入係数表!AN18*移輸入係数!$E18","v":6.6305334671039606E-3}]
[null,"27","非鉄金属　　　　　　",{"$f":"投入係数表!D19*移輸入係数!$E19","v":0},{"$f":"投入係数表!E19*移輸入係数!$E19","v":0},{"$f":"投入係数表!F19*移輸入係数!$E19","v":2.7165725408777861E-5},{"$f":"投入係数表!G19*移輸入係数!$E19","v":0},{"$f":"投入係数表!H19*移輸入係数!$E19","v":2.9267257043167358E-4},{"$f":"投入係数表!I19*移輸入係数!$E19","v":3.3796468307977612E-4},{"$f":"投入係数表!J19*移輸入係数!$E19","v":0},{"$f":"投入係数表!K19*移輸入係数!$E19","v":1.1537839577878517E-4},{"$f":"投入係数表!L19*移輸入係数!$E19","v":4.3546107985615744E-4},{"$f":"投入係数表!M19*移輸入係数!$E19","v":5.9698910088272765E-4},{"$f":"投入係数表!N19*移輸入係数!$E19","v":3.5339712266176E-2},{"$f":"投入係数表!O19*移輸入係数!$E19","v":2.5855381259917054E-3},{"$f":"投入係数表!P19*移輸入係数!$E19","v":1.5775978372498233E-3},{"$f":"投入係数表!Q19*移輸入係数!$E19","v":8.527103237548077E-4},{"$f":"投入係数表!R19*移輸入係数!$E19","v":3.0381434969417903E-3},{"$f":"投入係数表!S19*移輸入係数!$E19","v":1.3210980483421007E-3},{"$f":"投入係数表!T19*移輸入係数!$E19","v":4.4133995713232657E-3},{"$f":"投入係数表!U19*移輸入係数!$E19","v":2.0106764025944902E-3},{"$f":"投入係数表!V19*移輸入係数!$E19","v":1.0669847627068139E-3},{"$f":"投入係数表!W19*移輸入係数!$E19","v":6.6940773791683626E-4},{"$f":"投入係数表!X19*移輸入係数!$E19","v":5.4306234347719024E-4},{"$f":"投入係数表!Y19*移輸入係数!$E19","v":5.8811923614170827E-6},{"$f":"投入係数表!Z19*移輸入係数!$E19","v":9.3292411584845884E-6},{"$f":"投入係数表!AA19*移輸入係数!$E19","v":1.063540488123605E-6},{"$f":"投入係数表!AB19*移輸入係数!$E19","v":5.6572618912284611E-7},{"$f":"投入係数表!AC19*移輸入係数!$E19","v":0},{"$f":"投入係数表!AD19*移輸入係数!$E19","v":0},{"$f":"投入係数表!AE19*移輸入係数!$E19","v":1.5876143445361729E-6},{"$f":"投入係数表!AF19*移輸入係数!$E19","v":7.7016394952184518E-7},{"$f":"投入係数表!AG19*移輸入係数!$E19","v":3.4178428003920318E-6},{"$f":"投入係数表!AH19*移輸入係数!$E19","v":1.4975076310006331E-6},{"$f":"投入係数表!AI19*移輸入係数!$E19","v":6.4364340417153405E-5},{"$f":"投入係数表!AJ19*移輸入係数!$E19","v":6.1033611155707617E-6},{"$f":"投入係数表!AK19*移輸入係数!$E19","v":3.2740201867891653E-5},{"$f":"投入係数表!AL19*移輸入係数!$E19","v":1.5707738982577564E-5},{"$f":"投入係数表!AM19*移輸入係数!$E19","v":4.4615614555613429E-5},{"$f":"投入係数表!AN19*移輸入係数!$E19","v":3.6091207590420899E-4}]
[null,"28","金属製品　　　　　　",{"$f":"投入係数表!D20*移輸入係数!$E20","v":7.4661787043176558E-5},{"$f":"投入係数表!E20*移輸入係数!$E20","v":2.5511207173993904E-3},{"$f":"投入係数表!F20*移輸入係数!$E20","v":1.9546172261154779E-4},{"$f":"投入係数表!G20*移輸入係数!$E20","v":1.362694168513285E-4},{"$f":"投入係数表!H20*移輸入係数!$E20","v":2.6140530234142062E-3},{"$f":"投入係数表!I20*移輸入係数!$E20","v":1.1931850084239116E-3},{"$f":"投入係数表!J20*移輸入係数!$E20","v":1.3443380546383131E-4},{"$f":"投入係数表!K20*移輸入係数!$E20","v":4.2771084667473502E-4},{"$f":"投入係数表!L20*移輸入係数!$E20","v":9.3425897866617868E-4},{"$f":"投入係数表!M20*移輸入係数!$E20","v":1.2654246225222453E-5},{"$f":"投入係数表!N20*移輸入係数!$E20","v":8.1030138070411239E-5},{"$f":"投入係数表!O20*移輸入係数!$E20","v":4.6361886576505246E-3},{"$f":"投入係数表!P20*移輸入係数!$E20","v":1.7484019528544595E-3},{"$f":"投入係数表!Q20*移輸入係数!$E20","v":2.8118485915691644E-3},{"$f":"投入係数表!R20*移輸入係数!$E20","v":1.5201534589816502E-3},{"$f":"投入係数表!S20*移輸入係数!$E20","v":8.164511827383178E-4},{"$f":"投入係数表!T20*移輸入係数!$E20","v":3.394129609704023E-3},{"$f":"投入係数表!U20*移輸入係数!$E20","v":9.334139217066663E-4},{"$f":"投入係数表!V20*移輸入係数!$E20","v":9.2468532863401482E-4},{"$f":"投入係数表!W20*移輸入係数!$E20","v":5.108220957658916E-4},{"$f":"投入係数表!X20*移輸入係数!$E20","v":7.0283377813479065E-3},{"$f":"投入係数表!Y20*移輸入係数!$E20","v":5.9616056879079395E-5},{"$f":"投入係数表!Z20*移輸入係数!$E20","v":5.861652600712487E-5},{"$f":"投入係数表!AA20*移輸入係数!$E20","v":1.2028190259081831E-5},{"$f":"投入係数表!AB20*移輸入係数!$E20","v":1.7476352895369829E-4},{"$f":"投入係数表!AC20*移輸入係数!$E20","v":5.1874744138831421E-6},{"$f":"投入係数表!AD20*移輸入係数!$E20","v":1.7433985454275355E-5},{"$f":"投入係数表!AE20*移輸入係数!$E20","v":1.3187128117487436E-4},{"$f":"投入係数表!AF20*移輸入係数!$E20","v":1.8388255888979003E-5},{"$f":"投入係数表!AG20*移輸入係数!$E20","v":1.4701867165226476E-4},{"$f":"投入係数表!AH20*移輸入係数!$E20","v":7.5271884181992821E-6},{"$f":"投入係数表!AI20*移輸入係数!$E20","v":2.2879623845927742E-5},{"$f":"投入係数表!AJ20*移輸入係数!$E20","v":1.0737442569611476E-4},{"$f":"投入係数表!AK20*移輸入係数!$E20","v":9.3413535290025394E-5},{"$f":"投入係数表!AL20*移輸入係数!$E20","v":1.8008973714302682E-4},{"$f":"投入係数表!AM20*移輸入係数!$E20","v":2.8032422857292498E-5},{"$f":"投入係数表!AN20*移輸入係数!$E20","v":2.9094320106834356E-4}]
[null,"29","はん用機械",{"$f":"投入係数表!D21*移輸入係数!$E21","v":0},{"$f":"投入係数表!E21*移輸入係数!$E21","v":4.1693333027581986E-6},{"$f":"投入係数表!F21*移輸入係数!$E21","v":0},{"$f":"投入係数表!G21*移輸入係数!$E21","v":0},{"$f":"投入係数表!H21*移輸入係数!$E21","v":8.2392129183182238E-6},{"$f":"投入係数表!I21*移輸入係数!$E21","v":0},{"$f":"投入係数表!J21*移輸入係数!$E21","v":0},{"$f":"投入係数表!K21*移輸入係数!$E21","v":1.5638957111332954E-6},{"$f":"投入係数表!L21*移輸入係数!$E21","v":3.9589632898847673E-6},{"$f":"投入係数表!M21*移輸入係数!$E21","v":1.4071619623076588E-8},{"$f":"投入係数表!N21*移輸入係数!$E21","v":6.5552216790660409E-7},{"$f":"投入係数表!O21*移輸入係数!$E21","v":5.7451901019875871E-6},{"$f":"投入係数表!P21*移輸入係数!$E21","v":5.0563161273038811E-4},{"$f":"投入係数表!Q21*移輸入係数!$E21","v":1.554857515517136E-4},{"$f":"投入係数表!R21*移輸入係数!$E21","v":2.1278675828965879E-5},{"$f":"投入係数表!S21*移輸入係数!$E21","v":6.6049726934127746E-6},{"$f":"投入係数表!T21*移輸入係数!$E21","v":1.9940465210209607E-5},{"$f":"投入係数表!U21*移輸入係数!$E21","v":4.3397611705911298E-6},{"$f":"投入係数表!V21*移輸入係数!$E21","v":4.9870475824759079E-5},{"$f":"投入係数表!W21*移輸入係数!$E21","v":2.9945487809865516E-7},{"$f":"投入係数表!X21*移輸入係数!$E21","v":2.315297558171832E-5},{"$f":"投入係数表!Y21*移輸入係数!$E21","v":0},{"$f":"投入係数表!Z21*移輸入係数!$E21","v":1.6438907976335751E-5},{"$f":"投入係数表!AA21*移輸入係数!$E21","v":0},{"$f":"投入係数表!AB21*移輸入係数!$E21","v":1.2780219885377662E-8},{"$f":"投入係数表!AC21*移輸入係数!$E21","v":0},{"$f":"投入係数表!AD21*移輸入係数!$E21","v":0},{"$f":"投入係数表!AE21*移輸入係数!$E21","v":2.6899135314662909E-7},{"$f":"投入係数表!AF21*移輸入係数!$E21","v":2.0878364435504816E-8},{"$f":"投入係数表!AG21*移輸入係数!$E21","v":3.9199877444461259E-7},{"$f":"投入係数表!AH21*移輸入係数!$E21","v":0},{"$f":"投入係数表!AI21*移輸入係数!$E21","v":0},{"$f":"投入係数表!AJ21*移輸入係数!$E21","v":0},{"$f":"投入係数表!AK21*移輸入係数!$E21","v":3.2939303127906921E-5},{"$f":"投入係数表!AL21*移輸入係数!$E21","v":4.3899060892304907E-8},{"$f":"投入係数表!AM21*移輸入係数!$E21","v":0},{"$f":"投入係数表!AN21*移輸入係数!$E21","v":0}]
[null,"30","生産用機械",{"$f":"投入係数表!D22*移輸入係数!$E22","v":0},{"$f":"投入係数表!E22*移輸入係数!$E22","v":8.0668016194332002E-4},{"$f":"投入係数表!F22*移輸入係数!$E22","v":0},{"$f":"投入係数表!G22*移輸入係数!$E22","v":0},{"$f":"投入係数表!H22*移輸入係数!$E22","v":5.9041410474850005E-5},{"$f":"投入係数表!I22*移輸入係数!$E22","v":0},{"$f":"投入係数表!J22*移輸入係数!$E22","v":3.4131154420990879E-6},{"$f":"投入係数表!K22*移輸入係数!$E22","v":7.0602379144520382E-4},{"$f":"投入係数表!L22*移輸入係数!$E22","v":2.0890306233891054E-4},{"$f":"投入係数表!M22*移輸入係数!$E22","v":4.3107337926173539E-6},{"$f":"投入係数表!N22*移輸入係数!$E22","v":1.4092227173067404E-5},{"$f":"投入係数表!O22*移輸入係数!$E22","v":2.0942736442099735E-4},{"$f":"投入係数表!P22*移輸入係数!$E22","v":1.1492429704397984E-3},{"$f":"投入係数表!Q22*移輸入係数!$E22","v":4.0740803450847608E-2},{"$f":"投入係数表!R22*移輸入係数!$E22","v":8.0725210169148195E-5},{"$f":"投入係数表!S22*移輸入係数!$E22","v":5.679672189559951E-4},{"$f":"投入係数表!T22*移輸入係数!$E22","v":7.716139026043181E-4},{"$f":"投入係数表!U22*移輸入係数!$E22","v":1.6793088916982726E-4},{"$f":"投入係数表!V22*移輸入係数!$E22","v":3.2163034705407596E-4},{"$f":"投入係数表!W22*移輸入係数!$E22","v":0},{"$f":"投入係数表!X22*移輸入係数!$E22","v":1.3177787491642462E-5},{"$f":"投入係数表!Y22*移輸入係数!$E22","v":5.1411726001948105E-6},{"$f":"投入係数表!Z22*移輸入係数!$E22","v":2.9126284553202068E-5},{"$f":"投入係数表!AA22*移輸入係数!$E22","v":0},{"$f":"投入係数表!AB22*移輸入係数!$E22","v":8.2423648244412497E-7},{"$f":"投入係数表!AC22*移輸入係数!$E22","v":0},{"$f":"投入係数表!AD22*移輸入係数!$E22","v":0},{"$f":"投入係数表!AE22*移輸入係数!$E22","v":2.2899487262535688E-5},{"$f":"投入係数表!AF22*移輸入係数!$E22","v":0},{"$f":"投入係数表!AG22*移輸入係数!$E22","v":2.2982937259753335E-6},{"$f":"投入係数表!AH22*移輸入係数!$E22","v":0},{"$f":"投入係数表!AI22*移輸入係数!$E22","v":0},{"$f":"投入係数表!AJ22*移輸入係数!$E22","v":0},{"$f":"投入係数表!AK22*移輸入係数!$E22","v":3.0912816398703303E-3},{"$f":"投入係数表!AL22*移輸入係数!$E22","v":2.1233911382388914E-6},{"$f":"投入係数表!AM22*移輸入係数!$E22","v":0},{"$f":"投入係数表!AN22*移輸入係数!$E22","v":0}]
[null,"31","業務用機械",{"$f":"投入係数表!D23*移輸入係数!$E23","v":3.35372954162523E-5},{"$f":"投入係数表!E23*移輸入係数!$E23","v":0},{"$f":"投入係数表!F23*移輸入係数!$E23","v":0},{"$f":"投入係数表!G23*移輸入係数!$E23","v":0},{"$f":"投入係数表!H23*移輸入係数!$E23","v":0},{"$f":"投入係数表!I23*移輸入係数!$E23","v":0},{"$f":"投入係数表!J23*移輸入係数!$E23","v":0},{"$f":"投入係数表!K23*移輸入係数!$E23","v":0},{"$f":"投入係数表!L23*移輸入係数!$E23","v":0},{"$f":"投入係数表!M23*移輸入係数!$E23","v":0},{"$f":"投入係数表!N23*移輸入係数!$E23","v":0},{"$f":"投入係数表!O23*移輸入係数!$E23","v":6.0679707233183429E-7},{"$f":"投入係数表!P23*移輸入係数!$E23","v":5.4109718023563153E-5},{"$f":"投入係数表!Q23*移輸入係数!$E23","v":1.8782588966278384E-4},{"$f":"投入係数表!R23*移輸入係数!$E23","v":3.1318417609902787E-4},{"$f":"投入係数表!S23*移輸入係数!$E23","v":0},{"$f":"投入係数表!T23*移輸入係数!$E23","v":2.9063870228940689E-5},{"$f":"投入係数表!U23*移輸入係数!$E23","v":0},{"$f":"投入係数表!V23*移輸入係数!$E23","v":1.2114637433201308E-5},{"$f":"投入係数表!W23*移輸入係数!$E23","v":1.4548837626961732E-6},{"$f":"投入係数表!X23*移輸入係数!$E23","v":4.2190515052752549E-6},{"$f":"投入係数表!Y23*移輸入係数!$E23","v":0},{"$f":"投入係数表!Z23*移輸入係数!$E23","v":1.3164965820055624E-6},{"$f":"投入係数表!AA23*移輸入係数!$E23","v":7.0038078878910095E-7},{"$f":"投入係数表!AB23*移輸入係数!$E23","v":1.9062225653110534E-5},{"$f":"投入係数表!AC23*移輸入係数!$E23","v":1.4307996067680587E-7},{"$f":"投入係数表!AD23*移輸入係数!$E23","v":0},{"$f":"投入係数表!AE23*移輸入係数!$E23","v":4.7047627213178381E-7},{"$f":"投入係数表!AF23*移輸入係数!$E23","v":1.1157992470153784E-6},{"$f":"投入係数表!AG23*移輸入係数!$E23","v":6.0164974620244083E-5},{"$f":"投入係数表!AH23*移輸入係数!$E23","v":0},{"$f":"投入係数表!AI23*移輸入係数!$E23","v":1.826397322690399E-4},{"$f":"投入係数表!AJ23*移輸入係数!$E23","v":0},{"$f":"投入係数表!AK23*移輸入係数!$E23","v":1.3565505993016311E-4},{"$f":"投入係数表!AL23*移輸入係数!$E23","v":9.4376835161913102E-6},{"$f":"投入係数表!AM23*移輸入係数!$E23","v":5.4110071076123457E-4},{"$f":"投入係数表!AN23*移輸入係数!$E23","v":0}]
[null,"32","電子部品",{"$f":"投入係数表!D24*移輸入係数!$E24","v":0},{"$f":"投入係数表!E24*移輸入係数!$E24","v":0},{"$f":"投入係数表!F24*移輸入係数!$E24","v":0},{"$f":"投入係数表!G24*移輸入係数!$E24","v":0},{"$f":"投入係数表!H24*移輸入係数!$E24","v":0},{"$f":"投入係数表!I24*移輸入係数!$E24","v":0},{"$f":"投入係数表!J24*移輸入係数!$E24","v":0},{"$f":"投入係数表!K24*移輸入係数!$E24","v":0},{"$f":"投入係数表!L24*移輸入係数!$E24","v":0},{"$f":"投入係数表!M24*移輸入係数!$E24","v":0},{"$f":"投入係数表!N24*移輸入係数!$E24","v":0},{"$f":"投入係数表!O24*移輸入係数!$E24","v":1.7233413313604852E-7},{"$f":"投入係数表!P24*移輸入係数!$E24","v":1.6135870398471007E-5},{"$f":"投入係数表!Q24*移輸入係数!$E24","v":3.6605064181739172E-6},{"$f":"投入係数表!R24*移輸入係数!$E24","v":2.6338452379571733E-4},{"$f":"投入係数表!S24*移輸入係数!$E24","v":3.9948479735475657E-4},{"$f":"投入係数表!T24*移輸入係数!$E24","v":1.511916180807284E-4},{"$f":"投入係数表!U24*移輸入係数!$E24","v":4.3443817288580717E-4},{"$f":"投入係数表!V24*移輸入係数!$E24","v":1.0321896572203063E-5},{"$f":"投入係数表!W24*移輸入係数!$E24","v":6.7144352399144905E-7},{"$f":"投入係数表!X24*移輸入係数!$E24","v":4.4493351863698599E-7},{"$f":"投入係数表!Y24*移輸入係数!$E24","v":0},{"$f":"投入係数表!Z24*移輸入係数!$E24","v":0},{"$f":"投入係数表!AA24*移輸入係数!$E24","v":0},{"$f":"投入係数表!AB24*移輸入係数!$E24","v":2.4247432341777107E-8},{"$f":"投入係数表!AC24*移輸入係数!$E24","v":3.0476697379597321E-8},{"$f":"投入係数表!AD24*移輸入係数!$E24","v":0},{"$f":"投入係数表!AE24*移輸入係数!$E24","v":3.7116161149840228E-9},{"$f":"投入係数表!AF24*移輸入係数!$E24","v":8.3544757726153792E-7},{"$f":"投入係数表!AG24*移輸入係数!$E24","v":7.8674997677619277E-7},{"$f":"投入係数表!AH24*移輸入係数!$E24","v":7.4687135109013621E-7},{"$f":"投入係数表!AI24*移輸入係数!$E24","v":3.7338624437634682E-9},{"$f":"投入係数表!AJ24*移輸入係数!$E24","v":0},{"$f":"投入係数表!AK24*移輸入係数!$E24","v":1.9242500793853543E-5},{"$f":"投入係数表!AL24*移輸入係数!$E24","v":1.8929100779464225E-8},{"$f":"投入係数表!AM24*移輸入係数!$E24","v":4.2417346112635464E-5},{"$f":"投入係数表!AN24*移輸入係数!$E24","v":0}]
[null,"33","電気機械　　　　　　",{"$f":"投入係数表!D25*移輸入係数!$E25","v":0},{"$f":"投入係数表!E25*移輸入係数!$E25","v":0},{"$f":"投入係数表!F25*移輸入係数!$E25","v":0},{"$f":"投入係数表!G25*移輸入係数!$E25","v":0},{"$f":"投入係数表!H25*移輸入係数!$E25","v":3.7285272867636511E-6},{"$f":"投入係数表!I25*移輸入係数!$E25","v":0},{"$f":"投入係数表!J25*移輸入係数!$E25","v":0},{"$f":"投入係数表!K25*移輸入係数!$E25","v":0},{"$f":"投入係数表!L25*移輸入係数!$E25","v":2.9316552265969171E-6},{"$f":"投入係数表!M25*移輸入係数!$E25","v":0},{"$f":"投入係数表!N25*移輸入係数!$E25","v":0},{"$f":"投入係数表!O25*移輸入係数!$E25","v":5.5954287013547565E-6},{"$f":"投入係数表!P25*移輸入係数!$E25","v":2.2679970189267538E-4},{"$f":"投入係数表!Q25*移輸入係数!$E25","v":3.0760269699678762E-4},{"$f":"投入係数表!R25*移輸入係数!$E25","v":1.9881740138933234E-4},{"$f":"投入係数表!S25*移輸入係数!$E25","v":9.1462707359527841E-4},{"$f":"投入係数表!T25*移輸入係数!$E25","v":1.5121994366923215E-3},{"$f":"投入係数表!U25*移輸入係数!$E25","v":2.0503024378095984E-4},{"$f":"投入係数表!V25*移輸入係数!$E25","v":3.0466943004856244E-4},{"$f":"投入係数表!W25*移輸入係数!$E25","v":5.4883021783973386E-6},{"$f":"投入係数表!X25*移輸入係数!$E25","v":1.3341064634393672E-4},{"$f":"投入係数表!Y25*移輸入係数!$E25","v":0},{"$f":"投入係数表!Z25*移輸入係数!$E25","v":1.4714844492397938E-6},{"$f":"投入係数表!AA25*移輸入係数!$E25","v":0},{"$f":"投入係数表!AB25*移輸入係数!$E25","v":3.2792383518925315E-6},{"$f":"投入係数表!AC25*移輸入係数!$E25","v":5.9971653177316648E-8},{"$f":"投入係数表!AD25*移輸入係数!$E25","v":2.0273742278838843E-7},{"$f":"投入係数表!AE25*移輸入係数!$E25","v":5.0395326175230926E-6},{"$f":"投入係数表!AF25*移輸入係数!$E25","v":2.0833232829507547E-6},{"$f":"投入係数表!AG25*移輸入係数!$E25","v":1.2917430686742866E-5},{"$f":"投入係数表!AH25*移輸入係数!$E25","v":7.3024915800467947E-6},{"$f":"投入係数表!AI25*移輸入係数!$E25","v":2.3805726659565107E-6},{"$f":"投入係数表!AJ25*移輸入係数!$E25","v":0},{"$f":"投入係数表!AK25*移輸入係数!$E25","v":1.1899297117582195E-4},{"$f":"投入係数表!AL25*移輸入係数!$E25","v":2.5924914997334051E-6},{"$f":"投入係数表!AM25*移輸入係数!$E25","v":0},{"$f":"投入係数表!AN25*移輸入係数!$E25","v":2.1145865828091137E-5}]
[null,"34","情報・通信機器",{"$f":"投入係数表!D26*移輸入係数!$E26","v":0},{"$f":"投入係数表!E26*移輸入係数!$E26","v":0},{"$f":"投入係数表!F26*移輸入係数!$E26","v":9.9802732213819919E-9},{"$f":"投入係数表!G26*移輸入係数!$E26","v":0},{"$f":"投入係数表!H26*移輸入係数!$E26","v":0},{"$f":"投入係数表!I26*移輸入係数!$E26","v":0},{"$f":"投入係数表!J26*移輸入係数!$E26","v":0},{"$f":"投入係数表!K26*移輸入係数!$E26","v":0},{"$f":"投入係数表!L26*移輸入係数!$E26","v":6.0480909152362088E-8},{"$f":"投入係数表!M26*移輸入係数!$E26","v":0},{"$f":"投入係数表!N26*移輸入係数!$E26","v":0},{"$f":"投入係数表!O26*移輸入係数!$E26","v":1.2592946074283433E-7},{"$f":"投入係数表!P26*移輸入係数!$E26","v":3.2440682026473268E-6},{"$f":"投入係数表!Q26*移輸入係数!$E26","v":6.6975557424283516E-7},{"$f":"投入係数表!R26*移輸入係数!$E26","v":0},{"$f":"投入係数表!S26*移輸入係数!$E26","v":0},{"$f":"投入係数表!T26*移輸入係数!$E26","v":1.3403703082648086E-7},{"$f":"投入係数表!U26*移輸入係数!$E26","v":3.7047513360441111E-5},{"$f":"投入係数表!V26*移輸入係数!$E26","v":2.5141679626030036E-6},{"$f":"投入係数表!W26*移輸入係数!$E26","v":1.0064469986963657E-7},{"$f":"投入係数表!X26*移輸入係数!$E26","v":2.5108709538072613E-6},{"$f":"投入係数表!Y26*移輸入係数!$E26","v":3.5722918312939904E-8},{"$f":"投入係数表!Z26*移輸入係数!$E26","v":3.035715676460818E-8},{"$f":"投入係数表!AA26*移輸入係数!$E26","v":2.4225170453310948E-8},{"$f":"投入係数表!AB26*移輸入係数!$E26","v":6.0993869659902959E-7},{"$f":"投入係数表!AC26*移輸入係数!$E26","v":2.2270191031775556E-7},{"$f":"投入係数表!AD26*移輸入係数!$E26","v":1.3198214081513951E-7},{"$f":"投入係数表!AE26*移輸入係数!$E26","v":1.9166097695569298E-7},{"$f":"投入係数表!AF26*移輸入係数!$E26","v":5.5434876239802798E-7},{"$f":"投入係数表!AG26*移輸入係数!$E26","v":8.0845399954974478E-7},{"$f":"投入係数表!AH26*移輸入係数!$E26","v":1.53495048938453E-7},{"$f":"投入係数表!AI26*移輸入係数!$E26","v":6.1844632347383244E-8},{"$f":"投入係数表!AJ26*移輸入係数!$E26","v":1.3902147122172186E-7},{"$f":"投入係数表!AK26*移輸入係数!$E26","v":1.8088441929050773E-6},{"$f":"投入係数表!AL26*移輸入係数!$E26","v":2.5819795333460449E-7},{"$f":"投入係数表!AM26*移輸入係数!$E26","v":0},{"$f":"投入係数表!AN26*移輸入係数!$E26","v":0}]
[null,"35","輸送機械  　　　　　",{"$f":"投入係数表!D27*移輸入係数!$E27","v":0},{"$f":"投入係数表!E27*移輸入係数!$E27","v":0},{"$f":"投入係数表!F27*移輸入係数!$E27","v":0},{"$f":"投入係数表!G27*移輸入係数!$E27","v":0},{"$f":"投入係数表!H27*移輸入係数!$E27","v":0},{"$f":"投入係数表!I27*移輸入係数!$E27","v":0},{"$f":"投入係数表!J27*移輸入係数!$E27","v":0},{"$f":"投入係数表!K27*移輸入係数!$E27","v":0},{"$f":"投入係数表!L27*移輸入係数!$E27","v":0},{"$f":"投入係数表!M27*移輸入係数!$E27","v":0},{"$f":"投入係数表!N27*移輸入係数!$E27","v":0},{"$f":"投入係数表!O27*移輸入係数!$E27","v":0},{"$f":"投入係数表!P27*移輸入係数!$E27","v":0},{"$f":"投入係数表!Q27*移輸入係数!$E27","v":7.0123676521496491E-7},{"$f":"投入係数表!R27*移輸入係数!$E27","v":0},{"$f":"投入係数表!S27*移輸入係数!$E27","v":0},{"$f":"投入係数表!T27*移輸入係数!$E27","v":0},{"$f":"投入係数表!U27*移輸入係数!$E27","v":0},{"$f":"投入係数表!V27*移輸入係数!$E27","v":1.2195895541074738E-4},{"$f":"投入係数表!W27*移輸入係数!$E27","v":0},{"$f":"投入係数表!X27*移輸入係数!$E27","v":0},{"$f":"投入係数表!Y27*移輸入係数!$E27","v":0},{"$f":"投入係数表!Z27*移輸入係数!$E27","v":0},{"$f":"投入係数表!AA27*移輸入係数!$E27","v":0},{"$f":"投入係数表!AB27*移輸入係数!$E27","v":0},{"$f":"投入係数表!AC27*移輸入係数!$E27","v":0},{"$f":"投入係数表!AD27*移輸入係数!$E27","v":0},{"$f":"投入係数表!AE27*移輸入係数!$E27","v":8.7557083707545627E-6},{"$f":"投入係数表!AF27*移輸入係数!$E27","v":0},{"$f":"投入係数表!AG27*移輸入係数!$E27","v":1.3640706760466481E-6},{"$f":"投入係数表!AH27*移輸入係数!$E27","v":5.8237544653656161E-8},{"$f":"投入係数表!AI27*移輸入係数!$E27","v":0},{"$f":"投入係数表!AJ27*移輸入係数!$E27","v":0},{"$f":"投入係数表!AK27*移輸入係数!$E27","v":8.2364318310929758E-6},{"$f":"投入係数表!AL27*移輸入係数!$E27","v":2.667224237627648E-8},{"$f":"投入係数表!AM27*移輸入係数!$E27","v":0},{"$f":"投入係数表!AN27*移輸入係数!$E27","v":0}]
[null,"39","その他の製造工業製品",{"$f":"投入係数表!D28*移輸入係数!$E28","v":4.2358028345820195E-5},{"$f":"投入係数表!E28*移輸入係数!$E28","v":9.2102988153163476E-4},{"$f":"投入係数表!F28*移輸入係数!$E28","v":1.0069279578240036E-3},{"$f":"投入係数表!G28*移輸入係数!$E28","v":3.1117280743272182E-3},{"$f":"投入係数表!H28*移輸入係数!$E28","v":1.6403279051679786E-3},{"$f":"投入係数表!I28*移輸入係数!$E28","v":6.425118760509293E-4},{"$f":"投入係数表!J28*移輸入係数!$E28","v":2.4219459919037995E-3},{"$f":"投入係数表!K28*移輸入係数!$E28","v":1.4970523662860436E-3},{"$f":"投入係数表!L28*移輸入係数!$E28","v":8.745579269132678E-4},{"$f":"投入係数表!M28*移輸入係数!$E28","v":1.1035183159303766E-3},{"$f":"投入係数表!N28*移輸入係数!$E28","v":2.333028163735448E-3},{"$f":"投入係数表!O28*移輸入係数!$E28","v":2.3911442197546779E-4},{"$f":"投入係数表!P28*移輸入係数!$E28","v":1.6401901999878426E-4},{"$f":"投入係数表!Q28*移輸入係数!$E28","v":3.9802689419857771E-4},{"$f":"投入係数表!R28*移輸入係数!$E28","v":7.3734631658321087E-4},{"$f":"投入係数表!S28*移輸入係数!$E28","v":1.0537776410468839E-3},{"$f":"投入係数表!T28*移輸入係数!$E28","v":4.5517964326251189E-4},{"$f":"投入係数表!U28*移輸入係数!$E28","v":9.9063433107005592E-4},{"$f":"投入係数表!V28*移輸入係数!$E28","v":9.1805641944436565E-5},{"$f":"投入係数表!W28*移輸入係数!$E28","v":6.642694794748185E-3},{"$f":"投入係数表!X28*移輸入係数!$E28","v":5.5857475762795023E-4},{"$f":"投入係数表!Y28*移輸入係数!$E28","v":1.7795736914866086E-3},{"$f":"投入係数表!Z28*移輸入係数!$E28","v":4.0238594438357482E-4},{"$f":"投入係数表!AA28*移輸入係数!$E28","v":8.9432028356735784E-4},{"$f":"投入係数表!AB28*移輸入係数!$E28","v":9.3636949718832864E-4},{"$f":"投入係数表!AC28*移輸入係数!$E28","v":2.1387241559163873E-3},{"$f":"投入係数表!AD28*移輸入係数!$E28","v":1.0589037880593625E-5},{"$f":"投入係数表!AE28*移輸入係数!$E28","v":3.6801869451050251E-4},{"$f":"投入係数表!AF28*移輸入係数!$E28","v":1.8656153473623504E-3},{"$f":"投入係数表!AG28*移輸入係数!$E28","v":1.2858015803929737E-3},{"$f":"投入係数表!AH28*移輸入係数!$E28","v":2.4499730185864204E-3},{"$f":"投入係数表!AI28*移輸入係数!$E28","v":6.9501777178837011E-4},{"$f":"投入係数表!AJ28*移輸入係数!$E28","v":5.8683336487144813E-3},{"$f":"投入係数表!AK28*移輸入係数!$E28","v":9.5624268446166806E-4},{"$f":"投入係数表!AL28*移輸入係数!$E28","v":9.4510773087889564E-4},{"$f":"投入係数表!AM28*移輸入係数!$E28","v":2.4064938570882717E-2},{"$f":"投入係数表!AN28*移輸入係数!$E28","v":2.8460957546923272E-4}]
[null,"41","建設　　　　　　　　",{"$f":"投入係数表!D29*移輸入係数!$E29","v":4.8875855327468231E-3},{"$f":"投入係数表!E29*移輸入係数!$E29","v":1.0121457489878543E-2},{"$f":"投入係数表!F29*移輸入係数!$E29","v":1.0128279526097441E-3},{"$f":"投入係数表!G29*移輸入係数!$E29","v":4.4603033006244425E-3},{"$f":"投入係数表!H29*移輸入係数!$E29","v":5.8522853544707015E-3},{"$f":"投入係数表!I29*移輸入係数!$E29","v":1.0326338783345469E-2},{"$f":"投入係数表!J29*移輸入係数!$E29","v":1.1048730038413607E-3},{"$f":"投入係数表!K29*移輸入係数!$E29","v":8.6370539104024292E-3},{"$f":"投入係数表!L29*移輸入係数!$E29","v":1.1270805119916124E-2},{"$f":"投入係数表!M29*移輸入係数!$E29","v":9.6067049659550804E-3},{"$f":"投入係数表!N29*移輸入係数!$E29","v":1.0343730108211331E-2},{"$f":"投入係数表!O29*移輸入係数!$E29","v":1.230974470923534E-2},{"$f":"投入係数表!P29*移輸入係数!$E29","v":4.1456380677721699E-3},{"$f":"投入係数表!Q29*移輸入係数!$E29","v":2.080183830198948E-3},{"$f":"投入係数表!R29*移輸入係数!$E29","v":4.5578851412944391E-3},{"$f":"投入係数表!S29*移輸入係数!$E29","v":6.5918403705683233E-3},{"$f":"投入係数表!T29*移輸入係数!$E29","v":4.4534804918191498E-3},{"$f":"投入係数表!U29*移輸入係数!$E29","v":3.3712600084281502E-3},{"$f":"投入係数表!V29*移輸入係数!$E29","v":6.0532687651331722E-4},{"$f":"投入係数表!W29*移輸入係数!$E29","v":2.4716487350974121E-3},{"$f":"投入係数表!X29*移輸入係数!$E29","v":1.2896705449788103E-3},{"$f":"投入係数表!Y29*移輸入係数!$E29","v":5.1831018623043033E-2},{"$f":"投入係数表!Z29*移輸入係数!$E29","v":6.02990834539315E-2},{"$f":"投入係数表!AA29*移輸入係数!$E29","v":7.2265966754155734E-3},{"$f":"投入係数表!AB29*移輸入係数!$E29","v":4.388516327793782E-3},{"$f":"投入係数表!AC29*移輸入係数!$E29","v":1.5263573678020812E-3},{"$f":"投入係数表!AD29*移輸入係数!$E29","v":2.6105800796748558E-2},{"$f":"投入係数表!AE29*移輸入係数!$E29","v":1.0283481390738336E-2},{"$f":"投入係数表!AF29*移輸入係数!$E29","v":4.2853522554485556E-3},{"$f":"投入係数表!AG29*移輸入係数!$E29","v":2.1160450892355073E-2},{"$f":"投入係数表!AH29*移輸入係数!$E29","v":1.0142487578532419E-2},{"$f":"投入係数表!AI29*移輸入係数!$E29","v":5.6705013059495596E-3},{"$f":"投入係数表!AJ29*移輸入係数!$E29","v":2.2091310751104565E-3},{"$f":"投入係数表!AK29*移輸入係数!$E29","v":9.3978191820295355E-4},{"$f":"投入係数表!AL29*移輸入係数!$E29","v":5.3924010838086759E-3},{"$f":"投入係数表!AM29*移輸入係数!$E29","v":0},{"$f":"投入係数表!AN29*移輸入係数!$E29","v":0}]
[null,"46","電力・ガス・熱供給",{"$f":"投入係数表!D30*移輸入係数!$E30","v":3.2118419215193409E-3},{"$f":"投入係数表!E30*移輸入係数!$E30","v":5.0607287449392713E-3},{"$f":"投入係数表!F30*移輸入係数!$E30","v":6.6248319462516355E-3},{"$f":"投入係数表!G30*移輸入係数!$E30","v":3.5682426404995541E-3},{"$f":"投入係数表!H30*移輸入係数!$E30","v":4.6670123712867616E-3},{"$f":"投入係数表!I30*移輸入係数!$E30","v":1.8931621102800028E-2},{"$f":"投入係数表!J30*移輸入係数!$E30","v":3.6229556637588809E-3},{"$f":"投入係数表!K30*移輸入係数!$E30","v":1.2623386484434321E-2},{"$f":"投入係数表!L30*移輸入係数!$E30","v":1.0790266917129003E-2},{"$f":"投入係数表!M30*移輸入係数!$E30","v":1.3768272509656664E-2},{"$f":"投入係数表!N30*移輸入係数!$E30","v":8.752387014640357E-3},{"$f":"投入係数表!O30*移輸入係数!$E30","v":1.0005457522284883E-2},{"$f":"投入係数表!P30*移輸入係数!$E30","v":2.343186733958183E-3},{"$f":"投入係数表!Q30*移輸入係数!$E30","v":2.6969825240370079E-3},{"$f":"投入係数表!R30*移輸入係数!$E30","v":3.6463081130355514E-3},{"$f":"投入係数表!S30*移輸入係数!$E30","v":8.0171031533939063E-3},{"$f":"投入係数表!T30*移輸入係数!$E30","v":3.1948881789137379E-3},{"$f":"投入係数表!U30*移輸入係数!$E30","v":1.0535187526337969E-3},{"$f":"投入係数表!V30*移輸入係数!$E30","v":4.2372881355932203E-3},{"$f":"投入係数表!W30*移輸入係数!$E30","v":4.1436464088397788E-3},{"$f":"投入係数表!X30*移輸入係数!$E30","v":1.8042986951386241E-3},{"$f":"投入係数表!Y30*移輸入係数!$E30","v":2.3815820878192267E-2},{"$f":"投入係数表!Z30*移輸入係数!$E30","v":8.3103100469236503E-3},{"$f":"投入係数表!AA30*移輸入係数!$E30","v":1.3525809273840769E-2},{"$f":"投入係数表!AB30*移輸入係数!$E30","v":6.6037165102220321E-3},{"$f":"投入係数表!AC30*移輸入係数!$E30","v":2.8275144682235274E-3},{"$f":"投入係数表!AD30*移輸入係数!$E30","v":1.5883949155250498E-3},{"$f":"投入係数表!AE30*移輸入係数!$E30","v":3.2075476626433012E-3},{"$f":"投入係数表!AF30*移輸入係数!$E30","v":2.3948302078053724E-3},{"$f":"投入係数表!AG30*移輸入係数!$E30","v":4.9267689219935464E-3},{"$f":"投入係数表!AH30*移輸入係数!$E30","v":7.9538455221122659E-3},{"$f":"投入係数表!AI30*移輸入係数!$E30","v":4.3908283977023696E-3},{"$f":"投入係数表!AJ30*移輸入係数!$E30","v":1.8074708796358282E-3},{"$f":"投入係数表!AK30*移輸入係数!$E30","v":2.6949146992370412E-3},{"$f":"投入係数表!AL30*移輸入係数!$E30","v":1.2082282072664203E-2},{"$f":"投入係数表!AM30*移輸入係数!$E30","v":0},{"$f":"投入係数表!AN30*移輸入係数!$E30","v":2.9689381844662912E-3}]
[null,"47","水道",{"$f":"投入係数表!D31*移輸入係数!$E31","v":1.5360983102918587E-3},{"$f":"投入係数表!E31*移輸入係数!$E31","v":5.0607287449392713E-3},{"$f":"投入係数表!F31*移輸入係数!$E31","v":2.0580952346625049E-3},{"$f":"投入係数表!G31*移輸入係数!$E31","v":0},{"$f":"投入係数表!H31*移輸入係数!$E31","v":9.6303429883695094E-4},{"$f":"投入係数表!I31*移輸入係数!$E31","v":3.243529489640564E-3},{"$f":"投入係数表!J31*移輸入係数!$E31","v":3.9955291185425953E-3},{"$f":"投入係数表!K31*移輸入係数!$E31","v":1.6135155656795748E-3},{"$f":"投入係数表!L31*移輸入係数!$E31","v":1.3542440260364335E-3},{"$f":"投入係数表!M31*移輸入係数!$E31","v":2.7977211724125564E-3},{"$f":"投入係数表!N31*移輸入係数!$E31","v":2.493104179927859E-3},{"$f":"投入係数表!O31*移輸入係数!$E31","v":1.0308653204778365E-3},{"$f":"投入係数表!P31*移輸入係数!$E31","v":1.8024513338139869E-4},{"$f":"投入係数表!Q31*移輸入係数!$E31","v":7.4983370623450446E-4},{"$f":"投入係数表!R31*移輸入係数!$E31","v":6.0771801883925853E-4},{"$f":"投入係数表!S31*移輸入係数!$E31","v":1.0689470871191875E-3},{"$f":"投入係数表!T31*移輸入係数!$E31","v":4.840739665020815E-4},{"$f":"投入係数表!U31*移輸入係数!$E31","v":0},{"$f":"投入係数表!V31*移輸入係数!$E31","v":0},{"$f":"投入係数表!W31*移輸入係数!$E31","v":1.3812154696132596E-3},{"$f":"投入係数表!X31*移輸入係数!$E31","v":1.0168556220025236E-3},{"$f":"投入係数表!Y31*移輸入係数!$E31","v":2.431897202350619E-3},{"$f":"投入係数表!Z31*移輸入係数!$E31","v":8.4024031925623827E-2},{"$f":"投入係数表!AA31*移輸入係数!$E31","v":1.4838145231846019E-2},{"$f":"投入係数表!AB31*移輸入係数!$E31","v":2.4804657504921375E-3},{"$f":"投入係数表!AC31*移輸入係数!$E31","v":1.297582493002706E-3},{"$f":"投入係数表!AD31*移輸入係数!$E31","v":5.3975888084621302E-4},{"$f":"投入係数表!AE31*移輸入係数!$E31","v":3.5653929637688162E-3},{"$f":"投入係数表!AF31*移輸入係数!$E31","v":1.8753167764825138E-3},{"$f":"投入係数表!AG31*移輸入係数!$E31","v":3.5512531035616344E-3},{"$f":"投入係数表!AH31*移輸入係数!$E31","v":1.1000698065946701E-2},{"$f":"投入係数表!AI31*移輸入係数!$E31","v":6.2223109789103599E-3},{"$f":"投入係数表!AJ31*移輸入係数!$E31","v":2.4099611728477708E-3},{"$f":"投入係数表!AK31*移輸入係数!$E31","v":7.4003732931661155E-4},{"$f":"投入係数表!AL31*移輸入係数!$E31","v":1.1570749954042036E-2},{"$f":"投入係数表!AM31*移輸入係数!$E31","v":0},{"$f":"投入係数表!AN31*移輸入係数!$E31","v":3.9212391115592531E-3}]
[null,"48","廃棄物処理",{"$f":"投入係数表!D32*移輸入係数!$E32","v":7.2792067987528526E-4},{"$f":"投入係数表!E32*移輸入係数!$E32","v":3.5173009369682305E-3},{"$f":"投入係数表!F32*移輸入係数!$E32","v":5.1041501805168641E-4},{"$f":"投入係数表!G32*移輸入係数!$E32","v":0},{"$f":"投入係数表!H32*移輸入係数!$E32","v":1.287166947820065E-4},{"$f":"投入係数表!I32*移輸入係数!$E32","v":4.3130998780258473E-3},{"$f":"投入係数表!J32*移輸入係数!$E32","v":3.6832765827598765E-4},{"$f":"投入係数表!K32*移輸入係数!$E32","v":0},{"$f":"投入係数表!L32*移輸入係数!$E32","v":5.9585607022275573E-3},{"$f":"投入係数表!M32*移輸入係数!$E32","v":1.9958104736482178E-4},{"$f":"投入係数表!N32*移輸入係数!$E32","v":0},{"$f":"投入係数表!O32*移輸入係数!$E32","v":5.2681664631080768E-5},{"$f":"投入係数表!P32*移輸入係数!$E32","v":0},{"$f":"投入係数表!Q32*移輸入係数!$E32","v":2.1014049257571579E-5},{"$f":"投入係数表!R32*移輸入係数!$E32","v":0},{"$f":"投入係数表!S32*移輸入係数!$E32","v":6.1911514800010907E-4},{"$f":"投入係数表!T32*移輸入係数!$E32","v":0},{"$f":"投入係数表!U32*移輸入係数!$E32","v":0},{"$f":"投入係数表!V32*移輸入係数!$E32","v":0},{"$f":"投入係数表!W32*移輸入係数!$E32","v":3.1577978025267267E-4},{"$f":"投入係数表!X32*移輸入係数!$E32","v":1.1823783028378214E-3},{"$f":"投入係数表!Y32*移輸入係数!$E32","v":8.8433607722619191E-3},{"$f":"投入係数表!Z32*移輸入係数!$E32","v":1.8668549418991579E-3},{"$f":"投入係数表!AA32*移輸入係数!$E32","v":0},{"$f":"投入係数表!AB32*移輸入係数!$E32","v":1.7102235173999216E-3},{"$f":"投入係数表!AC32*移輸入係数!$E32","v":2.5620569664834129E-3},{"$f":"投入係数表!AD32*移輸入係数!$E32","v":1.9830293677610345E-5},{"$f":"投入係数表!AE32*移輸入係数!$E32","v":5.3032236782699213E-3},{"$f":"投入係数表!AF32*移輸入係数!$E32","v":3.7428146564443994E-3},{"$f":"投入係数表!AG32*移輸入係数!$E32","v":3.3764710591942894E-2},{"$f":"投入係数表!AH32*移輸入係数!$E32","v":4.5912671028287841E-3},{"$f":"投入係数表!AI32*移輸入係数!$E32","v":4.4195886381093218E-3},{"$f":"投入係数表!AJ32*移輸入係数!$E32","v":0},{"$f":"投入係数表!AK32*移輸入係数!$E32","v":3.399535449949991E-4},{"$f":"投入係数表!AL32*移輸入係数!$E32","v":1.8567815743841525E-2},{"$f":"投入係数表!AM32*移輸入係数!$E32","v":0},{"$f":"投入係数表!AN32*移輸入係数!$E32","v":6.0346689688520836E-3}]
[null,"51","商業　　　　　　　　",{"$f":"投入係数表!D33*移輸入係数!$E33","v":2.2453188160450183E-2},{"$f":"投入係数表!E33*移輸入係数!$E33","v":1.2367128055399308E-2},{"$f":"投入係数表!F33*移輸入係数!$E33","v":1.6593370868661417E-2},{"$f":"投入係数表!G33*移輸入係数!$E33","v":3.9140340563621236E-2},{"$f":"投入係数表!H33*移輸入係数!$E33","v":3.0075918624258135E-2},{"$f":"投入係数表!I33*移輸入係数!$E33","v":2.1139403913514949E-2},{"$f":"投入係数表!J33*移輸入係数!$E33","v":5.6797615091401235E-3},{"$f":"投入係数表!K33*移輸入係数!$E33","v":2.3194234090232572E-2},{"$f":"投入係数表!L33*移輸入係数!$E33","v":1.4096603634188814E-2},{"$f":"投入係数表!M33*移輸入係数!$E33","v":2.6191006919616341E-2},{"$f":"投入係数表!N33*移輸入係数!$E33","v":3.3231870747093474E-2},{"$f":"投入係数表!O33*移輸入係数!$E33","v":2.9182648007683144E-2},{"$f":"投入係数表!P33*移輸入係数!$E33","v":1.4115159231349273E-2},{"$f":"投入係数表!Q33*移輸入係数!$E33","v":1.5596911437438663E-2},{"$f":"投入係数表!R33*移輸入係数!$E33","v":1.9913942394003938E-2},{"$f":"投入係数表!S33*移輸入係数!$E33","v":1.2962219603471017E-2},{"$f":"投入係数表!T33*移輸入係数!$E33","v":2.1078073329918109E-2},{"$f":"投入係数表!U33*移輸入係数!$E33","v":1.4042894516417099E-2},{"$f":"投入係数表!V33*移輸入係数!$E33","v":1.5465035105155948E-2},{"$f":"投入係数表!W33*移輸入係数!$E33","v":2.5516907107775173E-2},{"$f":"投入係数表!X33*移輸入係数!$E33","v":1.4220538353216466E-2},{"$f":"投入係数表!Y33*移輸入係数!$E33","v":4.8151104455406895E-3},{"$f":"投入係数表!Z33*移輸入係数!$E33","v":4.9321487006170235E-3},{"$f":"投入係数表!AA33*移輸入係数!$E33","v":5.9475528366066364E-3},{"$f":"投入係数表!AB33*移輸入係数!$E33","v":3.5574006117787518E-3},{"$f":"投入係数表!AC33*移輸入係数!$E33","v":1.5981861186914739E-3},{"$f":"投入係数表!AD33*移輸入係数!$E33","v":5.8240876049485337E-4},{"$f":"投入係数表!AE33*移輸入係数!$E33","v":5.9594791970019592E-3},{"$f":"投入係数表!AF33*移輸入係数!$E33","v":3.0781857517938062E-3},{"$f":"投入係数表!AG33*移輸入係数!$E33","v":3.3849525389821767E-3},{"$f":"投入係数表!AH33*移輸入係数!$E33","v":5.4164441159003148E-3},{"$f":"投入係数表!AI33*移輸入係数!$E33","v":3.8382113417039336E-3},{"$f":"投入係数表!AJ33*移輸入係数!$E33","v":1.0838001966343042E-2},{"$f":"投入係数表!AK33*移輸入係数!$E33","v":5.3395463498245978E-3},{"$f":"投入係数表!AL33*移輸入係数!$E33","v":2.1014753924600314E-2},{"$f":"投入係数表!AM33*移輸入係数!$E33","v":8.1875795955441269E-2},{"$f":"投入係数表!AN33*移輸入係数!$E33","v":4.1067885114644204E-3}]
[null,"53","金融・保険　　　　　",{"$f":"投入係数表!D34*移輸入係数!$E34","v":8.0678999402508875E-3},{"$f":"投入係数表!E34*移輸入係数!$E34","v":5.1814126518853608E-2},{"$f":"投入係数表!F34*移輸入係数!$E34","v":4.359854037385434E-3},{"$f":"投入係数表!G34*移輸入係数!$E34","v":2.0223818873702667E-2},{"$f":"投入係数表!H34*移輸入係数!$E34","v":1.3977361398370103E-2},{"$f":"投入係数表!I34*移輸入係数!$E34","v":7.9875354897951893E-3},{"$f":"投入係数表!J34*移輸入係数!$E34","v":5.2333067544721558E-3},{"$f":"投入係数表!K34*移輸入係数!$E34","v":3.401162670884506E-3},{"$f":"投入係数表!L34*移輸入係数!$E34","v":1.1948514711480266E-2},{"$f":"投入係数表!M34*移輸入係数!$E34","v":8.6269172844642139E-3},{"$f":"投入係数表!N34*移輸入係数!$E34","v":7.1378509958135812E-3},{"$f":"投入係数表!O34*移輸入係数!$E34","v":1.7162124933290702E-2},{"$f":"投入係数表!P34*移輸入係数!$E34","v":6.3272044907562918E-3},{"$f":"投入係数表!Q34*移輸入係数!$E34","v":7.8717331232229636E-3},{"$f":"投入係数表!R34*移輸入係数!$E34","v":1.6666348808642845E-2},{"$f":"投入係数表!S34*移輸入係数!$E34","v":5.3419018020048406E-3},{"$f":"投入係数表!T34*移輸入係数!$E34","v":5.522597742899928E-3},{"$f":"投入係数表!U34*移輸入係数!$E34","v":6.7800364458118229E-3},{"$f":"投入係数表!V34*移輸入係数!$E34","v":4.4268727949349157E-3},{"$f":"投入係数表!W34*移輸入係数!$E34","v":1.214789761833107E-2},{"$f":"投入係数表!X34*移輸入係数!$E34","v":1.454191131663865E-2},{"$f":"投入係数表!Y34*移輸入係数!$E34","v":1.7921742879202566E-2},{"$f":"投入係数表!Z34*移輸入係数!$E34","v":4.2013261206747142E-3},{"$f":"投入係数表!AA34*移輸入係数!$E34","v":8.1513639318584255E-3},{"$f":"投入係数表!AB34*移輸入係数!$E34","v":1.6811666064828441E-2},{"$f":"投入係数表!AC34*移輸入係数!$E34","v":4.8819805928778298E-2},{"$f":"投入係数表!AD34*移輸入係数!$E34","v":6.8962955486159161E-2},{"$f":"投入係数表!AE34*移輸入係数!$E34","v":2.208970522559571E-2},{"$f":"投入係数表!AF34*移輸入係数!$E34","v":4.5369231025101653E-3},{"$f":"投入係数表!AG34*移輸入係数!$E34","v":3.5508465498531309E-2},{"$f":"投入係数表!AH34*移輸入係数!$E34","v":1.8258209933878159E-3},{"$f":"投入係数表!AI34*移輸入係数!$E34","v":7.0697960933867711E-3},{"$f":"投入係数表!AJ34*移輸入係数!$E34","v":6.1024877112332891E-2},{"$f":"投入係数表!AK34*移輸入係数!$E34","v":1.0549879019626606E-2},{"$f":"投入係数表!AL34*移輸入係数!$E34","v":6.27190890104021E-3},{"$f":"投入係数表!AM34*移輸入係数!$E34","v":0},{"$f":"投入係数表!AN34*移輸入係数!$E34","v":5.7968066033576788E-3}]
[null,"55","不動産　　　　　　　",{"$f":"投入係数表!D35*移輸入係数!$E35","v":1.4047170871887144E-2},{"$f":"投入係数表!E35*移輸入係数!$E35","v":6.0185351676422787E-3},{"$f":"投入係数表!F35*移輸入係数!$E35","v":2.6076464931945394E-3},{"$f":"投入係数表!G35*移輸入係数!$E35","v":2.6522358365881227E-3},{"$f":"投入係数表!H35*移輸入係数!$E35","v":3.8910854571748556E-3},{"$f":"投入係数表!I35*移輸入係数!$E35","v":2.8208937144162155E-3},{"$f":"投入係数表!J35*移輸入係数!$E35","v":7.8940904331936278E-4},{"$f":"投入係数表!K35*移輸入係数!$E35","v":4.2328536059443138E-3},{"$f":"投入係数表!L35*移輸入係数!$E35","v":3.2903744460553888E-3},{"$f":"投入係数表!M35*移輸入係数!$E35","v":1.7519728778546595E-3},{"$f":"投入係数表!N35*移輸入係数!$E35","v":1.1565428991077214E-3},{"$f":"投入係数表!O35*移輸入係数!$E35","v":6.7909095896373228E-3},{"$f":"投入係数表!P35*移輸入係数!$E35","v":3.5726464465456447E-3},{"$f":"投入係数表!Q35*移輸入係数!$E35","v":2.9125677716398154E-3},{"$f":"投入係数表!R35*移輸入係数!$E35","v":1.656270642204403E-3},{"$f":"投入係数表!S35*移輸入係数!$E35","v":1.059382281423583E-3},{"$f":"投入係数表!T35*移輸入係数!$E35","v":2.6865581837166555E-3},{"$f":"投入係数表!U35*移輸入係数!$E35","v":1.4617287968610058E-3},{"$f":"投入係数表!V35*移輸入係数!$E35","v":0},{"$f":"投入係数表!W35*移輸入係数!$E35","v":2.4495327293719035E-3},{"$f":"投入係数表!X35*移輸入係数!$E35","v":6.1694387314654752E-3},{"$f":"投入係数表!Y35*移輸入係数!$E35","v":1.1488106070172531E-2},{"$f":"投入係数表!Z35*移輸入係数!$E35","v":1.6732669729624537E-3},{"$f":"投入係数表!AA35*移輸入係数!$E35","v":3.6590025935492872E-3},{"$f":"投入係数表!AB35*移輸入係数!$E35","v":3.8011724075129594E-2},{"$f":"投入係数表!AC35*移輸入係数!$E35","v":1.9619042163270258E-2},{"$f":"投入係数表!AD35*移輸入係数!$E35","v":2.7977328667257172E-2},{"$f":"投入係数表!AE35*移輸入係数!$E35","v":4.5138073149134539E-2},{"$f":"投入係数表!AF35*移輸入係数!$E35","v":2.9194095014026762E-2},{"$f":"投入係数表!AG35*移輸入係数!$E35","v":7.973480016720204E-4},{"$f":"投入係数表!AH35*移輸入係数!$E35","v":5.8763982566764836E-3},{"$f":"投入係数表!AI35*移輸入係数!$E35","v":2.4054562078320883E-2},{"$f":"投入係数表!AJ35*移輸入係数!$E35","v":1.5557753590957837E-2},{"$f":"投入係数表!AK35*移輸入係数!$E35","v":7.3325330717837721E-3},{"$f":"投入係数表!AL35*移輸入係数!$E35","v":1.7093888663263699E-2},{"$f":"投入係数表!AM35*移輸入係数!$E35","v":0},{"$f":"投入係数表!AN35*移輸入係数!$E35","v":4.319180756146155E-2}]
[null,"57","運輸・郵便　　　",{"$f":"投入係数表!D36*移輸入係数!$E36","v":3.007431801096825E-2},{"$f":"投入係数表!E36*移輸入係数!$E36","v":0.20545045935916723},{"$f":"投入係数表!F36*移輸入係数!$E36","v":2.8105422705016356E-2},{"$f":"投入係数表!G36*移輸入係数!$E36","v":1.2145273124580783E-2},{"$f":"投入係数表!H36*移輸入係数!$E36","v":2.750678738355378E-2},{"$f":"投入係数表!I36*移輸入係数!$E36","v":1.6426928275978862E-2},{"$f":"投入係数表!J36*移輸入係数!$E36","v":2.3907686737070451E-2},{"$f":"投入係数表!K36*移輸入係数!$E36","v":1.080767505249763E-2},{"$f":"投入係数表!L36*移輸入係数!$E36","v":3.6253858051656727E-2},{"$f":"投入係数表!M36*移輸入係数!$E36","v":2.0351219519696127E-2},{"$f":"投入係数表!N36*移輸入係数!$E36","v":1.8645804318008392E-2},{"$f":"投入係数表!O36*移輸入係数!$E36","v":2.3641976170949128E-2},{"$f":"投入係数表!P36*移輸入係数!$E36","v":1.0485318298400532E-2},{"$f":"投入係数表!Q36*移輸入係数!$E36","v":1.1234252453261965E-2},{"$f":"投入係数表!R36*移輸入係数!$E36","v":1.2222940336214176E-2},{"$f":"投入係数表!S36*移輸入係数!$E36","v":6.8357609178742009E-3},{"$f":"投入係数表!T36*移輸入係数!$E36","v":1.2522130519917034E-2},{"$f":"投入係数表!U36*移輸入係数!$E36","v":8.8668915425482112E-3},{"$f":"投入係数表!V36*移輸入係数!$E36","v":5.9937711523905162E-3},{"$f":"投入係数表!W36*移輸入係数!$E36","v":8.5882361708604846E-2},{"$f":"投入係数表!X36*移輸入係数!$E36","v":2.1340156749286496E-2},{"$f":"投入係数表!Y36*移輸入係数!$E36","v":2.7105901429971928E-2},{"$f":"投入係数表!Z36*移輸入係数!$E36","v":7.8975288164687702E-3},{"$f":"投入係数表!AA36*移輸入係数!$E36","v":3.5084799013284325E-2},{"$f":"投入係数表!AB36*移輸入係数!$E36","v":2.5617821526780344E-2},{"$f":"投入係数表!AC36*移輸入係数!$E36","v":1.4646779979687965E-2},{"$f":"投入係数表!AD36*移輸入係数!$E36","v":1.2189729683750956E-3},{"$f":"投入係数表!AE36*移輸入係数!$E36","v":5.332539978998467E-2},{"$f":"投入係数表!AF36*移輸入係数!$E36","v":1.0531231353312758E-2},{"$f":"投入係数表!AG36*移輸入係数!$E36","v":1.2594714127731478E-2},{"$f":"投入係数表!AH36*移輸入係数!$E36","v":1.4616945447287042E-2},{"$f":"投入係数表!AI36*移輸入係数!$E36","v":7.5371988021258511E-3},{"$f":"投入係数表!AJ36*移輸入係数!$E36","v":1.466564014630135E-2},{"$f":"投入係数表!AK36*移輸入係数!$E36","v":7.1047257324209322E-3},{"$f":"投入係数表!AL36*移輸入係数!$E36","v":1.8471247715393241E-2},{"$f":"投入係数表!AM36*移輸入係数!$E36","v":2.7028615502801875E-2},{"$f":"投入係数表!AN36*移輸入係数!$E36","v":4.593369491172871E-2}]
[null,"59","情報通信",{"$f":"投入係数表!D37*移輸入係数!$E37","v":3.6833103491840454E-3},{"$f":"投入係数表!E37*移輸入係数!$E37","v":2.1076218898231636E-3},{"$f":"投入係数表!F37*移輸入係数!$E37","v":3.1923347366796112E-3},{"$f":"投入係数表!G37*移輸入係数!$E37","v":2.4767534072498193E-3},{"$f":"投入係数表!H37*移輸入係数!$E37","v":8.5870356158051862E-3},{"$f":"投入係数表!I37*移輸入係数!$E37","v":9.3270906800488277E-3},{"$f":"投入係数表!J37*移輸入係数!$E37","v":1.0790154711537339E-3},{"$f":"投入係数表!K37*移輸入係数!$E37","v":6.1268264276294468E-3},{"$f":"投入係数表!L37*移輸入係数!$E37","v":8.3993058162486565E-3},{"$f":"投入係数表!M37*移輸入係数!$E37","v":4.4060869123898529E-3},{"$f":"投入係数表!N37*移輸入係数!$E37","v":5.8173882079523851E-3},{"$f":"投入係数表!O37*移輸入係数!$E37","v":8.8179052106590935E-3},{"$f":"投入係数表!P37*移輸入係数!$E37","v":7.3814885365039553E-3},{"$f":"投入係数表!Q37*移輸入係数!$E37","v":1.6092509438783788E-2},{"$f":"投入係数表!R37*移輸入係数!$E37","v":9.0691996725663186E-3},{"$f":"投入係数表!S37*移輸入係数!$E37","v":5.5647526112915157E-3},{"$f":"投入係数表!T37*移輸入係数!$E37","v":2.78208538044389E-2},{"$f":"投入係数表!U37*移輸入係数!$E37","v":4.2120463760208046E-2},{"$f":"投入係数表!V37*移輸入係数!$E37","v":8.4032704888833151E-4},{"$f":"投入係数表!W37*移輸入係数!$E37","v":4.9197251295595937E-3},{"$f":"投入係数表!X37*移輸入係数!$E37","v":7.3206248217642864E-3},{"$f":"投入係数表!Y37*移輸入係数!$E37","v":1.2742866963086085E-2},{"$f":"投入係数表!Z37*移輸入係数!$E37","v":3.8825482901720706E-2},{"$f":"投入係数表!AA37*移輸入係数!$E37","v":8.8418579816959327E-3},{"$f":"投入係数表!AB37*移輸入係数!$E37","v":3.1222396168144161E-2},{"$f":"投入係数表!AC37*移輸入係数!$E37","v":4.2559530697921941E-2},{"$f":"投入係数表!AD37*移輸入係数!$E37","v":3.6169772463215399E-3},{"$f":"投入係数表!AE37*移輸入係数!$E37","v":1.2364811977222272E-2},{"$f":"投入係数表!AF37*移輸入係数!$E37","v":8.8721559456288138E-2},{"$f":"投入係数表!AG37*移輸入係数!$E37","v":1.9209280367143824E-2},{"$f":"投入係数表!AH37*移輸入係数!$E37","v":1.692166022798226E-2},{"$f":"投入係数表!AI37*移輸入係数!$E37","v":1.3950926985274817E-2},{"$f":"投入係数表!AJ37*移輸入係数!$E37","v":4.1238636454934641E-2},{"$f":"投入係数表!AK37*移輸入係数!$E37","v":3.170191645417602E-2},{"$f":"投入係数表!AL37*移輸入係数!$E37","v":1.711498380879144E-2},{"$f":"投入係数表!AM37*移輸入係数!$E37","v":0},{"$f":"投入係数表!AN37*移輸入係数!$E37","v":3.0833786679479995E-2}]
[null,"61","公務　　　　　　　　",{"$f":"投入係数表!D38*移輸入係数!$E38","v":0},{"$f":"投入係数表!E38*移輸入係数!$E38","v":0},{"$f":"投入係数表!F38*移輸入係数!$E38","v":0},{"$f":"投入係数表!G38*移輸入係数!$E38","v":0},{"$f":"投入係数表!H38*移輸入係数!$E38","v":0},{"$f":"投入係数表!I38*移輸入係数!$E38","v":0},{"$f":"投入係数表!J38*移輸入係数!$E38","v":0},{"$f":"投入係数表!K38*移輸入係数!$E38","v":0},{"$f":"投入係数表!L38*移輸入係数!$E38","v":0},{"$f":"投入係数表!M38*移輸入係数!$E38","v":0},{"$f":"投入係数表!N38*移輸入係数!$E38","v":0},{"$f":"投入係数表!O38*移輸入係数!$E38","v":0},{"$f":"投入係数表!P38*移輸入係数!$E38","v":0},{"$f":"投入係数表!Q38*移輸入係数!$E38","v":0},{"$f":"投入係数表!R38*移輸入係数!$E38","v":0},{"$f":"投入係数表!S38*移輸入係数!$E38","v":0},{"$f":"投入係数表!T38*移輸入係数!$E38","v":0},{"$f":"投入係数表!U38*移輸入係数!$E38","v":0},{"$f":"投入係数表!V38*移輸入係数!$E38","v":0},{"$f":"投入係数表!W38*移輸入係数!$E38","v":0},{"$f":"投入係数表!X38*移輸入係数!$E38","v":0},{"$f":"投入係数表!Y38*移輸入係数!$E38","v":0},{"$f":"投入係数表!Z38*移輸入係数!$E38","v":0},{"$f":"投入係数表!AA38*移輸入係数!$E38","v":0},{"$f":"投入係数表!AB38*移輸入係数!$E38","v":0},{"$f":"投入係数表!AC38*移輸入係数!$E38","v":0},{"$f":"投入係数表!AD38*移輸入係数!$E38","v":0},{"$f":"投入係数表!AE38*移輸入係数!$E38","v":0},{"$f":"投入係数表!AF38*移輸入係数!$E38","v":0},{"$f":"投入係数表!AG38*移輸入係数!$E38","v":0},{"$f":"投入係数表!AH38*移輸入係数!$E38","v":0},{"$f":"投入係数表!AI38*移輸入係数!$E38","v":0},{"$f":"投入係数表!AJ38*移輸入係数!$E38","v":0},{"$f":"投入係数表!AK38*移輸入係数!$E38","v":0},{"$f":"投入係数表!AL38*移輸入係数!$E38","v":0},{"$f":"投入係数表!AM38*移輸入係数!$E38","v":0},{"$f":"投入係数表!AN38*移輸入係数!$E38","v":0.21197098283057447}]
[null,"63","教育・研究　　　　　",{"$f":"投入係数表!D39*移輸入係数!$E39","v":3.138897516120291E-4},{"$f":"投入係数表!E39*移輸入係数!$E39","v":9.1002611793268844E-4},{"$f":"投入係数表!F39*移輸入係数!$E39","v":3.5032074375575834E-3},{"$f":"投入係数表!G39*移輸入係数!$E39","v":8.8226260924999626E-3},{"$f":"投入係数表!H39*移輸入係数!$E39","v":4.795586186033019E-3},{"$f":"投入係数表!I39*移輸入係数!$E39","v":5.2195392239481317E-2},{"$f":"投入係数表!J39*移輸入係数!$E39","v":1.478545460105599E-3},{"$f":"投入係数表!K39*移輸入係数!$E39","v":1.7579327613003438E-2},{"$f":"投入係数表!L39*移輸入係数!$E39","v":8.758926844934763E-3},{"$f":"投入係数表!M39*移輸入係数!$E39","v":8.1621505748061488E-3},{"$f":"投入係数表!N39*移輸入係数!$E39","v":2.1461787186127373E-2},{"$f":"投入係数表!O39*移輸入係数!$E39","v":8.8324019363188646E-3},{"$f":"投入係数表!P39*移輸入係数!$E39","v":1.6692122902902326E-2},{"$f":"投入係数表!Q39*移輸入係数!$E39","v":2.641262622208379E-2},{"$f":"投入係数表!R39*移輸入係数!$E39","v":5.6006286820445679E-2},{"$f":"投入係数表!S39*移輸入係数!$E39","v":4.0205871536413959E-2},{"$f":"投入係数表!T39*移輸入係数!$E39","v":6.8157599471120101E-2},{"$f":"投入係数表!U39*移輸入係数!$E39","v":6.1569613667970133E-2},{"$f":"投入係数表!V39*移輸入係数!$E39","v":2.2858622148749907E-2},{"$f":"投入係数表!W39*移輸入係数!$E39","v":8.8890948978176416E-3},{"$f":"投入係数表!X39*移輸入係数!$E39","v":1.8731196716168857E-3},{"$f":"投入係数表!Y39*移輸入係数!$E39","v":1.097326320705381E-2},{"$f":"投入係数表!Z39*移輸入係数!$E39","v":1.1828783114294123E-4},{"$f":"投入係数表!AA39*移輸入係数!$E39","v":2.3598577546390977E-4},{"$f":"投入係数表!AB39*移輸入係数!$E39","v":2.0488839871682851E-3},{"$f":"投入係数表!AC39*移輸入係数!$E39","v":6.010087021843418E-4},{"$f":"投入係数表!AD39*移輸入係数!$E39","v":1.2072147831062133E-6},{"$f":"投入係数表!AE39*移輸入係数!$E39","v":2.7876373328307863E-3},{"$f":"投入係数表!AF39*移輸入係数!$E39","v":1.6576266416281769E-2},{"$f":"投入係数表!AG39*移輸入係数!$E39","v":1.1278394163577115E-4},{"$f":"投入係数表!AH39*移輸入係数!$E39","v":5.7225557303088705E-3},{"$f":"投入係数表!AI39*移輸入係数!$E39","v":3.6336002883807519E-3},{"$f":"投入係数表!AJ39*移輸入係数!$E39","v":0},{"$f":"投入係数表!AK39*移輸入係数!$E39","v":1.7208400495775124E-3},{"$f":"投入係数表!AL39*移輸入係数!$E39","v":6.6832342540125021E-4},{"$f":"投入係数表!AM39*移輸入係数!$E39","v":0},{"$f":"投入係数表!AN39*移輸入係数!$E39","v":1.6419264054712699E-2}]
[null,"64","医療・福祉",{"$f":"投入係数表!D40*移輸入係数!$E40","v":1.6603258154080753E-3},{"$f":"投入係数表!E40*移輸入係数!$E40","v":0},{"$f":"投入係数表!F40*移輸入係数!$E40","v":0},{"$f":"投入係数表!G40*移輸入係数!$E40","v":0},{"$f":"投入係数表!H40*移輸入係数!$E40","v":0},{"$f":"投入係数表!I40*移輸入係数!$E40","v":0},{"$f":"投入係数表!J40*移輸入係数!$E40","v":0},{"$f":"投入係数表!K40*移輸入係数!$E40","v":0},{"$f":"投入係数表!L40*移輸入係数!$E40","v":0},{"$f":"投入係数表!M40*移輸入係数!$E40","v":1.9652467521374404E-6},{"$f":"投入係数表!N40*移輸入係数!$E40","v":0},{"$f":"投入係数表!O40*移輸入係数!$E40","v":0},{"$f":"投入係数表!P40*移輸入係数!$E40","v":0},{"$f":"投入係数表!Q40*移輸入係数!$E40","v":0},{"$f":"投入係数表!R40*移輸入係数!$E40","v":0},{"$f":"投入係数表!S40*移輸入係数!$E40","v":0},{"$f":"投入係数表!T40*移輸入係数!$E40","v":0},{"$f":"投入係数表!U40*移輸入係数!$E40","v":0},{"$f":"投入係数表!V40*移輸入係数!$E40","v":0},{"$f":"投入係数表!W40*移輸入係数!$E40","v":0},{"$f":"投入係数表!X40*移輸入係数!$E40","v":0},{"$f":"投入係数表!Y40*移輸入係数!$E40","v":4.9481078724997637E-6},{"$f":"投入係数表!Z40*移輸入係数!$E40","v":1.5137558085486069E-4},{"$f":"投入係数表!AA40*移輸入係数!$E40","v":0},{"$f":"投入係数表!AB40*移輸入係数!$E40","v":1.3089189410325252E-5},{"$f":"投入係数表!AC40*移輸入係数!$E40","v":6.0323471901110905E-5},{"$f":"投入係数表!AD40*移輸入係数!$E40","v":5.1496657839764842E-6},{"$f":"投入係数表!AE40*移輸入係数!$E40","v":5.9707145925688894E-4},{"$f":"投入係数表!AF40*移輸入係数!$E40","v":2.4687774174671418E-4},{"$f":"投入係数表!AG40*移輸入係数!$E40","v":9.9539400316437524E-6},{"$f":"投入係数表!AH40*移輸入係数!$E40","v":2.8348190122230432E-5},{"$f":"投入係数表!AI40*移輸入係数!$E40","v":2.3729711301212569E-2},{"$f":"投入係数表!AJ40*移輸入係数!$E40","v":0},{"$f":"投入係数表!AK40*移輸入係数!$E40","v":6.2794338936976566E-6},{"$f":"投入係数表!AL40*移輸入係数!$E40","v":3.4742086449500919E-5},{"$f":"投入係数表!AM40*移輸入係数!$E40","v":0},{"$f":"投入係数表!AN40*移輸入係数!$E40","v":2.234415449086273E-3}]
[null,"65","その他の非営利団体サービス",{"$f":"投入係数表!D41*移輸入係数!$E41","v":4.1050724738143679E-4},{"$f":"投入係数表!E41*移輸入係数!$E41","v":1.4876732785923427E-3},{"$f":"投入係数表!F41*移輸入係数!$E41","v":5.2448015515253418E-4},{"$f":"投入係数表!G41*移輸入係数!$E41","v":6.555848346339137E-4},{"$f":"投入係数表!H41*移輸入係数!$E41","v":3.2665112954646298E-4},{"$f":"投入係数表!I41*移輸入係数!$E41","v":1.8485869322655362E-3},{"$f":"投入係数表!J41*移輸入係数!$E41","v":3.5878313380186103E-4},{"$f":"投入係数表!K41*移輸入係数!$E41","v":4.1851400889784577E-4},{"$f":"投入係数表!L41*移輸入係数!$E41","v":7.0630523750563892E-4},{"$f":"投入係数表!M41*移輸入係数!$E41","v":7.8891520302535093E-4},{"$f":"投入係数表!N41*移輸入係数!$E41","v":5.0678112641205301E-4},{"$f":"投入係数表!O41*移輸入係数!$E41","v":9.8041557162946934E-4},{"$f":"投入係数表!P41*移輸入係数!$E41","v":1.4571046495801712E-3},{"$f":"投入係数表!Q41*移輸入係数!$E41","v":7.4659842013022738E-4},{"$f":"投入係数表!R41*移輸入係数!$E41","v":7.8158222384872695E-4},{"$f":"投入係数表!S41*移輸入係数!$E41","v":3.9279027238087503E-4},{"$f":"投入係数表!T41*移輸入係数!$E41","v":5.6920174237553862E-4},{"$f":"投入係数表!U41*移輸入係数!$E41","v":7.7424209821388252E-4},{"$f":"投入係数表!V41*移輸入係数!$E41","v":0},{"$f":"投入係数表!W41*移輸入係数!$E41","v":6.9452150298924284E-4},{"$f":"投入係数表!X41*移輸入係数!$E41","v":8.8855551893304797E-4},{"$f":"投入係数表!Y41*移輸入係数!$E41","v":2.3134397645305097E-3},{"$f":"投入係数表!Z41*移輸入係数!$E41","v":6.3329357025933997E-3},{"$f":"投入係数表!AA41*移輸入係数!$E41","v":1.8260245869937996E-3},{"$f":"投入係数表!AB41*移輸入係数!$E41","v":3.8533280384638274E-4},{"$f":"投入係数表!AC41*移輸入係数!$E41","v":1.6287504665479754E-3},{"$f":"投入係数表!AD41*移輸入係数!$E41","v":2.9602576326522592E-4},{"$f":"投入係数表!AE41*移輸入係数!$E41","v":9.5019876560136429E-4},{"$f":"投入係数表!AF41*移輸入係数!$E41","v":8.9768603400675506E-4},{"$f":"投入係数表!AG41*移輸入係数!$E41","v":0},{"$f":"投入係数表!AH41*移輸入係数!$E41","v":7.9668376914917649E-4},{"$f":"投入係数表!AI41*移輸入係数!$E41","v":1.0505178239669118E-3},{"$f":"投入係数表!AJ41*移輸入係数!$E41","v":0},{"$f":"投入係数表!AK41*移輸入係数!$E41","v":1.4523021280115802E-3},{"$f":"投入係数表!AL41*移輸入係数!$E41","v":2.3476068794407146E-3},{"$f":"投入係数表!AM41*移輸入係数!$E41","v":0},{"$f":"投入係数表!AN41*移輸入係数!$E41","v":1.6261361053789532E-3}]
[null,"66","対事業所サービス",{"$f":"投入係数表!D42*移輸入係数!$E42","v":3.188741410297366E-2},{"$f":"投入係数表!E42*移輸入係数!$E42","v":3.4912266287809357E-2},{"$f":"投入係数表!F42*移輸入係数!$E42","v":1.8862844254065543E-2},{"$f":"投入係数表!G42*移輸入係数!$E42","v":3.8770367579275745E-2},{"$f":"投入係数表!H42*移輸入係数!$E42","v":3.935084924974272E-2},{"$f":"投入係数表!I42*移輸入係数!$E42","v":4.4021393532840201E-2},{"$f":"投入係数表!J42*移輸入係数!$E42","v":1.5129076323766611E-2},{"$f":"投入係数表!K42*移輸入係数!$E42","v":4.0071965232577174E-2},{"$f":"投入係数表!L42*移輸入係数!$E42","v":6.2232933402397807E-2},{"$f":"投入係数表!M42*移輸入係数!$E42","v":1.5307282472611358E-2},{"$f":"投入係数表!N42*移輸入係数!$E42","v":2.7701509179835798E-2},{"$f":"投入係数表!O42*移輸入係数!$E42","v":3.8967347928602611E-2},{"$f":"投入係数表!P42*移輸入係数!$E42","v":4.7499812160345552E-2},{"$f":"投入係数表!Q42*移輸入係数!$E42","v":4.0106279222822422E-2},{"$f":"投入係数表!R42*移輸入係数!$E42","v":3.0185584620475315E-2},{"$f":"投入係数表!S42*移輸入係数!$E42","v":3.4413430770923147E-2},{"$f":"投入係数表!T42*移輸入係数!$E42","v":4.3479815527395729E-2},{"$f":"投入係数表!U42*移輸入係数!$E42","v":3.4740426730185417E-2},{"$f":"投入係数表!V42*移輸入係数!$E42","v":1.6286191823267192E-2},{"$f":"投入係数表!W42*移輸入係数!$E42","v":3.5832329880035048E-2},{"$f":"投入係数表!X42*移輸入係数!$E42","v":9.471459090621441E-2},{"$f":"投入係数表!Y42*移輸入係数!$E42","v":6.0223074934280585E-2},{"$f":"投入係数表!Z42*移輸入係数!$E42","v":0.1258537976794277},{"$f":"投入係数表!AA42*移輸入係数!$E42","v":5.4573681755569509E-2},{"$f":"投入係数表!AB42*移輸入係数!$E42","v":5.8537892002843581E-2},{"$f":"投入係数表!AC42*移輸入係数!$E42","v":7.067313660132192E-2},{"$f":"投入係数表!AD42*移輸入係数!$E42","v":2.798176303674715E-2},{"$f":"投入係数表!AE42*移輸入係数!$E42","v":8.2116095691372223E-2},{"$f":"投入係数表!AF42*移輸入係数!$E42","v":0.11805526398122147},{"$f":"投入係数表!AG42*移輸入係数!$E42","v":5.7105417064217553E-2},{"$f":"投入係数表!AH42*移輸入係数!$E42","v":5.49757191003446E-2},{"$f":"投入係数表!AI42*移輸入係数!$E42","v":5.8870473497019807E-2},{"$f":"投入係数表!AJ42*移輸入係数!$E42","v":5.304000130883714E-2},{"$f":"投入係数表!AK42*移輸入係数!$E42","v":9.0860229904890719E-2},{"$f":"投入係数表!AL42*移輸入係数!$E42","v":3.2182724457743839E-2},{"$f":"投入係数表!AM42*移輸入係数!$E42","v":0},{"$f":"投入係数表!AN42*移輸入係数!$E42","v":5.9570849935149682E-2}]
[null,"67","対個人サービス",{"$f":"投入係数表!D43*移輸入係数!$E43","v":4.4792977235276449E-4},{"$f":"投入係数表!E43*移輸入係数!$E43","v":0},{"$f":"投入係数表!F43*移輸入係数!$E43","v":1.9526033970480141E-3},{"$f":"投入係数表!G43*移輸入係数!$E43","v":0},{"$f":"投入係数表!H43*移輸入係数!$E43","v":0},{"$f":"投入係数表!I43*移輸入係数!$E43","v":0},{"$f":"投入係数表!J43*移輸入係数!$E43","v":3.663068092230512E-5},{"$f":"投入係数表!K43*移輸入係数!$E43","v":0},{"$f":"投入係数表!L43*移輸入係数!$E43","v":3.1139119205686332E-5},{"$f":"投入係数表!M43*移輸入係数!$E43","v":7.1831284580174595E-5},{"$f":"投入係数表!N43*移輸入係数!$E43","v":0},{"$f":"投入係数表!O43*移輸入係数!$E43","v":0},{"$f":"投入係数表!P43*移輸入係数!$E43","v":0},{"$f":"投入係数表!Q43*移輸入係数!$E43","v":1.7241472521917296E-4},{"$f":"投入係数表!R43*移輸入係数!$E43","v":0},{"$f":"投入係数表!S43*移輸入係数!$E43","v":0},{"$f":"投入係数表!T43*移輸入係数!$E43","v":1.380202493440538E-4},{"$f":"投入係数表!U43*移輸入係数!$E43","v":0},{"$f":"投入係数表!V43*移輸入係数!$E43","v":0},{"$f":"投入係数表!W43*移輸入係数!$E43","v":0},{"$f":"投入係数表!X43*移輸入係数!$E43","v":1.3479890825041717E-4},{"$f":"投入係数表!Y43*移輸入係数!$E43","v":4.5980633695475241E-5},{"$f":"投入係数表!Z43*移輸入係数!$E43","v":1.5629644733968466E-4},{"$f":"投入係数表!AA43*移輸入係数!$E43","v":3.7417615629258053E-5},{"$f":"投入係数表!AB43*移輸入係数!$E43","v":4.964805067100977E-4},{"$f":"投入係数表!AC43*移輸入係数!$E43","v":1.0446800435827575E-4},{"$f":"投入係数表!AD43*移輸入係数!$E43","v":3.5028853126758199E-4},{"$f":"投入係数表!AE43*移輸入係数!$E43","v":4.9152970383120294E-4},{"$f":"投入係数表!AF43*移輸入係数!$E43","v":5.2475930140067099E-3},{"$f":"投入係数表!AG43*移輸入係数!$E43","v":2.2507767414474799E-4},{"$f":"投入係数表!AH43*移輸入係数!$E43","v":7.7564767421016694E-4},{"$f":"投入係数表!AI43*移輸入係数!$E43","v":1.3064275065870644E-2},{"$f":"投入係数表!AJ43*移輸入係数!$E43","v":1.312234126909731E-3},{"$f":"投入係数表!AK43*移輸入係数!$E43","v":6.640465858943665E-4},{"$f":"投入係数表!AL43*移輸入係数!$E43","v":9.8220306441245894E-3},{"$f":"投入係数表!AM43*移輸入係数!$E43","v":0},{"$f":"投入係数表!AN43*移輸入係数!$E43","v":2.0563811026229921E-3}]
[null,"68","事務用品",{"$f":"投入係数表!D44*移輸入係数!$E44","v":7.6804915514592934E-4},{"$f":"投入係数表!E44*移輸入係数!$E44","v":0},{"$f":"投入係数表!F44*移輸入係数!$E44","v":4.9740305145958962E-4},{"$f":"投入係数表!G44*移輸入係数!$E44","v":8.9206066012488853E-4},{"$f":"投入係数表!H44*移輸入係数!$E44","v":1.3334321060819319E-3},{"$f":"投入係数表!I44*移輸入係数!$E44","v":7.2813927318461636E-4},{"$f":"投入係数表!J44*移輸入係数!$E44","v":8.9931523568482856E-5},{"$f":"投入係数表!K44*移輸入係数!$E44","v":9.4912680334092639E-5},{"$f":"投入係数表!L44*移輸入係数!$E44","v":8.7370582324931194E-4},{"$f":"投入係数表!M44*移輸入係数!$E44","v":1.7250905886060329E-4},{"$f":"投入係数表!N44*移輸入係数!$E44","v":3.1826861871419476E-4},{"$f":"投入係数表!O44*移輸入係数!$E44","v":3.941543872415257E-4},{"$f":"投入係数表!P44*移輸入係数!$E44","v":7.2098053352559477E-4},{"$f":"投入係数表!Q44*移輸入係数!$E44","v":9.4333917881115074E-4},{"$f":"投入係数表!R44*移輸入係数!$E44","v":1.3673655423883319E-3},{"$f":"投入係数表!S44*移輸入係数!$E44","v":1.2471049349723855E-3},{"$f":"投入係数表!T44*移輸入係数!$E44","v":1.1617775196049957E-3},{"$f":"投入係数表!U44*移輸入係数!$E44","v":4.2140750105351877E-4},{"$f":"投入係数表!V44*移輸入係数!$E44","v":0},{"$f":"投入係数表!W44*移輸入係数!$E44","v":8.7234661238732192E-4},{"$f":"投入係数表!X44*移輸入係数!$E44","v":5.8903222006243742E-4},{"$f":"投入係数表!Y44*移輸入係数!$E44","v":8.3858524218986859E-5},{"$f":"投入係数表!Z44*移輸入係数!$E44","v":6.3588124369600492E-4},{"$f":"投入係数表!AA44*移輸入係数!$E44","v":3.2895888013998249E-3},{"$f":"投入係数表!AB44*移輸入係数!$E44","v":1.9127043591975019E-3},{"$f":"投入係数表!AC44*移輸入係数!$E44","v":2.7131270308238396E-3},{"$f":"投入係数表!AD44*移輸入係数!$E44","v":3.3835631336628279E-4},{"$f":"投入係数表!AE44*移輸入係数!$E44","v":2.6459656207309971E-3},{"$f":"投入係数表!AF44*移輸入係数!$E44","v":1.3076533198175368E-3},{"$f":"投入係数表!AG44*移輸入係数!$E44","v":2.4612217002759683E-3},{"$f":"投入係数表!AH44*移輸入係数!$E44","v":3.0345337330103068E-3},{"$f":"投入係数表!AI44*移輸入係数!$E44","v":1.8945465438320818E-3},{"$f":"投入係数表!AJ44*移輸入係数!$E44","v":3.0459231490159327E-3},{"$f":"投入係数表!AK44*移輸入係数!$E44","v":1.0625757228461966E-3},{"$f":"投入係数表!AL44*移輸入係数!$E44","v":1.7130997514273611E-3},{"$f":"投入係数表!AM44*移輸入係数!$E44","v":0},{"$f":"投入係数表!AN44*移輸入係数!$E44","v":1.4004425398425903E-4}]
[null,"69","分類不明",{"$f":"投入係数表!D45*移輸入係数!$E45","v":1.2655883361037708E-2},{"$f":"投入係数表!E45*移輸入係数!$E45","v":3.9538592745877706E-3},{"$f":"投入係数表!F45*移輸入係数!$E45","v":9.8279499006214527E-4},{"$f":"投入係数表!G45*移輸入係数!$E45","v":1.3939029307021291E-3},{"$f":"投入係数表!H45*移輸入係数!$E45","v":3.1253618789215008E-3},{"$f":"投入係数表!I45*移輸入係数!$E45","v":1.3963480506904529E-3},{"$f":"投入係数表!J45*移輸入係数!$E45","v":1.7063612517434176E-3},{"$f":"投入係数表!K45*移輸入係数!$E45","v":1.6313797492870116E-3},{"$f":"投入係数表!L45*移輸入係数!$E45","v":5.3243669763108981E-3},{"$f":"投入係数表!M45*移輸入係数!$E45","v":2.3252597118885417E-3},{"$f":"投入係数表!N45*移輸入係数!$E45","v":1.7406041211361566E-3},{"$f":"投入係数表!O45*移輸入係数!$E45","v":2.9847070121574331E-3},{"$f":"投入係数表!P45*移輸入係数!$E45","v":8.3085207222159448E-3},{"$f":"投入係数表!Q45*移輸入係数!$E45","v":7.7386520334685504E-3},{"$f":"投入係数表!R45*移輸入係数!$E45","v":2.1365977921382227E-3},{"$f":"投入係数表!S45*移輸入係数!$E45","v":1.5311078780053406E-3},{"$f":"投入係数表!T45*移輸入係数!$E45","v":3.2525076468503601E-3},{"$f":"投入係数表!U45*移輸入係数!$E45","v":4.1154793123606374E-3},{"$f":"投入係数表!V45*移輸入係数!$E45","v":1.4187940544646673E-3},{"$f":"投入係数表!W45*移輸入係数!$E45","v":1.3914963303383479E-3},{"$f":"投入係数表!X45*移輸入係数!$E45","v":1.3648581547266401E-2},{"$f":"投入係数表!Y45*移輸入係数!$E45","v":2.4594150881957462E-3},{"$f":"投入係数表!Z45*移輸入係数!$E45","v":6.355651490512643E-3},{"$f":"投入係数表!AA45*移輸入係数!$E45","v":1.8045372218884993E-3},{"$f":"投入係数表!AB45*移輸入係数!$E45","v":5.1848201877851387E-3},{"$f":"投入係数表!AC45*移輸入係数!$E45","v":2.7089951952943407E-3},{"$f":"投入係数表!AD45*移輸入係数!$E45","v":4.6072759322002728E-3},{"$f":"投入係数表!AE45*移輸入係数!$E45","v":6.5568254948109818E-3},{"$f":"投入係数表!AF45*移輸入係数!$E45","v":4.1895437558679112E-3},{"$f":"投入係数表!AG45*移輸入係数!$E45","v":5.6436891928566938E-4},{"$f":"投入係数表!AH45*移輸入係数!$E45","v":8.6267354808804795E-3},{"$f":"投入係数表!AI45*移輸入係数!$E45","v":3.0034644005493107E-3},{"$f":"投入係数表!AJ45*移輸入係数!$E45","v":2.2751233619391241E-3},{"$f":"投入係数表!AK45*移輸入係数!$E45","v":5.9429564253767192E-3},{"$f":"投入係数表!AL45*移輸入係数!$E45","v":1.9149950451876282E-3},{"$f":"投入係数表!AM45*移輸入係数!$E45","v":8.6023285220539398E-4},{"$f":"投入係数表!AN45*移輸入係数!$E45","v":0}]

{"sheet":"単位行列マイナス市内品投入係数","index":10,"n_rows":45,"n_cols":40,"rows_kept":45,"cut":false,"hidden":true,"merged":[]}
[]
[]
[]
[]
[]
[]
[null,null,null,"01","06","11","15","16","20","21","22","25","26","27","28","29","30","31","32","33","34","35","39","41","46","47","48","51","53","55","57","59","61","63","64","65","66","67","68","69"]
[null,null,null,"農林水産業　　　　　","鉱業","飲食料品　　　　　　　","繊維製品　","パルプ・紙・木製品","化学製品  　　　  　","石油・石炭製品　　　","プラスチック・ゴム","窯業・土石製品　　","鉄鋼　　　　　　　　","非鉄金属　　　　　　","金属製品　　　　　　","はん用機械","生産用機械","業務用機械","電子部品","電気機械　　　　　　","情報・通信機器","輸送機械  　　　　　","その他の製造工業製品","建設　　　　　　　　","電力・ガス・熱供給","水道","廃棄物処理","商業　　　　　　　　","金融・保険　　　　　","不動産　　　　　　　","運輸・郵便　　　","情報通信","公務　　　　　　　　","教育・研究　　　　　","医療・福祉","その他の非営利団体サービス","対事業所サービス","対個人サービス","事務用品","分類不明"]
[null,"01","農林水産業　　　　　",{"$f":"単位行列!D9-市内品投入係数表!D9","v":0.99471540184270624},{"$f":"単位行列!E9-市内品投入係数表!E9","v":0},{"$f":"単位行列!F9-市内品投入係数表!F9","v":-2.0401146030192104E-2},{"$f":"単位行列!G9-市内品投入係数表!G9","v":-3.0573516829822953E-4},{"$f":"単位行列!H9-市内品投入係数表!H9","v":-3.0890221531655452E-4},{"$f":"単位行列!I9-市内品投入係数表!I9","v":-5.2935810455113685E-5},{"$f":"単位行列!J9-市内品投入係数表!J9","v":0},{"$f":"単位行列!K9-市内品投入係数表!K9","v":-3.5240118068290458E-4},{"$f":"単位行列!L9-市内品投入係数表!L9","v":-1.9962962076059897E-5},{"$f":"単位行列!M9-市内品投入係数表!M9","v":0},{"$f":"単位行列!N9-市内品投入係数表!N9","v":0},{"$f":"単位行列!O9-市内品投入係数表!O9","v":0},{"$f":"単位行列!P9-市内品投入係数表!P9","v":0},{"$f":"単位行列!Q9-市内品投入係数表!Q9","v":0},{"$f":"単位行列!R9-市内品投入係数表!R9","v":0},{"$f":"単位行列!S9-市内品投入係数表!S9","v":0},{"$f":"単位行列!T9-市内品投入係数表!T9","v":0},{"$f":"単位行列!U9-市内品投入係数表!U9","v":0},{"$f":"単位行列!V9-市内品投入係数表!V9","v":0},{"$f":"単位行列!W9-市内品投入係数表!W9","v":-1.3059550910123846E-3},{"$f":"単位行列!X9-市内品投入係数表!X9","v":-4.6042464134759201E-5},{"$f":"単位行列!Y9-市内品投入係数表!Y9","v":0},{"$f":"単位行列!Z9-市内品投入係数表!Z9","v":0},{"$f":"単位行列!AA9-市内品投入係数表!AA9","v":0},{"$f":"単位行列!AB9-市内品投入係数表!AB9","v":-4.7849597726485419E-6},{"$f":"単位行列!AC9-市内品投入係数表!AC9","v":0},{"$f":"単位行列!AD9-市内品投入係数表!AD9","v":-7.6696139395263136E-8},{"$f":"単位行列!AE9-市内品投入係数表!AE9","v":-7.4600977166316957E-6},{"$f":"単位行列!AF9-市内品投入係数表!AF9","v":0},{"$f":"単位行列!AG9-市内品投入係数表!AG9","v":-2.4708036217757951E-7},{"$f":"単位行列!AH9-市内品投入係数表!AH9","v":-5.2540634076813701E-5},{"$f":"単位行列!AI9-市内品投入係数表!AI9","v":-1.0401668510323418E-4},{"$f":"単位行列!AJ9-市内品投入係数表!AJ9","v":-8.603790425315856E-5},{"$f":"単位行列!AK9-市内品投入係数表!AK9","v":-3.7408900494702442E-7},{"$f":"単位行列!AL9-市内品投入係数表!AL9","v":-1.2374150685720731E-3},{"$f":"単位行列!AM9-市内品投入係数表!AM9","v":0},{"$f":"単位行列!AN9-市内品投入係数表!AN9","v":0}]
[null,"06","鉱業",{"$f":"単位行列!D10-市内品投入係数表!D10","v":0},{"$f":"単位行列!E10-市内品投入係数表!E10","v":1},{"$f":"単位行列!F10-市内品投入係数表!F10","v":-2.7813038520693921E-8},{"$f":"単位行列!G10-市内品投入係数表!G10","v":0},{"$f":"単位行列!H10-市内品投入係数表!H10","v":0},{"$f":"単位行列!I10-市内品投入係数表!I10","v":-1.522148812885095E-5},{"$f":"単位行列!J10-市内品投入係数表!J10","v":-1.1272597758864779E-3},{"$f":"単位行列!K10-市内品投入係数表!K10","v":0},{"$f":"単位行列!L10-市内品投入係数表!L10","v":-1.4043442444382448E-4},{"$f":"単位行列!M10-市内品投入係数表!M10","v":-1.2190941795933308E-4},{"$f":"単位行列!N10-市内品投入係数表!N10","v":-9.8236501848756726E-7},{"$f":"単位行列!O10-市内品投入係数表!O10","v":-3.74336412356793E-7},{"$f":"単位行列!P10-市内品投入係数表!P10","v":0},{"$f":"単位行列!Q10-市内品投入係数表!Q10","v":0},{"$f":"単位行列!R10-市内品投入係数表!R10","v":-2.3447211243451355E-7},{"$f":"単位行列!S10-市内品投入係数表!S10","v":0},{"$f":"単位行列!T10-市内品投入係数表!T10","v":0},{"$f":"単位行列!U10-市内品投入係数表!U10","v":0},{"$f":"単位行列!V10-市内品投入係数表!V10","v":0},{"$f":"単位行列!W10-市内品投入係数表!W10","v":-2.8608631741146548E-6},{"$f":"単位行列!X10-市内品投入係数表!X10","v":-1.1970762923825761E-5},{"$f":"単位行列!Y10-市内品投入係数表!Y10","v":-6.2103945663414379E-4},{"$f":"単位行列!Z10-市内品投入係数表!Z10","v":0},{"$f":"単位行列!AA10-市内品投入係数表!AA10","v":0},{"$f":"単位行列!AB10-市内品投入係数表!AB10","v":0},{"$f":"単位行列!AC10-市内品投入係数表!AC10","v":0},{"$f":"単位行列!AD10-市内品投入係数表!AD10","v":0},{"$f":"単位行列!AE10-市内品投入係数表!AE10","v":-4.0311023569310152E-9},{"$f":"単位行列!AF10-市内品投入係数表!AF10","v":0},{"$f":"単位行列!AG10-市内品投入係数表!AG10","v":0},{"$f":"単位行列!AH10-市内品投入係数表!AH10","v":-3.8023129241833902E-8},{"$f":"単位行列!AI10-市内品投入係数表!AI10","v":0},{"$f":"単位行列!AJ10-市内品投入係数表!AJ10","v":0},{"$f":"単位行列!AK10-市内品投入係数表!AK10","v":0},{"$f":"単位行列!AL10-市内品投入係数表!AL10","v":1.2335081064871079E-8},{"$f":"単位行列!AM10-市内品投入係数表!AM10","v":0},{"$f":"単位行列!AN10-市内品投入係数表!AN10","v":-1.2967779548306599E-7}]
[null,"11","飲食料品　　　　　　　",{"$f":"単位行列!D11-市内品投入係数表!D11","v":-1.2419014087271684E-2},{"$f":"単位行列!E11-市内品投入係数表!E11","v":0},{"$f":"単位行列!F11-市内品投入係数表!F11","v":0.94653692037083759},{"$f":"単位行列!G11-市内品投入係数表!G11","v":-2.2315960076572312E-4},{"$f":"単位行列!H11-市内品投入係数表!H11","v":-2.7797827149237975E-4},{"$f":"単位行列!I11-市内品投入係数表!I11","v":-1.639374418043237E-3},{"$f":"単位行列!J11-市内品投入係数表!J11","v":0},{"$f":"単位行列!K11-市内品投入係数表!K11","v":0},{"$f":"単位行列!L11-市内品投入係数表!L11","v":-2.5135310762057749E-4},{"$f":"単位行列!M11-市内品投入係数表!M11","v":0},{"$f":"単位行列!N11-市内品投入係数表!N11","v":0},{"$f":"単位行列!O11-市内品投入係数表!O11","v":0},{"$f":"単位行列!P11-市内品投入係数表!P11","v":0},{"$f":"単位行列!Q11-市内品投入係数表!Q11","v":0},{"$f":"単位行列!R11-市内品投入係数表!R11","v":0},{"$f":"単位行列!S11-市内品投入係数表!S11","v":0},{"$f":"単位行列!T11-市内品投入係数表!T11","v":0},{"$f":"単位行列!U11-市内品投入係数表!U11","v":0},{"$f":"単位行列!V11-市内品投入係数表!V11","v":0},{"$f":"単位行列!W11-市内品投入係数表!W11","v":-1.7276375169777319E-4},{"$f":"単位行列!X11-市内品投入係数表!X11","v":-7.7554435089695842E-7},{"$f":"単位行列!Y11-市内品投入係数表!Y11","v":0},{"$f":"単位行列!Z11-市内品投入係数表!Z11","v":0},{"$f":"単位行列!AA11-市内品投入係数表!AA11","v":0},{"$f":"単位行列!AB11-市内品投入係数表!AB11","v":-2.8328841827976703E-5},{"$f":"単位行列!AC11-市内品投入係数表!AC11","v":0},{"$f":"単位行列!AD11-市内品投入係数表!AD11","v":0},{"$f":"単位行列!AE11-市内品投入係数表!AE11","v":-1.7773167920521294E-4},{"$f":"単位行列!AF11-市内品投入係数表!AF11","v":0},{"$f":"単位行列!AG11-市内品投入係数表!AG11","v":-5.5186116526853511E-5},{"$f":"単位行列!AH11-市内品投入係数表!AH11","v":-2.9584293839778335E-4},{"$f":"単位行列!AI11-市内品投入係数表!AI11","v":-1.9720251871557805E-3},{"$f":"単位行列!AJ11-市内品投入係数表!AJ11","v":-8.0384066126670437E-4},{"$f":"単位行列!AK11-市内品投入係数表!AK11","v":-1.228733320303754E-6},{"$f":"単位行列!AL11-市内品投入係数表!AL11","v":-3.5103966050206457E-2},{"$f":"単位行列!AM11-市内品投入係数表!AM11","v":0},{"$f":"単位行列!AN11-市内品投入係数表!AN11","v":-3.2231039333068028E-4}]
[null,"15","繊維製品　",{"$f":"単位行列!D12-市内品投入係数表!D12","v":-7.1368978331663618E-6},{"$f":"単位行列!E12-市内品投入係数表!E12","v":-1.2316205268773933E-5},{"$f":"単位行列!F12-市内品投入係数表!F12","v":-2.6841985910502673E-6},{"$f":"単位行列!G12-市内品投入係数表!G12","v":0.99937909625506027},{"$f":"単位行列!H12-市内品投入係数表!H12","v":-1.2980599718490295E-5},{"$f":"単位行列!I12-市内品投入係数表!I12","v":-1.2887705890565854E-6},{"$f":"単位行列!J12-市内品投入係数表!J12","v":-4.0646309717006671E-7},{"$f":"単位行列!K12-市内品投入係数表!K12","v":-6.0056697217969772E-6},{"$f":"単位行列!L12-市内品投入係数表!L12","v":-6.9105473973235065E-6},{"$f":"単位行列!M12-市内品投入係数表!M12","v":-1.2075372244699426E-6},{"$f":"単位行列!N12-市内品投入係数表!N12","v":-1.4200352096439116E-6},{"$f":"単位行列!O12-市内品投入係数表!O12","v":-3.6156214266683867E-6},{"$f":"単位行列!P12-市内品投入係数表!P12","v":-2.1932968286857686E-6},{"$f":"単位行列!Q12-市内品投入係数表!Q12","v":-1.9131564427904989E-6},{"$f":"単位行列!R12-市内品投入係数表!R12","v":-3.3277331282266125E-6},{"$f":"単位行列!S12-市内品投入係数表!S12","v":-1.0405909828368698E-5},{"$f":"単位行列!T12-市内品投入係数表!T12","v":-4.0054794015747306E-6},{"$f":"単位行列!U12-市内品投入係数表!U12","v":-3.0767157536153343E-6},{"$f":"単位行列!V12-市内品投入係数表!V12","v":0},{"$f":"単位行列!W12-市内品投入係数表!W12","v":-4.9537002407002342E-6},{"$f":"単位行列!X12-市内品投入係数表!X12","v":-8.2012273854294381E-6},{"$f":"単位行列!Y12-市内品投入係数表!Y12","v":-6.1225498334620949E-7},{"$f":"単位行列!Z12-市内品投入係数表!Z12","v":-1.5475328393672356E-6},{"$f":"単位行列!AA12-市内品投入係数表!AA12","v":-5.6211031542691909E-6},{"$f":"単位行列!AB12-市内品投入係数表!AB12","v":-8.3395831978173627E-6},{"$f":"単位行列!AC12-市内品投入係数表!AC12","v":-2.7751272002387967E-6},{"$f":"単位行列!AD12-市内品投入係数表!AD12","v":-6.862097699486465E-8},{"$f":"単位行列!AE12-市内品投入係数表!AE12","v":-8.0286395596193468E-6},{"$f":"単位行列!AF12-市内品投入係数表!AF12","v":-1.9365843856777875E-6},{"$f":"単位行列!AG12-市内品投入係数表!AG12","v":-8.8847410482322095E-6},{"$f":"単位行列!AH12-市内品投入係数表!AH12","v":-1.6788839283309428E-6},{"$f":"単位行列!AI12-市内品投入係数表!AI12","v":-7.616327927039429E-6},{"$f":"単位行列!AJ12-市内品投入係数表!AJ12","v":-3.3398369462277044E-5},{"$f":"単位行列!AK12-市内品投入係数表!AK12","v":-4.56629188354522E-6},{"$f":"単位行列!AL12-市内品投入係数表!AL12","v":-7.1063417955743503E-6},{"$f":"単位行列!AM12-市内品投入係数表!AM12","v":-4.7042057922111234E-5},{"$f":"単位行列!AN12-市内品投入係数表!AN12","v":-1.6359513728995743E-6}]
[null,"16","パルプ・紙・木製品",{"$f":"単位行列!D13-市内品投入係数表!D13","v":-5.8355866768677173E-4},{"$f":"単位行列!E13-市内品投入係数表!E13","v":-3.2287168304423869E-5},{"$f":"単位行列!F13-市内品投入係数表!F13","v":-1.0399796283381033E-4},{"$f":"単位行列!G13-市内品投入係数表!G13","v":-9.9597705617036333E-5},{"$f":"単位行列!H13-市内品投入係数表!H13","v":0.99596379541726143},{"$f":"単位行列!I13-市内品投入係数表!I13","v":-9.2909762396896429E-5},{"$f":"単位行列!J13-市内品投入係数表!J13","v":-1.6393089294176692E-6},{"$f":"単位行列!K13-市内品投入係数表!K13","v":-1.1959368168645082E-4},{"$f":"単位行列!L13-市内品投入係数表!L13","v":-1.3865809127319438E-4},{"$f":"単位行列!M13-市内品投入係数表!M13","v":-7.6006658827903838E-6},{"$f":"単位行列!N13-市内品投入係数表!N13","v":-5.4147629594348873E-5},{"$f":"単位行列!O13-市内品投入係数表!O13","v":-5.6096776803004834E-5},{"$f":"単位行列!P13-市内品投入係数表!P13","v":-8.6246545470721293E-6},{"$f":"単位行列!Q13-市内品投入係数表!Q13","v":-1.0416550785375958E-5},{"$f":"単位行列!R13-市内品投入係数表!R13","v":-1.8416734227002276E-4},{"$f":"単位行列!S13-市内品投入係数表!S13","v":-6.5356637497748806E-5},{"$f":"単位行列!T13-市内品投入係数表!T13","v":-1.9456699621846834E-4},{"$f":"単位行列!U13-市内品投入係数表!U13","v":-9.4099475766285494E-5},{"$f":"単位行列!V13-市内品投入係数表!V13","v":-2.8964638878423834E-5},{"$f":"単位行列!W13-市内品投入係数表!W13","v":-1.1478891051876663E-3},{"$f":"単位行列!X13-市内品投入係数表!X13","v":-8.4050476867547391E-4},{"$f":"単位行列!Y13-市内品投入係数表!Y13","v":-1.5124398237233523E-5},{"$f":"単位行列!Z13-市内品投入係数表!Z13","v":-2.6579604587582551E-5},{"$f":"単位行列!AA13-市内品投入係数表!AA13","v":-6.670195648346647E-5},{"$f":"単位行列!AB13-市内品投入係数表!AB13","v":-1.0050359498503724E-4},{"$f":"単位行列!AC13-市内品投入係数表!AC13","v":-4.7207999349046485E-5},{"$f":"単位行列!AD13-市内品投入係数表!AD13","v":-6.3176078705487556E-6},{"$f":"単位行列!AE13-市内品投入係数表!AE13","v":-7.2740435616851888E-5},{"$f":"単位行列!AF13-市内品投入係数表!AF13","v":-1.2643478371358717E-4},{"$f":"単位行列!AG13-市内品投入係数表!AG13","v":-1.8489712985039253E-5},{"$f":"単位行列!AH13-市内品投入係数表!AH13","v":-8.3636400767158646E-5},{"$f":"単位行列!AI13-市内品投入係数表!AI13","v":-7.6445469967655942E-5},{"$f":"単位行列!AJ13-市内品投入係数表!AJ13","v":-1.9272659902266453E-4},{"$f":"単位行列!AK13-市内品投入係数表!AK13","v":-4.2435122886106716E-5},{"$f":"単位行列!AL13-市内品投入係数表!AL13","v":-8.311845004304283E-5},{"$f":"単位行列!AM13-市内品投入係数表!AM13","v":-7.8129733317972971E-3},{"$f":"単位行列!AN13-市内品投入係数表!AN13","v":-3.43987706345034E-5}]
[null,"20","化学製品  　　　  　",{"$f":"単位行列!D14-市内品投入係数表!D14","v":-2.3358500790534227E-3},{"$f":"単位行列!E14-市内品投入係数表!E14","v":-5.0405103106583116E-4},{"$f":"単位行列!F14-市内品投入係数表!F14","v":-1.7284649166542635E-4},{"$f":"単位行列!G14-市内品投入係数表!G14","v":-1.9076547496768644E-3},{"$f":"単位行列!H14-市内品投入係数表!H14","v":-8.6587226530297854E-4},{"$f":"単位行列!I14-市内品投入係数表!I14","v":0.98831681233621516},{"$f":"単位行列!J14-市内品投入係数表!J14","v":-5.8334857305440994E-5},{"$f":"単位行列!K14-市内品投入係数表!K14","v":-5.7665428132641439E-3},{"$f":"単位行列!L14-市内品投入係数表!L14","v":-1.0161042496595752E-3},{"$f":"単位行列!M14-市内品投入係数表!M14","v":-1.3151674270089596E-4},{"$f":"単位行列!N14-市内品投入係数表!N14","v":-1.3674384008246159E-4},{"$f":"単位行列!O14-市内品投入係数表!O14","v":-3.384001282732626E-4},{"$f":"単位行列!P14-市内品投入係数表!P14","v":-7.9202216807282093E-5},{"$f":"単位行列!Q14-市内品投入係数表!Q14","v":-1.0132621803244046E-4},{"$f":"単位行列!R14-市内品投入係数表!R14","v":-4.8512220170466235E-4},{"$f":"単位行列!S14-市内品投入係数表!S14","v":-2.7660712202482872E-4},{"$f":"単位行列!T14-市内品投入係数表!T14","v":-3.6302306807622898E-4},{"$f":"単位行列!U14-市内品投入係数表!U14","v":-2.6541364869240691E-4},{"$f":"単位行列!V14-市内品投入係数表!V14","v":-3.0145424860353581E-4},{"$f":"単位行列!W14-市内品投入係数表!W14","v":-6.5484042791214166E-4},{"$f":"単位行列!X14-市内品投入係数表!X14","v":-1.4766872404768443E-4},{"$f":"単位行列!Y14-市内品投入係数表!Y14","v":-6.9161989716764257E-5},{"$f":"単位行列!Z14-市内品投入係数表!Z14","v":-2.4729838333555293E-4},{"$f":"単位行列!AA14-市内品投入係数表!AA14","v":-4.551759022175087E-4},{"$f":"単位行列!AB14-市内品投入係数表!AB14","v":-2.7265819296553006E-7},{"$f":"単位行列!AC14-市内品投入係数表!AC14","v":-5.2357739423844899E-7},{"$f":"単位行列!AD14-市内品投入係数表!AD14","v":-5.1132806061486981E-7},{"$f":"単位行列!AE14-市内品投入係数表!AE14","v":-1.0788880803976341E-5},{"$f":"単位行列!AF14-市内品投入係数表!AF14","v":-2.1009314643291888E-5},{"$f":"単位行列!AG14-市内品投入係数表!AG14","v":-2.0527497804994466E-5},{"$f":"単位行列!AH14-市内品投入係数表!AH14","v":-1.0753939297527755E-4},{"$f":"単位行列!AI14-市内品投入係数表!AI14","v":-3.1231271523487402E-3},{"$f":"単位行列!AJ14-市内品投入係数表!AJ14","v":-4.3143239945684934E-5},{"$f":"単位行列!AK14-市内品投入係数表!AK14","v":-8.4317281091137697E-5},{"$f":"単位行列!AL14-市内品投入係数表!AL14","v":-1.9019966119694149E-4},{"$f":"単位行列!AM14-市内品投入係数表!AM14","v":-5.1965594431764258E-4},{"$f":"単位行列!AN14-市内品投入係数表!AN14","v":-3.2984041926712793E-4}]
[null,"21","石油・石炭製品　　　",{"$f":"単位行列!D15-市内品投入係数表!D15","v":-6.1028925849471486E-4},{"$f":"単位行列!E15-市内品投入係数表!E15","v":-3.7428445329248817E-3},{"$f":"単位行列!F15-市内品投入係数表!F15","v":-5.213342833472012E-4},{"$f":"単位行列!G15-市内品投入係数表!G15","v":0},{"$f":"単位行列!H15-市内品投入係数表!H15","v":-1.9922986341236229E-4},{"$f":"単位行列!I15-市内品投入係数表!I15","v":-1.2016599259861973E-3},{"$f":"単位行列!J15-市内品投入係数表!J15","v":0.99446308337713285},{"$f":"単位行列!K15-市内品投入係数表!K15","v":-1.43582926014565E-4},{"$f":"単位行列!L15-市内品投入係数表!L15","v":-2.1698452999899739E-3},{"$f":"単位行列!M15-市内品投入係数表!M15","v":-3.9323488621243819E-3},{"$f":"単位行列!N15-市内品投入係数表!N15","v":-2.6302718485771609E-4},{"$f":"単位行列!O15-市内品投入係数表!O15","v":-3.5164800290317448E-4},{"$f":"単位行列!P15-市内品投入係数表!P15","v":-3.0296998087187709E-5},{"$f":"単位行列!Q15-市内品投入係数表!Q15","v":-9.2495524159655839E-5},{"$f":"単位行列!R15-市内品投入係数表!R15","v":-2.4260613509318073E-4},{"$f":"単位行列!S15-市内品投入係数表!S15","v":-1.3475767935947416E-4},{"$f":"単位行列!T15-市内品投入係数表!T15","v":-1.3018704260835893E-4},{"$f":"単位行列!U15-市内品投入係数表!U15","v":0},{"$f":"単位行列!V15-市内品投入係数表!V15","v":-1.0174802989571273E-4},{"$f":"単位行列!W15-市内品投入係数表!W15","v":-2.7798751145467955E-4},{"$f":"単位行列!X15-市内品投入係数表!X15","v":-6.070820998586037E-4},{"$f":"単位行列!Y15-市内品投入係数表!Y15","v":-5.9250271551394432E-3},{"$f":"単位行列!Z15-市内品投入係数表!Z15","v":-1.1996790142459769E-3},{"$f":"単位行列!AA15-市内品投入係数表!AA15","v":-1.2602904444205935E-3},{"$f":"単位行列!AB15-市内品投入係数表!AB15","v":-1.6231556907818524E-4},{"$f":"単位行列!AC15-市内品投入係数表!AC15","v":-3.2445775889761753E-5},{"$f":"単位行列!AD15-市内品投入係数表!AD15","v":-5.2698309088535253E-5},{"$f":"単位行列!AE15-市内品投入係数表!AE15","v":-4.3110004047622087E-3},{"$f":"単位行列!AF15-市内品投入係数表!AF15","v":-6.8368178243103511E-5},{"$f":"単位行列!AG15-市内品投入係数表!AG15","v":-4.9186092477395186E-4},{"$f":"単位行列!AH15-市内品投入係数表!AH15","v":-6.2464340974781036E-4},{"$f":"単位行列!AI15-市内品投入係数表!AI15","v":-2.899618064856989E-4},{"$f":"単位行列!AJ15-市内品投入係数表!AJ15","v":-3.0943988473438406E-4},{"$f":"単位行列!AK15-市内品投入係数表!AK15","v":-2.0406212254001847E-4},{"$f":"単位行列!AL15-市内品投入係数表!AL15","v":-5.4052402384745398E-4},{"$f":"単位行列!AM15-市内品投入係数表!AM15","v":0},{"$f":"単位行列!AN15-市内品投入係数表!AN15","v":-2.6129092426458046E-3}]
[null,"22","プラスチック・ゴム",{"$f":"単位行列!D16-市内品投入係数表!D16","v":-4.0350569023440568E-4},{"$f":"単位行列!E16-市内品投入係数表!E16","v":-1.3926664005053878E-4},{"$f":"単位行列!F16-市内品投入係数表!F16","v":-4.0055813910746911E-4},{"$f":"単位行列!G16-市内品投入係数表!G16","v":-9.0011884868822808E-4},{"$f":"単位行列!H16-市内品投入係数表!H16","v":-1.0125056480786191E-3},{"$f":"単位行列!I16-市内品投入係数表!I16","v":-4.4325884896648612E-4},{"$f":"単位行列!J16-市内品投入係数表!J16","v":-2.9462303782248442E-6},{"$f":"単位行列!K16-市内品投入係数表!K16","v":0.98910398040856928},{"$f":"単位行列!L16-市内品投入係数表!L16","v":-1.7231237708872744E-4},{"$f":"単位行列!M16-市内品投入係数表!M16","v":-3.3881250548340101E-5},{"$f":"単位行列!N16-市内品投入係数表!N16","v":-6.5688466121864575E-5},{"$f":"単位行列!O16-市内品投入係数表!O16","v":-1.613109280103506E-4},{"$f":"単位行列!P16-市内品投入係数表!P16","v":-5.3735301754659944E-4},{"$f":"単位行列!Q16-市内品投入係数表!Q16","v":-1.6113956754536427E-3},{"$f":"単位行列!R16-市内品投入係数表!R16","v":-3.1078479897189214E-3},{"$f":"単位行列!S16-市内品投入係数表!S16","v":-8.4163729188805919E-4},{"$f":"単位行列!T16-市内品投入係数表!T16","v":-1.8028124307029568E-3},{"$f":"単位行列!U16-市内品投入係数表!U16","v":-9.4706792781664329E-4},{"$f":"単位行列!V16-市内品投入係数表!V16","v":-1.2215898660768809E-3},{"$f":"単位行列!W16-市内品投入係数表!W16","v":-1.7354469979778467E-3},{"$f":"単位行列!X16-市内品投入係数表!X16","v":-5.8667483764550474E-4},{"$f":"単位行列!Y16-市内品投入係数表!Y16","v":0},{"$f":"単位行列!Z16-市内品投入係数表!Z16","v":-1.1917335207236605E-3},{"$f":"単位行列!AA16-市内品投入係数表!AA16","v":-5.0720512285679336E-4},{"$f":"単位行列!AB16-市内品投入係数表!AB16","v":-1.8178517529771385E-4},{"$f":"単位行列!AC16-市内品投入係数表!AC16","v":-9.2795639991017845E-5},{"$f":"単位行列!AD16-市内品投入係数表!AD16","v":-2.3339725358599219E-5},{"$f":"単位行列!AE16-市内品投入係数表!AE16","v":-9.9553965376433023E-5},{"$f":"単位行列!AF16-市内品投入係数表!AF16","v":-1.5145029464607351E-4},{"$f":"単位行列!AG16-市内品投入係数表!AG16","v":-5.5350998565673112E-5},{"$f":"単位行列!AH16-市内品投入係数表!AH16","v":-1.307042741027567E-4},{"$f":"単位行列!AI16-市内品投入係数表!AI16","v":-8.9062983760486561E-5},{"$f":"単位行列!AJ16-市内品投入係数表!AJ16","v":-1.8115167094715951E-4},{"$f":"単位行列!AK16-市内品投入係数表!AK16","v":-3.5608979678128464E-4},{"$f":"単位行列!AL16-市内品投入係数表!AL16","v":-9.6778669797124584E-5},{"$f":"単位行列!AM16-市内品投入係数表!AM16","v":-2.5474402547895469E-3},{"$f":"単位行列!AN16-市内品投入係数表!AN16","v":-3.6355030506018022E-4}]
[null,"25","窯業・土石製品　　",{"$f":"単位行列!D17-市内品投入係数表!D17","v":-1.6001708601329093E-3},{"$f":"単位行列!E17-市内品投入係数表!E17","v":0},{"$f":"単位行列!F17-市内品投入係数表!F17","v":-1.9733100882097688E-4},{"$f":"単位行列!G17-市内品投入係数表!G17","v":-3.7859132155191347E-4},{"$f":"単位行列!H17-市内品投入係数表!H17","v":-3.7412922219204163E-3},{"$f":"単位行列!I17-市内品投入係数表!I17","v":-3.2306943945101555E-3},{"$f":"単位行列!J17-市内品投入係数表!J17","v":-7.3607818450169998E-4},{"$f":"単位行列!K17-市内品投入係数表!K17","v":-1.8932081395791251E-3},{"$f":"単位行列!L17-市内品投入係数表!L17","v":0.96232656630089997},{"$f":"単位行列!M17-市内品投入係数表!M17","v":-1.6085112447195799E-3},{"$f":"単位行列!N17-市内品投入係数表!N17","v":-5.8531840960916975E-4},{"$f":"単位行列!O17-市内品投入係数表!O17","v":-3.0238980290166854E-3},{"$f":"単位行列!P17-市内品投入係数表!P17","v":-4.1307943509054663E-3},{"$f":"単位行列!Q17-市内品投入係数表!Q17","v":-1.4936282710863063E-3},{"$f":"単位行列!R17-市内品投入係数表!R17","v":-2.7081185963699771E-3},{"$f":"単位行列!S17-市内品投入係数表!S17","v":-1.1795213958259828E-2},{"$f":"単位行列!T17-市内品投入係数表!T17","v":-3.533592307632275E-3},{"$f":"単位行列!U17-市内品投入係数表!U17","v":-8.9422855343382845E-4},{"$f":"単位行列!V17-市内品投入係数表!V17","v":-7.70703761730681E-4},{"$f":"単位行列!W17-市内品投入係数表!W17","v":-1.5580287880717211E-3},{"$f":"単位行列!X17-市内品投入係数表!X17","v":-2.1879019266013981E-2},{"$f":"単位行列!Y17-市内品投入係数表!Y17","v":-3.5589630757861958E-5},{"$f":"単位行列!Z17-市内品投入係数表!Z17","v":-1.9542205632271182E-3},{"$f":"単位行列!AA17-市内品投入係数表!AA17","v":-2.4506087065914148E-4},{"$f":"単位行列!AB17-市内品投入係数表!AB17","v":-8.0319476415537406E-5},{"$f":"単位行列!AC17-市内品投入係数表!AC17","v":-4.5511995109189425E-6},{"$f":"単位行列!AD17-市内品投入係数表!AD17","v":-1.9374429701279212E-5},{"$f":"単位行列!AE17-市内品投入係数表!AE17","v":-2.3279321244919234E-5},{"$f":"単位行列!AF17-市内品投入係数表!AF17","v":-1.0755217218948173E-6},{"$f":"単位行列!AG17-市内品投入係数表!AG17","v":-8.6280488258829086E-5},{"$f":"単位行列!AH17-市内品投入係数表!AH17","v":-8.5915340873662222E-4},{"$f":"単位行列!AI17-市内品投入係数表!AI17","v":-3.1225134144593732E-4},{"$f":"単位行列!AJ17-市内品投入係数表!AJ17","v":-7.1027057079209899E-5},{"$f":"単位行列!AK17-市内品投入係数表!AK17","v":-3.7799874598721975E-4},{"$f":"単位行列!AL17-市内品投入係数表!AL17","v":-5.0881564903798051E-4},{"$f":"単位行列!AM17-市内品投入係数表!AM17","v":-3.686378991147338E-3},{"$f":"単位行列!AN17-市内品投入係数表!AN17","v":-3.387789495729016E-3}]
[null,"26","鉄鋼　　　　　　　　",{"$f":"単位行列!D18-市内品投入係数表!D18","v":0},{"$f":"単位行列!E18-市内品投入係数表!E18","v":0},{"$f":"単位行列!F18-市内品投入係数表!F18","v":0},{"$f":"単位行列!G18-市内品投入係数表!G18","v":0},{"$f":"単位行列!H18-市内品投入係数表!H18","v":-1.9567432484946135E-2},{"$f":"単位行列!I18-市内品投入係数表!I18","v":-1.0996642029593007E-4},{"$f":"単位行列!J18-市内品投入係数表!J18","v":0},{"$f":"単位行列!K18-市内品投入係数表!K18","v":-6.3069958671625498E-4},{"$f":"単位行列!L18-市内品投入係数表!L18","v":-6.0961106006068629E-3},{"$f":"単位行列!M18-市内品投入係数表!M18","v":0.56487640956585294},{"$f":"単位行列!N18-市内品投入係数表!N18","v":0},{"$f":"単位行列!O18-市内品投入係数表!O18","v":-0.21630867485758559},{"$f":"単位行列!P18-市内品投入係数表!P18","v":-6.1234359135448967E-2},{"$f":"単位行列!Q18-市内品投入係数表!Q18","v":-6.6040642588216639E-2},{"$f":"単位行列!R18-市内品投入係数表!R18","v":-1.1736359173593683E-2},{"$f":"単位行列!S18-市内品投入係数表!S18","v":-2.0717689256857844E-3},{"$f":"単位行列!T18-市内品投入係数表!T18","v":-2.8548178069066149E-2},{"$f":"単位行列!U18-市内品投入係数表!U18","v":-4.5504456907581124E-3},{"$f":"単位行列!V18-市内品投入係数表!V18","v":-4.474951008339733E-2},{"$f":"単位行列!W18-市内品投入係数表!W18","v":-1.1472808780460051E-3},{"$f":"単位行列!X18-市内品投入係数表!X18","v":-7.6969681029850443E-3},{"$f":"単位行列!Y18-市内品投入係数表!Y18","v":0},{"$f":"単位行列!Z18-市内品投入係数表!Z18","v":-2.3677164461187127E-4},{"$f":"単位行列!AA18-市内品投入係数表!AA18","v":0},{"$f":"単位行列!AB18-市内品投入係数表!AB18","v":0},{"$f":"単位行列!AC18-市内品投入係数表!AC18","v":0},{"$f":"単位行列!AD18-市内品投入係数表!AD18","v":0},{"$f":"単位行列!AE18-市内品投入係数表!AE18","v":-6.2918892705059529E-5},{"$f":"単位行列!AF18-市内品投入係数表!AF18","v":0},{"$f":"単位行列!AG18-市内品投入係数表!AG18","v":-3.5929137391767143E-6},{"$f":"単位行列!AH18-市内品投入係数表!AH18","v":0},{"$f":"単位行列!AI18-市内品投入係数表!AI18","v":0},{"$f":"単位行列!AJ18-市内品投入係数表!AJ18","v":0},{"$f":"単位行列!AK18-市内品投入係数表!AK18","v":-1.3055537206147803E-4},{"$f":"単位行列!AL18-市内品投入係数表!AL18","v":-2.2129927978017648E-5},{"$f":"単位行列!AM18-市内品投入係数表!AM18","v":0},{"$f":"単位行列!AN18-市内品投入係数表!AN18","v":-6.6305334671039606E-3}]
[null,"27","非鉄金属　　　　　　",{"$f":"単位行列!D19-市内品投入係数表!D19","v":0},{"$f":"単位行列!E19-市内品投入係数表!E19","v":0},{"$f":"単位行列!F19-市内品投入係数表!F19","v":-2.7165725408777861E-5},{"$f":"単位行列!G19-市内品投入係数表!G19","v":0},{"$f":"単位行列!H19-市内品投入係数表!H19","v":-2.9267257043167358E-4},{"$f":"単位行列!I19-市内品投入係数表!I19","v":-3.3796468307977612E-4},{"$f":"単位行列!J19-市内品投入係数表!J19","v":0},{"$f":"単位行列!K19-市内品投入係数表!K19","v":-1.1537839577878517E-4},{"$f":"単位行列!L19-市内品投入係数表!L19","v":-4.3546107985615744E-4},{"$f":"単位行列!M19-市内品投入係数表!M19","v":-5.9698910088272765E-4},{"$f":"単位行列!N19-市内品投入係数表!N19","v":0.96466028773382395},{"$f":"単位行列!O19-市内品投入係数表!O19","v":-2.5855381259917054E-3},{"$f":"単位行列!P19-市内品投入係数表!P19","v":-1.5775978372498233E-3},{"$f":"単位行列!Q19-市内品投入係数表!Q19","v":-8.527103237548077E-4},{"$f":"単位行列!R19-市内品投入係数表!R19","v":-3.0381434969417903E-3},{"$f":"単位行列!S19-市内品投入係数表!S19","v":-1.3210980483421007E-3},{"$f":"単位行列!T19-市内品投入係数表!T19","v":-4.4133995713232657E-3},{"$f":"単位行列!U19-市内品投入係数表!U19","v":-2.0106764025944902E-3},{"$f":"単位行列!V19-市内品投入係数表!V19","v":-1.0669847627068139E-3},{"$f":"単位行列!W19-市内品投入係数表!W19","v":-6.6940773791683626E-4},{"$f":"単位行列!X19-市内品投入係数表!X19","v":-5.4306234347719024E-4},{"$f":"単位行列!Y19-市内品投入係数表!Y19","v":-5.8811923614170827E-6},{"$f":"単位行列!Z19-市内品投入係数表!Z19","v":-9.3292411584845884E-6},{"$f":"単位行列!AA19-市内品投入係数表!AA19","v":-1.063540488123605E-6},{"$f":"単位行列!AB19-市内品投入係数表!AB19","v":-5.6572618912284611E-7},{"$f":"単位行列!AC19-市内品投入係数表!AC19","v":0},{"$f":"単位行列!AD19-市内品投入係数表!AD19","v":0},{"$f":"単位行列!AE19-市内品投入係数表!AE19","v":-1.5876143445361729E-6},{"$f":"単位行列!AF19-市内品投入係数表!AF19","v":-7.7016394952184518E-7},{"$f":"単位行列!AG19-市内品投入係数表!AG19","v":-3.4178428003920318E-6},{"$f":"単位行列!AH19-市内品投入係数表!AH19","v":-1.4975076310006331E-6},{"$f":"単位行列!AI19-市内品投入係数表!AI19","v":-6.4364340417153405E-5},{"$f":"単位行列!AJ19-市内品投入係数表!AJ19","v":-6.1033611155707617E-6},{"$f":"単位行列!AK19-市内品投入係数表!AK19","v":-3.2740201867891653E-5},{"$f":"単位行列!AL19-市内品投入係数表!AL19","v":-1.5707738982577564E-5},{"$f":"単位行列!AM19-市内品投入係数表!AM19","v":-4.4615614555613429E-5},{"$f":"単位行列!AN19-市内品投入係数表!AN19","v":-3.6091207590420899E-4}]
[null,"28","金属製品　　　　　　",{"$f":"単位行列!D20-市内品投入係数表!D20","v":-7.4661787043176558E-5},{"$f":"単位行列!E20-市内品投入係数表!E20","v":-2.5511207173993904E-3},{"$f":"単位行列!F20-市内品投入係数表!F20","v":-1.9546172261154779E-4},{"$f":"単位行列!G20-市内品投入係数表!G20","v":-1.362694168513285E-4},{"$f":"単位行列!H20-市内品投入係数表!H20","v":-2.6140530234142062E-3},{"$f":"単位行列!I20-市内品投入係数表!I20","v":-1.1931850084239116E-3},{"$f":"単位行列!J20-市内品投入係数表!J20","v":-1.3443380546383131E-4},{"$f":"単位行列!K20-市内品投入係数表!K20","v":-4.2771084667473502E-4},{"$f":"単位行列!L20-市内品投入係数表!L20","v":-9.3425897866617868E-4},{"$f":"単位行列!M20-市内品投入係数表!M20","v":-1.2654246225222453E-5},{"$f":"単位行列!N20-市内品投入係数表!N20","v":-8.1030138070411239E-5},{"$f":"単位行列!O20-市内品投入係数表!O20","v":0.99536381134234952},{"$f":"単位行列!P20-市内品投入係数表!P20","v":-1.7484019528544595E-3},{"$f":"単位行列!Q20-市内品投入係数表!Q20","v":-2.8118485915691644E-3},{"$f":"単位行列!R20-市内品投入係数表!R20","v":-1.5201534589816502E-3},{"$f":"単位行列!S20-市内品投入係数表!S20","v":-8.164511827383178E-4},{"$f":"単位行列!T20-市内品投入係数表!T20","v":-3.394129609704023E-3},{"$f":"単位行列!U20-市内品投入係数表!U20","v":-9.334139217066663E-4},{"$f":"単位行列!V20-市内品投入係数表!V20","v":-9.2468532863401482E-4},{"$f":"単位行列!W20-市内品投入係数表!W20","v":-5.108220957658916E-4},{"$f":"単位行列!X20-市内品投入係数表!X20","v":-7.0283377813479065E-3},{"$f":"単位行列!Y20-市内品投入係数表!Y20","v":-5.9616056879079395E-5},{"$f":"単位行列!Z20-市内品投入係数表!Z20","v":-5.861652600712487E-5},{"$f":"単位行列!AA20-市内品投入係数表!AA20","v":-1.2028190259081831E-5},{"$f":"単位行列!AB20-市内品投入係数表!AB20","v":-1.7476352895369829E-4},{"$f":"単位行列!AC20-市内品投入係数表!AC20","v":-5.1874744138831421E-6},{"$f":"単位行列!AD20-市内品投入係数表!AD20","v":-1.7433985454275355E-5},{"$f":"単位行列!AE20-市内品投入係数表!AE20","v":-1.3187128117487436E-4},{"$f":"単位行列!AF20-市内品投入係数表!AF20","v":-1.8388255888979003E-5},{"$f":"単位行列!AG20-市内品投入係数表!AG20","v":-1.4701867165226476E-4},{"$f":"単位行列!AH20-市内品投入係数表!AH20","v":-7.5271884181992821E-6},{"$f":"単位行列!AI20-市内品投入係数表!AI20","v":-2.2879623845927742E-5},{"$f":"単位行列!AJ20-市内品投入係数表!AJ20","v":-1.0737442569611476E-4},{"$f":"単位行列!AK20-市内品投入係数表!AK20","v":-9.3413535290025394E-5},{"$f":"単位行列!AL20-市内品投入係数表!AL20","v":-1.8008973714302682E-4},{"$f":"単位行列!AM20-市内品投入係数表!AM20","v":-2.8032422857292498E-5},{"$f":"単位行列!AN20-市内品投入係数表!AN20","v":-2.9094320106834356E-4}]
[null,"29","はん用機械",{"$f":"単位行列!D21-市内品投入係数表!D21","v":0},{"$f":"単位行列!E21-市内品投入係数表!E21","v":-4.1693333027581986E-6},{"$f":"単位行列!F21-市内品投入係数表!F21","v":0},{"$f":"単位行列!G21-市内品投入係数表!G21","v":0},{"$f":"単位行列!H21-市内品投入係数表!H21","v":-8.2392129183182238E-6},{"$f":"単位行列!I21-市内品投入係数表!I21","v":0},{"$f":"単位行列!J21-市内品投入係数表!J21","v":0},{"$f":"単位行列!K21-市内品投入係数表!K21","v":-1.5638957111332954E-6},{"$f":"単位行列!L21-市内品投入係数表!L21","v":-3.9589632898847673E-6},{"$f":"単位行列!M21-市内品投入係数表!M21","v":-1.4071619623076588E-8},{"$f":"単位行列!N21-市内品投入係数表!N21","v":-6.5552216790660409E-7},{"$f":"単位行列!O21-市内品投入係数表!O21","v":-5.7451901019875871E-6},{"$f":"単位行列!P21-市内品投入係数表!P21","v":0.99949436838726957},{"$f":"単位行列!Q21-市内品投入係数表!Q21","v":-1.554857515517136E-4},{"$f":"単位行列!R21-市内品投入係数表!R21","v":-2.1278675828965879E-5},{"$f":"単位行列!S21-市内品投入係数表!S21","v":-6.6049726934127746E-6},{"$f":"単位行列!T21-市内品投入係数表!T21","v":-1.9940465210209607E-5},{"$f":"単位行列!U21-市内品投入係数表!U21","v":-4.3397611705911298E-6},{"$f":"単位行列!V21-市内品投入係数表!V21","v":-4.9870475824759079E-5},{"$f":"単位行列!W21-市内品投入係数表!W21","v":-2.9945487809865516E-7},{"$f":"単位行列!X21-市内品投入係数表!X21","v":-2.315297558171832E-5},{"$f":"単位行列!Y21-市内品投入係数表!Y21","v":0},{"$f":"単位行列!Z21-市内品投入係数表!Z21","v":-1.6438907976335751E-5},{"$f":"単位行列!AA21-市内品投入係数表!AA21","v":0},{"$f":"単位行列!AB21-市内品投入係数表!AB21","v":-1.2780219885377662E-8},{"$f":"単位行列!AC21-市内品投入係数表!AC21","v":0},{"$f":"単位行列!AD21-市内品投入係数表!AD21","v":0},{"$f":"単位行列!AE21-市内品投入係数表!AE21","v":-2.6899135314662909E-7},{"$f":"単位行列!AF21-市内品投入係数表!AF21","v":-2.0878364435504816E-8},{"$f":"単位行列!AG21-市内品投入係数表!AG21","v":-3.9199877444461259E-7},{"$f":"単位行列!AH21-市内品投入係数表!AH21","v":0},{"$f":"単位行列!AI21-市内品投入係数表!AI21","v":0},{"$f":"単位行列!AJ21-市内品投入係数表!AJ21","v":0},{"$f":"単位行列!AK21-市内品投入係数表!AK21","v":-3.2939303127906921E-5},{"$f":"単位行列!AL21-市内品投入係数表!AL21","v":-4.3899060892304907E-8},{"$f":"単位行列!AM21-市内品投入係数表!AM21","v":0},{"$f":"単位行列!AN21-市内品投入係数表!AN21","v":0}]
[null,"30","生産用機械",{"$f":"単位行列!D22-市内品投入係数表!D22","v":0},{"$f":"単位行列!E22-市内品投入係数表!E22","v":-8.0668016194332002E-4},{"$f":"単位行列!F22-市内品投入係数表!F22","v":0},{"$f":"単位行列!G22-市内品投入係数表!G22","v":0},{"$f":"単位行列!H22-市内品投入係数表!H22","v":-5.9041410474850005E-5},{"$f":"単位行列!I22-市内品投入係数表!I22","v":0},{"$f":"単位行列!J22-市内品投入係数表!J22","v":-3.4131154420990879E-6},{"$f":"単位行列!K22-市内品投入係数表!K22","v":-7.0602379144520382E-4},{"$f":"単位行列!L22-市内品投入係数表!L22","v":-2.0890306233891054E-4},{"$f":"単位行列!M22-市内品投入係数表!M22","v":-4.3107337926173539E-6},{"$f":"単位行列!N22-市内品投入係数表!N22","v":-1.4092227173067404E-5},{"$f":"単位行列!O22-市内品投入係数表!O22","v":-2.0942736442099735E-4},{"$f":"単位行列!P22-市内品投入係数表!P22","v":-1.1492429704397984E-3},{"$f":"単位行列!Q22-市内品投入係数表!Q22","v":0.95925919654915237},{"$f":"単位行列!R22-市内品投入係数表!R22","v":-8.0725210169148195E-5},{"$f":"単位行列!S22-市内品投入係数表!S22","v":-5.679672189559951E-4},{"$f":"単位行列!T22-市内品投入係数表!T22","v":-7.716139026043181E-4},{"$f":"単位行列!U22-市内品投入係数表!U22","v":-1.6793088916982726E-4},{"$f":"単位行列!V22-市内品投入係数表!V22","v":-3.2163034705407596E-4},{"$f":"単位行列!W22-市内品投入係数表!W22","v":0},{"$f":"単位行列!X22-市内品投入係数表!X22","v":-1.3177787491642462E-5},{"$f":"単位行列!Y22-市内品投入係数表!Y22","v":-5.1411726001948105E-6},{"$f":"単位行列!Z22-市内品投入係数表!Z22","v":-2.9126284553202068E-5},{"$f":"単位行列!AA22-市内品投入係数表!AA22","v":0},{"$f":"単位行列!AB22-市内品投入係数表!AB22","v":-8.2423648244412497E-7},{"$f":"単位行列!AC22-市内品投入係数表!AC22","v":0},{"$f":"単位行列!AD22-市内品投入係数表!AD22","v":0},{"$f":"単位行列!AE22-市内品投入係数表!AE22","v":-2.2899487262535688E-5},{"$f":"単位行列!AF22-市内品投入係数表!AF22","v":0},{"$f":"単位行列!AG22-市内品投入係数表!AG22","v":-2.2982937259753335E-6},{"$f":"単位行列!AH22-市内品投入係数表!AH22","v":0},{"$f":"単位行列!AI22-市内品投入係数表!AI22","v":0},{"$f":"単位行列!AJ22-市内品投入係数表!AJ22","v":0},{"$f":"単位行列!AK22-市内品投入係数表!AK22","v":-3.0912816398703303E-3},{"$f":"単位行列!AL22-市内品投入係数表!AL22","v":-2.1233911382388914E-6},{"$f":"単位行列!AM22-市内品投入係数表!AM22","v":0},{"$f":"単位行列!AN22-市内品投入係数表!AN22","v":0}]
[null,"31","業務用機械",{"$f":"単位行列!D23-市内品投入係数表!D23","v":-3.35372954162523E-5},{"$f":"単位行列!E23-市内品投入係数表!E23","v":0},{"$f":"単位行列!F23-市内品投入係数表!F23","v":0},{"$f":"単位行列!G23-市内品投入係数表!G23","v":0},{"$f":"単位行列!H23-市内品投入係数表!H23","v":0},{"$f":"単位行列!I23-市内品投入係数表!I23","v":0},{"$f":"単位行列!J23-市内品投入係数表!J23","v":0},{"$f":"単位行列!K23-市内品投入係数表!K23","v":0},{"$f":"単位行列!L23-市内品投入係数表!L23","v":0},{"$f":"単位行列!M23-市内品投入係数表!M23","v":0},{"$f":"単位行列!N23-市内品投入係数表!N23","v":0},{"$f":"単位行列!O23-市内品投入係数表!O23","v":-6.0679707233183429E-7},{"$f":"単位行列!P23-市内品投入係数表!P23","v":-5.4109718023563153E-5},{"$f":"単位行列!Q23-市内品投入係数表!Q23","v":-1.8782588966278384E-4},{"$f":"単位行列!R23-市内品投入係数表!R23","v":0.99968681582390095},{"$f":"単位行列!S23-市内品投入係数表!S23","v":0},{"$f":"単位行列!T23-市内品投入係数表!T23","v":-2.9063870228940689E-5},{"$f":"単位行列!U23-市内品投入係数表!U23","v":0},{"$f":"単位行列!V23-市内品投入係数表!V23","v":-1.2114637433201308E-5},{"$f":"単位行列!W23-市内品投入係数表!W23","v":-1.4548837626961732E-6},{"$f":"単位行列!X23-市内品投入係数表!X23","v":-4.2190515052752549E-6},{"$f":"単位行列!Y23-市内品投入係数表!Y23","v":0},{"$f":"単位行列!Z23-市内品投入係数表!Z23","v":-1.3164965820055624E-6},{"$f":"単位行列!AA23-市内品投入係数表!AA23","v":-7.0038078878910095E-7},{"$f":"単位行列!AB23-市内品投入係数表!AB23","v":-1.9062225653110534E-5},{"$f":"単位行列!AC23-市内品投入係数表!AC23","v":-1.4307996067680587E-7},{"$f":"単位行列!AD23-市内品投入係数表!AD23","v":0},{"$f":"単位行列!AE23-市内品投入係数表!AE23","v":-4.7047627213178381E-7},{"$f":"単位行列!AF23-市内品投入係数表!AF23","v":-1.1157992470153784E-6},{"$f":"単位行列!AG23-市内品投入係数表!AG23","v":-6.0164974620244083E-5},{"$f":"単位行列!AH23-市内品投入係数表!AH23","v":0},{"$f":"単位行列!AI23-市内品投入係数表!AI23","v":-1.826397322690399E-4},{"$f":"単位行列!AJ23-市内品投入係数表!AJ23","v":0},{"$f":"単位行列!AK23-市内品投入係数表!AK23","v":-1.3565505993016311E-4},{"$f":"単位行列!AL23-市内品投入係数表!AL23","v":-9.4376835161913102E-6},{"$f":"単位行列!AM23-市内品投入係数表!AM23","v":-5.4110071076123457E-4},{"$f":"単位行列!AN23-市内品投入係数表!AN23","v":0}]
[null,"32","電子部品",{"$f":"単位行列!D24-市内品投入係数表!D24","v":0},{"$f":"単位行列!E24-市内品投入係数表!E24","v":0},{"$f":"単位行列!F24-市内品投入係数表!F24","v":0},{"$f":"単位行列!G24-市内品投入係数表!G24","v":0},{"$f":"単位行列!H24-市内品投入係数表!H24","v":0},{"$f":"単位行列!I24-市内品投入係数表!I24","v":0},{"$f":"単位行列!J24-市内品投入係数表!J24","v":0},{"$f":"単位行列!K24-市内品投入係数表!K24","v":0},{"$f":"単位行列!L24-市内品投入係数表!L24","v":0},{"$f":"単位行列!M24-市内品投入係数表!M24","v":0},{"$f":"単位行列!N24-市内品投入係数表!N24","v":0},{"$f":"単位行列!O24-市内品投入係数表!O24","v":-1.7233413313604852E-7},{"$f":"単位行列!P24-市内品投入係数表!P24","v":-1.6135870398471007E-5},{"$f":"単位行列!Q24-市内品投入係数表!Q24","v":-3.6605064181739172E-6},{"$f":"単位行列!R24-市内品投入係数表!R24","v":-2.6338452379571733E-4},{"$f":"単位行列!S24-市内品投入係数表!S24","v":0.99960051520264526},{"$f":"単位行列!T24-市内品投入係数表!T24","v":-1.511916180807284E-4},{"$f":"単位行列!U24-市内品投入係数表!U24","v":-4.3443817288580717E-4},{"$f":"単位行列!V24-市内品投入係数表!V24","v":-1.0321896572203063E-5},{"$f":"単位行列!W24-市内品投入係数表!W24","v":-6.7144352399144905E-7},{"$f":"単位行列!X24-市内品投入係数表!X24","v":-4.4493351863698599E-7},{"$f":"単位行列!Y24-市内品投入係数表!Y24","v":0},{"$f":"単位行列!Z24-市内品投入係数表!Z24","v":0},{"$f":"単位行列!AA24-市内品投入係数表!AA24","v":0},{"$f":"単位行列!AB24-市内品投入係数表!AB24","v":-2.4247432341777107E-8},{"$f":"単位行列!AC24-市内品投入係数表!AC24","v":-3.0476697379597321E-8},{"$f":"単位行列!AD24-市内品投入係数表!AD24","v":0},{"$f":"単位行列!AE24-市内品投入係数表!AE24","v":-3.7116161149840228E-9},{"$f":"単位行列!AF24-市内品投入係数表!AF24","v":-8.3544757726153792E-7},{"$f":"単位行列!AG24-市内品投入係数表!AG24","v":-7.8674997677619277E-7},{"$f":"単位行列!AH24-市内品投入係数表!AH24","v":-7.4687135109013621E-7},{"$f":"単位行列!AI24-市内品投入係数表!AI24","v":-3.7338624437634682E-9},{"$f":"単位行列!AJ24-市内品投入係数表!AJ24","v":0},{"$f":"単位行列!AK24-市内品投入係数表!AK24","v":-1.9242500793853543E-5},{"$f":"単位行列!AL24-市内品投入係数表!AL24","v":-1.8929100779464225E-8},{"$f":"単位行列!AM24-市内品投入係数表!AM24","v":-4.2417346112635464E-5},{"$f":"単位行列!AN24-市内品投入係数表!AN24","v":0}]
[null,"33","電気機械　　　　　　",{"$f":"単位行列!D25-市内品投入係数表!D25","v":0},{"$f":"単位行列!E25-市内品投入係数表!E25","v":0},{"$f":"単位行列!F25-市内品投入係数表!F25","v":0},{"$f":"単位行列!G25-市内品投入係数表!G25","v":0},{"$f":"単位行列!H25-市内品投入係数表!H25","v":-3.7285272867636511E-6},{"$f":"単位行列!I25-市内品投入係数表!I25","v":0},{"$f":"単位行列!J25-市内品投入係数表!J25","v":0},{"$f":"単位行列!K25-市内品投入係数表!K25","v":0},{"$f":"単位行列!L25-市内品投入係数表!L25","v":-2.9316552265969171E-6},{"$f":"単位行列!M25-市内品投入係数表!M25","v":0},{"$f":"単位行列!N25-市内品投入係数表!N25","v":0},{"$f":"単位行列!O25-市内品投入係数表!O25","v":-5.5954287013547565E-6},{"$f":"単位行列!P25-市内品投入係数表!P25","v":-2.2679970189267538E-4},{"$f":"単位行列!Q25-市内品投入係数表!Q25","v":-3.0760269699678762E-4},{"$f":"単位行列!R25-市内品投入係数表!R25","v":-1.9881740138933234E-4},{"$f":"単位行列!S25-市内品投入係数表!S25","v":-9.1462707359527841E-4},{"$f":"単位行列!T25-市内品投入係数表!T25","v":0.99848780056330766},{"$f":"単位行列!U25-市内品投入係数表!U25","v":-2.0503024378095984E-4},{"$f":"単位行列!V25-市内品投入係数表!V25","v":-3.0466943004856244E-4},{"$f":"単位行列!W25-市内品投入係数表!W25","v":-5.4883021783973386E-6},{"$f":"単位行列!X25-市内品投入係数表!X25","v":-1.3341064634393672E-4},{"$f":"単位行列!Y25-市内品投入係数表!Y25","v":0},{"$f":"単位行列!Z25-市内品投入係数表!Z25","v":-1.4714844492397938E-6},{"$f":"単位行列!AA25-市内品投入係数表!AA25","v":0},{"$f":"単位行列!AB25-市内品投入係数表!AB25","v":-3.2792383518925315E-6},{"$f":"単位行列!AC25-市内品投入係数表!AC25","v":-5.9971653177316648E-8},{"$f":"単位行列!AD25-市内品投入係数表!AD25","v":-2.0273742278838843E-7},{"$f":"単位行列!AE25-市内品投入係数表!AE25","v":-5.0395326175230926E-6},{"$f":"単位行列!AF25-市内品投入係数表!AF25","v":-2.0833232829507547E-6},{"$f":"単位行列!AG25-市内品投入係数表!AG25","v":-1.2917430686742866E-5},{"$f":"単位行列!AH25-市内品投入係数表!AH25","v":-7.3024915800467947E-6},{"$f":"単位行列!AI25-市内品投入係数表!AI25","v":-2.3805726659565107E-6},{"$f":"単位行列!AJ25-市内品投入係数表!AJ25","v":0},{"$f":"単位行列!AK25-市内品投入係数表!AK25","v":-1.1899297117582195E-4},{"$f":"単位行列!AL25-市内品投入係数表!AL25","v":-2.5924914997334051E-6},{"$f":"単位行列!AM25-市内品投入係数表!AM25","v":0},{"$f":"単位行列!AN25-市内品投入係数表!AN25","v":-2.1145865828091137E-5}]
[null,"34","情報・通信機器",{"$f":"単位行列!D26-市内品投入係数表!D26","v":0},{"$f":"単位行列!E26-市内品投入係数表!E26","v":0},{"$f":"単位行列!F26-市内品投入係数表!F26","v":-9.9802732213819919E-9},{"$f":"単位行列!G26-市内品投入係数表!G26","v":0},{"$f":"単位行列!H26-市内品投入係数表!H26","v":0},{"$f":"単位行列!I26-市内品投入係数表!I26","v":0},{"$f":"単位行列!J26-市内品投入係数表!J26","v":0},{"$f":"単位行列!K26-市内品投入係数表!K26","v":0},{"$f":"単位行列!L26-市内品投入係数表!L26","v":-6.0480909152362088E-8},{"$f":"単位行列!M26-市内品投入係数表!M26","v":0},{"$f":"単位行列!N26-市内品投入係数表!N26","v":0},{"$f":"単位行列!O26-市内品投入係数表!O26","v":-1.2592946074283433E-7},{"$f":"単位行列!P26-市内品投入係数表!P26","v":-3.2440682026473268E-6},{"$f":"単位行列!Q26-市内品投入係数表!Q26","v":-6.6975557424283516E-7},{"$f":"単位行列!R26-市内品投入係数表!R26","v":0},{"$f":"単位行列!S26-市内品投入係数表!S26","v":0},{"$f":"単位行列!T26-市内品投入係数表!T26","v":-1.3403703082648086E-7},{"$f":"単位行列!U26-市内品投入係数表!U26","v":0.99996295248663958},{"$f":"単位行列!V26-市内品投入係数表!V26","v":-2.5141679626030036E-6},{"$f":"単位行列!W26-市内品投入係数表!W26","v":-1.0064469986963657E-7},{"$f":"単位行列!X26-市内品投入係数表!X26","v":-2.5108709538072613E-6},{"$f":"単位行列!Y26-市内品投入係数表!Y26","v":-3.5722918312939904E-8},{"$f":"単位行列!Z26-市内品投入係数表!Z26","v":-3.035715676460818E-8},{"$f":"単位行列!AA26-市内品投入係数表!AA26","v":-2.4225170453310948E-8},{"$f":"単位行列!AB26-市内品投入係数表!AB26","v":-6.0993869659902959E-7},{"$f":"単位行列!AC26-市内品投入係数表!AC26","v":-2.2270191031775556E-7},{"$f":"単位行列!AD26-市内品投入係数表!AD26","v":-1.3198214081513951E-7},{"$f":"単位行列!AE26-市内品投入係数表!AE26","v":-1.9166097695569298E-7},{"$f":"単位行列!AF26-市内品投入係数表!AF26","v":-5.5434876239802798E-7},{"$f":"単位行列!AG26-市内品投入係数表!AG26","v":-8.0845399954974478E-7},{"$f":"単位行列!AH26-市内品投入係数表!AH26","v":-1.53495048938453E-7},{"$f":"単位行列!AI26-市内品投入係数表!AI26","v":-6.1844632347383244E-8},{"$f":"単位行列!AJ26-市内品投入係数表!AJ26","v":-1.3902147122172186E-7},{"$f":"単位行列!AK26-市内品投入係数表!AK26","v":-1.8088441929050773E-6},{"$f":"単位行列!AL26-市内品投入係数表!AL26","v":-2.5819795333460449E-7},{"$f":"単位行列!AM26-市内品投入係数表!AM26","v":0},{"$f":"単位行列!AN26-市内品投入係数表!AN26","v":0}]
[null,"35","輸送機械  　　　　　",{"$f":"単位行列!D27-市内品投入係数表!D27","v":0},{"$f":"単位行列!E27-市内品投入係数表!E27","v":0},{"$f":"単位行列!F27-市内品投入係数表!F27","v":0},{"$f":"単位行列!G27-市内品投入係数表!G27","v":0},{"$f":"単位行列!H27-市内品投入係数表!H27","v":0},{"$f":"単位行列!I27-市内品投入係数表!I27","v":0},{"$f":"単位行列!J27-市内品投入係数表!J27","v":0},{"$f":"単位行列!K27-市内品投入係数表!K27","v":0},{"$f":"単位行列!L27-市内品投入係数表!L27","v":0},{"$f":"単位行列!M27-市内品投入係数表!M27","v":0},{"$f":"単位行列!N27-市内品投入係数表!N27","v":0},{"$f":"単位行列!O27-市内品投入係数表!O27","v":0},{"$f":"単位行列!P27-市内品投入係数表!P27","v":0},{"$f":"単位行列!Q27-市内品投入係数表!Q27","v":-7.0123676521496491E-7},{"$f":"単位行列!R27-市内品投入係数表!R27","v":0},{"$f":"単位行列!S27-市内品投入係数表!S27","v":0},{"$f":"単位行列!T27-市内品投入係数表!T27","v":0},{"$f":"単位行列!U27-市内品投入係数表!U27","v":0},{"$f":"単位行列!V27-市内品投入係数表!V27","v":0.99987804104458922},{"$f":"単位行列!W27-市内品投入係数表!W27","v":0},{"$f":"単位行列!X27-市内品投入係数表!X27","v":0},{"$f":"単位行列!Y27-市内品投入係数表!Y27","v":0},{"$f":"単位行列!Z27-市内品投入係数表!Z27","v":0},{"$f":"単位行列!AA27-市内品投入係数表!AA27","v":0},{"$f":"単位行列!AB27-市内品投入係数表!AB27","v":0},{"$f":"単位行列!AC27-市内品投入係数表!AC27","v":0},{"$f":"単位行列!AD27-市内品投入係数表!AD27","v":0},{"$f":"単位行列!AE27-市内品投入係数表!AE27","v":-8.7557083707545627E-6},{"$f":"単位行列!AF27-市内品投入係数表!AF27","v":0},{"$f":"単位行列!AG27-市内品投入係数表!AG27","v":-1.3640706760466481E-6},{"$f":"単位行列!AH27-市内品投入係数表!AH27","v":-5.8237544653656161E-8},{"$f":"単位行列!AI27-市内品投入係数表!AI27","v":0},{"$f":"単位行列!AJ27-市内品投入係数表!AJ27","v":0},{"$f":"単位行列!AK27-市内品投入係数表!AK27","v":-8.2364318310929758E-6},{"$f":"単位行列!AL27-市内品投入係数表!AL27","v":-2.667224237627648E-8},{"$f":"単位行列!AM27-市内品投入係数表!AM27","v":0},{"$f":"単位行列!AN27-市内品投入係数表!AN27","v":0}]
[null,"39","その他の製造工業製品",{"$f":"単位行列!D28-市内品投入係数表!D28","v":-4.2358028345820195E-5},{"$f":"単位行列!E28-市内品投入係数表!E28","v":-9.2102988153163476E-4},{"$f":"単位行列!F28-市内品投入係数表!F28","v":-1.0069279578240036E-3},{"$f":"単位行列!G28-市内品投入係数表!G28","v":-3.1117280743272182E-3},{"$f":"単位行列!H28-市内品投入係数表!H28","v":-1.6403279051679786E-3},{"$f":"単位行列!I28-市内品投入係数表!I28","v":-6.425118760509293E-4},{"$f":"単位行列!J28-市内品投入係数表!J28","v":-2.4219459919037995E-3},{"$f":"単位行列!K28-市内品投入係数表!K28","v":-1.4970523662860436E-3},{"$f":"単位行列!L28-市内品投入係数表!L28","v":-8.745579269132678E-4},{"$f":"単位行列!M28-市内品投入係数表!M28","v":-1.1035183159303766E-3},{"$f":"単位行列!N28-市内品投入係数表!N28","v":-2.333028163735448E-3},{"$f":"単位行列!O28-市内品投入係数表!O28","v":-2.3911442197546779E-4},{"$f":"単位行列!P28-市内品投入係数表!P28","v":-1.6401901999878426E-4},{"$f":"単位行列!Q28-市内品投入係数表!Q28","v":-3.9802689419857771E-4},{"$f":"単位行列!R28-市内品投入係数表!R28","v":-7.3734631658321087E-4},{"$f":"単位行列!S28-市内品投入係数表!S28","v":-1.0537776410468839E-3},{"$f":"単位行列!T28-市内品投入係数表!T28","v":-4.5517964326251189E-4},{"$f":"単位行列!U28-市内品投入係数表!U28","v":-9.9063433107005592E-4},{"$f":"単位行列!V28-市内品投入係数表!V28","v":-9.1805641944436565E-5},{"$f":"単位行列!W28-市内品投入係数表!W28","v":0.99335730520525178},{"$f":"単位行列!X28-市内品投入係数表!X28","v":-5.5857475762795023E-4},{"$f":"単位行列!Y28-市内品投入係数表!Y28","v":-1.7795736914866086E-3},{"$f":"単位行列!Z28-市内品投入係数表!Z28","v":-4.0238594438357482E-4},{"$f":"単位行列!AA28-市内品投入係数表!AA28","v":-8.9432028356735784E-4},{"$f":"単位行列!AB28-市内品投入係数表!AB28","v":-9.3636949718832864E-4},{"$f":"単位行列!AC28-市内品投入係数表!AC28","v":-2.1387241559163873E-3},{"$f":"単位行列!AD28-市内品投入係数表!AD28","v":-1.0589037880593625E-5},{"$f":"単位行列!AE28-市内品投入係数表!AE28","v":-3.6801869451050251E-4},{"$f":"単位行列!AF28-市内品投入係数表!AF28","v":-1.8656153473623504E-3},{"$f":"単位行列!AG28-市内品投入係数表!AG28","v":-1.2858015803929737E-3},{"$f":"単位行列!AH28-市内品投入係数表!AH28","v":-2.4499730185864204E-3},{"$f":"単位行列!AI28-市内品投入係数表!AI28","v":-6.9501777178837011E-4},{"$f":"単位行列!AJ28-市内品投入係数表!AJ28","v":-5.8683336487144813E-3},{"$f":"単位行列!AK28-市内品投入係数表!AK28","v":-9.5624268446166806E-4},{"$f":"単位行列!AL28-市内品投入係数表!AL28","v":-9.4510773087889564E-4},{"$f":"単位行列!AM28-市内品投入係数表!AM28","v":-2.4064938570882717E-2},{"$f":"単位行列!AN28-市内品投入係数表!AN28","v":-2.8460957546923272E-4}]
[null,"41","建設　　　　　　　　",{"$f":"単位行列!D29-市内品投入係数表!D29","v":-4.8875855327468231E-3},{"$f":"単位行列!E29-市内品投入係数表!E29","v":-1.0121457489878543E-2},{"$f":"単位行列!F29-市内品投入係数表!F29","v":-1.0128279526097441E-3},{"$f":"単位行列!G29-市内品投入係数表!G29","v":-4.4603033006244425E-3},{"$f":"単位行列!H29-市内品投入係数表!H29","v":-5.8522853544707015E-3},{"$f":"単位行列!I29-市内品投入係数表!I29","v":-1.0326338783345469E-2},{"$f":"単位行列!J29-市内品投入係数表!J29","v":-1.1048730038413607E-3},{"$f":"単位行列!K29-市内品投入係数表!K29","v":-8.6370539104024292E-3},{"$f":"単位行列!L29-市内品投入係数表!L29","v":-1.1270805119916124E-2},{"$f":"単位行列!M29-市内品投入係数表!M29","v":-9.6067049659550804E-3},{"$f":"単位行列!N29-市内品投入係数表!N29","v":-1.0343730108211331E-2},{"$f":"単位行列!O29-市内品投入係数表!O29","v":-1.230974470923534E-2},{"$f":"単位行列!P29-市内品投入係数表!P29","v":-4.1456380677721699E-3},{"$f":"単位行列!Q29-市内品投入係数表!Q29","v":-2.080183830198948E-3},{"$f":"単位行列!R29-市内品投入係数表!R29","v":-4.5578851412944391E-3},{"$f":"単位行列!S29-市内品投入係数表!S29","v":-6.5918403705683233E-3},{"$f":"単位行列!T29-市内品投入係数表!T29","v":-4.4534804918191498E-3},{"$f":"単位行列!U29-市内品投入係数表!U29","v":-3.3712600084281502E-3},{"$f":"単位行列!V29-市内品投入係数表!V29","v":-6.0532687651331722E-4},{"$f":"単位行列!W29-市内品投入係数表!W29","v":-2.4716487350974121E-3},{"$f":"単位行列!X29-市内品投入係数表!X29","v":0.99871032945502114},{"$f":"単位行列!Y29-市内品投入係数表!Y29","v":-5.1831018623043033E-2},{"$f":"単位行列!Z29-市内品投入係数表!Z29","v":-6.02990834539315E-2},{"$f":"単位行列!AA29-市内品投入係数表!AA29","v":-7.2265966754155734E-3},{"$f":"単位行列!AB29-市内品投入係数表!AB29","v":-4.388516327793782E-3},{"$f":"単位行列!AC29-市内品投入係数表!AC29","v":-1.5263573678020812E-3},{"$f":"単位行列!AD29-市内品投入係数表!AD29","v":-2.6105800796748558E-2},{"$f":"単位行列!AE29-市内品投入係数表!AE29","v":-1.0283481390738336E-2},{"$f":"単位行列!AF29-市内品投入係数表!AF29","v":-4.2853522554485556E-3},{"$f":"単位行列!AG29-市内品投入係数表!AG29","v":-2.1160450892355073E-2},{"$f":"単位行列!AH29-市内品投入係数表!AH29","v":-1.0142487578532419E-2},{"$f":"単位行列!AI29-市内品投入係数表!AI29","v":-5.6705013059495596E-3},{"$f":"単位行列!AJ29-市内品投入係数表!AJ29","v":-2.2091310751104565E-3},{"$f":"単位行列!AK29-市内品投入係数表!AK29","v":-9.3978191820295355E-4},{"$f":"単位行列!AL29-市内品投入係数表!AL29","v":-5.3924010838086759E-3},{"$f":"単位行列!AM29-市内品投入係数表!AM29","v":0},{"$f":"単位行列!AN29-市内品投入係数表!AN29","v":0}]
[null,"46","電力・ガス・熱供給",{"$f":"単位行列!D30-市内品投入係数表!D30","v":-3.2118419215193409E-3},{"$f":"単位行列!E30-市内品投入係数表!E30","v":-5.0607287449392713E-3},{"$f":"単位行列!F30-市内品投入係数表!F30","v":-6.6248319462516355E-3},{"$f":"単位行列!G30-市内品投入係数表!G30","v":-3.5682426404995541E-3},{"$f":"単位行列!H30-市内品投入係数表!H30","v":-4.6670123712867616E-3},{"$f":"単位行列!I30-市内品投入係数表!I30","v":-1.8931621102800028E-2},{"$f":"単位行列!J30-市内品投入係数表!J30","v":-3.6229556637588809E-3},{"$f":"単位行列!K30-市内品投入係数表!K30","v":-1.2623386484434321E-2},{"$f":"単位行列!L30-市内品投入係数表!L30","v":-1.0790266917129003E-2},{"$f":"単位行列!M30-市内品投入係数表!M30","v":-1.3768272509656664E-2},{"$f":"単位行列!N30-市内品投入係数表!N30","v":-8.752387014640357E-3},{"$f":"単位行列!O30-市内品投入係数表!O30","v":-1.0005457522284883E-2},{"$f":"単位行列!P30-市内品投入係数表!P30","v":-2.343186733958183E-3},{"$f":"単位行列!Q30-市内品投入係数表!Q30","v":-2.6969825240370079E-3},{"$f":"単位行列!R30-市内品投入係数表!R30","v":-3.6463081130355514E-3},{"$f":"単位行列!S30-市内品投入係数表!S30","v":-8.0171031533939063E-3},{"$f":"単位行列!T30-市内品投入係数表!T30","v":-3.1948881789137379E-3},{"$f":"単位行列!U30-市内品投入係数表!U30","v":-1.0535187526337969E-3},{"$f":"単位行列!V30-市内品投入係数表!V30","v":-4.2372881355932203E-3},{"$f":"単位行列!W30-市内品投入係数表!W30","v":-4.1436464088397788E-3},{"$f":"単位行列!X30-市内品投入係数表!X30","v":-1.8042986951386241E-3},{"$f":"単位行列!Y30-市内品投入係数表!Y30","v":0.97618417912180777},{"$f":"単位行列!Z30-市内品投入係数表!Z30","v":-8.3103100469236503E-3},{"$f":"単位行列!AA30-市内品投入係数表!AA30","v":-1.3525809273840769E-2},{"$f":"単位行列!AB30-市内品投入係数表!AB30","v":-6.6037165102220321E-3},{"$f":"単位行列!AC30-市内品投入係数表!AC30","v":-2.8275144682235274E-3},{"$f":"単位行列!AD30-市内品投入係数表!AD30","v":-1.5883949155250498E-3},{"$f":"単位行列!AE30-市内品投入係数表!AE30","v":-3.2075476626433012E-3},{"$f":"単位行列!AF30-市内品投入係数表!AF30","v":-2.3948302078053724E-3},{"$f":"単位行列!AG30-市内品投入係数表!AG30","v":-4.9267689219935464E-3},{"$f":"単位行列!AH30-市内品投入係数表!AH30","v":-7.9538455221122659E-3},{"$f":"単位行列!AI30-市内品投入係数表!AI30","v":-4.3908283977023696E-3},{"$f":"単位行列!AJ30-市内品投入係数表!AJ30","v":-1.8074708796358282E-3},{"$f":"単位行列!AK30-市内品投入係数表!AK30","v":-2.6949146992370412E-3},{"$f":"単位行列!AL30-市内品投入係数表!AL30","v":-1.2082282072664203E-2},{"$f":"単位行列!AM30-市内品投入係数表!AM30","v":0},{"$f":"単位行列!AN30-市内品投入係数表!AN30","v":-2.9689381844662912E-3}]
[null,"47","水道",{"$f":"単位行列!D31-市内品投入係数表!D31","v":-1.5360983102918587E-3},{"$f":"単位行列!E31-市内品投入係数表!E31","v":-5.0607287449392713E-3},{"$f":"単位行列!F31-市内品投入係数表!F31","v":-2.0580952346625049E-3},{"$f":"単位行列!G31-市内品投入係数表!G31","v":0},{"$f":"単位行列!H31-市内品投入係数表!H31","v":-9.6303429883695094E-4},{"$f":"単位行列!I31-市内品投入係数表!I31","v":-3.243529489640564E-3},{"$f":"単位行列!J31-市内品投入係数表!J31","v":-3.9955291185425953E-3},{"$f":"単位行列!K31-市内品投入係数表!K31","v":-1.6135155656795748E-3},{"$f":"単位行列!L31-市内品投入係数表!L31","v":-1.3542440260364335E-3},{"$f":"単位行列!M31-市内品投入係数表!M31","v":-2.7977211724125564E-3},{"$f":"単位行列!N31-市内品投入係数表!N31","v":-2.493104179927859E-3},{"$f":"単位行列!O31-市内品投入係数表!O31","v":-1.0308653204778365E-3},{"$f":"単位行列!P31-市内品投入係数表!P31","v":-1.8024513338139869E-4},{"$f":"単位行列!Q31-市内品投入係数表!Q31","v":-7.4983370623450446E-4},{"$f":"単位行列!R31-市内品投入係数表!R31","v":-6.0771801883925853E-4},{"$f":"単位行列!S31-市内品投入係数表!S31","v":-1.0689470871191875E-3},{"$f":"単位行列!T31-市内品投入係数表!T31","v":-4.840739665020815E-4},{"$f":"単位行列!U31-市内品投入係数表!U31","v":0},{"$f":"単位行列!V31-市内品投入係数表!V31","v":0},{"$f":"単位行列!W31-市内品投入係数表!W31","v":-1.3812154696132596E-3},{"$f":"単位行列!X31-市内品投入係数表!X31","v":-1.0168556220025236E-3},{"$f":"単位行列!Y31-市内品投入係数表!Y31","v":-2.431897202350619E-3},{"$f":"単位行列!Z31-市内品投入係数表!Z31","v":0.9159759680743762},{"$f":"単位行列!AA31-市内品投入係数表!AA31","v":-1.4838145231846019E-2},{"$f":"単位行列!AB31-市内品投入係数表!AB31","v":-2.4804657504921375E-3},{"$f":"単位行列!AC31-市内品投入係数表!AC31","v":-1.297582493002706E-3},{"$f":"単位行列!AD31-市内品投入係数表!AD31","v":-5.3975888084621302E-4},{"$f":"単位行列!AE31-市内品投入係数表!AE31","v":-3.5653929637688162E-3},{"$f":"単位行列!AF31-市内品投入係数表!AF31","v":-1.8753167764825138E-3},{"$f":"単位行列!AG31-市内品投入係数表!AG31","v":-3.5512531035616344E-3},{"$f":"単位行列!AH31-市内品投入係数表!AH31","v":-1.1000698065946701E-2},{"$f":"単位行列!AI31-市内品投入係数表!AI31","v":-6.2223109789103599E-3},{"$f":"単位行列!AJ31-市内品投入係数表!AJ31","v":-2.4099611728477708E-3},{"$f":"単位行列!AK31-市内品投入係数表!AK31","v":-7.4003732931661155E-4},{"$f":"単位行列!AL31-市内品投入係数表!AL31","v":-1.1570749954042036E-2},{"$f":"単位行列!AM31-市内品投入係数表!AM31","v":0},{"$f":"単位行列!AN31-市内品投入係数表!AN31","v":-3.9212391115592531E-3}]
[null,"48","廃棄物処理",{"$f":"単位行列!D32-市内品投入係数表!D32","v":-7.2792067987528526E-4},{"$f":"単位行列!E32-市内品投入係数表!E32","v":-3.5173009369682305E-3},{"$f":"単位行列!F32-市内品投入係数表!F32","v":-5.1041501805168641E-4},{"$f":"単位行列!G32-市内品投入係数表!G32","v":0},{"$f":"単位行列!H32-市内品投入係数表!H32","v":-1.287166947820065E-4},{"$f":"単位行列!I32-市内品投入係数表!I32","v":-4.3130998780258473E-3},{"$f":"単位行列!J32-市内品投入係数表!J32","v":-3.6832765827598765E-4},{"$f":"単位行列!K32-市内品投入係数表!K32","v":0},{"$f":"単位行列!L32-市内品投入係数表!L32","v":-5.9585607022275573E-3},{"$f":"単位行列!M32-市内品投入係数表!M32","v":-1.9958104736482178E-4},{"$f":"単位行列!N32-市内品投入係数表!N32","v":0},{"$f":"単位行列!O32-市内品投入係数表!O32","v":-5.2681664631080768E-5},{"$f":"単位行列!P32-市内品投入係数表!P32","v":0},{"$f":"単位行列!Q32-市内品投入係数表!Q32","v":-2.1014049257571579E-5},{"$f":"単位行列!R32-市内品投入係数表!R32","v":0},{"$f":"単位行列!S32-市内品投入係数表!S32","v":-6.1911514800010907E-4},{"$f":"単位行列!T32-市内品投入係数表!T32","v":0},{"$f":"単位行列!U32-市内品投入係数表!U32","v":0},{"$f":"単位行列!V32-市内品投入係数表!V32","v":0},{"$f":"単位行列!W32-市内品投入係数表!W32","v":-3.1577978025267267E-4},{"$f":"単位行列!X32-市内品投入係数表!X32","v":-1.1823783028378214E-3},{"$f":"単位行列!Y32-市内品投入係数表!Y32","v":-8.8433607722619191E-3},{"$f":"単位行列!Z32-市内品投入係数表!Z32","v":-1.8668549418991579E-3},{"$f":"単位行列!AA32-市内品投入係数表!AA32","v":1},{"$f":"単位行列!AB32-市内品投入係数表!AB32","v":-1.7102235173999216E-3},{"$f":"単位行列!AC32-市内品投入係数表!AC32","v":-2.5620569664834129E-3},{"$f":"単位行列!AD32-市内品投入係数表!AD32","v":-1.9830293677610345E-5},{"$f":"単位行列!AE32-市内品投入係数表!AE32","v":-5.3032236782699213E-3},{"$f":"単位行列!AF32-市内品投入係数表!AF32","v":-3.7428146564443994E-3},{"$f":"単位行列!AG32-市内品投入係数表!AG32","v":-3.3764710591942894E-2},{"$f":"単位行列!AH32-市内品投入係数表!AH32","v":-4.5912671028287841E-3},{"$f":"単位行列!AI32-市内品投入係数表!AI32","v":-4.4195886381093218E-3},{"$f":"単位行列!AJ32-市内品投入係数表!AJ32","v":0},{"$f":"単位行列!AK32-市内品投入係数表!AK32","v":-3.399535449949991E-4},{"$f":"単位行列!AL32-市内品投入係数表!AL32","v":-1.8567815743841525E-2},{"$f":"単位行列!AM32-市内品投入係数表!AM32","v":0},{"$f":"単位行列!AN32-市内品投入係数表!AN32","v":-6.0346689688520836E-3}]
[null,"51","商業　　　　　　　　",{"$f":"単位行列!D33-市内品投入係数表!D33","v":-2.2453188160450183E-2},{"$f":"単位行列!E33-市内品投入係数表!E33","v":-1.2367128055399308E-2},{"$f":"単位行列!F33-市内品投入係数表!F33","v":-1.6593370868661417E-2},{"$f":"単位行列!G33-市内品投入係数表!G33","v":-3.9140340563621236E-2},{"$f":"単位行列!H33-市内品投入係数表!H33","v":-3.0075918624258135E-2},{"$f":"単位行列!I33-市内品投入係数表!I33","v":-2.1139403913514949E-2},{"$f":"単位行列!J33-市内品投入係数表!J33","v":-5.6797615091401235E-3},{"$f":"単位行列!K33-市内品投入係数表!K33","v":-2.3194234090232572E-2},{"$f":"単位行列!L33-市内品投入係数表!L33","v":-1.4096603634188814E-2},{"$f":"単位行列!M33-市内品投入係数表!M33","v":-2.6191006919616341E-2},{"$f":"単位行列!N33-市内品投入係数表!N33","v":-3.3231870747093474E-2},{"$f":"単位行列!O33-市内品投入係数表!O33","v":-2.9182648007683144E-2},{"$f":"単位行列!P33-市内品投入係数表!P33","v":-1.4115159231349273E-2},{"$f":"単位行列!Q33-市内品投入係数表!Q33","v":-1.5596911437438663E-2},{"$f":"単位行列!R33-市内品投入係数表!R33","v":-1.9913942394003938E-2},{"$f":"単位行列!S33-市内品投入係数表!S33","v":-1.2962219603471017E-2},{"$f":"単位行列!T33-市内品投入係数表!T33","v":-2.1078073329918109E-2},{"$f":"単位行列!U33-市内品投入係数表!U33","v":-1.4042894516417099E-2},{"$f":"単位行列!V33-市内品投入係数表!V33","v":-1.5465035105155948E-2},{"$f":"単位行列!W33-市内品投入係数表!W33","v":-2.5516907107775173E-2},{"$f":"単位行列!X33-市内品投入係数表!X33","v":-1.4220538353216466E-2},{"$f":"単位行列!Y33-市内品投入係数表!Y33","v":-4.8151104455406895E-3},{"$f":"単位行列!Z33-市内品投入係数表!Z33","v":-4.9321487006170235E-3},{"$f":"単位行列!AA33-市内品投入係数表!AA33","v":-5.9475528366066364E-3},{"$f":"単位行列!AB33-市内品投入係数表!AB33","v":0.99644259938822122},{"$f":"単位行列!AC33-市内品投入係数表!AC33","v":-1.5981861186914739E-3},{"$f":"単位行列!AD33-市内品投入係数表!AD33","v":-5.8240876049485337E-4},{"$f":"単位行列!AE33-市内品投入係数表!AE33","v":-5.9594791970019592E-3},{"$f":"単位行列!AF33-市内品投入係数表!AF33","v":-3.0781857517938062E-3},{"$f":"単位行列!AG33-市内品投入係数表!AG33","v":-3.3849525389821767E-3},{"$f":"単位行列!AH33-市内品投入係数表!AH33","v":-5.4164441159003148E-3},{"$f":"単位行列!AI33-市内品投入係数表!AI33","v":-3.8382113417039336E-3},{"$f":"単位行列!AJ33-市内品投入係数表!AJ33","v":-1.0838001966343042E-2},{"$f":"単位行列!AK33-市内品投入係数表!AK33","v":-5.3395463498245978E-3},{"$f":"単位行列!AL33-市内品投入係数表!AL33","v":-2.1014753924600314E-2},{"$f":"単位行列!AM33-市内品投入係数表!AM33","v":-8.1875795955441269E-2},{"$f":"単位行列!AN33-市内品投入係数表!AN33","v":-4.1067885114644204E-3}]
[null,"53","金融・保険　　　　　",{"$f":"単位行列!D34-市内品投入係数表!D34","v":-8.0678999402508875E-3},{"$f":"単位行列!E34-市内品投入係数表!E34","v":-5.1814126518853608E-2},{"$f":"単位行列!F34-市内品投入係数表!F34","v":-4.359854037385434E-3},{"$f":"単位行列!G34-市内品投入係数表!G34","v":-2.0223818873702667E-2},{"$f":"単位行列!H34-市内品投入係数表!H34","v":-1.3977361398370103E-2},{"$f":"単位行列!I34-市内品投入係数表!I34","v":-7.9875354897951893E-3},{"$f":"単位行列!J34-市内品投入係数表!J34","v":-5.2333067544721558E-3},{"$f":"単位行列!K34-市内品投入係数表!K34","v":-3.401162670884506E-3},{"$f":"単位行列!L34-市内品投入係数表!L34","v":-1.1948514711480266E-2},{"$f":"単位行列!M34-市内品投入係数表!M34","v":-8.6269172844642139E-3},{"$f":"単位行列!N34-市内品投入係数表!N34","v":-7.1378509958135812E-3},{"$f":"単位行列!O34-市内品投入係数表!O34","v":-1.7162124933290702E-2},{"$f":"単位行列!P34-市内品投入係数表!P34","v":-6.3272044907562918E-3},{"$f":"単位行列!Q34-市内品投入係数表!Q34","v":-7.8717331232229636E-3},{"$f":"単位行列!R34-市内品投入係数表!R34","v":-1.6666348808642845E-2},{"$f":"単位行列!S34-市内品投入係数表!S34","v":-5.3419018020048406E-3},{"$f":"単位行列!T34-市内品投入係数表!T34","v":-5.522597742899928E-3},{"$f":"単位行列!U34-市内品投入係数表!U34","v":-6.7800364458118229E-3},{"$f":"単位行列!V34-市内品投入係数表!V34","v":-4.4268727949349157E-3},{"$f":"単位行列!W34-市内品投入係数表!W34","v":-1.214789761833107E-2},{"$f":"単位行列!X34-市内品投入係数表!X34","v":-1.454191131663865E-2},{"$f":"単位行列!Y34-市内品投入係数表!Y34","v":-1.7921742879202566E-2},{"$f":"単位行列!Z34-市内品投入係数表!Z34","v":-4.2013261206747142E-3},{"$f":"単位行列!AA34-市内品投入係数表!AA34","v":-8.1513639318584255E-3},{"$f":"単位行列!AB34-市内品投入係数表!AB34","v":-1.6811666064828441E-2},{"$f":"単位行列!AC34-市内品投入係数表!AC34","v":0.95118019407122167},{"$f":"単位行列!AD34-市内品投入係数表!AD34","v":-6.8962955486159161E-2},{"$f":"単位行列!AE34-市内品投入係数表!AE34","v":-2.208970522559571E-2},{"$f":"単位行列!AF34-市内品投入係数表!AF34","v":-4.5369231025101653E-3},{"$f":"単位行列!AG34-市内品投入係数表!AG34","v":-3.5508465498531309E-2},{"$f":"単位行列!AH34-市内品投入係数表!AH34","v":-1.8258209933878159E-3},{"$f":"単位行列!AI34-市内品投入係数表!AI34","v":-7.0697960933867711E-3},{"$f":"単位行列!AJ34-市内品投入係数表!AJ34","v":-6.1024877112332891E-2},{"$f":"単位行列!AK34-市内品投入係数表!AK34","v":-1.0549879019626606E-2},{"$f":"単位行列!AL34-市内品投入係数表!AL34","v":-6.27190890104021E-3},{"$f":"単位行列!AM34-市内品投入係数表!AM34","v":0},{"$f":"単位行列!AN34-市内品投入係数表!AN34","v":-5.7968066033576788E-3}]
[null,"55","不動産　　　　　　　",{"$f":"単位行列!D35-市内品投入係数表!D35","v":-1.4047170871887144E-2},{"$f":"単位行列!E35-市内品投入係数表!E35","v":-6.0185351676422787E-3},{"$f":"単位行列!F35-市内品投入係数表!F35","v":-2.6076464931945394E-3},{"$f":"単位行列!G35-市内品投入係数表!G35","v":-2.6522358365881227E-3},{"$f":"単位行列!H35-市内品投入係数表!H35","v":-3.8910854571748556E-3},{"$f":"単位行列!I35-市内品投入係数表!I35","v":-2.8208937144162155E-3},{"$f":"単位行列!J35-市内品投入係数表!J35","v":-7.8940904331936278E-4},{"$f":"単位行列!K35-市内品投入係数表!K35","v":-4.2328536059443138E-3},{"$f":"単位行列!L35-市内品投入係数表!L35","v":-3.2903744460553888E-3},{"$f":"単位行列!M35-市内品投入係数表!M35","v":-1.7519728778546595E-3},{"$f":"単位行列!N35-市内品投入係数表!N35","v":-1.1565428991077214E-3},{"$f":"単位行列!O35-市内品投入係数表!O35","v":-6.7909095896373228E-3},{"$f":"単位行列!P35-市内品投入係数表!P35","v":-3.5726464465456447E-3},{"$f":"単位行列!Q35-市内品投入係数表!Q35","v":-2.9125677716398154E-3},{"$f":"単位行列!R35-市内品投入係数表!R35","v":-1.656270642204403E-3},{"$f":"単位行列!S35-市内品投入係数表!S35","v":-1.059382281423583E-3},{"$f":"単位行列!T35-市内品投入係数表!T35","v":-2.6865581837166555E-3},{"$f":"単位行列!U35-市内品投入係数表!U35","v":-1.4617287968610058E-3},{"$f":"単位行列!V35-市内品投入係数表!V35","v":0},{"$f":"単位行列!W35-市内品投入係数表!W35","v":-2.4495327293719035E-3},{"$f":"単位行列!X35-市内品投入係数表!X35","v":-6.1694387314654752E-3},{"$f":"単位行列!Y35-市内品投入係数表!Y35","v":-1.1488106070172531E-2},{"$f":"単位行列!Z35-市内品投入係数表!Z35","v":-1.6732669729624537E-3},{"$f":"単位行列!AA35-市内品投入係数表!AA35","v":-3.6590025935492872E-3},{"$f":"単位行列!AB35-市内品投入係数表!AB35","v":-3.8011724075129594E-2},{"$f":"単位行列!AC35-市内品投入係数表!AC35","v":-1.9619042163270258E-2},{"$f":"単位行列!AD35-市内品投入係数表!AD35","v":0.97202267133274278},{"$f":"単位行列!AE35-市内品投入係数表!AE35","v":-4.5138073149134539E-2},{"$f":"単位行列!AF35-市内品投入係数表!AF35","v":-2.9194095014026762E-2},{"$f":"単位行列!AG35-市内品投入係数表!AG35","v":-7.973480016720204E-4},{"$f":"単位行列!AH35-市内品投入係数表!AH35","v":-5.8763982566764836E-3},{"$f":"単位行列!AI35-市内品投入係数表!AI35","v":-2.4054562078320883E-2},{"$f":"単位行列!AJ35-市内品投入係数表!AJ35","v":-1.5557753590957837E-2},{"$f":"単位行列!AK35-市内品投入係数表!AK35","v":-7.3325330717837721E-3},{"$f":"単位行列!AL35-市内品投入係数表!AL35","v":-1.7093888663263699E-2},{"$f":"単位行列!AM35-市内品投入係数表!AM35","v":0},{"$f":"単位行列!AN35-市内品投入係数表!AN35","v":-4.319180756146155E-2}]
[null,"57","運輸・郵便　　　",{"$f":"単位行列!D36-市内品投入係数表!D36","v":-3.007431801096825E-2},{"$f":"単位行列!E36-市内品投入係数表!E36","v":-0.20545045935916723},{"$f":"単位行列!F36-市内品投入係数表!F36","v":-2.8105422705016356E-2},{"$f":"単位行列!G36-市内品投入係数表!G36","v":-1.2145273124580783E-2},{"$f":"単位行列!H36-市内品投入係数表!H36","v":-2.750678738355378E-2},{"$f":"単位行列!I36-市内品投入係数表!I36","v":-1.6426928275978862E-2},{"$f":"単位行列!J36-市内品投入係数表!J36","v":-2.3907686737070451E-2},{"$f":"単位行列!K36-市内品投入係数表!K36","v":-1.080767505249763E-2},{"$f":"単位行列!L36-市内品投入係数表!L36","v":-3.6253858051656727E-2},{"$f":"単位行列!M36-市内品投入係数表!M36","v":-2.0351219519696127E-2},{"$f":"単位行列!N36-市内品投入係数表!N36","v":-1.8645804318008392E-2},{"$f":"単位行列!O36-市内品投入係数表!O36","v":-2.3641976170949128E-2},{"$f":"単位行列!P36-市内品投入係数表!P36","v":-1.0485318298400532E-2},{"$f":"単位行列!Q36-市内品投入係数表!Q36","v":-1.1234252453261965E-2},{"$f":"単位行列!R36-市内品投入係数表!R36","v":-1.2222940336214176E-2},{"$f":"単位行列!S36-市内品投入係数表!S36","v":-6.8357609178742009E-3},{"$f":"単位行列!T36-市内品投入係数表!T36","v":-1.2522130519917034E-2},{"$f":"単位行列!U36-市内品投入係数表!U36","v":-8.8668915425482112E-3},{"$f":"単位行列!V36-市内品投入係数表!V36","v":-5.9937711523905162E-3},{"$f":"単位行列!W36-市内品投入係数表!W36","v":-8.5882361708604846E-2},{"$f":"単位行列!X36-市内品投入係数表!X36","v":-2.1340156749286496E-2},{"$f":"単位行列!Y36-市内品投入係数表!Y36","v":-2.7105901429971928E-2},{"$f":"単位行列!Z36-市内品投入係数表!Z36","v":-7.8975288164687702E-3},{"$f":"単位行列!AA36-市内品投入係数表!AA36","v":-3.5084799013284325E-2},{"$f":"単位行列!AB36-市内品投入係数表!AB36","v":-2.5617821526780344E-2},{"$f":"単位行列!AC36-市内品投入係数表!AC36","v":-1.4646779979687965E-2},{"$f":"単位行列!AD36-市内品投入係数表!AD36","v":-1.2189729683750956E-3},{"$f":"単位行列!AE36-市内品投入係数表!AE36","v":0.94667460021001537},{"$f":"単位行列!AF36-市内品投入係数表!AF36","v":-1.0531231353312758E-2},{"$f":"単位行列!AG36-市内品投入係数表!AG36","v":-1.2594714127731478E-2},{"$f":"単位行列!AH36-市内品投入係数表!AH36","v":-1.4616945447287042E-2},{"$f":"単位行列!AI36-市内品投入係数表!AI36","v":-7.5371988021258511E-3},{"$f":"単位行列!AJ36-市内品投入係数表!AJ36","v":-1.466564014630135E-2},{"$f":"単位行列!AK36-市内品投入係数表!AK36","v":-7.1047257324209322E-3},{"$f":"単位行列!AL36-市内品投入係数表!AL36","v":-1.8471247715393241E-2},{"$f":"単位行列!AM36-市内品投入係数表!AM36","v":-2.7028615502801875E-2},{"$f":"単位行列!AN36-市内品投入係数表!AN36","v":-4.593369491172871E-2}]
[null,"59","情報通信",{"$f":"単位行列!D37-市内品投入係数表!D37","v":-3.6833103491840454E-3},{"$f":"単位行列!E37-市内品投入係数表!E37","v":-2.1076218898231636E-3},{"$f":"単位行列!F37-市内品投入係数表!F37","v":-3.1923347366796112E-3},{"$f":"単位行列!G37-市内品投入係数表!G37","v":-2.4767534072498193E-3},{"$f":"単位行列!H37-市内品投入係数表!H37","v":-8.5870356158051862E-3},{"$f":"単位行列!I37-市内品投入係数表!I37","v":-9.3270906800488277E-3},{"$f":"単位行列!J37-市内品投入係数表!J37","v":-1.0790154711537339E-3},{"$f":"単位行列!K37-市内品投入係数表!K37","v":-6.1268264276294468E-3},{"$f":"単位行列!L37-市内品投入係数表!L37","v":-8.3993058162486565E-3},{"$f":"単位行列!M37-市内品投入係数表!M37","v":-4.4060869123898529E-3},{"$f":"単位行列!N37-市内品投入係数表!N37","v":-5.8173882079523851E-3},{"$f":"単位行列!O37-市内品投入係数表!O37","v":-8.8179052106590935E-3},{"$f":"単位行列!P37-市内品投入係数表!P37","v":-7.3814885365039553E-3},{"$f":"単位行列!Q37-市内品投入係数表!Q37","v":-1.6092509438783788E-2},{"$f":"単位行列!R37-市内品投入係数表!R37","v":-9.0691996725663186E-3},{"$f":"単位行列!S37-市内品投入係数表!S37","v":-5.5647526112915157E-3},{"$f":"単位行列!T37-市内品投入係数表!T37","v":-2.78208538044389E-2},{"$f":"単位行列!U37-市内品投入係数表!U37","v":-4.2120463760208046E-2},{"$f":"単位行列!V37-市内品投入係数表!V37","v":-8.4032704888833151E-4},{"$f":"単位行列!W37-市内品投入係数表!W37","v":-4.9197251295595937E-3},{"$f":"単位行列!X37-市内品投入係数表!X37","v":-7.3206248217642864E-3},{"$f":"単位行列!Y37-市内品投入係数表!Y37","v":-1.2742866963086085E-2},{"$f":"単位行列!Z37-市内品投入係数表!Z37","v":-3.8825482901720706E-2},{"$f":"単位行列!AA37-市内品投入係数表!AA37","v":-8.8418579816959327E-3},{"$f":"単位行列!AB37-市内品投入係数表!AB37","v":-3.1222396168144161E-2},{"$f":"単位行列!AC37-市内品投入係数表!AC37","v":-4.2559530697921941E-2},{"$f":"単位行列!AD37-市内品投入係数表!AD37","v":-3.6169772463215399E-3},{"$f":"単位行列!AE37-市内品投入係数表!AE37","v":-1.2364811977222272E-2},{"$f":"単位行列!AF37-市内品投入係数表!AF37","v":0.91127844054371188},{"$f":"単位行列!AG37-市内品投入係数表!AG37","v":-1.9209280367143824E-2},{"$f":"単位行列!AH37-市内品投入係数表!AH37","v":-1.692166022798226E-2},{"$f":"単位行列!AI37-市内品投入係数表!AI37","v":-1.3950926985274817E-2},{"$f":"単位行列!AJ37-市内品投入係数表!AJ37","v":-4.1238636454934641E-2},{"$f":"単位行列!AK37-市内品投入係数表!AK37","v":-3.170191645417602E-2},{"$f":"単位行列!AL37-市内品投入係数表!AL37","v":-1.711498380879144E-2},{"$f":"単位行列!AM37-市内品投入係数表!AM37","v":0},{"$f":"単位行列!AN37-市内品投入係数表!AN37","v":-3.0833786679479995E-2}]
[null,"61","公務　　　　　　　　",{"$f":"単位行列!D38-市内品投入係数表!D38","v":0},{"$f":"単位行列!E38-市内品投入係数表!E38","v":0},{"$f":"単位行列!F38-市内品投入係数表!F38","v":0},{"$f":"単位行列!G38-市内品投入係数表!G38","v":0},{"$f":"単位行列!H38-市内品投入係数表!H38","v":0},{"$f":"単位行列!I38-市内品投入係数表!I38","v":0},{"$f":"単位行列!J38-市内品投入係数表!J38","v":0},{"$f":"単位行列!K38-市内品投入係数表!K38","v":0},{"$f":"単位行列!L38-市内品投入係数表!L38","v":0},{"$f":"単位行列!M38-市内品投入係数表!M38","v":0},{"$f":"単位行列!N38-市内品投入係数表!N38","v":0},{"$f":"単位行列!O38-市内品投入係数表!O38","v":0},{"$f":"単位行列!P38-市内品投入係数表!P38","v":0},{"$f":"単位行列!Q38-市内品投入係数表!Q38","v":0},{"$f":"単位行列!R38-市内品投入係数表!R38","v":0},{"$f":"単位行列!S38-市内品投入係数表!S38","v":0},{"$f":"単位行列!T38-市内品投入係数表!T38","v":0},{"$f":"単位行列!U38-市内品投入係数表!U38","v":0},{"$f":"単位行列!V38-市内品投入係数表!V38","v":0},{"$f":"単位行列!W38-市内品投入係数表!W38","v":0},{"$f":"単位行列!X38-市内品投入係数表!X38","v":0},{"$f":"単位行列!Y38-市内品投入係数表!Y38","v":0},{"$f":"単位行列!Z38-市内品投入係数表!Z38","v":0},{"$f":"単位行列!AA38-市内品投入係数表!AA38","v":0},{"$f":"単位行列!AB38-市内品投入係数表!AB38","v":0},{"$f":"単位行列!AC38-市内品投入係数表!AC38","v":0},{"$f":"単位行列!AD38-市内品投入係数表!AD38","v":0},{"$f":"単位行列!AE38-市内品投入係数表!AE38","v":0},{"$f":"単位行列!AF38-市内品投入係数表!AF38","v":0},{"$f":"単位行列!AG38-市内品投入係数表!AG38","v":1},{"$f":"単位行列!AH38-市内品投入係数表!AH38","v":0},{"$f":"単位行列!AI38-市内品投入係数表!AI38","v":0},{"$f":"単位行列!AJ38-市内品投入係数表!AJ38","v":0},{"$f":"単位行列!AK38-市内品投入係数表!AK38","v":0},{"$f":"単位行列!AL38-市内品投入係数表!AL38","v":0},{"$f":"単位行列!AM38-市内品投入係数表!AM38","v":0},{"$f":"単位行列!AN38-市内品投入係数表!AN38","v":-0.21197098283057447}]
[null,"63","教育・研究　　　　　",{"$f":"単位行列!D39-市内品投入係数表!D39","v":-3.138897516120291E-4},{"$f":"単位行列!E39-市内品投入係数表!E39","v":-9.1002611793268844E-4},{"$f":"単位行列!F39-市内品投入係数表!F39","v":-3.5032074375575834E-3},{"$f":"単位行列!G39-市内品投入係数表!G39","v":-8.8226260924999626E-3},{"$f":"単位行列!H39-市内品投入係数表!H39","v":-4.795586186033019E-3},{"$f":"単位行列!I39-市内品投入係数表!I39","v":-5.2195392239481317E-2},{"$f":"単位行列!J39-市内品投入係数表!J39","v":-1.478545460105599E-3},{"$f":"単位行列!K39-市内品投入係数表!K39","v":-1.7579327613003438E-2},{"$f":"単位行列!L39-市内品投入係数表!L39","v":-8.758926844934763E-3},{"$f":"単位行列!M39-市内品投入係数表!M39","v":-8.1621505748061488E-3},{"$f":"単位行列!N39-市内品投入係数表!N39","v":-2.1461787186127373E-2},{"$f":"単位行列!O39-市内品投入係数表!O39","v":-8.8324019363188646E-3},{"$f":"単位行列!P39-市内品投入係数表!P39","v":-1.6692122902902326E-2},{"$f":"単位行列!Q39-市内品投入係数表!Q39","v":-2.641262622208379E-2},{"$f":"単位行列!R39-市内品投入係数表!R39","v":-5.6006286820445679E-2},{"$f":"単位行列!S39-市内品投入係数表!S39","v":-4.0205871536413959E-2},{"$f":"単位行列!T39-市内品投入係数表!T39","v":-6.8157599471120101E-2},{"$f":"単位行列!U39-市内品投入係数表!U39","v":-6.1569613667970133E-2},{"$f":"単位行列!V39-市内品投入係数表!V39","v":-2.2858622148749907E-2},{"$f":"単位行列!W39-市内品投入係数表!W39","v":-8.8890948978176416E-3},{"$f":"単位行列!X39-市内品投入係数表!X39","v":-1.8731196716168857E-3},{"$f":"単位行列!Y39-市内品投入係数表!Y39","v":-1.097326320705381E-2},{"$f":"単位行列!Z39-市内品投入係数表!Z39","v":-1.1828783114294123E-4},{"$f":"単位行列!AA39-市内品投入係数表!AA39","v":-2.3598577546390977E-4},{"$f":"単位行列!AB39-市内品投入係数表!AB39","v":-2.0488839871682851E-3},{"$f":"単位行列!AC39-市内品投入係数表!AC39","v":-6.010087021843418E-4},{"$f":"単位行列!AD39-市内品投入係数表!AD39","v":-1.2072147831062133E-6},{"$f":"単位行列!AE39-市内品投入係数表!AE39","v":-2.7876373328307863E-3},{"$f":"単位行列!AF39-市内品投入係数表!AF39","v":-1.6576266416281769E-2},{"$f":"単位行列!AG39-市内品投入係数表!AG39","v":-1.1278394163577115E-4},{"$f":"単位行列!AH39-市内品投入係数表!AH39","v":0.99427744426969111},{"$f":"単位行列!AI39-市内品投入係数表!AI39","v":-3.6336002883807519E-3},{"$f":"単位行列!AJ39-市内品投入係数表!AJ39","v":0},{"$f":"単位行列!AK39-市内品投入係数表!AK39","v":-1.7208400495775124E-3},{"$f":"単位行列!AL39-市内品投入係数表!AL39","v":-6.6832342540125021E-4},{"$f":"単位行列!AM39-市内品投入係数表!AM39","v":0},{"$f":"単位行列!AN39-市内品投入係数表!AN39","v":-1.6419264054712699E-2}]
[null,"64","医療・福祉",{"$f":"単位行列!D40-市内品投入係数表!D40","v":-1.6603258154080753E-3},{"$f":"単位行列!E40-市内品投入係数表!E40","v":0},{"$f":"単位行列!F40-市内品投入係数表!F40","v":0},{"$f":"単位行列!G40-市内品投入係数表!G40","v":0},{"$f":"単位行列!H40-市内品投入係数表!H40","v":0},{"$f":"単位行列!I40-市内品投入係数表!I40","v":0},{"$f":"単位行列!J40-市内品投入係数表!J40","v":0},{"$f":"単位行列!K40-市内品投入係数表!K40","v":0},{"$f":"単位行列!L40-市内品投入係数表!L40","v":0},{"$f":"単位行列!M40-市内品投入係数表!M40","v":-1.9652467521374404E-6},{"$f":"単位行列!N40-市内品投入係数表!N40","v":0},{"$f":"単位行列!O40-市内品投入係数表!O40","v":0},{"$f":"単位行列!P40-市内品投入係数表!P40","v":0},{"$f":"単位行列!Q40-市内品投入係数表!Q40","v":0},{"$f":"単位行列!R40-市内品投入係数表!R40","v":0},{"$f":"単位行列!S40-市内品投入係数表!S40","v":0},{"$f":"単位行列!T40-市内品投入係数表!T40","v":0},{"$f":"単位行列!U40-市内品投入係数表!U40","v":0},{"$f":"単位行列!V40-市内品投入係数表!V40","v":0},{"$f":"単位行列!W40-市内品投入係数表!W40","v":0},{"$f":"単位行列!X40-市内品投入係数表!X40","v":0},{"$f":"単位行列!Y40-市内品投入係数表!Y40","v":-4.9481078724997637E-6},{"$f":"単位行列!Z40-市内品投入係数表!Z40","v":-1.5137558085486069E-4},{"$f":"単位行列!AA40-市内品投入係数表!AA40","v":0},{"$f":"単位行列!AB40-市内品投入係数表!AB40","v":-1.3089189410325252E-5},{"$f":"単位行列!AC40-市内品投入係数表!AC40","v":-6.0323471901110905E-5},{"$f":"単位行列!AD40-市内品投入係数表!AD40","v":-5.1496657839764842E-6},{"$f":"単位行列!AE40-市内品投入係数表!AE40","v":-5.9707145925688894E-4},{"$f":"単位行列!AF40-市内品投入係数表!AF40","v":-2.4687774174671418E-4},{"$f":"単位行列!AG40-市内品投入係数表!AG40","v":-9.9539400316437524E-6},{"$f":"単位行列!AH40-市内品投入係数表!AH40","v":-2.8348190122230432E-5},{"$f":"単位行列!AI40-市内品投入係数表!AI40","v":0.9762702886987874},{"$f":"単位行列!AJ40-市内品投入係数表!AJ40","v":0},{"$f":"単位行列!AK40-市内品投入係数表!AK40","v":-6.2794338936976566E-6},{"$f":"単位行列!AL40-市内品投入係数表!AL40","v":-3.4742086449500919E-5},{"$f":"単位行列!AM40-市内品投入係数表!AM40","v":0},{"$f":"単位行列!AN40-市内品投入係数表!AN40","v":-2.234415449086273E-3}]
[null,"65","その他の非営利団体サービス",{"$f":"単位行列!D41-市内品投入係数表!D41","v":-4.1050724738143679E-4},{"$f":"単位行列!E41-市内品投入係数表!E41","v":-1.4876732785923427E-3},{"$f":"単位行列!F41-市内品投入係数表!F41","v":-5.2448015515253418E-4},{"$f":"単位行列!G41-市内品投入係数表!G41","v":-6.555848346339137E-4},{"$f":"単位行列!H41-市内品投入係数表!H41","v":-3.2665112954646298E-4},{"$f":"単位行列!I41-市内品投入係数表!I41","v":-1.8485869322655362E-3},{"$f":"単位行列!J41-市内品投入係数表!J41","v":-3.5878313380186103E-4},{"$f":"単位行列!K41-市内品投入係数表!K41","v":-4.1851400889784577E-4},{"$f":"単位行列!L41-市内品投入係数表!L41","v":-7.0630523750563892E-4},{"$f":"単位行列!M41-市内品投入係数表!M41","v":-7.8891520302535093E-4},{"$f":"単位行列!N41-市内品投入係数表!N41","v":-5.0678112641205301E-4},{"$f":"単位行列!O41-市内品投入係数表!O41","v":-9.8041557162946934E-4},{"$f":"単位行列!P41-市内品投入係数表!P41","v":-1.4571046495801712E-3},{"$f":"単位行列!Q41-市内品投入係数表!Q41","v":-7.4659842013022738E-4},{"$f":"単位行列!R41-市内品投入係数表!R41","v":-7.8158222384872695E-4},{"$f":"単位行列!S41-市内品投入係数表!S41","v":-3.9279027238087503E-4},{"$f":"単位行列!T41-市内品投入係数表!T41","v":-5.6920174237553862E-4},{"$f":"単位行列!U41-市内品投入係数表!U41","v":-7.7424209821388252E-4},{"$f":"単位行列!V41-市内品投入係数表!V41","v":0},{"$f":"単位行列!W41-市内品投入係数表!W41","v":-6.9452150298924284E-4},{"$f":"単位行列!X41-市内品投入係数表!X41","v":-8.8855551893304797E-4},{"$f":"単位行列!Y41-市内品投入係数表!Y41","v":-2.3134397645305097E-3},{"$f":"単位行列!Z41-市内品投入係数表!Z41","v":-6.3329357025933997E-3},{"$f":"単位行列!AA41-市内品投入係数表!AA41","v":-1.8260245869937996E-3},{"$f":"単位行列!AB41-市内品投入係数表!AB41","v":-3.8533280384638274E-4},{"$f":"単位行列!AC41-市内品投入係数表!AC41","v":-1.6287504665479754E-3},{"$f":"単位行列!AD41-市内品投入係数表!AD41","v":-2.9602576326522592E-4},{"$f":"単位行列!AE41-市内品投入係数表!AE41","v":-9.5019876560136429E-4},{"$f":"単位行列!AF41-市内品投入係数表!AF41","v":-8.9768603400675506E-4},{"$f":"単位行列!AG41-市内品投入係数表!AG41","v":0},{"$f":"単位行列!AH41-市内品投入係数表!AH41","v":-7.9668376914917649E-4},{"$f":"単位行列!AI41-市内品投入係数表!AI41","v":-1.0505178239669118E-3},{"$f":"単位行列!AJ41-市内品投入係数表!AJ41","v":1},{"$f":"単位行列!AK41-市内品投入係数表!AK41","v":-1.4523021280115802E-3},{"$f":"単位行列!AL41-市内品投入係数表!AL41","v":-2.3476068794407146E-3},{"$f":"単位行列!AM41-市内品投入係数表!AM41","v":0},{"$f":"単位行列!AN41-市内品投入係数表!AN41","v":-1.6261361053789532E-3}]
[null,"66","対事業所サービス",{"$f":"単位行列!D42-市内品投入係数表!D42","v":-3.188741410297366E-2},{"$f":"単位行列!E42-市内品投入係数表!E42","v":-3.4912266287809357E-2},{"$f":"単位行列!F42-市内品投入係数表!F42","v":-1.8862844254065543E-2},{"$f":"単位行列!G42-市内品投入係数表!G42","v":-3.8770367579275745E-2},{"$f":"単位行列!H42-市内品投入係数表!H42","v":-3.935084924974272E-2},{"$f":"単位行列!I42-市内品投入係数表!I42","v":-4.4021393532840201E-2},{"$f":"単位行列!J42-市内品投入係数表!J42","v":-1.5129076323766611E-2},{"$f":"単位行列!K42-市内品投入係数表!K42","v":-4.0071965232577174E-2},{"$f":"単位行列!L42-市内品投入係数表!L42","v":-6.2232933402397807E-2},{"$f":"単位行列!M42-市内品投入係数表!M42","v":-1.5307282472611358E-2},{"$f":"単位行列!N42-市内品投入係数表!N42","v":-2.7701509179835798E-2},{"$f":"単位行列!O42-市内品投入係数表!O42","v":-3.8967347928602611E-2},{"$f":"単位行列!P42-市内品投入係数表!P42","v":-4.7499812160345552E-2},{"$f":"単位行列!Q42-市内品投入係数表!Q42","v":-4.0106279222822422E-2},{"$f":"単位行列!R42-市内品投入係数表!R42","v":-3.0185584620475315E-2},{"$f":"単位行列!S42-市内品投入係数表!S42","v":-3.4413430770923147E-2},{"$f":"単位行列!T42-市内品投入係数表!T42","v":-4.3479815527395729E-2},{"$f":"単位行列!U42-市内品投入係数表!U42","v":-3.4740426730185417E-2},{"$f":"単位行列!V42-市内品投入係数表!V42","v":-1.6286191823267192E-2},{"$f":"単位行列!W42-市内品投入係数表!W42","v":-3.5832329880035048E-2},{"$f":"単位行列!X42-市内品投入係数表!X42","v":-9.471459090621441E-2},{"$f":"単位行列!Y42-市内品投入係数表!Y42","v":-6.0223074934280585E-2},{"$f":"単位行列!Z42-市内品投入係数表!Z42","v":-0.1258537976794277},{"$f":"単位行列!AA42-市内品投入係数表!AA42","v":-5.4573681755569509E-2},{"$f":"単位行列!AB42-市内品投入係数表!AB42","v":-5.8537892002843581E-2},{"$f":"単位行列!AC42-市内品投入係数表!AC42","v":-7.067313660132192E-2},{"$f":"単位行列!AD42-市内品投入係数表!AD42","v":-2.798176303674715E-2},{"$f":"単位行列!AE42-市内品投入係数表!AE42","v":-8.2116095691372223E-2},{"$f":"単位行列!AF42-市内品投入係数表!AF42","v":-0.11805526398122147},{"$f":"単位行列!AG42-市内品投入係数表!AG42","v":-5.7105417064217553E-2},{"$f":"単位行列!AH42-市内品投入係数表!AH42","v":-5.49757191003446E-2},{"$f":"単位行列!AI42-市内品投入係数表!AI42","v":-5.8870473497019807E-2},{"$f":"単位行列!AJ42-市内品投入係数表!AJ42","v":-5.304000130883714E-2},{"$f":"単位行列!AK42-市内品投入係数表!AK42","v":0.90913977009510927},{"$f":"単位行列!AL42-市内品投入係数表!AL42","v":-3.2182724457743839E-2},{"$f":"単位行列!AM42-市内品投入係数表!AM42","v":0},{"$f":"単位行列!AN42-市内品投入係数表!AN42","v":-5.9570849935149682E-2}]
[null,"67","対個人サービス",{"$f":"単位行列!D43-市内品投入係数表!D43","v":-4.4792977235276449E-4},{"$f":"単位行列!E43-市内品投入係数表!E43","v":0},{"$f":"単位行列!F43-市内品投入係数表!F43","v":-1.9526033970480141E-3},{"$f":"単位行列!G43-市内品投入係数表!G43","v":0},{"$f":"単位行列!H43-市内品投入係数表!H43","v":0},{"$f":"単位行列!I43-市内品投入係数表!I43","v":0},{"$f":"単位行列!J43-市内品投入係数表!J43","v":-3.663068092230512E-5},{"$f":"単位行列!K43-市内品投入係数表!K43","v":0},{"$f":"単位行列!L43-市内品投入係数表!L43","v":-3.1139119205686332E-5},{"$f":"単位行列!M43-市内品投入係数表!M43","v":-7.1831284580174595E-5},{"$f":"単位行列!N43-市内品投入係数表!N43","v":0},{"$f":"単位行列!O43-市内品投入係数表!O43","v":0},{"$f":"単位行列!P43-市内品投入係数表!P43","v":0},{"$f":"単位行列!Q43-市内品投入係数表!Q43","v":-1.7241472521917296E-4},{"$f":"単位行列!R43-市内品投入係数表!R43","v":0},{"$f":"単位行列!S43-市内品投入係数表!S43","v":0},{"$f":"単位行列!T43-市内品投入係数表!T43","v":-1.380202493440538E-4},{"$f":"単位行列!U43-市内品投入係数表!U43","v":0},{"$f":"単位行列!V43-市内品投入係数表!V43","v":0},{"$f":"単位行列!W43-市内品投入係数表!W43","v":0},{"$f":"単位行列!X43-市内品投入係数表!X43","v":-1.3479890825041717E-4},{"$f":"単位行列!Y43-市内品投入係数表!Y43","v":-4.5980633695475241E-5},{"$f":"単位行列!Z43-市内品投入係数表!Z43","v":-1.5629644733968466E-4},{"$f":"単位行列!AA43-市内品投入係数表!AA43","v":-3.7417615629258053E-5},{"$f":"単位行列!AB43-市内品投入係数表!AB43","v":-4.964805067100977E-4},{"$f":"単位行列!AC43-市内品投入係数表!AC43","v":-1.0446800435827575E-4},{"$f":"単位行列!AD43-市内品投入係数表!AD43","v":-3.5028853126758199E-4},{"$f":"単位行列!AE43-市内品投入係数表!AE43","v":-4.9152970383120294E-4},{"$f":"単位行列!AF43-市内品投入係数表!AF43","v":-5.2475930140067099E-3},{"$f":"単位行列!AG43-市内品投入係数表!AG43","v":-2.2507767414474799E-4},{"$f":"単位行列!AH43-市内品投入係数表!AH43","v":-7.7564767421016694E-4},{"$f":"単位行列!AI43-市内品投入係数表!AI43","v":-1.3064275065870644E-2},{"$f":"単位行列!AJ43-市内品投入係数表!AJ43","v":-1.312234126909731E-3},{"$f":"単位行列!AK43-市内品投入係数表!AK43","v":-6.640465858943665E-4},{"$f":"単位行列!AL43-市内品投入係数表!AL43","v":0.99017796935587543},{"$f":"単位行列!AM43-市内品投入係数表!AM43","v":0},{"$f":"単位行列!AN43-市内品投入係数表!AN43","v":-2.0563811026229921E-3}]
[null,"68","事務用品",{"$f":"単位行列!D44-市内品投入係数表!D44","v":-7.6804915514592934E-4},{"$f":"単位行列!E44-市内品投入係数表!E44","v":0},{"$f":"単位行列!F44-市内品投入係数表!F44","v":-4.9740305145958962E-4},{"$f":"単位行列!G44-市内品投入係数表!G44","v":-8.9206066012488853E-4},{"$f":"単位行列!H44-市内品投入係数表!H44","v":-1.3334321060819319E-3},{"$f":"単位行列!I44-市内品投入係数表!I44","v":-7.2813927318461636E-4},{"$f":"単位行列!J44-市内品投入係数表!J44","v":-8.9931523568482856E-5},{"$f":"単位行列!K44-市内品投入係数表!K44","v":-9.4912680334092639E-5},{"$f":"単位行列!L44-市内品投入係数表!L44","v":-8.7370582324931194E-4},{"$f":"単位行列!M44-市内品投入係数表!M44","v":-1.7250905886060329E-4},{"$f":"単位行列!N44-市内品投入係数表!N44","v":-3.1826861871419476E-4},{"$f":"単位行列!O44-市内品投入係数表!O44","v":-3.941543872415257E-4},{"$f":"単位行列!P44-市内品投入係数表!P44","v":-7.2098053352559477E-4},{"$f":"単位行列!Q44-市内品投入係数表!Q44","v":-9.4333917881115074E-4},{"$f":"単位行列!R44-市内品投入係数表!R44","v":-1.3673655423883319E-3},{"$f":"単位行列!S44-市内品投入係数表!S44","v":-1.2471049349723855E-3},{"$f":"単位行列!T44-市内品投入係数表!T44","v":-1.1617775196049957E-3},{"$f":"単位行列!U44-市内品投入係数表!U44","v":-4.2140750105351877E-4},{"$f":"単位行列!V44-市内品投入係数表!V44","v":0},{"$f":"単位行列!W44-市内品投入係数表!W44","v":-8.7234661238732192E-4},{"$f":"単位行列!X44-市内品投入係数表!X44","v":-5.8903222006243742E-4},{"$f":"単位行列!Y44-市内品投入係数表!Y44","v":-8.3858524218986859E-5},{"$f":"単位行列!Z44-市内品投入係数表!Z44","v":-6.3588124369600492E-4},{"$f":"単位行列!AA44-市内品投入係数表!AA44","v":-3.2895888013998249E-3},{"$f":"単位行列!AB44-市内品投入係数表!AB44","v":-1.9127043591975019E-3},{"$f":"単位行列!AC44-市内品投入係数表!AC44","v":-2.7131270308238396E-3},{"$f":"単位行列!AD44-市内品投入係数表!AD44","v":-3.3835631336628279E-4},{"$f":"単位行列!AE44-市内品投入係数表!AE44","v":-2.6459656207309971E-3},{"$f":"単位行列!AF44-市内品投入係数表!AF44","v":-1.3076533198175368E-3},{"$f":"単位行列!AG44-市内品投入係数表!AG44","v":-2.4612217002759683E-3},{"$f":"単位行列!AH44-市内品投入係数表!AH44","v":-3.0345337330103068E-3},{"$f":"単位行列!AI44-市内品投入係数表!AI44","v":-1.8945465438320818E-3},{"$f":"単位行列!AJ44-市内品投入係数表!AJ44","v":-3.0459231490159327E-3},{"$f":"単位行列!AK44-市内品投入係数表!AK44","v":-1.0625757228461966E-3},{"$f":"単位行列!AL44-市内品投入係数表!AL44","v":-1.7130997514273611E-3},{"$f":"単位行列!AM44-市内品投入係数表!AM44","v":1},{"$f":"単位行列!AN44-市内品投入係数表!AN44","v":-1.4004425398425903E-4}]
[null,"69","分類不明",{"$f":"単位行列!D45-市内品投入係数表!D45","v":-1.2655883361037708E-2},{"$f":"単位行列!E45-市内品投入係数表!E45","v":-3.9538592745877706E-3},{"$f":"単位行列!F45-市内品投入係数表!F45","v":-9.8279499006214527E-4},{"$f":"単位行列!G45-市内品投入係数表!G45","v":-1.3939029307021291E-3},{"$f":"単位行列!H45-市内品投入係数表!H45","v":-3.1253618789215008E-3},{"$f":"単位行列!I45-市内品投入係数表!I45","v":-1.3963480506904529E-3},{"$f":"単位行列!J45-市内品投入係数表!J45","v":-1.7063612517434176E-3},{"$f":"単位行列!K45-市内品投入係数表!K45","v":-1.6313797492870116E-3},{"$f":"単位行列!L45-市内品投入係数表!L45","v":-5.3243669763108981E-3},{"$f":"単位行列!M45-市内品投入係数表!M45","v":-2.3252597118885417E-3},{"$f":"単位行列!N45-市内品投入係数表!N45","v":-1.7406041211361566E-3},{"$f":"単位行列!O45-市内品投入係数表!O45","v":-2.9847070121574331E-3},{"$f":"単位行列!P45-市内品投入係数表!P45","v":-8.3085207222159448E-3},{"$f":"単位行列!Q45-市内品投入係数表!Q45","v":-7.7386520334685504E-3},{"$f":"単位行列!R45-市内品投入係数表!R45","v":-2.1365977921382227E-3},{"$f":"単位行列!S45-市内品投入係数表!S45","v":-1.5311078780053406E-3},{"$f":"単位行列!T45-市内品投入係数表!T45","v":-3.2525076468503601E-3},{"$f":"単位行列!U45-市内品投入係数表!U45","v":-4.1154793123606374E-3},{"$f":"単位行列!V45-市内品投入係数表!V45","v":-1.4187940544646673E-3},{"$f":"単位行列!W45-市内品投入係数表!W45","v":-1.3914963303383479E-3},{"$f":"単位行列!X45-市内品投入係数表!X45","v":-1.3648581547266401E-2},{"$f":"単位行列!Y45-市内品投入係数表!Y45","v":-2.4594150881957462E-3},{"$f":"単位行列!Z45-市内品投入係数表!Z45","v":-6.355651490512643E-3},{"$f":"単位行列!AA45-市内品投入係数表!AA45","v":-1.8045372218884993E-3},{"$f":"単位行列!AB45-市内品投入係数表!AB45","v":-5.1848201877851387E-3},{"$f":"単位行列!AC45-市内品投入係数表!AC45","v":-2.7089951952943407E-3},{"$f":"単位行列!AD45-市内品投入係数表!AD45","v":-4.6072759322002728E-3},{"$f":"単位行列!AE45-市内品投入係数表!AE45","v":-6.5568254948109818E-3},{"$f":"単位行列!AF45-市内品投入係数表!AF45","v":-4.1895437558679112E-3},{"$f":"単位行列!AG45-市内品投入係数表!AG45","v":-5.6436891928566938E-4},{"$f":"単位行列!AH45-市内品投入係数表!AH45","v":-8.6267354808804795E-3},{"$f":"単位行列!AI45-市内品投入係数表!AI45","v":-3.0034644005493107E-3},{"$f":"単位行列!AJ45-市内品投入係数表!AJ45","v":-2.2751233619391241E-3},{"$f":"単位行列!AK45-市内品投入係数表!AK45","v":-5.9429564253767192E-3},{"$f":"単位行列!AL45-市内品投入係数表!AL45","v":-1.9149950451876282E-3},{"$f":"単位行列!AM45-市内品投入係数表!AM45","v":-8.6023285220539398E-4},{"$f":"単位行列!AN45-市内品投入係数表!AN45","v":1}]

{"sheet":"マージン表","index":11,"n_rows":45,"n_cols":26,"rows_kept":45,"cut":false,"hidden":true,"merged":[[6,15,6,25],[6,3,6,13]]}
[]
[]
[]
[]
[]
[]
[null,null,null,"国内生産額ベースのマージン割合（全国購入者価格＝1.0）",null,null,null,null,null,null,null,null,null,null,null,"国内生産額のマージン割合（全国実額）"]
[null,null,null,"購入者価格","生産者価格","卸売","小売","鉄道","道路","沿海","港湾","航空","利用運送","倉庫",null,"購入者価格","生産者価格","卸売","小売","鉄道","道路","沿海","港湾","航空","利用運送","倉庫"]
[null,"01","農林水産業　　　　　",{"$f":"P9/$P9","v":1},{"$f":"Q9/$P9","v":0.67573871398813867},0.18219491361846873,9.8364478084516108E-2,6.3902312441772369E-4,2.889729716012554E-2,1.0798603738403178E-3,2.1046441631564937E-3,4.8782919768631183E-4,2.387044999197712E-3,8.106195290452348E-3,null,17811562,12035962,3245176,1752025,11382,514706,19234,37487,8689,42517,144384]
[null,"06","鉱業",{"$f":"P10/$P10","v":1},{"$f":"Q10/$P10","v":0.28965522498418289},{"$f":"R10/$P10","v":0.15618620747482601},{"$f":"S10/$P10","v":1.6846181405169718E-4},{"$f":"T10/$P10","v":8.743244376348266E-4},{"$f":"U10/$P10","v":0.20353236220052293},{"$f":"V10/$P10","v":5.9462065601012297E-2},{"$f":"W10/$P10","v":0.12014033402699963},{"$f":"X10/$P10","v":0},{"$f":"Y10/$P10","v":1.7189203198487654E-2},{"$f":"Z10/$P10","v":0.15279181626228208},null,2623740,759980,409792,442,2294,534016,156013,315217,0,45100,400886]
[null,"11","飲食料品　　　　　　　",1,0.61223672427768938,0.14517337259449151,0.20885244073962092,3.2269940628683834E-4,2.7343576660824442E-2,3.5394783008464568E-4,4.949963935115732E-4,1.0659605648336922E-4,1.6815579589011911E-3,3.4340880821061119E-3,null,58050928,35540910,8427449,12124078,18733,1587320,20547,28735,6188,97616,199352]
[null,"15","繊維製品　",1,0.32185125919693736,0.25833524926199963,0.38940636021787467,5.9684856282320501E-5,2.5660074208811019E-2,3.0418166304655305E-5,4.9139252254302784E-4,2.3346182529724403E-4,1.4949041415149053E-3,2.4371956024351422E-3,null,10421404,3354142,2692216,4058161,622,267414,317,5121,2433,15579,25399]
[null,"16","パルプ・紙・木製品",1,0.64562747951307475,0.24259177067499685,5.0900448262773949E-2,8.6241396932139488E-4,4.8128065878744422E-2,1.0018234645312787E-3,2.3983682906045176E-3,2.8581863034662391E-5,3.0585509963724951E-3,5.4024970865457064E-3,null,17143739,11068469,4158930,872624,14785,825095,17175,41117,490,52435,92619]
[null,"20","化学製品  　　　  　",1,0.7224774617259484,0.18733336252812996,6.1222089828903238E-2,3.7039046297500643E-4,2.2359797980722285E-2,1.3931931242332281E-3,9.2596308514052389E-4,4.5648461096517346E-5,1.5428447801991304E-3,2.329248022651676E-3,null,38248825,27633914,7165281,2341673,14167,855236,53288,35417,1746,59012,89091]
[null,"21","石油・石炭製品　　　",1,0.77669301431819449,7.5518713033443333E-2,0.12521055017939203,6.4768724141793868E-4,1.15005066033668E-2,6.3513949897897048E-3,8.9840740673522758E-4,1.2907590414150599E-6,1.698130417667722E-3,1.4803050509513442E-3,null,25566352,19857207,1930738,3201177,16559,294026,162382,22969,33,43415,37846]
[null,"22","プラスチック・ゴム",1,0.74563480776989111,0.1909879168061179,3.3060473974194919E-2,1.2583109619163348E-4,2.4393438364745754E-2,5.3746863538602671E-4,5.0378657428422585E-4,3.9343882693527272E-5,1.353002039353473E-3,3.3639308571414375E-3,null,17308917,12906131,3305794,572241,2178,422224,9303,8720,681,23419,58226]
[null,"25","窯業・土石製品　　",1,0.72839004844295829,0.20397305328634915,1.6248587358454476E-2,2.0462164394770689E-4,4.0312386780830989E-2,3.6478982959168311E-3,2.484756026865272E-3,1.0971973169114189E-5,2.1570673024227586E-3,2.5706088890854544E-3,null,8840707,6439483,1803266,143649,1809,356390,32250,21967,97,19070,22726]
[null,"26","鉄鋼　　　　　　　　",1,0.88998381068242738,8.334275749460196E-2,4.0868845976470871E-7,2.3090897976706042E-5,1.7819605030627989E-2,1.1571137977252517E-3,4.5101106897662835E-3,0,9.9241234844007413E-4,2.1706903699745695E-3,null,34255922,30487216,2854983,14,791,610427,39638,154498,0,33996,74359]
[null,"27","非鉄金属　　　　　　",1,0.79701971552509654,0.15470275433344005,1.113791720464532E-2,8.2851644543577145E-5,2.6223249121350396E-2,1.7766488532699134E-4,1.638123014462977E-3,1.6711053570360573E-5,1.3496374580904368E-3,7.651375759473408E-3,null,11369720,9061891,1758927,126635,942,298151,2020,18625,190,15345,86994]
[null,"28","金属製品　　　　　　",1,0.79079964019578797,0.14973892026889776,1.5483695317893141E-2,1.3019642175273109E-4,3.8748890442364979E-2,8.1294708186732266E-4,4.8979768974723474E-4,7.9616516899152097E-6,2.039041442114265E-3,1.7489094878847078E-3,null,12811412,10131260,1918367,198368,1668,496428,10415,6275,102,26123,22406]
[null,"29","はん用機械",1,0.86229258108969364,0.12315719381288122,7.2434106189479277E-4,1.8664339601684694E-5,1.1540417352931865E-2,4.6111897839456305E-5,4.4327806554001148E-4,4.098835363507227E-5,6.0604208588999715E-4,1.1303819400922276E-3,null,10929934,9424801,1346100,7917,204,126136,504,4845,448,6624,12355]
[null,"30","生産用機械",1,0.8414412167562052,0.13349062292373698,1.3223389230089293E-2,1.7931528983972611E-5,9.920471910963043E-3,5.9361564904458351E-5,3.5359099963820504E-4,8.7313654203003895E-6,4.9786362826088665E-4,9.8682009179770834E-4,null,17064914,14359122,2278006,225656,306,169292,1013,6034,149,8496,16840]
[null,"31","業務用機械",1,0.76308848159534848,0.16189738342451637,5.9102660341438497E-2,7.8280569659566103E-6,1.3696134517330903E-2,4.4596203321207355E-5,3.8653996442503932E-4,6.3098883422559347E-5,7.6216809186722999E-4,9.5110892136372814E-4,null,8431211,6433760,1364991,498307,66,115475,376,3259,532,6426,8019]
[null,"32","電子部品",1,0.91358991798228828,7.2459153647857891E-2,3.1435784861683774E-3,6.9498451479111012E-6,8.4127194158096445E-3,4.285737841211846E-5,3.8632962733976416E-4,2.3622659929223321E-4,6.6289258278457949E-4,1.0593744348992335E-3,null,14676586,13408381,1063453,46137,102,123470,629,5670,3467,9729,15548]
[null,"33","電気機械　　　　　　",1,0.77819462132661477,0.12920196248418406,8.2523848441458991E-2,3.6937032292588473E-5,8.2683081194115278E-3,3.7609555289512355E-5,3.3921025314075998E-4,4.0558309968332442E-5,4.6874852885594423E-4,8.8819594878354559E-4,null,19330194,15042653,2497499,1595202,714,159828,727,6557,784,9061,17169]
[null,"34","情報・通信機器",1,0.70291425992410494,0.16044226957758209,0.12542155242300249,2.5706314342504528E-5,9.0201589094972296E-3,4.7765712117387303E-5,4.8370566572505062E-4,7.9342672641917087E-5,5.3840941423937685E-4,1.026829386746963E-3,null,11242374,7902425,1803752,1410036,289,101408,537,5438,892,6053,11544]
[null,"35","輸送機械  　　　　　",1,0.89823201165388544,3.6783487708710101E-2,4.8934666310118877E-2,5.5603006125969052E-5,1.1568953433753689E-2,5.3726577135117498E-4,2.1597066952267568E-3,4.2535018511109968E-5,7.4225381236857238E-4,9.4351658994824979E-4,null,50734667,45571502,1866198,2482684,2821,586947,27258,109572,2158,37658,47869]
[null,"39","その他の製造工業製品",1,0.60977719455293145,0.13282435492081879,0.22065853124352325,6.2348385630032268E-5,3.1689761292652295E-2,1.953133612712897E-4,3.157229154448098E-4,9.670736828076715E-5,1.6350833508496775E-3,2.7449826085976588E-3,null,16327608,9956203,2168704,3602826,1018,517418,3189,5155,1579,26697,44819]
[null,"41","建設　　　　　　　　",1,1,0,0,0,0,0,0,0,0,0,null,52514485,52514485,0,0,0,0,0,0,0,0,0]
[null,"46","電力・ガス・熱供給",1,1,0,0,0,0,0,0,0,0,0,null,21187278,21187278,0,0,0,0,0,0,0,0,0]
[null,"47","水道",1,1,0,0,0,0,0,0,0,0,0,null,4567395,4567395,0,0,0,0,0,0,0,0,0]
[null,"48","廃棄物処理",1,1,0,0,0,0,0,0,0,0,0,null,3765124,3765124,0,0,0,0,0,0,0,0,0]
[null,"51","商業　　　　　　　　",1,0.50477358709478015,0.29436848688797379,0.20085792601724603,0,0,0,0,0,0,0,null,185540241,93655813,54617200,37267228,0,0,0,0,0,0,0]
[null,"53","金融・保険　　　　　",1,1,0,0,0,0,0,0,0,0,0,null,32093913,32093913,0,0,0,0,0,0,0,0,0]
[null,"55","不動産　　　　　　　",1,1,0,0,0,0,0,0,0,0,0,null,71187533,71187533,0,0,0,0,0,0,0,0,0]
[null,"57","運輸・郵便　　　",1,0.78978990381857761,0,0,1.6446494506212267E-3,0.15004301235946482,9.3090970800505067E-3,1.4045884642255178E-2,5.4971198658186637E-4,9.9423170831809109E-3,2.4675423579267882E-2,null,61071981,48234034,0,0,100442,9163424,568525,857810,33572,607197,1506977]
[null,"59","情報通信",1,0.94606298674398104,9.5907831023515789E-3,4.0156625020246681E-2,2.5823932550839484E-5,3.4664120508897892E-3,4.0990369128316643E-7,6.5584590605306629E-6,1.719545984932883E-5,2.0243093794019174E-4,4.707743894387166E-4,null,48791949,46160257,467953,1959320,1260,169133,20,320,839,9877,22970]
[null,"61","公務　　　　　　　　",1,1,0,0,0,0,0,0,0,0,0,null,39405194,39405194,0,0,0,0,0,0,0,0,0]
[null,"63","教育・研究　　　　　",1,1,0,0,0,0,0,0,0,0,0,null,34837104,34837104,0,0,0,0,0,0,0,0,0]
[null,"64","医療・福祉",1,1,0,0,0,0,0,0,0,0,0,null,60275091,60275091,0,0,0,0,0,0,0,0,0]
[null,"65","その他の非営利団体サービス",1,1,0,0,0,0,0,0,0,0,0,null,5165598,5165598,0,0,0,0,0,0,0,0,0]
[null,"66","対事業所サービス",1,1,0,0,0,0,0,0,0,0,0,null,66161192,66161192,0,0,0,0,0,0,0,0,0]
[null,"67","対個人サービス",1,0.99997262848056634,2.318238799674711E-5,0,0,3.9995779781795915E-6,0,0,0,1.8955345868149722E-7,0,null,52755566,52754122,1223,0,0,211,0,0,0,10,0]
[null,"68","事務用品",1,1,0,0,0,0,0,0,0,0,0,null,1325036,1325036,0,0,0,0,0,0,0,0,0]
[null,"69","分類不明",{"$f":"P45/$P45","v":1},0.94815970599200261,1.6729463817675681E-2,9.0942638540103433E-3,1.4632272373732308E-3,6.183138066049608E-3,2.2122512163596829E-3,2.8030680082737061E-3,3.9267932198001215E-4,2.4486157817346396E-3,{"$f":"Z45/$P45","v":1.0513586704540508E-2},null,5284210,5010275,88402,48056,7732,32673,11690,14812,2075,12939,55556]

{"sheet":"消費性向","index":12,"n_rows":28,"n_cols":8,"rows_kept":28,"cut":false,"hidden":false,"merged":[[11,1,12,1],[18,1,19,1]]}
[]
[]
[]
[null,"●消費転換係数"]
[null,"　家計調査年報の勤労者世帯の消費支出を実収入で割った値。"]
[null,"　所得の増加が消費の増加を誘発する効果の計算をします。"]
[null,"　"]
[]
[null,"※変更する場合は、C9に入力してください。",0.59442844102047765,"　（平成23年家計調査年報（関東地方））"]
[]
[]
[null,"（　関東地方　）\n勤労者世帯","平成23年 ","平成24年","平成25年","平成26年","平成27年","平成28年"]
[null,null,2011,2012,2013,2014,2015,2016]
[null,"①実収入",478717,481375,478324,488220,482708,481410]
[null,"②可処分所得",390700,393263,386168,394457,389454,389620]
[null,"③消費支出",284563,283175,287200,290247,285208,277055]
[null,"③/①",{"$f":"+C16/C14","v":0.59442844102047765},{"$f":"+D16/D14","v":0.58826278888600358},0.60042983417098039,0.59450043013395604,{"$f":"+G16/G14","v":0.59084995483812164},0.57550736378554668]
[]
[null,"（　千葉市　）\n勤労者世帯","平成23年 ","平成24年","平成25年","平成26年","平成27年","平成28年"]
[null,null,2011,2012,2013,2014,2015,2016]
[null,"①実収入",362780,422959,391316,439316,460793,437010]
[null,"②可処分所得",297869,347123,319506,358322,370430,351819]
[null,"③消費支出",217779,236514,228495,238988,238629,258394]
[null,"③/①",{"$f":"+C23/C21","v":0.60030597056067037},{"$f":"+D23/D21","v":0.55918895212065467},0.58391427899702542,0.54400021852151981,{"$f":"+G23/G21","v":0.51786593980377305},0.59127708748083563]
[]
[null,"出典（「家計調査」（総務省統計局））"]
[null,"第２表　都市階級・地方・都道府県庁所在市別"]
[null,"　１世帯当たり１か月間の収入と支出（総世帯のうち勤労者世帯）"]