{"text_format":"1","workbook":"xlsx","n_sheets":13,"sheets":["使い方・説明","波及効果分析","結果","取引額表","投入係数表","逆行列","単位行列","移輸入係数","付加価値率","市内品投入係数表","単位行列マイナス市内品投入係数","マージン表","消費性向"],"not_rendered":{"charts":0,"images":0,"macros":1,"external_links":0,"defined_names":1,"comments":0,"pivot_tables":0},"unopened":[],"bounds":{"document_bytes":16777216,"sheet_cells":100000,"rows_first":2000,"rows_last":500,"rows_between":2000,"halvings":0,"cell_chars":16384,"cell_head_chars":4096},"cells_cut":0,"cells_raw":0,"read":"whole","date_system":"1900"}

{"sheet":"使い方・説明","index":0,"n_rows":27,"n_cols":4,"rows_kept":27,"cut":false,"hidden":false,"merged":[]}
[]
[]
[]
[]
[]
[]
[]
[]
[]
[]
[]
[]
[]
[]
[]
[]
[]
[]
[]
[]
[]
[null,null,"①直接効果","最初に入力した購入者価格は地域別に工場の出荷価格、卸、小売、運輸などのマージン\nに分割され、移輸入分は差し引かれています。"]
[null,null,"②第一次波及効果","直接効果として発生した生産をまかなうために必要な原材料等の生産の誘発です。生産\nは次々と誘発され、波及します。波及は無限に続きますが、次第に小さな値となり、一定の\n値に収束します。"]
[null,null,"③第二次波及効果","生産が増えたことで増加する雇用者所得が、消費に回ることで誘発される効果です。"]
[null,null,"生産波及","直接効果、第1次間接効果、第2次間接効果の合計です。一般的に経済波及効果〇\n〇億円という場合には、生産波及を意味します。"]
[null,null,"粗付加価値波及","生産誘発効果が中間取引を含む生産額に対する効果なのに対し、粗付加価値誘発効\n果は中間取引を除いた経済効果を示します。ＧＤＰ（国内総生産）への効果に相当す\nるものです。"]
[null,null,"雇用波及","各部門が１単位の生産を行うのに必要な人数を雇用表から算出した上で、総合効果に\n乗じることで、何人の就業が誘発されるかを見ることができます。"]

{"sheet":"波及効果分析","index":1,"n_rows":46,"n_cols":46,"rows_kept":46,"cut":false,"hidden":false,"merged":[[6,32,6,35],[6,37,6,40],[6,42,6,45],[45,10,45,13],[21,30,21,31],[6,14,6,17],[6,19,6,22],[6,24,6,27]]}
[]
[]
[]
[]
[]
[]
[null,null,null,null,null,null,null,null,null,null,null,null,null,null,"生産波及",null,null,null,null,"粗付加価値波及",null,null,null,null,"雇用波及",null,null,null,null,null,null,null,"生産波及",null,null,null,null,"粗付加価値波及",null,null,null,null,"雇用波及"]
[null,null,null,"購入者価格ベース需要ベクトル",null,null,null,null,"生産者価格ベース需要ベクトル",null,"13部門コード","13部門部門名","37部門コード","37部門部門名","①直接効果","②第一次波及効果","③第二次波及効果","合計（＝①+②＋③）",null,"①直接効果","②第一次波及効果","③第二次波及効果","合計（＝①+②＋③）",null,"①直接効果","②第一次波及効果","③第二次波及効果","合計（＝①+②＋③）",null,null,"13部門コード","13部門部門名","①直接効果","②第一次波及効果","③第二次波及効果","合計（＝①+②＋③）",null,"①直接効果","②第一次波及効果","③第二次波及効果","合計（＝①+②＋③）",null,"①直接効果","②第一次波及効果","③第二次波及効果","合計（＝①+②＋③）"]
[null,"01","農林水産業　　　　　",null,null,null,null,null,null,null,"01","農林水産業","01","農林水産業　　　　　",null,null,null,{"$f":"SUM(O9:Q9)","v":0},null,null,null,null,{"$f":"SUM(T9:V9)","v":0},null,null,null,null,{"$f":"SUM(Y9:AA9)","v":0},null,null,"01","農林水産業",{"$f":"SUMIF($L:$L,$AF9,O:O)","v":0},{"$f":"SUMIF($L:$L,$AF9,P:P)","v":0},{"$f":"SUMIF($L:$L,$AF9,Q:Q)","v":0},{"$f":"SUM(AG9:AI9)","v":0},null,{"$f":"SUMIF($L:$L,$AF9,T:T)","v":0},{"$f":"SUMIF($L:$L,$AF9,U:U)","v":0},{"$f":"SUMIF($L:$L,$AF9,V:V)","v":0},{"$f":"SUM(AL9:AN9)","v":0},null,{"$f":"SUMIF($L:$L,$AF9,Y:Y)","v":0},{"$f":"SUMIF($L:$L,$AF9,Z:Z)","v":0},{"$f":"SUMIF($L:$L,$AF9,AA:AA)","v":0},{"$f":"SUM(AQ9:AS9)","v":0}]
[null,"06","鉱業",null,null,null,null,null,null,null,"02","鉱業","06","鉱業",null,null,null,{"$f":"SUM(O10:Q10)","v":0},null,null,null,null,{"$f":"SUM(T10:V10)","v":0},null,null,null,null,{"$f":"SUM(Y10:AA10)","v":0},null,null,"02","鉱業",0,0,0,{"$f":"SUM(AG10:AI10)","v":0},null,0,0,0,{"$f":"SUM(AL10:AN10)","v":0},null,0,0,0,{"$f":"SUM(AQ10:AS10)","v":0}]
[null,"11","飲食料品　　　　　　　",null,null,null,null,null,null,null,"03","製造業","11","飲食料品　　　　　　　",null,null,null,0,null,null,null,null,0,null,null,null,null,0,null,null,"03","製造業",0,0,0,0,null,0,0,0,0,null,0,0,0,0]
[null,"15","繊維製品　",null,null,null,null,null,null,null,"03","製造業","15","繊維製品　",null,null,null,0,null,null,null,null,0,null,null,null,null,0,null,null,"04","建設",0,0,0,0,null,0,0,0,0,null,0,0,0,0]
[null,"16","パルプ・紙・木製品",null,null,null,null,null,null,null,"03","製造業","16","パルプ・紙・木製品",null,null,null,0,null,null,null,null,0,null,null,null,null,0,null,null,"05","電力・ガス・水道",0,0,0,0,null,0,0,0,0,null,0,0,0,0]
[null,"20","化学製品  　　　  　",null,null,null,null,null,null,null,"03","製造業","20","化学製品  　　　  　",null,null,null,0,null,null,null,null,0,null,null,null,null,0,null,null,"06","商業",0,0,0,0,null,0,0,0,0,null,0,0,0,0]
[null,"21","石油・石炭製品　　　",null,null,null,null,null,null,null,"03","製造業","21","石油・石炭製品　　　",null,null,null,0,null,null,null,null,0,null,null,null,null,0,null,null,"07","金融・保険",0,0,0,0,null,0,0,0,0,null,0,0,0,0]
[null,"22","プラスチック・ゴム",null,null,null,null,null,null,null,"03","製造業","22","プラスチック・ゴム",null,null,null,0,null,null,null,null,0,null,null,null,null,0,null,null,"08","不動産",0,0,0,0,null,0,0,0,0,null,0,0,0,0]
[null,"25","窯業・土石製品　　",null,null,null,null,null,null,null,"03","製造業","25","窯業・土石製品　　",null,null,null,0,null,null,null,null,0,null,null,null,null,0,null,null,"09","運輸・郵便",0,0,0,0,null,0,0,0,0,null,0,0,0,0]
[null,"26","鉄鋼　　　　　　　　",null,null,null,null,null,null,null,"03","製造業","26","鉄鋼　　　　　　　　",null,null,null,0,null,null,null,null,0,null,null,null,null,0,null,null,"10","情報通信",0,0,0,0,null,0,0,0,0,null,0,0,0,0]
[null,"27","非鉄金属　　　　　　",null,null,null,null,null,null,null,"03","製造業","27","非鉄金属　　　　　　",null,null,null,0,null,null,null,null,0,null,null,null,null,0,null,null,"11","公務",0,0,0,0,null,0,0,0,0,null,0,0,0,0]
[null,"28","金属製品　　　　　　",null,null,null,null,null,null,null,"03","製造業","28","金属製品　　　　　　",null,null,null,0,null,null,null,null,0,null,null,null,null,0,null,null,"12","サービス",0,0,0,0,null,0,0,0,0,null,0,0,0,0]
[null,"29","はん用機械",null,null,null,null,null,null,null,"03","製造業","29","はん用機械",null,null,null,0,null,null,null,null,0,null,null,null,null,0,null,null,"13","分類不明",0,0,0,0,null,0,0,0,0,null,0,0,0,0]
[null,"30","生産用機械",null,null,null,null,null,null,null,"03","製造業","30","生産用機械",null,null,null,0,null,null,null,null,0,null,null,null,null,0,null,null,"合計",null,{"$f":"SUM(AG9:AG21)","v":0},{"$f":"SUM(AH9:AH21)","v":0},0,0,null,{"$f":"SUM(AL9:AL21)","v":0},{"$f":"SUM(AM9:AM21)","v":0},{"$f":"SUM(AN9:AN21)","v":0},0,null,{"$f":"SUM(AQ9:AQ21)","v":0},{"$f":"SUM(AR9:AR21)","v":0},{"$f":"SUM(AS9:AS21)","v":0},0]
[null,"31","業務用機械",null,null,null,null,null,null,null,"03","製造業","31","業務用機械",null,null,null,0,null,null,null,null,0,null,null,null,null,0]
[null,"32","電子部品",null,null,null,null,null,null,null,"03","製造業","32","電子部品",null,null,null,0,null,null,null,null,0,null,null,null,null,0]
[null,"33","電気機械　　　　　　",null,null,null,null,null,null,null,"03","製造業","33","電気機械　　　　　　",null,null,null,0,null,null,null,null,0,null,null,null,null,0]
[null,"34","情報・通信機器",null,null,null,null,null,null,null,"03","製造業","34","情報・通信機器",null,null,null,0,null,null,null,null,0,null,null,null,null,0]
[null,"35","輸送機械  　　　　　",null,null,null,null,null,null,null,"03","製造業","35","輸送機械  　　　　　",null,null,null,0,null,null,null,null,0,null,null,null,null,0]
[null,"39","その他の製造工業製品",null,null,null,null,null,null,null,"03","製造業","39","その他の製造工業製品",null,null,null,0,null,null,null,null,0,null,null,null,null,0]
[null,"41","建設　　　　　　　　",null,null,null,null,null,null,null,"04","建設","41","建設　　　　　　　　",null,null,null,0,null,null,null,null,0,null,null,null,null,0]
[null,"46","電力・ガス・熱供給",null,null,null,null,null,null,null,"05","電力・ガス・水道","46","電力・ガス・熱供給",null,null,null,0,null,null,null,null,0,null,null,null,null,0]
[null,"47","水道",null,null,null,null,null,null,null,"05","電力・ガス・水道","47","水道",null,null,null,0,null,null,null,null,0,null,null,null,null,0]
[null,"48","廃棄物処理",null,null,null,null,null,null,null,"12","サービス","48","廃棄物処理",null,null,null,0,null,null,null,null,0,null,null,null,null,0]
[null,"51","商業　　　　　　　　",null,null,null,null,null,null,null,"06","商業","51","商業　　　　　　　　",null,null,null,0,null,null,null,null,0,null,null,null,null,0]
[null,"53","金融・保険　　　　　",null,null,null,null,null,null,null,"07","金融・保険","53","金融・保険　　　　　",null,null,null,0,null,null,null,null,0,null,null,null,null,0]
[null,"55","不動産　　　　　　　",null,null,null,null,null,null,null,"08","不動産","55","不動産　　　　　　　",null,null,null,0,null,null,null,null,0,null,null,null,null,0]
[null,"57","運輸・郵便　　　",null,null,null,null,null,null,null,"09","運輸・郵便","57","運輸・郵便　　　",null,null,null,0,null,null,null,null,0,null,null,null,null,0]
[null,"59","情報通信",null,null,null,null,null,null,null,"10","情報通信","59","情報通信",null,null,null,0,null,null,null,null,0,null,null,null,null,0]
[null,"61","公務　　　　　　　　",null,null,null,null,null,null,null,"11","公務","61","公務　　　　　　　　",null,null,null,0,null,null,null,null,0,null,null,null,null,0]
[null,"63","教育・研究　　　　　",null,null,null,null,null,null,null,"12","サービス","63","教育・研究　　　　　",null,null,null,0,null,null,null,null,0,null,null,null,null,0]
[null,"64","医療・福祉",null,null,null,null,null,null,null,"12","サービス","64","医療・福祉",null,null,null,0,null,null,null,null,0,null,null,null,null,0]
[null,"65","その他の非営利団体サービス",null,null,null,null,null,null,null,"12","サービス","65","その他の非営利団体サービス",null,null,null,0,null,null,null,null,0,null,null,null,null,0]
[null,"66","対事業所サービス",null,null,null,null,null,null,null,"12","サービス","66","対事業所サービス",null,null,null,0,null,null,null,null,0,null,null,null,null,0]
[null,"67","対個人サービス",null,null,null,null,null,null,null,"12","サービス","67","対個人サービス",null,null,null,0,null,null,null,null,0,null,null,null,null,0]
[null,"68","事務用品",null,null,null,null,null,null,null,"03","製造業","68","事務用品",null,null,null,0,null,null,null,null,0,null,null,null,null,0]
[null,"69","分類不明",null,null,null,null,null,null,null,"13","分類不明","69","分類不明",null,null,null,0,null,null,null,null,0,null,null,null,null,0]
[null,null,null,{"$f":"SUM(D9:D45)","v":0},null,null,null,null,{"$f":"SUM(I9:I45)","v":0},null,"合計",null,null,null,{"$f":"SUM(O9:O45)","v":0},0,0,{"$f":"SUM(R9:R45)","v":0},null,{"$f":"SUM(T9:T45)","v":0},0,0,{"$f":"SUM(W9:W45)","v":0},null,{"$f":"SUM(Y9:Y45)","v":0},0,0,{"$f":"SUM(AB9:AB45)","v":0}]

{"sheet":"結果","index":2,"n_rows":29,"n_cols":7,"rows_kept":29,"cut":false,"hidden":false,"merged":[[2,1,2,6],[3,1,3,6]]}
[]
[]
[null,"○○の需要増加による経済波及効果分析"]
[null,"【分析結果】～平成27年千葉市産業連関表（187部門表）による～"]
[]
[]
[null,"①　最終需要増加額（初期投資額） "]
[null,null,null,null,"（単位：100万円）"]
[null,null,"最終需要額",null,{"$f":"波及効果分析!D46","v":0}]
[null,null,"　うち市内最終需要額",null,{"$f":"波及効果分析!O46","v":0}]
[null,null,"消費転換率",null,{"$f":"消費性向!C9","v":0.64946920787899376}]
[null,null,"　（平成27年家計調査年報）"]
[]
[null,"②　分析結果"]
[]
[null,null,null,null,"生産誘発額",null,"雇用誘発者数"]
[null,null,null,"区分",null,"うち粗付加価値誘発額"]
[null,null,null,null,{"$f":"+E8","v":"（単位：100万円）"},{"$f":"+E8","v":"（単位：100万円）"},"（人）"]
[null,null,"総合効果",null,{"$f":"波及効果分析!R46","v":0},{"$f":"波及効果分析!W46","v":0},{"$f":"波及効果分析!AB46","v":0}]
[null,null,null,"直接効果（市内需要額）",{"$f":"波及効果分析!O46","v":0},{"$f":"波及効果分析!T46","v":0},{"$f":"波及効果分析!Y46","v":0}]
[null,null,null,"第１次間接波及効果",{"$f":"波及効果分析!P46","v":0},{"$f":"波及効果分析!U46","v":0},{"$f":"波及効果分析!Z46","v":0}]
[null,null,null,"第２次間接波及効果",{"$f":"波及効果分析!Q46","v":0},{"$f":"波及効果分析!V46","v":0},{"$f":"波及効果分析!AA46","v":0}]
[null,null,"市内需要額に対する波及倍率※1",null,{"$f":"+IF(ISERROR(E19/E10),\"\",E19/E10)","v":""}]
[null,null,"需要増加額に対する波及倍率※2",null,{"$f":"+IF(ISERROR(E19/E9),\"\",E19/E9)","v":""}]
[]
[null,null,"※1 市内需要額に対する波及倍率＝総合効果÷市内最終需要額"]
[null,null,"※2 需要増加額に対する波及倍率＝総合効果÷最終需要額"]
[]
[null,null,"(注) 四捨五入の関係で、「合計」が、直接効果、第1次間接効果、第2次間接効果の総額と一致しない場合がある。"]

{"sheet":"取引額表","index":3,"n_rows":54,"n_cols":60,"rows_kept":54,"cut":false,"hidden":true,"merged":[]}
[]
[]
[]
[]
[]
[]
[null,null,null,"01","06","11","15","16","20","21","22","25","26","27","28","29","30","31","32","33","34","35","39","41","46","47","48","51","53","55","57","59","61","63","64","65","66","67","68","69","70","71","72","73","74","75","76","77","78","79","80","81","82","83","84","85","86","87","88",97]
[null,null,null,"農林漁業","鉱業","飲食料品","繊維製品","パルプ・紙・木製品","化学製品","石油・石炭製品","プラスチック・ゴム製品","窯業・土石製品","鉄鋼","非鉄金属","金属製品","はん用機械","生産用機械","業務用機械","電子部品","電気機械","情報通信機器","輸送機械","その他の製造工業製品","建設","電力・ガス・熱供給","水道","廃棄物処理","商業","金融・保険","不動産","運輸・郵便","情報通信","公務","教育・研究","医療・福祉","他に分類されない会員制団体","対事業所サービス","対個人サービス","事務用品","分類不明","内生部門計　　","家計外消費支出（列）","民間消費支出","一般政府消費支出","市内総固定資本形成（公的）","市内総固定資本形成（民間）","在庫純増","調整項","市内最終需要計","市内需要合計","輸出","移出","移輸出計","最終需要計","需要合計","（控除）輸入","（控除）移入","（控除）移輸入計","最終需要部門計","市内生産額"]
[null,"01","農林漁業",1362,0,109554,5,134,7,0,10,2,0,0,0,0,0,0,0,0,0,0,1155,364,0,0,0,98,0,1,0,0,8,667,1164,53,5,8542,0,0,123131,418,31025,0,0,1519,-551,0,32411,155542,2,6168,6170,38581,161712,-61660,-85554,-147214,-108633,14498]
[null,"06","鉱業",0,0,61,0,3,155,57490,0,1296,77642,11,6,0,0,1,0,0,0,0,31,2088,85377,0,0,1,0,0,2,0,2,5,1,1,4,6,0,7,224190,-39,81,0,0,0,204,0,246,224436,0,0,0,246,224436,-201477,-22927,-224404,-224158,32]
[null,"11","飲食料品",1173,0,52324,1,5,114,0,0,23,0,0,0,0,0,0,0,0,0,0,45,3,0,0,0,105,0,0,0,0,81,1740,3459,33,2,52026,0,100,111234,5901,235810,0,0,0,75253,0,316964,428198,1391,172607,173998,490962,602196,-35150,-251778,-286928,204034,315268]
[null,"15","繊維製品",42,0,383,359,88,8,13,30,57,263,3,30,3,62,6,29,7,1,0,65,1125,48,27,82,3214,525,14,748,314,1042,161,1445,539,1386,1341,199,415,14074,776,37881,0,2,3147,1001,0,42807,56881,33,1345,1378,44185,58259,-25027,-31575,-56602,-12417,1657]
[null,"16","パルプ・紙・木製品",358,0,2554,8,4923,78,7,79,180,272,37,81,2,54,80,24,79,37,0,2630,19567,296,96,145,6018,1713,258,1131,3840,382,1732,2748,434,2050,2299,4443,222,58857,840,5967,634,72,2811,-912,0,9412,68269,52,8628,8680,18092,76949,-7065,-48754,-55819,-37727,21130]
[null,"20","化学製品",1103,0,2591,111,617,6189,-108,2448,1034,4173,53,337,14,333,119,81,89,39,13,942,1914,314,274,625,5,8,20,99,327,263,1377,63455,51,2875,2784,94,250,94913,780,25759,0,0,0,-3288,0,23251,118164,3651,9319,12970,36221,131134,-17295,-97319,-114614,-78393,16520]
[null,"21","石油・石炭製品",54,0,1257,0,19,151,5893,11,475,30294,18,91,1,66,12,6,10,0,0,97,3858,8863,405,526,1227,179,265,27555,213,3139,1175,1006,79,1371,2039,0,8749,99104,157,40748,0,0,0,5598,0,46503,145607,1,3616,3617,50120,149224,-13007,-57379,-70386,-20266,78838]
[null,"22","プラスチック・ゴム製品",111,0,2623,24,400,145,3,3023,83,638,15,91,103,3226,495,166,341,98,39,1513,4656,0,1245,578,4125,955,352,939,1565,567,749,921,169,5070,1109,485,342,36964,178,6632,2,0,0,-663,0,6149,43113,283,11603,11886,18035,54999,-8057,-34063,-42120,-24085,12879]
[null,"25","窯業・土石製品",20,0,131,1,69,77,49,40,1740,2727,16,107,46,210,53,195,50,5,0,115,19239,11,149,19,154,2,43,4,0,51,580,403,7,345,504,51,167,27380,122,1664,0,0,0,-1882,0,-96,27284,1842,20177,22019,21923,49303,-1629,-23529,-25158,-3235,24145]
[null,"26","鉄鋼",0,0,0,0,444,0,0,23,253,579085,0,9539,682,9328,116,24,341,33,84,63,8553,0,0,0,0,0,0,56,0,7,0,0,0,68,6,0,154,608859,0,-36,0,-5,0,7450,0,7409,616268,95802,564896,660698,668107,1276966,-11489,-181991,-193480,474627,1083486]
[null,"27","非鉄金属",0,0,247,0,104,128,0,27,275,12065,11038,1536,230,1733,555,335,686,143,26,689,3018,81,6,0,8,0,0,3,14,54,10,568,4,224,127,9,135,34078,11,1019,0,0,0,-2919,0,-1889,32189,3119,13984,17103,15214,49292,-6750,-25101,-31851,-16637,17441]
[null,"28","金属製品",14,0,760,1,578,224,119,62,284,127,12,1751,169,3283,159,109,367,58,14,292,32806,177,20,5,2120,41,187,457,109,1273,34,143,53,689,990,3,407,47897,214,2941,2,346,3882,-802,0,6583,54480,1577,23090,24667,31250,79147,-2483,-40181,-42664,-11414,36483]
[null,"29","はん用機械",0,0,0,0,33,0,0,5,25,3,0,42,1158,3631,42,14,33,4,13,2,2657,0,365,0,2,0,0,25,0,92,0,0,0,4588,2,0,0,12736,0,131,0,208,31148,915,0,32402,45138,674,4757,5431,37833,50569,-3829,-40013,-43842,-6009,6727]
[null,"30","生産用機械",0,0,0,0,3,0,0,37,32,11,1,29,44,19451,2,24,26,4,0,0,17,3,8,0,2,0,0,13,0,4,0,0,0,6760,1,0,13,26485,0,72,0,356,50491,3388,0,54307,80792,11093,68915,80008,134315,160800,-5593,-54942,-60535,73780,100265]
[null,"31","業務用機械",29,0,0,0,0,0,0,0,0,0,0,0,20,624,524,0,10,2,0,4,83,0,2,1,773,4,0,1,20,902,0,4916,0,2437,325,254,1,10932,0,1594,1,368,42124,1209,0,45296,56228,1549,5041,6590,51886,62818,-10540,-44298,-54838,-2952,7980]
[null,"32","電子部品",0,0,0,0,0,0,0,0,0,0,0,2,97,263,833,1724,1376,2080,17,25,133,0,0,0,18,16,0,0,328,622,223,4,0,6856,3,368,0,14988,9,1303,0,294,0,6474,0,8080,23068,854,570,1424,9504,24492,-4422,-13264,-17686,-8182,6806]
[null,"33","電気機械",0,0,0,0,2,0,0,0,2,0,0,9,96,1893,80,127,778,43,28,13,3024,0,6,0,160,0,7,43,31,526,157,31,0,3742,62,0,58,10918,389,29869,0,93,39527,-92,0,69786,80704,446,5831,6277,76063,86981,-12303,-64596,-76899,-836,10082]
[null,"34","情報通信機器",0,0,2,0,0,0,0,0,0,0,0,1,17,62,0,0,0,141,1,0,628,1,0,1,230,50,45,37,71,467,22,16,0,833,58,0,2,2685,652,35711,0,193,30308,349,0,67213,69898,633,4547,5180,72393,75078,-22577,-47141,-69718,2675,5360]
[null,"35","輸送機械",1,0,0,0,0,0,0,0,0,0,0,0,0,164,0,0,0,0,404,0,0,0,0,0,0,0,0,5143,0,1536,32,0,0,13410,8,0,1684,22382,0,43381,0,1239,44498,1892,0,91010,113392,50,235,285,91295,113677,-8542,-103919,-112461,-21166,1216]
[null,"39","その他の製造工業製品",7,0,2168,29,174,59,1527,24,108,7509,475,39,5,185,33,29,24,30,0,1511,1064,2195,120,161,4782,6313,48,941,4974,2707,4215,2457,1203,5315,2520,1510,153,54614,1597,23272,0,133,5970,422,0,31394,86008,465,11729,12194,43588,98202,-18662,-40455,-59117,-15529,39085]
[null,"41","建設",21,0,155,2,36,49,114,40,145,3207,42,119,8,170,12,16,10,6,0,37,210,4592,928,132,2234,1136,5634,2479,884,2625,1610,1057,33,1068,825,0,137,29773,0,0,0,135826,197816,0,0,333642,363415,0,0,0,333642,363415,0,0,0,333642,363415]
[null,"46","電力・ガス・熱供給",118,0,4154,28,422,1001,790,412,1066,31681,518,826,70,848,80,203,73,12,16,753,1237,23912,1432,3409,18379,2278,2812,5214,1793,3702,6770,7048,112,3409,14176,0,263,139017,45,94433,0,0,0,0,0,94478,233495,8,56222,56230,150708,289725,0,0,0,150708,289725]
[null,"47","水道",8,0,393,0,9,30,205,11,15,1101,15,16,1,41,3,5,1,0,0,42,236,376,2623,394,1826,451,284,1283,548,1243,2872,2222,55,710,3507,0,115,20641,12,13452,2525,0,0,0,0,15989,36630,1,0,1,15990,36631,0,0,0,15990,36631]
[null,"48","廃棄物処理",8,0,116,0,1,41,14,0,81,201,0,0,0,0,0,4,0,0,0,8,603,3415,56,0,1019,1090,9,2125,1165,8794,1499,1871,0,222,6591,0,643,29576,0,1174,3333,0,0,0,0,4507,34083,0,23853,23853,28360,57936,0,-11803,-11803,16557,46133]
[null,"51","商業",972,0,21848,137,1381,773,1655,727,870,21241,952,1647,267,3740,371,272,491,218,59,2662,20185,4689,601,648,8156,2039,774,8887,3715,3011,4769,24231,909,12333,30952,2334,1671,190187,12765,490761,104,9027,18430,0,0,531087,721274,77388,48335,125723,656810,846997,-7588,-83545,-91133,565677,755864]
[null,"53","金融・保険",94,0,1286,17,184,80,477,42,239,4305,72,390,37,615,111,36,41,18,3,453,4575,4055,807,867,12801,17708,49232,10070,1795,6376,2314,4364,665,5399,2676,0,2999,135203,2,239663,0,0,0,0,0,239665,374868,2,42107,42109,281774,416977,-628,-42986,-43614,238160,373363]
[null,"55","不動産",136,0,646,3,60,28,57,41,59,1060,11,163,19,214,9,9,16,8,0,87,1922,1967,38,69,20607,6337,18473,14201,8073,462,1383,8213,433,4730,5312,0,1179,96025,0,522246,650,0,0,0,0,522896,618921,1,43893,43894,566790,662815,0,-6751,-6751,560039,656064]
[null,"57","運輸・郵便",712,20,17333,24,849,381,3130,237,1336,21387,493,1048,115,1697,163,119,166,71,9,6441,15829,11265,651,2870,39898,13592,1741,27047,8483,10488,8182,7989,912,10471,13934,518,50242,279843,2836,118138,662,0,2896,1036,0,125568,405411,18082,60157,78239,203807,483650,-35251,-83318,-118569,85238,365081]
[null,"59","情報通信",42,0,902,2,112,124,49,70,158,2367,53,216,37,1282,57,55,181,148,1,199,2619,3276,1324,438,28691,23266,2236,4527,50851,9264,6055,8522,1644,25632,8014,0,3497,185911,1002,132394,2,13090,51936,13,0,198437,384348,3017,107900,110917,309354,495265,-9603,-110122,-119725,189629,375540]
[null,"61","公務",0,0,0,0,0,0,0,0,0,0,0,0,0,0,0,0,0,0,0,0,0,0,0,0,0,0,0,0,0,0,0,0,0,0,0,0,8253,8253,0,9327,289710,0,0,0,0,299037,307290,0,0,0,299037,307290,0,0,0,299037,307290]
[null,"63","教育・研究",3,0,34,0,2,1,0,1,3,53,0,15,4,43,2,7,11,0,0,0,58,157,3,6,160,63,0,583,1432,35,0,53,0,306,180,0,5,3220,0,143147,205314,0,54554,0,0,403015,406235,1228,23290,24518,427533,430753,-2973,-105170,-108143,319390,322610]
[null,"64","医療・福祉",38,0,0,0,0,0,0,0,0,1,0,0,0,0,0,0,0,0,0,0,0,13,8,0,19,48,2,203,168,7,6,8628,0,20,29,0,130,9320,5911,75076,397950,0,0,0,0,478937,488257,0,43303,43303,522240,531560,-17,-37476,-37493,484747,494067]
[null,"65","他に分類されない会員制団体",8,0,159,0,17,27,27,5,14,762,6,27,9,66,3,4,5,3,0,32,314,605,264,87,448,1336,210,418,401,0,451,477,0,1140,1052,0,251,8628,0,42226,0,0,0,0,0,42226,50854,98,0,98,42324,50952,-377,-21635,-22012,20312,28940]
[null,"66","対事業所サービス",360,0,6953,50,588,620,844,475,1386,8619,281,977,317,3280,221,313,341,149,22,1626,35319,21505,4586,2932,65676,44758,18580,35888,58008,27997,19790,25736,1802,96054,14775,0,2562,503390,590,41187,0,2380,39652,0,0,83809,587199,11134,263941,275075,358884,862274,-11559,-193079,-204638,154246,657636]
[null,"67","対個人サービス",4,0,11,0,0,0,0,0,0,48,0,0,0,11,0,0,1,0,0,0,75,15,5,1,624,77,338,275,2068,142,911,5344,59,723,5721,0,70,16523,71677,375422,0,0,0,0,0,447099,463622,3850,48560,52410,499509,516032,-7453,-108319,-115772,383737,400260]
[null,"68","事務用品",12,0,206,0,22,4,3,1,18,120,3,9,5,83,12,3,8,1,0,25,331,18,31,150,1576,1244,222,667,527,923,975,1119,118,1201,748,0,288,10673,0,0,0,0,0,0,0,0,10673,0,0,0,0,10673,0,0,0,0,10673]
[null,"69","分類不明",41,0,2254,2,52,20,24,23,165,2609,42,122,51,667,15,2,17,6,5,67,5118,859,292,1084,5236,2088,1232,2267,740,281,2661,2139,97,2115,1191,5,0,33589,0,0,0,0,0,0,0,0,33589,0,51575,51575,51575,85164,0,0,0,51575,85164]
[null,"70","内生部門計　　",6851,20,231105,804,11331,10514,72382,7904,11424,813571,14167,19266,3627,57325,4169,3935,5579,3358,754,21624,193428,178085,16372,15230,230392,127317,103019,153331,152457,89075,73127,191750,9465,223563,184435,10273,85164,3336193,106845,2823470,900889,163622,620709,94095,0,4709630,8045823,238326,1750194,1988520,6698150,10034343,-553006,-2112983,-2665989,4032161,7368354]
[null,"71","家計外消費支出（行）",73,0,2279,14,245,241,507,236,458,8569,145,674,81,779,134,136,235,210,9,636,7934,3424,418,1108,17617,12379,2545,8479,5678,3265,2801,6541,916,9969,8840,0,-730,106845]
[null,"91","雇用者所得",2693,2,33840,436,3972,1722,1310,2988,5629,50929,2075,10915,1670,19395,1974,1228,2008,579,183,10284,125334,25915,4422,22365,297704,120828,37810,109886,74568,111186,152915,244471,12323,231395,109309,0,0,1834263,0,0,0,0,0,0,0,0,0,0,0,0,0,0,0,0,0,0,0]
[null,"92","営業余剰",3897,8,24724,190,3454,1518,-1025,100,3559,135364,274,1680,713,11004,347,-56,498,-142,161,2035,10859,5876,9072,3134,111706,81816,264892,30834,94648,-109,30082,19624,4268,81445,41762,400,730,979342]
[null,"93","資本減耗引当",2033,1,12667,132,1410,2206,5216,1158,2376,62259,651,2987,581,10967,1249,1488,1690,1230,102,3137,13811,65883,6443,3346,67450,30092,215584,46768,37211,103356,60765,29659,1545,78279,37590,0,0,911322]
[null,"94","間接税（関税・輸入品商品税を除く。）",558,1,12343,81,718,319,448,493,699,12794,129,961,55,795,107,75,72,125,7,1369,13517,10719,1366,950,31363,8347,32374,16654,10980,517,4620,7165,869,33014,18324,0,0,222928]
[null,"95","（控除）経常補助金",-1607,0,-1690,0,0,0,0,0,0,0,0,0,0,0,0,0,0,0,0,0,-1468,-177,-1462,0,-368,-7416,-160,-871,-2,0,-1700,-5143,-446,-29,0,0,0,-22539]
[null,"96","粗付加価値部門計",7647,12,84163,853,9799,6006,6456,4975,12721,269915,3274,17217,3100,42940,3811,2871,4503,2002,462,17461,169987,111640,20259,30903,525472,246046,553045,211750,223083,218215,249483,302317,19475,434073,215825,400,0,4032161]
[null,"97","市内生産額",14498,32,315268,1657,21130,16520,78838,12879,24145,1083486,17441,36483,6727,100265,7980,6806,10082,5360,1216,39085,363415,289725,36631,46133,755864,373363,656064,365081,375540,307290,322610,494067,28940,657636,400260,10673,85164,7368354]

{"sheet":"投入係数表","index":4,"n_rows":54,"n_cols":60,"rows_kept":54,"cut":false,"hidden":true,"merged":[]}
[]
[]
[]
[]
[]
[]
[null,null,null,"01","06","11","15","16","20","21","22","25","26","27","28","29","30","31","32","33","34","35","39","41","46","47","48","51","53","55","57","59","61","63","64","65","66","67","68","69","70","71","72","73","74","75","76","77","78","79","80","81","82","83","84","85","86","87","88",97]
[null,null,null,"農林漁業","鉱業","飲食料品","繊維製品","パルプ・紙・木製品","化学製品","石油・石炭製品","プラスチック・ゴム製品","窯業・土石製品","鉄鋼","非鉄金属","金属製品","はん用機械","生産用機械","業務用機械","電子部品","電気機械","情報通信機器","輸送機械","その他の製造工業製品","建設","電力・ガス・熱供給","水道","廃棄物処理","商業","金融・保険","不動産","運輸・郵便","情報通信","公務","教育・研究","医療・福祉","他に分類されない会員制団体","対事業所サービス","対個人サービス","事務用品","分類不明","内生部門計　　","家計外消費支出（列）","民間消費支出","一般政府消費支出","市内総固定資本形成（公的）","市内総固定資本形成（民間）","在庫純増","調整項","市内最終需要計","市内需要合計","輸出","移出","移輸出計","最終需要計","需要合計","（控除）輸入","（控除）移入","（控除）移輸入計","最終需要部門計","市内生産額"]
[null,"01","農林漁業",{"$f":"IF(取引額表!D$54=0,0,取引額表!D9/取引額表!D$54)","v":9.3943992274796523E-2},{"$f":"IF(取引額表!E$54=0,0,取引額表!E9/取引額表!E$54)","v":0},{"$f":"IF(取引額表!F$54=0,0,取引額表!F9/取引額表!F$54)","v":0.34749482979560248},{"$f":"IF(取引額表!G$54=0,0,取引額表!G9/取引額表!G$54)","v":3.0175015087507543E-3},{"$f":"IF(取引額表!H$54=0,0,取引額表!H9/取引額表!H$54)","v":6.3416942735447235E-3},{"$f":"IF(取引額表!I$54=0,0,取引額表!I9/取引額表!I$54)","v":4.2372881355932202E-4},{"$f":"IF(取引額表!J$54=0,0,取引額表!J9/取引額表!J$54)","v":0},{"$f":"IF(取引額表!K$54=0,0,取引額表!K9/取引額表!K$54)","v":7.7645779951859611E-4},{"$f":"IF(取引額表!L$54=0,0,取引額表!L9/取引額表!L$54)","v":8.283288465520812E-5},{"$f":"IF(取引額表!M$54=0,0,取引額表!M9/取引額表!M$54)","v":0},{"$f":"IF(取引額表!N$54=0,0,取引額表!N9/取引額表!N$54)","v":0},{"$f":"IF(取引額表!O$54=0,0,取引額表!O9/取引額表!O$54)","v":0},{"$f":"IF(取引額表!P$54=0,0,取引額表!P9/取引額表!P$54)","v":0},{"$f":"IF(取引額表!Q$54=0,0,取引額表!Q9/取引額表!Q$54)","v":0},{"$f":"IF(取引額表!R$54=0,0,取引額表!R9/取引額表!R$54)","v":0},{"$f":"IF(取引額表!S$54=0,0,取引額表!S9/取引額表!S$54)","v":0},{"$f":"IF(取引額表!T$54=0,0,取引額表!T9/取引額表!T$54)","v":0},{"$f":"IF(取引額表!U$54=0,0,取引額表!U9/取引額表!U$54)","v":0},{"$f":"IF(取引額表!V$54=0,0,取引額表!V9/取引額表!V$54)","v":0},{"$f":"IF(取引額表!W$54=0,0,取引額表!W9/取引額表!W$54)","v":2.955097863630549E-2},{"$f":"IF(取引額表!X$54=0,0,取引額表!X9/取引額表!X$54)","v":1.0016097299230906E-3},{"$f":"IF(取引額表!Y$54=0,0,取引額表!Y9/取引額表!Y$54)","v":0},{"$f":"IF(取引額表!Z$54=0,0,取引額表!Z9/取引額表!Z$54)","v":0},{"$f":"IF(取引額表!AA$54=0,0,取引額表!AA9/取引額表!AA$54)","v":0},{"$f":"IF(取引額表!AB$54=0,0,取引額表!AB9/取引額表!AB$54)","v":1.2965295344135981E-4},{"$f":"IF(取引額表!AC$54=0,0,取引額表!AC9/取引額表!AC$54)","v":0},{"$f":"IF(取引額表!AD$54=0,0,取引額表!AD9/取引額表!AD$54)","v":1.5242415374109844E-6},{"$f":"IF(取引額表!AE$54=0,0,取引額表!AE9/取引額表!AE$54)","v":0},{"$f":"IF(取引額表!AF$54=0,0,取引額表!AF9/取引額表!AF$54)","v":0},{"$f":"IF(取引額表!AG$54=0,0,取引額表!AG9/取引額表!AG$54)","v":2.6034039506654951E-5},{"$f":"IF(取引額表!AH$54=0,0,取引額表!AH9/取引額表!AH$54)","v":2.0675118564210658E-3},{"$f":"IF(取引額表!AI$54=0,0,取引額表!AI9/取引額表!AI$54)","v":2.3559557711808317E-3},{"$f":"IF(取引額表!AJ$54=0,0,取引額表!AJ9/取引額表!AJ$54)","v":1.8313752591568764E-3},{"$f":"IF(取引額表!AK$54=0,0,取引額表!AK9/取引額表!AK$54)","v":7.6029901039480807E-6},{"$f":"IF(取引額表!AL$54=0,0,取引額表!AL9/取引額表!AL$54)","v":2.1341128266626694E-2},{"$f":"IF(取引額表!AM$54=0,0,取引額表!AM9/取引額表!AM$54)","v":0},{"$f":"IF(取引額表!AN$54=0,0,取引額表!AN9/取引額表!AN$54)","v":0},{"$f":"IF(取引額表!AO$54=0,0,取引額表!AO9/取引額表!AO$54)","v":1.6710787782454533E-2},{"$f":"IF(取引額表!AP$46=0,0,取引額表!AP9/取引額表!AP$46)","v":3.9122092751181616E-3},{"$f":"IF(取引額表!AQ$46=0,0,取引額表!AQ9/取引額表!AQ$46)","v":1.0988252044470102E-2},{"$f":"IF(取引額表!AR$46=0,0,取引額表!AR9/取引額表!AR$46)","v":0},{"$f":"IF(取引額表!AS$46=0,0,取引額表!AS9/取引額表!AS$46)","v":0},{"$f":"IF(取引額表!AT$46=0,0,取引額表!AT9/取引額表!AT$46)","v":2.4472015066641533E-3},{"$f":"IF(取引額表!AU$46=0,0,取引額表!AU9/取引額表!AU$46)","v":-5.8557840480365584E-3},{"$f":"IF(取引額表!AV$46=0,0,取引額表!AV9/取引額表!AV$46)","v":0},{"$f":"IF(取引額表!AW$46=0,0,取引額表!AW9/取引額表!AW$46)","v":6.8818569611625545E-3},{"$f":"IF(取引額表!AX$46=0,0,取引額表!AX9/取引額表!AX$46)","v":1.9332018613882011E-2},{"$f":"IF(取引額表!AY$46=0,0,取引額表!AY9/取引額表!AY$46)","v":8.3918666028884806E-6},{"$f":"IF(取引額表!AZ$46=0,0,取引額表!AZ9/取引額表!AZ$46)","v":3.5241807479627972E-3},{"$f":"IF(取引額表!BA$46=0,0,取引額表!BA9/取引額表!BA$46)","v":3.1028101301470439E-3},{"$f":"IF(取引額表!BB$46=0,0,取引額表!BB9/取引額表!BB$46)","v":5.7599486425356254E-3},{"$f":"IF(取引額表!BC$46=0,0,取引額表!BC9/取引額表!BC$46)","v":1.6115853324926207E-2},{"$f":"IF(取引額表!BD$46=0,0,取引額表!BD9/取引額表!BD$46)","v":0.11149969439752914},{"$f":"IF(取引額表!BE$46=0,0,取引額表!BE9/取引額表!BE$46)","v":4.048967738973764E-2},{"$f":"IF(取引額表!BF$46=0,0,取引額表!BF9/取引額表!BF$46)","v":5.5219282600190774E-2},{"$f":"IF(取引額表!BG$46=0,0,取引額表!BG9/取引額表!BG$46)","v":-2.694163253897848E-2},{"$f":"IF(取引額表!BH$46=0,0,取引額表!BH9/取引額表!BH$46)","v":1.9676036194786516E-3}]
[null,"06","鉱業",{"$f":"IF(取引額表!D$54=0,0,取引額表!D10/取引額表!D$54)","v":0},{"$f":"IF(取引額表!E$54=0,0,取引額表!E10/取引額表!E$54)","v":0},{"$f":"IF(取引額表!F$54=0,0,取引額表!F10/取引額表!F$54)","v":1.9348617684002183E-4},{"$f":"IF(取引額表!G$54=0,0,取引額表!G10/取引額表!G$54)","v":0},{"$f":"IF(取引額表!H$54=0,0,取引額表!H10/取引額表!H$54)","v":1.4197823000473261E-4},{"$f":"IF(取引額表!I$54=0,0,取引額表!I10/取引額表!I$54)","v":9.3825665859564172E-3},{"$f":"IF(取引額表!J$54=0,0,取引額表!J10/取引額表!J$54)","v":0.72921687511098709},{"$f":"IF(取引額表!K$54=0,0,取引額表!K10/取引額表!K$54)","v":0},{"$f":"IF(取引額表!L$54=0,0,取引額表!L10/取引額表!L$54)","v":5.3675709256574861E-2},{"$f":"IF(取引額表!M$54=0,0,取引額表!M10/取引額表!M$54)","v":7.1659439992764098E-2},{"$f":"IF(取引額表!N$54=0,0,取引額表!N10/取引額表!N$54)","v":6.3069778109053377E-4},{"$f":"IF(取引額表!O$54=0,0,取引額表!O10/取引額表!O$54)","v":1.6446015952635475E-4},{"$f":"IF(取引額表!P$54=0,0,取引額表!P10/取引額表!P$54)","v":0},{"$f":"IF(取引額表!Q$54=0,0,取引額表!Q10/取引額表!Q$54)","v":0},{"$f":"IF(取引額表!R$54=0,0,取引額表!R10/取引額表!R$54)","v":1.2531328320802005E-4},{"$f":"IF(取引額表!S$54=0,0,取引額表!S10/取引額表!S$54)","v":0},{"$f":"IF(取引額表!T$54=0,0,取引額表!T10/取引額表!T$54)","v":0},{"$f":"IF(取引額表!U$54=0,0,取引額表!U10/取引額表!U$54)","v":0},{"$f":"IF(取引額表!V$54=0,0,取引額表!V10/取引額表!V$54)","v":0},{"$f":"IF(取引額表!W$54=0,0,取引額表!W10/取引額表!W$54)","v":7.9314314954586154E-4},{"$f":"IF(取引額表!X$54=0,0,取引額表!X10/取引額表!X$54)","v":5.7454975716467399E-3},{"$f":"IF(取引額表!Y$54=0,0,取引額表!Y10/取引額表!Y$54)","v":0.2946828889464147},{"$f":"IF(取引額表!Z$54=0,0,取引額表!Z10/取引額表!Z$54)","v":0},{"$f":"IF(取引額表!AA$54=0,0,取引額表!AA10/取引額表!AA$54)","v":0},{"$f":"IF(取引額表!AB$54=0,0,取引額表!AB10/取引額表!AB$54)","v":1.3229893208302023E-6},{"$f":"IF(取引額表!AC$54=0,0,取引額表!AC10/取引額表!AC$54)","v":0},{"$f":"IF(取引額表!AD$54=0,0,取引額表!AD10/取引額表!AD$54)","v":0},{"$f":"IF(取引額表!AE$54=0,0,取引額表!AE10/取引額表!AE$54)","v":5.4782363365937972E-6},{"$f":"IF(取引額表!AF$54=0,0,取引額表!AF10/取引額表!AF$54)","v":0},{"$f":"IF(取引額表!AG$54=0,0,取引額表!AG10/取引額表!AG$54)","v":6.5085098766637378E-6},{"$f":"IF(取引額表!AH$54=0,0,取引額表!AH10/取引額表!AH$54)","v":1.549858962834382E-5},{"$f":"IF(取引額表!AI$54=0,0,取引額表!AI10/取引額表!AI$54)","v":2.0240169855505427E-6},{"$f":"IF(取引額表!AJ$54=0,0,取引額表!AJ10/取引額表!AJ$54)","v":3.4554250172771254E-5},{"$f":"IF(取引額表!AK$54=0,0,取引額表!AK10/取引額表!AK$54)","v":6.0823920831584644E-6},{"$f":"IF(取引額表!AL$54=0,0,取引額表!AL10/取引額表!AL$54)","v":1.49902563333833E-5},{"$f":"IF(取引額表!AM$54=0,0,取引額表!AM10/取引額表!AM$54)","v":0},{"$f":"IF(取引額表!AN$54=0,0,取引額表!AN10/取引額表!AN$54)","v":8.2194354422056271E-5},{"$f":"IF(取引額表!AO$54=0,0,取引額表!AO10/取引額表!AO$54)","v":3.0426062591455298E-2},{"$f":"IF(取引額表!AP$46=0,0,取引額表!AP10/取引額表!AP$46)","v":-3.6501474097992421E-4},{"$f":"IF(取引額表!AQ$46=0,0,取引額表!AQ10/取引額表!AQ$46)","v":2.8688103645514209E-5},{"$f":"IF(取引額表!AR$46=0,0,取引額表!AR10/取引額表!AR$46)","v":0},{"$f":"IF(取引額表!AS$46=0,0,取引額表!AS10/取引額表!AS$46)","v":0},{"$f":"IF(取引額表!AT$46=0,0,取引額表!AT10/取引額表!AT$46)","v":0},{"$f":"IF(取引額表!AU$46=0,0,取引額表!AU10/取引額表!AU$46)","v":2.1680216802168022E-3},{"$f":"IF(取引額表!AV$46=0,0,取引額表!AV10/取引額表!AV$46)","v":0},{"$f":"IF(取引額表!AW$46=0,0,取引額表!AW10/取引額表!AW$46)","v":5.2233402623985326E-5},{"$f":"IF(取引額表!AX$46=0,0,取引額表!AX10/取引額表!AX$46)","v":2.7894722516267137E-2},{"$f":"IF(取引額表!AY$46=0,0,取引額表!AY10/取引額表!AY$46)","v":0},{"$f":"IF(取引額表!AZ$46=0,0,取引額表!AZ10/取引額表!AZ$46)","v":0},{"$f":"IF(取引額表!BA$46=0,0,取引額表!BA10/取引額表!BA$46)","v":0},{"$f":"IF(取引額表!BB$46=0,0,取引額表!BB10/取引額表!BB$46)","v":3.6726558825944477E-5},{"$f":"IF(取引額表!BC$46=0,0,取引額表!BC10/取引額表!BC$46)","v":2.236678574770665E-2},{"$f":"IF(取引額表!BD$46=0,0,取引額表!BD10/取引額表!BD$46)","v":0.36433058592492668},{"$f":"IF(取引額表!BE$46=0,0,取引額表!BE10/取引額表!BE$46)","v":1.0850536894996316E-2},{"$f":"IF(取引額表!BF$46=0,0,取引額表!BF10/取引額表!BF$46)","v":8.4172890435781994E-2},{"$f":"IF(取引額表!BG$46=0,0,取引額表!BG10/取引額表!BG$46)","v":-5.5592522223194954E-2},{"$f":"IF(取引額表!BH$46=0,0,取引額表!BH10/取引額表!BH$46)","v":4.3428966632167784E-6}]
[null,"11","飲食料品",{"$f":"IF(取引額表!D$54=0,0,取引額表!D11/取引額表!D$54)","v":8.090771140847014E-2},{"$f":"IF(取引額表!E$54=0,0,取引額表!E11/取引額表!E$54)","v":0},{"$f":"IF(取引額表!F$54=0,0,取引額表!F11/取引額表!F$54)","v":0.16596673306520168},{"$f":"IF(取引額表!G$54=0,0,取引額表!G11/取引額表!G$54)","v":6.0350030175015089E-4},{"$f":"IF(取引額表!H$54=0,0,取引額表!H11/取引額表!H$54)","v":2.3663038334122101E-4},{"$f":"IF(取引額表!I$54=0,0,取引額表!I11/取引額表!I$54)","v":6.9007263922518164E-3},{"$f":"IF(取引額表!J$54=0,0,取引額表!J11/取引額表!J$54)","v":0},{"$f":"IF(取引額表!K$54=0,0,取引額表!K11/取引額表!K$54)","v":0},{"$f":"IF(取引額表!L$54=0,0,取引額表!L11/取引額表!L$54)","v":9.5257817353489331E-4},{"$f":"IF(取引額表!M$54=0,0,取引額表!M11/取引額表!M$54)","v":0},{"$f":"IF(取引額表!N$54=0,0,取引額表!N11/取引額表!N$54)","v":0},{"$f":"IF(取引額表!O$54=0,0,取引額表!O11/取引額表!O$54)","v":0},{"$f":"IF(取引額表!P$54=0,0,取引額表!P11/取引額表!P$54)","v":0},{"$f":"IF(取引額表!Q$54=0,0,取引額表!Q11/取引額表!Q$54)","v":0},{"$f":"IF(取引額表!R$54=0,0,取引額表!R11/取引額表!R$54)","v":0},{"$f":"IF(取引額表!S$54=0,0,取引額表!S11/取引額表!S$54)","v":0},{"$f":"IF(取引額表!T$54=0,0,取引額表!T11/取引額表!T$54)","v":0},{"$f":"IF(取引額表!U$54=0,0,取引額表!U11/取引額表!U$54)","v":0},{"$f":"IF(取引額表!V$54=0,0,取引額表!V11/取引額表!V$54)","v":0},{"$f":"IF(取引額表!W$54=0,0,取引額表!W11/取引額表!W$54)","v":1.1513368299859281E-3},{"$f":"IF(取引額表!X$54=0,0,取引額表!X11/取引額表!X$54)","v":8.2550252466188787E-6},{"$f":"IF(取引額表!Y$54=0,0,取引額表!Y11/取引額表!Y$54)","v":0},{"$f":"IF(取引額表!Z$54=0,0,取引額表!Z11/取引額表!Z$54)","v":0},{"$f":"IF(取引額表!AA$54=0,0,取引額表!AA11/取引額表!AA$54)","v":0},{"$f":"IF(取引額表!AB$54=0,0,取引額表!AB11/取引額表!AB$54)","v":1.3891387868717123E-4},{"$f":"IF(取引額表!AC$54=0,0,取引額表!AC11/取引額表!AC$54)","v":0},{"$f":"IF(取引額表!AD$54=0,0,取引額表!AD11/取引額表!AD$54)","v":0},{"$f":"IF(取引額表!AE$54=0,0,取引額表!AE11/取引額表!AE$54)","v":0},{"$f":"IF(取引額表!AF$54=0,0,取引額表!AF11/取引額表!AF$54)","v":0},{"$f":"IF(取引額表!AG$54=0,0,取引額表!AG11/取引額表!AG$54)","v":2.6359465000488138E-4},{"$f":"IF(取引額表!AH$54=0,0,取引額表!AH11/取引額表!AH$54)","v":5.3935091906636493E-3},{"$f":"IF(取引額表!AI$54=0,0,取引額表!AI11/取引額表!AI$54)","v":7.0010747530193269E-3},{"$f":"IF(取引額表!AJ$54=0,0,取引額表!AJ11/取引額表!AJ$54)","v":1.1402902557014513E-3},{"$f":"IF(取引額表!AK$54=0,0,取引額表!AK11/取引額表!AK$54)","v":3.0411960415792322E-6},{"$f":"IF(取引額表!AL$54=0,0,取引額表!AL11/取引額表!AL$54)","v":0.12998051266676661},{"$f":"IF(取引額表!AM$54=0,0,取引額表!AM11/取引額表!AM$54)","v":0},{"$f":"IF(取引額表!AN$54=0,0,取引額表!AN11/取引額表!AN$54)","v":1.1742050631722324E-3},{"$f":"IF(取引額表!AO$54=0,0,取引額表!AO11/取引額表!AO$54)","v":1.5096180232382971E-2},{"$f":"IF(取引額表!AP$46=0,0,取引額表!AP11/取引額表!AP$46)","v":5.5229538115962373E-2},{"$f":"IF(取引額表!AQ$46=0,0,取引額表!AQ11/取引額表!AQ$46)","v":8.3517799020354389E-2},{"$f":"IF(取引額表!AR$46=0,0,取引額表!AR11/取引額表!AR$46)","v":0},{"$f":"IF(取引額表!AS$46=0,0,取引額表!AS11/取引額表!AS$46)","v":0},{"$f":"IF(取引額表!AT$46=0,0,取引額表!AT11/取引額表!AT$46)","v":0},{"$f":"IF(取引額表!AU$46=0,0,取引額表!AU11/取引額表!AU$46)","v":0.79975556618311283},{"$f":"IF(取引額表!AV$46=0,0,取引額表!AV11/取引額表!AV$46)","v":0},{"$f":"IF(取引額表!AW$46=0,0,取引額表!AW11/取引額表!AW$46)","v":6.7301252964670266E-2},{"$f":"IF(取引額表!AX$46=0,0,取引額表!AX11/取引額表!AX$46)","v":5.3219912990877381E-2},{"$f":"IF(取引額表!AY$46=0,0,取引額表!AY11/取引額表!AY$46)","v":5.8365432223089382E-3},{"$f":"IF(取引額表!AZ$46=0,0,取引額表!AZ11/取引額表!AZ$46)","v":9.8621638515501708E-2},{"$f":"IF(取引額表!BA$46=0,0,取引額表!BA11/取引額表!BA$46)","v":8.7501257216422268E-2},{"$f":"IF(取引額表!BB$46=0,0,取引額表!BB11/取引額表!BB$46)","v":7.3298149489038011E-2},{"$f":"IF(取引額表!BC$46=0,0,取引額表!BC11/取引額表!BC$46)","v":6.0013495651882742E-2},{"$f":"IF(取引額表!BD$46=0,0,取引額表!BD11/取引額表!BD$46)","v":6.3561697341439335E-2},{"$f":"IF(取引額表!BE$46=0,0,取引額表!BE11/取引額表!BE$46)","v":0.1191576079883274},{"$f":"IF(取引額表!BF$46=0,0,取引額表!BF11/取引額表!BF$46)","v":0.10762535029214298},{"$f":"IF(取引額表!BG$46=0,0,取引額表!BG11/取引額表!BG$46)","v":5.0601650082920793E-2},{"$f":"IF(取引額表!BH$46=0,0,取引額表!BH11/取引額表!BH$46)","v":4.2786760788094604E-2}]
[null,"15","繊維製品",{"$f":"IF(取引額表!D$54=0,0,取引額表!D12/取引額表!D$54)","v":2.8969513036280867E-3},{"$f":"IF(取引額表!E$54=0,0,取引額表!E12/取引額表!E$54)","v":0},{"$f":"IF(取引額表!F$54=0,0,取引額表!F12/取引額表!F$54)","v":1.2148394381922682E-3},{"$f":"IF(取引額表!G$54=0,0,取引額表!G12/取引額表!G$54)","v":0.21665660832830416},{"$f":"IF(取引額表!H$54=0,0,取引額表!H12/取引額表!H$54)","v":4.1646947468054899E-3},{"$f":"IF(取引額表!I$54=0,0,取引額表!I12/取引額表!I$54)","v":4.8426150121065375E-4},{"$f":"IF(取引額表!J$54=0,0,取引額表!J12/取引額表!J$54)","v":1.6489510134706613E-4},{"$f":"IF(取引額表!K$54=0,0,取引額表!K12/取引額表!K$54)","v":2.3293733985557887E-3},{"$f":"IF(取引額表!L$54=0,0,取引額表!L12/取引額表!L$54)","v":2.3607372126734313E-3},{"$f":"IF(取引額表!M$54=0,0,取引額表!M12/取引額表!M$54)","v":2.4273502380279949E-4},{"$f":"IF(取引額表!N$54=0,0,取引額表!N12/取引額表!N$54)","v":1.7200848575196377E-4},{"$f":"IF(取引額表!O$54=0,0,取引額表!O12/取引額表!O$54)","v":8.2230079763177366E-4},{"$f":"IF(取引額表!P$54=0,0,取引額表!P12/取引額表!P$54)","v":4.4596402556860412E-4},{"$f":"IF(取引額表!Q$54=0,0,取引額表!Q12/取引額表!Q$54)","v":6.1836134244252735E-4},{"$f":"IF(取引額表!R$54=0,0,取引額表!R12/取引額表!R$54)","v":7.5187969924812035E-4},{"$f":"IF(取引額表!S$54=0,0,取引額表!S12/取引額表!S$54)","v":4.2609462239200707E-3},{"$f":"IF(取引額表!T$54=0,0,取引額表!T12/取引額表!T$54)","v":6.9430668518151157E-4},{"$f":"IF(取引額表!U$54=0,0,取引額表!U12/取引額表!U$54)","v":1.8656716417910448E-4},{"$f":"IF(取引額表!V$54=0,0,取引額表!V12/取引額表!V$54)","v":0},{"$f":"IF(取引額表!W$54=0,0,取引額表!W12/取引額表!W$54)","v":1.6630420877574517E-3},{"$f":"IF(取引額表!X$54=0,0,取引額表!X12/取引額表!X$54)","v":3.0956344674820798E-3},{"$f":"IF(取引額表!Y$54=0,0,取引額表!Y12/取引額表!Y$54)","v":1.6567434636293037E-4},{"$f":"IF(取引額表!Z$54=0,0,取引額表!Z12/取引額表!Z$54)","v":7.370806147798313E-4},{"$f":"IF(取引額表!AA$54=0,0,取引額表!AA12/取引額表!AA$54)","v":1.7774694903864912E-3},{"$f":"IF(取引額表!AB$54=0,0,取引額表!AB12/取引額表!AB$54)","v":4.2520876771482696E-3},{"$f":"IF(取引額表!AC$54=0,0,取引額表!AC12/取引額表!AC$54)","v":1.4061382622273767E-3},{"$f":"IF(取引額表!AD$54=0,0,取引額表!AD12/取引額表!AD$54)","v":2.1339381523753779E-5},{"$f":"IF(取引額表!AE$54=0,0,取引額表!AE12/取引額表!AE$54)","v":2.04886038988608E-3},{"$f":"IF(取引額表!AF$54=0,0,取引額表!AF12/取引額表!AF$54)","v":8.3612930713106463E-4},{"$f":"IF(取引額表!AG$54=0,0,取引額表!AG12/取引額表!AG$54)","v":3.3909336457418073E-3},{"$f":"IF(取引額表!AH$54=0,0,取引額表!AH12/取引額表!AH$54)","v":4.9905458603267104E-4},{"$f":"IF(取引額表!AI$54=0,0,取引額表!AI12/取引額表!AI$54)","v":2.9247045441205344E-3},{"$f":"IF(取引額表!AJ$54=0,0,取引額表!AJ12/取引額表!AJ$54)","v":1.8624740843123704E-2},{"$f":"IF(取引額表!AK$54=0,0,取引額表!AK12/取引額表!AK$54)","v":2.1075488568144079E-3},{"$f":"IF(取引額表!AL$54=0,0,取引額表!AL12/取引額表!AL$54)","v":3.3503222905111678E-3},{"$f":"IF(取引額表!AM$54=0,0,取引額表!AM12/取引額表!AM$54)","v":1.8645179424716576E-2},{"$f":"IF(取引額表!AN$54=0,0,取引額表!AN12/取引額表!AN$54)","v":4.8729510121647644E-3},{"$f":"IF(取引額表!AO$54=0,0,取引額表!AO12/取引額表!AO$54)","v":1.9100602386910293E-3},{"$f":"IF(取引額表!AP$46=0,0,取引額表!AP12/取引額表!AP$46)","v":7.2628574102672093E-3},{"$f":"IF(取引額表!AQ$46=0,0,取引額表!AQ12/取引額表!AQ$46)","v":1.3416469804885478E-2},{"$f":"IF(取引額表!AR$46=0,0,取引額表!AR12/取引額表!AR$46)","v":0},{"$f":"IF(取引額表!AS$46=0,0,取引額表!AS12/取引額表!AS$46)","v":1.222329515590813E-5},{"$f":"IF(取引額表!AT$46=0,0,取引額表!AT12/取引額表!AT$46)","v":5.0700086513970318E-3},{"$f":"IF(取引額表!AU$46=0,0,取引額表!AU12/取引額表!AU$46)","v":1.0638184813220682E-2},{"$f":"IF(取引額表!AV$46=0,0,取引額表!AV12/取引額表!AV$46)","v":0},{"$f":"IF(取引額表!AW$46=0,0,取引額表!AW12/取引額表!AW$46)","v":9.0892490492883726E-3},{"$f":"IF(取引額表!AX$46=0,0,取引額表!AX12/取引額表!AX$46)","v":7.0696310371232375E-3},{"$f":"IF(取引額表!AY$46=0,0,取引額表!AY12/取引額表!AY$46)","v":1.3846579894765993E-4},{"$f":"IF(取引額表!AZ$46=0,0,取引額表!AZ12/取引額表!AZ$46)","v":7.6848623638293815E-4},{"$f":"IF(取引額表!BA$46=0,0,取引額表!BA12/取引額表!BA$46)","v":6.9297769195180337E-4},{"$f":"IF(取引額表!BB$46=0,0,取引額表!BB12/取引額表!BB$46)","v":6.5965975679851902E-3},{"$f":"IF(取引額表!BC$46=0,0,取引額表!BC12/取引額表!BC$46)","v":5.8059605895473178E-3},{"$f":"IF(取引額表!BD$46=0,0,取引額表!BD12/取引額表!BD$46)","v":4.5256290166833635E-2},{"$f":"IF(取引額表!BE$46=0,0,取引額表!BE12/取引額表!BE$46)","v":1.4943328933550342E-2},{"$f":"IF(取引額表!BF$46=0,0,取引額表!BF12/取引額表!BF$46)","v":2.1231145364815834E-2},{"$f":"IF(取引額表!BG$46=0,0,取引額表!BG12/取引額表!BG$46)","v":-3.0794901294863971E-3},{"$f":"IF(取引額表!BH$46=0,0,取引額表!BH12/取引額表!BH$46)","v":2.248806178421938E-4}]
[null,"16","パルプ・紙・木製品",{"$f":"IF(取引額表!D$54=0,0,取引額表!D13/取引額表!D$54)","v":2.4693061111877499E-2},{"$f":"IF(取引額表!E$54=0,0,取引額表!E13/取引額表!E$54)","v":0},{"$f":"IF(取引額表!F$54=0,0,取引額表!F13/取引額表!F$54)","v":8.1010441909740282E-3},{"$f":"IF(取引額表!G$54=0,0,取引額表!G13/取引額表!G$54)","v":4.8280024140012071E-3},{"$f":"IF(取引額表!H$54=0,0,取引額表!H13/取引額表!H$54)","v":0.2329862754377662},{"$f":"IF(取引額表!I$54=0,0,取引額表!I13/取引額表!I$54)","v":4.7215496368038738E-3},{"$f":"IF(取引額表!J$54=0,0,取引額表!J13/取引額表!J$54)","v":8.8789669956112539E-5},{"$f":"IF(取引額表!K$54=0,0,取引額表!K13/取引額表!K$54)","v":6.1340166161969094E-3},{"$f":"IF(取引額表!L$54=0,0,取引額表!L13/取引額表!L$54)","v":7.4549596189687302E-3},{"$f":"IF(取引額表!M$54=0,0,取引額表!M13/取引額表!M$54)","v":2.5104154552989147E-4},{"$f":"IF(取引額表!N$54=0,0,取引額表!N13/取引額表!N$54)","v":2.1214379909408865E-3},{"$f":"IF(取引額表!O$54=0,0,取引額表!O13/取引額表!O$54)","v":2.2202121536057892E-3},{"$f":"IF(取引額表!P$54=0,0,取引額表!P13/取引額表!P$54)","v":2.973093503790694E-4},{"$f":"IF(取引額表!Q$54=0,0,取引額表!Q13/取引額表!Q$54)","v":5.3857278212736252E-4},{"$f":"IF(取引額表!R$54=0,0,取引額表!R13/取引額表!R$54)","v":1.0025062656641603E-2},{"$f":"IF(取引額表!S$54=0,0,取引額表!S13/取引額表!S$54)","v":3.5263003232441962E-3},{"$f":"IF(取引額表!T$54=0,0,取引額表!T13/取引額表!T$54)","v":7.8357468756199162E-3},{"$f":"IF(取引額表!U$54=0,0,取引額表!U13/取引額表!U$54)","v":6.9029850746268658E-3},{"$f":"IF(取引額表!V$54=0,0,取引額表!V13/取引額表!V$54)","v":0},{"$f":"IF(取引額表!W$54=0,0,取引額表!W13/取引額表!W$54)","v":6.7289241396955357E-2},{"$f":"IF(取引額表!X$54=0,0,取引額表!X13/取引額表!X$54)","v":5.3842026333530538E-2},{"$f":"IF(取引額表!Y$54=0,0,取引額表!Y13/取引額表!Y$54)","v":1.0216584692380706E-3},{"$f":"IF(取引額表!Z$54=0,0,取引額表!Z13/取引額表!Z$54)","v":2.6207310747727334E-3},{"$f":"IF(取引額表!AA$54=0,0,取引額表!AA13/取引額表!AA$54)","v":3.1430862939761123E-3},{"$f":"IF(取引額表!AB$54=0,0,取引額表!AB13/取引額表!AB$54)","v":7.9617497327561567E-3},{"$f":"IF(取引額表!AC$54=0,0,取引額表!AC13/取引額表!AC$54)","v":4.5880282727533261E-3},{"$f":"IF(取引額表!AD$54=0,0,取引額表!AD13/取引額表!AD$54)","v":3.9325431665203397E-4},{"$f":"IF(取引額表!AE$54=0,0,取引額表!AE13/取引額表!AE$54)","v":3.0979426483437921E-3},{"$f":"IF(取引額表!AF$54=0,0,取引額表!AF13/取引額表!AF$54)","v":1.022527560313149E-2},{"$f":"IF(取引額表!AG$54=0,0,取引額表!AG13/取引額表!AG$54)","v":1.2431253864427739E-3},{"$f":"IF(取引額表!AH$54=0,0,取引額表!AH13/取引額表!AH$54)","v":5.3687114472582998E-3},{"$f":"IF(取引額表!AI$54=0,0,取引額表!AI13/取引額表!AI$54)","v":5.5619986762928918E-3},{"$f":"IF(取引額表!AJ$54=0,0,取引額表!AJ13/取引額表!AJ$54)","v":1.4996544574982723E-2},{"$f":"IF(取引額表!AK$54=0,0,取引額表!AK13/取引額表!AK$54)","v":3.1172259426187131E-3},{"$f":"IF(取引額表!AL$54=0,0,取引額表!AL13/取引額表!AL$54)","v":5.7437665517413678E-3},{"$f":"IF(取引額表!AM$54=0,0,取引額表!AM13/取引額表!AM$54)","v":0.41628408132671224},{"$f":"IF(取引額表!AN$54=0,0,取引額表!AN13/取引額表!AN$54)","v":2.6067352402423557E-3},{"$f":"IF(取引額表!AO$54=0,0,取引額表!AO13/取引額表!AO$54)","v":7.9878084033421851E-3},{"$f":"IF(取引額表!AP$46=0,0,取引額表!AP13/取引額表!AP$46)","v":7.8618559595675982E-3},{"$f":"IF(取引額表!AQ$46=0,0,取引額表!AQ13/取引額表!AQ$46)","v":2.1133569685528801E-3},{"$f":"IF(取引額表!AR$46=0,0,取引額表!AR13/取引額表!AR$46)","v":7.0374929652820709E-4},{"$f":"IF(取引額表!AS$46=0,0,取引額表!AS13/取引額表!AS$46)","v":4.4003862561269269E-4},{"$f":"IF(取引額表!AT$46=0,0,取引額表!AT13/取引額表!AT$46)","v":4.5286921890934397E-3},{"$f":"IF(取引額表!AU$46=0,0,取引額表!AU13/取引額表!AU$46)","v":-9.692332217439821E-3},{"$f":"IF(取引額表!AV$46=0,0,取引額表!AV13/取引額表!AV$46)","v":0},{"$f":"IF(取引額表!AW$46=0,0,取引額表!AW13/取引額表!AW$46)","v":1.9984584776298773E-3},{"$f":"IF(取引額表!AX$46=0,0,取引額表!AX13/取引額表!AX$46)","v":8.4850238440492658E-3},{"$f":"IF(取引額表!AY$46=0,0,取引額表!AY13/取引額表!AY$46)","v":2.181885316751005E-4},{"$f":"IF(取引額表!AZ$46=0,0,取引額表!AZ13/取引額表!AZ$46)","v":4.9297392174810339E-3},{"$f":"IF(取引額表!BA$46=0,0,取引額表!BA13/取引額表!BA$46)","v":4.3650554180998937E-3},{"$f":"IF(取引額表!BB$46=0,0,取引額表!BB13/取引額表!BB$46)","v":2.7010443182072662E-3},{"$f":"IF(取引額表!BC$46=0,0,取引額表!BC13/取引額表!BC$46)","v":7.6685638511659404E-3},{"$f":"IF(取引額表!BD$46=0,0,取引額表!BD13/取引額表!BD$46)","v":1.2775629920832685E-2},{"$f":"IF(取引額表!BE$46=0,0,取引額表!BE13/取引額表!BE$46)","v":2.3073541055465187E-2},{"$f":"IF(取引額表!BF$46=0,0,取引額表!BF13/取引額表!BF$46)","v":2.0937445728395728E-2},{"$f":"IF(取引額表!BG$46=0,0,取引額表!BG13/取引額表!BG$46)","v":-9.3565212301790525E-3},{"$f":"IF(取引額表!BH$46=0,0,取引額表!BH13/取引額表!BH$46)","v":2.8676689529303287E-3}]
[null,"20","化学製品",{"$f":"IF(取引額表!D$54=0,0,取引額表!D14/取引額表!D$54)","v":7.6079459235756652E-2},{"$f":"IF(取引額表!E$54=0,0,取引額表!E14/取引額表!E$54)","v":0},{"$f":"IF(取引額表!F$54=0,0,取引額表!F14/取引額表!F$54)","v":8.2184046588933864E-3},{"$f":"IF(取引額表!G$54=0,0,取引額表!G14/取引額表!G$54)","v":6.6988533494266742E-2},{"$f":"IF(取引額表!H$54=0,0,取引額表!H14/取引額表!H$54)","v":2.9200189304306672E-2},{"$f":"IF(取引額表!I$54=0,0,取引額表!I14/取引額表!I$54)","v":0.37463680387409198},{"$f":"IF(取引額表!J$54=0,0,取引額表!J14/取引額表!J$54)","v":-1.3698977650371648E-3},{"$f":"IF(取引額表!K$54=0,0,取引額表!K14/取引額表!K$54)","v":0.19007686932215234},{"$f":"IF(取引額表!L$54=0,0,取引額表!L14/取引額表!L$54)","v":4.2824601366742598E-2},{"$f":"IF(取引額表!M$54=0,0,取引額表!M14/取引額表!M$54)","v":3.8514572407949894E-3},{"$f":"IF(取引額表!N$54=0,0,取引額表!N14/取引額表!N$54)","v":3.0388165816180265E-3},{"$f":"IF(取引額表!O$54=0,0,取引額表!O14/取引額表!O$54)","v":9.2371789600635915E-3},{"$f":"IF(取引額表!P$54=0,0,取引額表!P14/取引額表!P$54)","v":2.0811654526534861E-3},{"$f":"IF(取引額表!Q$54=0,0,取引額表!Q14/取引額表!Q$54)","v":3.3211988231187355E-3},{"$f":"IF(取引額表!R$54=0,0,取引額表!R14/取引額表!R$54)","v":1.4912280701754385E-2},{"$f":"IF(取引額表!S$54=0,0,取引額表!S14/取引額表!S$54)","v":1.1901263590949163E-2},{"$f":"IF(取引額表!T$54=0,0,取引額表!T14/取引額表!T$54)","v":8.8276135687363616E-3},{"$f":"IF(取引額表!U$54=0,0,取引額表!U14/取引額表!U$54)","v":7.2761194029850743E-3},{"$f":"IF(取引額表!V$54=0,0,取引額表!V14/取引額表!V$54)","v":1.0690789473684211E-2},{"$f":"IF(取引額表!W$54=0,0,取引額表!W14/取引額表!W$54)","v":2.4101317641038761E-2},{"$f":"IF(取引額表!X$54=0,0,取引額表!X14/取引額表!X$54)","v":5.266706107342845E-3},{"$f":"IF(取引額表!Y$54=0,0,取引額表!Y14/取引額表!Y$54)","v":1.0837863491241695E-3},{"$f":"IF(取引額表!Z$54=0,0,取引額表!Z14/取引額表!Z$54)","v":7.4800032759138437E-3},{"$f":"IF(取引額表!AA$54=0,0,取引額表!AA14/取引額表!AA$54)","v":1.3547785749897037E-2},{"$f":"IF(取引額表!AB$54=0,0,取引額表!AB14/取引額表!AB$54)","v":6.6149466041510116E-6},{"$f":"IF(取引額表!AC$54=0,0,取引額表!AC14/取引額表!AC$54)","v":2.14268687577505E-5},{"$f":"IF(取引額表!AD$54=0,0,取引額表!AD14/取引額表!AD$54)","v":3.0484830748219685E-5},{"$f":"IF(取引額表!AE$54=0,0,取引額表!AE14/取引額表!AE$54)","v":2.7117269866139293E-4},{"$f":"IF(取引額表!AF$54=0,0,取引額表!AF14/取引額表!AF$54)","v":8.7074612557916603E-4},{"$f":"IF(取引額表!AG$54=0,0,取引額表!AG14/取引額表!AG$54)","v":8.5586904878128152E-4},{"$f":"IF(取引額表!AH$54=0,0,取引額表!AH14/取引額表!AH$54)","v":4.268311583645888E-3},{"$f":"IF(取引額表!AI$54=0,0,取引額表!AI14/取引額表!AI$54)","v":0.12843399781810969},{"$f":"IF(取引額表!AJ$54=0,0,取引額表!AJ14/取引額表!AJ$54)","v":1.7622667588113338E-3},{"$f":"IF(取引額表!AK$54=0,0,取引額表!AK14/取引額表!AK$54)","v":4.3717193097701466E-3},{"$f":"IF(取引額表!AL$54=0,0,取引額表!AL14/取引額表!AL$54)","v":6.9554789386898517E-3},{"$f":"IF(取引額表!AM$54=0,0,取引額表!AM14/取引額表!AM$54)","v":8.8072706830319494E-3},{"$f":"IF(取引額表!AN$54=0,0,取引額表!AN14/取引額表!AN$54)","v":2.935512657930581E-3},{"$f":"IF(取引額表!AO$54=0,0,取引額表!AO14/取引額表!AO$54)","v":1.2881167218621689E-2},{"$f":"IF(取引額表!AP$46=0,0,取引額表!AP14/取引額表!AP$46)","v":7.3002948195984834E-3},{"$f":"IF(取引額表!AQ$46=0,0,取引額表!AQ14/取引額表!AQ$46)","v":9.1231711333925984E-3},{"$f":"IF(取引額表!AR$46=0,0,取引額表!AR14/取引額表!AR$46)","v":0},{"$f":"IF(取引額表!AS$46=0,0,取引額表!AS14/取引額表!AS$46)","v":0},{"$f":"IF(取引額表!AT$46=0,0,取引額表!AT14/取引額表!AT$46)","v":0},{"$f":"IF(取引額表!AU$46=0,0,取引額表!AU14/取引額表!AU$46)","v":-3.4943408257611989E-2},{"$f":"IF(取引額表!AV$46=0,0,取引額表!AV14/取引額表!AV$46)","v":0},{"$f":"IF(取引額表!AW$46=0,0,取引額表!AW14/取引額表!AW$46)","v":4.9369058715865149E-3},{"$f":"IF(取引額表!AX$46=0,0,取引額表!AX14/取引額表!AX$46)","v":1.4686378261117601E-2},{"$f":"IF(取引額表!AY$46=0,0,取引額表!AY14/取引額表!AY$46)","v":1.5319352483572921E-2},{"$f":"IF(取引額表!AZ$46=0,0,取引額表!AZ14/取引額表!AZ$46)","v":5.3245525924554647E-3},{"$f":"IF(取引額表!BA$46=0,0,取引額表!BA14/取引額表!BA$46)","v":6.5224387987045645E-3},{"$f":"IF(取引額表!BB$46=0,0,取引額表!BB14/取引額表!BB$46)","v":5.4076125497338817E-3},{"$f":"IF(取引額表!BC$46=0,0,取引額表!BC14/取引額表!BC$46)","v":1.3068518785933469E-2},{"$f":"IF(取引額表!BD$46=0,0,取引額表!BD14/取引額表!BD$46)","v":3.1274525050361116E-2},{"$f":"IF(取引額表!BE$46=0,0,取引額表!BE14/取引額表!BE$46)","v":4.6057635106387509E-2},{"$f":"IF(取引額表!BF$46=0,0,取引額表!BF14/取引額表!BF$46)","v":4.2991175132380516E-2},{"$f":"IF(取引額表!BG$46=0,0,取引額表!BG14/取引額表!BG$46)","v":-1.9441932006187254E-2},{"$f":"IF(取引額表!BH$46=0,0,取引額表!BH14/取引額表!BH$46)","v":2.2420204023856616E-3}]
[null,"21","石油・石炭製品",{"$f":"IF(取引額表!D$54=0,0,取引額表!D15/取引額表!D$54)","v":3.7246516760932541E-3},{"$f":"IF(取引額表!E$54=0,0,取引額表!E15/取引額表!E$54)","v":0},{"$f":"IF(取引額表!F$54=0,0,取引額表!F15/取引額表!F$54)","v":3.9870840047197941E-3},{"$f":"IF(取引額表!G$54=0,0,取引額表!G15/取引額表!G$54)","v":0},{"$f":"IF(取引額表!H$54=0,0,取引額表!H15/取引額表!H$54)","v":8.991954566966398E-4},{"$f":"IF(取引額表!I$54=0,0,取引額表!I15/取引額表!I$54)","v":9.1404358353510892E-3},{"$f":"IF(取引額表!J$54=0,0,取引額表!J15/取引額表!J$54)","v":7.4748217864481589E-2},{"$f":"IF(取引額表!K$54=0,0,取引額表!K15/取引額表!K$54)","v":8.5410357947045582E-4},{"$f":"IF(取引額表!L$54=0,0,取引額表!L15/取引額表!L$54)","v":1.9672810105611928E-2},{"$f":"IF(取引額表!M$54=0,0,取引額表!M15/取引額表!M$54)","v":2.7959752133391663E-2},{"$f":"IF(取引額表!N$54=0,0,取引額表!N15/取引額表!N$54)","v":1.0320509145117826E-3},{"$f":"IF(取引額表!O$54=0,0,取引額表!O15/取引額表!O$54)","v":2.4943124194830471E-3},{"$f":"IF(取引額表!P$54=0,0,取引額表!P15/取引額表!P$54)","v":1.486546751895347E-4},{"$f":"IF(取引額表!Q$54=0,0,取引額表!Q15/取引額表!Q$54)","v":6.5825562260010966E-4},{"$f":"IF(取引額表!R$54=0,0,取引額表!R15/取引額表!R$54)","v":1.5037593984962407E-3},{"$f":"IF(取引額表!S$54=0,0,取引額表!S15/取引額表!S$54)","v":8.8157508081104904E-4},{"$f":"IF(取引額表!T$54=0,0,取引額表!T15/取引額表!T$54)","v":9.918666931164452E-4},{"$f":"IF(取引額表!U$54=0,0,取引額表!U15/取引額表!U$54)","v":0},{"$f":"IF(取引額表!V$54=0,0,取引額表!V15/取引額表!V$54)","v":0},{"$f":"IF(取引額表!W$54=0,0,取引額表!W15/取引額表!W$54)","v":2.4817705001918895E-3},{"$f":"IF(取引額表!X$54=0,0,取引額表!X15/取引額表!X$54)","v":1.0615962467151879E-2},{"$f":"IF(取引額表!Y$54=0,0,取引額表!Y15/取引額表!Y$54)","v":3.0591077746138579E-2},{"$f":"IF(取引額表!Z$54=0,0,取引額表!Z15/取引額表!Z$54)","v":1.1056209221697469E-2},{"$f":"IF(取引額表!AA$54=0,0,取引額表!AA15/取引額表!AA$54)","v":1.1401816487113347E-2},{"$f":"IF(取引額表!AB$54=0,0,取引額表!AB15/取引額表!AB$54)","v":1.6233078966586582E-3},{"$f":"IF(取引額表!AC$54=0,0,取引額表!AC15/取引額表!AC$54)","v":4.7942618845466743E-4},{"$f":"IF(取引額表!AD$54=0,0,取引額表!AD15/取引額表!AD$54)","v":4.0392400741391085E-4},{"$f":"IF(取引額表!AE$54=0,0,取引額表!AE15/取引額表!AE$54)","v":7.5476401127421044E-2},{"$f":"IF(取引額表!AF$54=0,0,取引額表!AF15/取引額表!AF$54)","v":5.6718325611119992E-4},{"$f":"IF(取引額表!AG$54=0,0,取引額表!AG15/取引額表!AG$54)","v":1.0215106251423736E-2},{"$f":"IF(取引額表!AH$54=0,0,取引額表!AH15/取引額表!AH$54)","v":3.642168562660798E-3},{"$f":"IF(取引額表!AI$54=0,0,取引額表!AI15/取引額表!AI$54)","v":2.0361610874638459E-3},{"$f":"IF(取引額表!AJ$54=0,0,取引額表!AJ15/取引額表!AJ$54)","v":2.729785763648929E-3},{"$f":"IF(取引額表!AK$54=0,0,取引額表!AK15/取引額表!AK$54)","v":2.0847398865025636E-3},{"$f":"IF(取引額表!AL$54=0,0,取引額表!AL15/取引額表!AL$54)","v":5.0941887772947584E-3},{"$f":"IF(取引額表!AM$54=0,0,取引額表!AM15/取引額表!AM$54)","v":0},{"$f":"IF(取引額表!AN$54=0,0,取引額表!AN15/取引額表!AN$54)","v":0.10273120097693861},{"$f":"IF(取引額表!AO$54=0,0,取引額表!AO15/取引額表!AO$54)","v":1.3449950965982362E-2},{"$f":"IF(取引額表!AP$46=0,0,取引額表!AP15/取引額表!AP$46)","v":1.4694183162525154E-3},{"$f":"IF(取引額表!AQ$46=0,0,取引額表!AQ15/取引額表!AQ$46)","v":1.4431887004289049E-2},{"$f":"IF(取引額表!AR$46=0,0,取引額表!AR15/取引額表!AR$46)","v":0},{"$f":"IF(取引額表!AS$46=0,0,取引額表!AS15/取引額表!AS$46)","v":0},{"$f":"IF(取引額表!AT$46=0,0,取引額表!AT15/取引額表!AT$46)","v":0},{"$f":"IF(取引額表!AU$46=0,0,取引額表!AU15/取引額表!AU$46)","v":5.9493065518890484E-2},{"$f":"IF(取引額表!AV$46=0,0,取引額表!AV15/取引額表!AV$46)","v":0},{"$f":"IF(取引額表!AW$46=0,0,取引額表!AW15/取引額表!AW$46)","v":9.8740240740780062E-3},{"$f":"IF(取引額表!AX$46=0,0,取引額表!AX15/取引額表!AX$46)","v":1.8097216406575189E-2},{"$f":"IF(取引額表!AY$46=0,0,取引額表!AY15/取引額表!AY$46)","v":4.1959333014442403E-6},{"$f":"IF(取引額表!AZ$46=0,0,取引額表!AZ15/取引額表!AZ$46)","v":2.0660566771455052E-3},{"$f":"IF(取引額表!BA$46=0,0,取引額表!BA15/取引額表!BA$46)","v":1.8189407197312575E-3},{"$f":"IF(取引額表!BB$46=0,0,取引額表!BB15/取引額表!BB$46)","v":7.4826631233997449E-3},{"$f":"IF(取引額表!BC$46=0,0,取引額表!BC15/取引額表!BC$46)","v":1.4871327400309118E-2},{"$f":"IF(取引額表!BD$46=0,0,取引額表!BD15/取引額表!BD$46)","v":2.3520540464298759E-2},{"$f":"IF(取引額表!BE$46=0,0,取引額表!BE15/取引額表!BE$46)","v":2.7155448008810295E-2},{"$f":"IF(取引額表!BF$46=0,0,取引額表!BF15/取引額表!BF$46)","v":2.6401459270837202E-2},{"$f":"IF(取引額表!BG$46=0,0,取引額表!BG15/取引額表!BG$46)","v":-5.0260889880141199E-3},{"$f":"IF(取引額表!BH$46=0,0,取引額表!BH15/取引額表!BH$46)","v":1.0699540222958886E-2}]
[null,"22","プラスチック・ゴム製品",{"$f":"IF(取引額表!D$54=0,0,取引額表!D16/取引額表!D$54)","v":7.6562284453028E-3},{"$f":"IF(取引額表!E$54=0,0,取引額表!E16/取引額表!E$54)","v":0},{"$f":"IF(取引額表!F$54=0,0,取引額表!F16/取引額表!F$54)","v":8.319905604120938E-3},{"$f":"IF(取引額表!G$54=0,0,取引額表!G16/取引額表!G$54)","v":1.448400724200362E-2},{"$f":"IF(取引額表!H$54=0,0,取引額表!H16/取引額表!H$54)","v":1.893043066729768E-2},{"$f":"IF(取引額表!I$54=0,0,取引額表!I16/取引額表!I$54)","v":8.7772397094430989E-3},{"$f":"IF(取引額表!J$54=0,0,取引額表!J16/取引額表!J$54)","v":3.8052715695476801E-5},{"$f":"IF(取引額表!K$54=0,0,取引額表!K16/取引額表!K$54)","v":0.23472319279447162},{"$f":"IF(取引額表!L$54=0,0,取引額表!L16/取引額表!L$54)","v":3.4375647131911369E-3},{"$f":"IF(取引額表!M$54=0,0,取引額表!M16/取引額表!M$54)","v":5.8884009576496603E-4},{"$f":"IF(取引額表!N$54=0,0,取引額表!N16/取引額表!N$54)","v":8.6004242875981887E-4},{"$f":"IF(取引額表!O$54=0,0,取引額表!O16/取引額表!O$54)","v":2.4943124194830471E-3},{"$f":"IF(取引額表!P$54=0,0,取引額表!P16/取引額表!P$54)","v":1.5311431544522075E-2},{"$f":"IF(取引額表!Q$54=0,0,取引額表!Q16/取引額表!Q$54)","v":3.2174736947090214E-2},{"$f":"IF(取引額表!R$54=0,0,取引額表!R16/取引額表!R$54)","v":6.2030075187969921E-2},{"$f":"IF(取引額表!S$54=0,0,取引額表!S16/取引額表!S$54)","v":2.4390243902439025E-2},{"$f":"IF(取引額表!T$54=0,0,取引額表!T16/取引額表!T$54)","v":3.3822654235270783E-2},{"$f":"IF(取引額表!U$54=0,0,取引額表!U16/取引額表!U$54)","v":1.828358208955224E-2},{"$f":"IF(取引額表!V$54=0,0,取引額表!V16/取引額表!V$54)","v":3.2072368421052634E-2},{"$f":"IF(取引額表!W$54=0,0,取引額表!W16/取引額表!W$54)","v":3.8710502750415758E-2},{"$f":"IF(取引額表!X$54=0,0,取引額表!X16/取引額表!X$54)","v":1.2811799182752501E-2},{"$f":"IF(取引額表!Y$54=0,0,取引額表!Y16/取引額表!Y$54)","v":0},{"$f":"IF(取引額表!Z$54=0,0,取引額表!Z16/取引額表!Z$54)","v":3.3987606125958886E-2},{"$f":"IF(取引額表!AA$54=0,0,取引額表!AA16/取引額表!AA$54)","v":1.2528992261504779E-2},{"$f":"IF(取引額表!AB$54=0,0,取引額表!AB16/取引額表!AB$54)","v":5.4573309484245843E-3},{"$f":"IF(取引額表!AC$54=0,0,取引額表!AC16/取引額表!AC$54)","v":2.5578324579564661E-3},{"$f":"IF(取引額表!AD$54=0,0,取引額表!AD16/取引額表!AD$54)","v":5.3653302116866649E-4},{"$f":"IF(取引額表!AE$54=0,0,取引額表!AE16/取引額表!AE$54)","v":2.5720319600307877E-3},{"$f":"IF(取引額表!AF$54=0,0,取引額表!AF16/取引額表!AF$54)","v":4.1673323747137454E-3},{"$f":"IF(取引額表!AG$54=0,0,取引額表!AG16/取引額表!AG$54)","v":1.8451625500341697E-3},{"$f":"IF(取引額表!AH$54=0,0,取引額表!AH16/取引額表!AH$54)","v":2.3216887263259045E-3},{"$f":"IF(取引額表!AI$54=0,0,取引額表!AI16/取引額表!AI$54)","v":1.8641196436920498E-3},{"$f":"IF(取引額表!AJ$54=0,0,取引額表!AJ16/取引額表!AJ$54)","v":5.8396682791983416E-3},{"$f":"IF(取引額表!AK$54=0,0,取引額表!AK16/取引額表!AK$54)","v":7.7094319654033537E-3},{"$f":"IF(取引額表!AL$54=0,0,取引額表!AL16/取引額表!AL$54)","v":2.7706990456203466E-3},{"$f":"IF(取引額表!AM$54=0,0,取引額表!AM16/取引額表!AM$54)","v":4.5441768949686122E-2},{"$f":"IF(取引額表!AN$54=0,0,取引額表!AN16/取引額表!AN$54)","v":4.0157813160490346E-3},{"$f":"IF(取引額表!AO$54=0,0,取引額表!AO16/取引額表!AO$54)","v":5.0165885080982811E-3},{"$f":"IF(取引額表!AP$46=0,0,取引額表!AP16/取引額表!AP$46)","v":1.6659647152417053E-3},{"$f":"IF(取引額表!AQ$46=0,0,取引額表!AQ16/取引額表!AQ$46)","v":2.3488827577413606E-3},{"$f":"IF(取引額表!AR$46=0,0,取引額表!AR16/取引額表!AR$46)","v":2.2200293265874044E-6},{"$f":"IF(取引額表!AS$46=0,0,取引額表!AS16/取引額表!AS$46)","v":0},{"$f":"IF(取引額表!AT$46=0,0,取引額表!AT16/取引額表!AT$46)","v":0},{"$f":"IF(取引額表!AU$46=0,0,取引額表!AU16/取引額表!AU$46)","v":-7.046070460704607E-3},{"$f":"IF(取引額表!AV$46=0,0,取引額表!AV16/取引額表!AV$46)","v":0},{"$f":"IF(取引額表!AW$46=0,0,取引額表!AW16/取引額表!AW$46)","v":1.3056227346946575E-3},{"$f":"IF(取引額表!AX$46=0,0,取引額表!AX16/取引額表!AX$46)","v":5.3584325680542562E-3},{"$f":"IF(取引額表!AY$46=0,0,取引額表!AY16/取引額表!AY$46)","v":1.1874491243087199E-3},{"$f":"IF(取引額表!AZ$46=0,0,取引額表!AZ16/取引額表!AZ$46)","v":6.6295507812276812E-3},{"$f":"IF(取引額表!BA$46=0,0,取引額表!BA16/取引額表!BA$46)","v":5.9773097580109831E-3},{"$f":"IF(取引額表!BB$46=0,0,取引額表!BB16/取引額表!BB$46)","v":2.6925345057963765E-3},{"$f":"IF(取引額表!BC$46=0,0,取引額表!BC16/取引額表!BC$46)","v":5.4810763395271621E-3},{"$f":"IF(取引額表!BD$46=0,0,取引額表!BD16/取引額表!BD$46)","v":1.456946217581726E-2},{"$f":"IF(取引額表!BE$46=0,0,取引額表!BE16/取引額表!BE$46)","v":1.6120811194410934E-2},{"$f":"IF(取引額表!BF$46=0,0,取引額表!BF16/取引額表!BF$46)","v":1.5799014924667731E-2},{"$f":"IF(取引額表!BG$46=0,0,取引額表!BG16/取引額表!BG$46)","v":-5.9732237874430116E-3},{"$f":"IF(取引額表!BH$46=0,0,取引額表!BH16/取引額表!BH$46)","v":1.7478801914240277E-3}]
[null,"25","窯業・土石製品",{"$f":"IF(取引額表!D$54=0,0,取引額表!D17/取引額表!D$54)","v":1.3795006207752794E-3},{"$f":"IF(取引額表!E$54=0,0,取引額表!E17/取引額表!E$54)","v":0},{"$f":"IF(取引額表!F$54=0,0,取引額表!F17/取引額表!F$54)","v":4.1551949452529278E-4},{"$f":"IF(取引額表!G$54=0,0,取引額表!G17/取引額表!G$54)","v":6.0350030175015089E-4},{"$f":"IF(取引額表!H$54=0,0,取引額表!H17/取引額表!H$54)","v":3.26549929010885E-3},{"$f":"IF(取引額表!I$54=0,0,取引額表!I17/取引額表!I$54)","v":4.6610169491525426E-3},{"$f":"IF(取引額表!J$54=0,0,取引額表!J17/取引額表!J$54)","v":6.2152768969278777E-4},{"$f":"IF(取引額表!K$54=0,0,取引額表!K17/取引額表!K$54)","v":3.1058311980743845E-3},{"$f":"IF(取引額表!L$54=0,0,取引額表!L17/取引額表!L$54)","v":7.2064609650031058E-2},{"$f":"IF(取引額表!M$54=0,0,取引額表!M17/取引額表!M$54)","v":2.5168760833088753E-3},{"$f":"IF(取引額表!N$54=0,0,取引額表!N17/取引額表!N$54)","v":9.1737859067714006E-4},{"$f":"IF(取引額表!O$54=0,0,取引額表!O17/取引額表!O$54)","v":2.9328728448866593E-3},{"$f":"IF(取引額表!P$54=0,0,取引額表!P17/取引額表!P$54)","v":6.8381150587185965E-3},{"$f":"IF(取引額表!Q$54=0,0,取引額表!Q17/取引額表!Q$54)","v":2.0944497082730764E-3},{"$f":"IF(取引額表!R$54=0,0,取引額表!R17/取引額表!R$54)","v":6.641604010025063E-3},{"$f":"IF(取引額表!S$54=0,0,取引額表!S17/取引額表!S$54)","v":2.8651190126359093E-2},{"$f":"IF(取引額表!T$54=0,0,取引額表!T17/取引額表!T$54)","v":4.9593334655822253E-3},{"$f":"IF(取引額表!U$54=0,0,取引額表!U17/取引額表!U$54)","v":9.3283582089552237E-4},{"$f":"IF(取引額表!V$54=0,0,取引額表!V17/取引額表!V$54)","v":0},{"$f":"IF(取引額表!W$54=0,0,取引額表!W17/取引額表!W$54)","v":2.9423052321862608E-3},{"$f":"IF(取引額表!X$54=0,0,取引額表!X17/取引額表!X$54)","v":5.2939476906566869E-2},{"$f":"IF(取引額表!Y$54=0,0,取引額表!Y17/取引額表!Y$54)","v":3.7967037708171544E-5},{"$f":"IF(取引額表!Z$54=0,0,取引額表!Z17/取引額表!Z$54)","v":4.0675930223035136E-3},{"$f":"IF(取引額表!AA$54=0,0,取引額表!AA17/取引額表!AA$54)","v":4.118526867968699E-4},{"$f":"IF(取引額表!AB$54=0,0,取引額表!AB17/取引額表!AB$54)","v":2.0374035540785115E-4},{"$f":"IF(取引額表!AC$54=0,0,取引額表!AC17/取引額表!AC$54)","v":5.356717189437625E-6},{"$f":"IF(取引額表!AD$54=0,0,取引額表!AD17/取引額表!AD$54)","v":6.5542386108672328E-5},{"$f":"IF(取引額表!AE$54=0,0,取引額表!AE17/取引額表!AE$54)","v":1.0956472673187594E-5},{"$f":"IF(取引額表!AF$54=0,0,取引額表!AF17/取引額表!AF$54)","v":0},{"$f":"IF(取引額表!AG$54=0,0,取引額表!AG17/取引額表!AG$54)","v":1.659670018549253E-4},{"$f":"IF(取引額表!AH$54=0,0,取引額表!AH17/取引額表!AH$54)","v":1.7978363968878832E-3},{"$f":"IF(取引額表!AI$54=0,0,取引額表!AI17/取引額表!AI$54)","v":8.1567884517686872E-4},{"$f":"IF(取引額表!AJ$54=0,0,取引額表!AJ17/取引額表!AJ$54)","v":2.4187975120939877E-4},{"$f":"IF(取引額表!AK$54=0,0,取引額表!AK17/取引額表!AK$54)","v":5.2460631717241761E-4},{"$f":"IF(取引額表!AL$54=0,0,取引額表!AL17/取引額表!AL$54)","v":1.2591815320041973E-3},{"$f":"IF(取引額表!AM$54=0,0,取引額表!AM17/取引額表!AM$54)","v":4.7784128173896752E-3},{"$f":"IF(取引額表!AN$54=0,0,取引額表!AN17/取引額表!AN$54)","v":1.9609224554976283E-3},{"$f":"IF(取引額表!AO$54=0,0,取引額表!AO17/取引額表!AO$54)","v":3.715890957464856E-3},{"$f":"IF(取引額表!AP$46=0,0,取引額表!AP17/取引額表!AP$46)","v":1.1418409846038653E-3},{"$f":"IF(取引額表!AQ$46=0,0,取引額表!AQ17/取引額表!AQ$46)","v":5.8934573414982276E-4},{"$f":"IF(取引額表!AR$46=0,0,取引額表!AR17/取引額表!AR$46)","v":0},{"$f":"IF(取引額表!AS$46=0,0,取引額表!AS17/取引額表!AS$46)","v":0},{"$f":"IF(取引額表!AT$46=0,0,取引額表!AT17/取引額表!AT$46)","v":0},{"$f":"IF(取引額表!AU$46=0,0,取引額表!AU17/取引額表!AU$46)","v":-2.0001062755725597E-2},{"$f":"IF(取引額表!AV$46=0,0,取引額表!AV17/取引額表!AV$46)","v":0},{"$f":"IF(取引額表!AW$46=0,0,取引額表!AW17/取引額表!AW$46)","v":-2.0383766877652809E-5},{"$f":"IF(取引額表!AX$46=0,0,取引額表!AX17/取引額表!AX$46)","v":3.3910763386169446E-3},{"$f":"IF(取引額表!AY$46=0,0,取引額表!AY17/取引額表!AY$46)","v":7.7289091412602907E-3},{"$f":"IF(取引額表!AZ$46=0,0,取引額表!AZ17/取引額表!AZ$46)","v":1.1528436276207095E-2},{"$f":"IF(取引額表!BA$46=0,0,取引額表!BA17/取引額表!BA$46)","v":1.1073059360730594E-2},{"$f":"IF(取引額表!BB$46=0,0,取引額表!BB17/取引額表!BB$46)","v":3.2729932891917917E-3},{"$f":"IF(取引額表!BC$46=0,0,取引額表!BC17/取引額表!BC$46)","v":4.9134258217005339E-3},{"$f":"IF(取引額表!BD$46=0,0,取引額表!BD17/取引額表!BD$46)","v":2.9457184913002751E-3},{"$f":"IF(取引額表!BE$46=0,0,取引額表!BE17/取引額表!BE$46)","v":1.1135442168725446E-2},{"$f":"IF(取引額表!BF$46=0,0,取引額表!BF17/取引額表!BF$46)","v":9.4366480881954134E-3},{"$f":"IF(取引額表!BG$46=0,0,取引額表!BG17/取引額表!BG$46)","v":-8.0229931294906133E-4},{"$f":"IF(取引額表!BH$46=0,0,取引額表!BH17/取引額表!BH$46)","v":3.2768512479177847E-3}]
[null,"26","鉄鋼",{"$f":"IF(取引額表!D$54=0,0,取引額表!D18/取引額表!D$54)","v":0},{"$f":"IF(取引額表!E$54=0,0,取引額表!E18/取引額表!E$54)","v":0},{"$f":"IF(取引額表!F$54=0,0,取引額表!F18/取引額表!F$54)","v":0},{"$f":"IF(取引額表!G$54=0,0,取引額表!G18/取引額表!G$54)","v":0},{"$f":"IF(取引額表!H$54=0,0,取引額表!H18/取引額表!H$54)","v":2.1012778040700425E-2},{"$f":"IF(取引額表!I$54=0,0,取引額表!I18/取引額表!I$54)","v":0},{"$f":"IF(取引額表!J$54=0,0,取引額表!J18/取引額表!J$54)","v":0},{"$f":"IF(取引額表!K$54=0,0,取引額表!K18/取引額表!K$54)","v":1.7858529388927711E-3},{"$f":"IF(取引額表!L$54=0,0,取引額表!L18/取引額表!L$54)","v":1.0478359908883827E-2},{"$f":"IF(取引額表!M$54=0,0,取引額表!M18/取引額表!M$54)","v":0.53446468159256322},{"$f":"IF(取引額表!N$54=0,0,取引額表!N18/取引額表!N$54)","v":0},{"$f":"IF(取引額表!O$54=0,0,取引額表!O18/取引額表!O$54)","v":0.26146424362031634},{"$f":"IF(取引額表!P$54=0,0,取引額表!P18/取引額表!P$54)","v":0.10138248847926268},{"$f":"IF(取引額表!Q$54=0,0,取引額表!Q18/取引額表!Q$54)","v":9.3033461327482178E-2},{"$f":"IF(取引額表!R$54=0,0,取引額表!R18/取引額表!R$54)","v":1.4536340852130326E-2},{"$f":"IF(取引額表!S$54=0,0,取引額表!S18/取引額表!S$54)","v":3.5263003232441962E-3},{"$f":"IF(取引額表!T$54=0,0,取引額表!T18/取引額表!T$54)","v":3.3822654235270783E-2},{"$f":"IF(取引額表!U$54=0,0,取引額表!U18/取引額表!U$54)","v":6.156716417910448E-3},{"$f":"IF(取引額表!V$54=0,0,取引額表!V18/取引額表!V$54)","v":6.9078947368421059E-2},{"$f":"IF(取引額表!W$54=0,0,取引額表!W18/取引額表!W$54)","v":1.6118715619802993E-3},{"$f":"IF(取引額表!X$54=0,0,取引額表!X18/取引額表!X$54)","v":2.3535076978110425E-2},{"$f":"IF(取引額表!Y$54=0,0,取引額表!Y18/取引額表!Y$54)","v":0},{"$f":"IF(取引額表!Z$54=0,0,取引額表!Z18/取引額表!Z$54)","v":0},{"$f":"IF(取引額表!AA$54=0,0,取引額表!AA18/取引額表!AA$54)","v":0},{"$f":"IF(取引額表!AB$54=0,0,取引額表!AB18/取引額表!AB$54)","v":0},{"$f":"IF(取引額表!AC$54=0,0,取引額表!AC18/取引額表!AC$54)","v":0},{"$f":"IF(取引額表!AD$54=0,0,取引額表!AD18/取引額表!AD$54)","v":0},{"$f":"IF(取引額表!AE$54=0,0,取引額表!AE18/取引額表!AE$54)","v":1.5339061742462631E-4},{"$f":"IF(取引額表!AF$54=0,0,取引額表!AF18/取引額表!AF$54)","v":0},{"$f":"IF(取引額表!AG$54=0,0,取引額表!AG18/取引額表!AG$54)","v":2.2779784568323083E-5},{"$f":"IF(取引額表!AH$54=0,0,取引額表!AH18/取引額表!AH$54)","v":0},{"$f":"IF(取引額表!AI$54=0,0,取引額表!AI18/取引額表!AI$54)","v":0},{"$f":"IF(取引額表!AJ$54=0,0,取引額表!AJ18/取引額表!AJ$54)","v":0},{"$f":"IF(取引額表!AK$54=0,0,取引額表!AK18/取引額表!AK$54)","v":1.0340066541369389E-4},{"$f":"IF(取引額表!AL$54=0,0,取引額表!AL18/取引額表!AL$54)","v":1.49902563333833E-5},{"$f":"IF(取引額表!AM$54=0,0,取引額表!AM18/取引額表!AM$54)","v":0},{"$f":"IF(取引額表!AN$54=0,0,取引額表!AN18/取引額表!AN$54)","v":1.8082757972852379E-3},{"$f":"IF(取引額表!AO$54=0,0,取引額表!AO18/取引額表!AO$54)","v":8.2631616233422009E-2},{"$f":"IF(取引額表!AP$46=0,0,取引額表!AP18/取引額表!AP$46)","v":0},{"$f":"IF(取引額表!AQ$46=0,0,取引額表!AQ18/取引額表!AQ$46)","v":-1.2750268286895204E-5},{"$f":"IF(取引額表!AR$46=0,0,取引額表!AR18/取引額表!AR$46)","v":0},{"$f":"IF(取引額表!AS$46=0,0,取引額表!AS18/取引額表!AS$46)","v":-3.0558237889770323E-5},{"$f":"IF(取引額表!AT$46=0,0,取引額表!AT18/取引額表!AT$46)","v":0},{"$f":"IF(取引額表!AU$46=0,0,取引額表!AU18/取引額表!AU$46)","v":7.9175301556937139E-2},{"$f":"IF(取引額表!AV$46=0,0,取引額表!AV18/取引額表!AV$46)","v":0},{"$f":"IF(取引額表!AW$46=0,0,取引額表!AW18/取引額表!AW$46)","v":1.5731596749638506E-3},{"$f":"IF(取引額表!AX$46=0,0,取引額表!AX18/取引額表!AX$46)","v":7.6594774704837526E-2},{"$f":"IF(取引額表!AY$46=0,0,取引額表!AY18/取引額表!AY$46)","v":0.40197880214496112},{"$f":"IF(取引額表!AZ$46=0,0,取引額表!AZ18/取引額表!AZ$46)","v":0.32276193381990798},{"$f":"IF(取引額表!BA$46=0,0,取引額表!BA18/取引額表!BA$46)","v":0.3322561503027377},{"$f":"IF(取引額表!BB$46=0,0,取引額表!BB18/取引額表!BB$46)","v":9.9745004217582464E-2},{"$f":"IF(取引額表!BC$46=0,0,取引額表!BC18/取引額表!BC$46)","v":0.12725955251878474},{"$f":"IF(取引額表!BD$46=0,0,取引額表!BD18/取引額表!BD$46)","v":2.0775543122497766E-2},{"$f":"IF(取引額表!BE$46=0,0,取引額表!BE18/取引額表!BE$46)","v":8.6129893141591765E-2},{"$f":"IF(取引額表!BF$46=0,0,取引額表!BF18/取引額表!BF$46)","v":7.2573442726132781E-2},{"$f":"IF(取引額表!BG$46=0,0,取引額表!BG18/取引額表!BG$46)","v":0.11771032952305228},{"$f":"IF(取引額表!BH$46=0,0,取引額表!BH18/取引額表!BH$46)","v":0.14704586668881545}]
[null,"27","非鉄金属",{"$f":"IF(取引額表!D$54=0,0,取引額表!D19/取引額表!D$54)","v":0},{"$f":"IF(取引額表!E$54=0,0,取引額表!E19/取引額表!E$54)","v":0},{"$f":"IF(取引額表!F$54=0,0,取引額表!F19/取引額表!F$54)","v":7.8346042097517034E-4},{"$f":"IF(取引額表!G$54=0,0,取引額表!G19/取引額表!G$54)","v":0},{"$f":"IF(取引額表!H$54=0,0,取引額表!H19/取引額表!H$54)","v":4.9219119734973974E-3},{"$f":"IF(取引額表!I$54=0,0,取引額表!I19/取引額表!I$54)","v":7.7481840193704601E-3},{"$f":"IF(取引額表!J$54=0,0,取引額表!J19/取引額表!J$54)","v":0},{"$f":"IF(取引額表!K$54=0,0,取引額表!K19/取引額表!K$54)","v":2.0964360587002098E-3},{"$f":"IF(取引額表!L$54=0,0,取引額表!L19/取引額表!L$54)","v":1.1389521640091117E-2},{"$f":"IF(取引額表!M$54=0,0,取引額表!M19/取引額表!M$54)","v":1.1135353848596105E-2},{"$f":"IF(取引額表!N$54=0,0,取引額表!N19/取引額表!N$54)","v":0.63287655524339204},{"$f":"IF(取引額表!O$54=0,0,取引額表!O19/取引額表!O$54)","v":4.2101800838746817E-2},{"$f":"IF(取引額表!P$54=0,0,取引額表!P19/取引額表!P$54)","v":3.4190575293592984E-2},{"$f":"IF(取引額表!Q$54=0,0,取引額表!Q19/取引額表!Q$54)","v":1.7284196878272578E-2},{"$f":"IF(取引額表!R$54=0,0,取引額表!R19/取引額表!R$54)","v":6.9548872180451124E-2},{"$f":"IF(取引額表!S$54=0,0,取引額表!S19/取引額表!S$54)","v":4.9221275345283574E-2},{"$f":"IF(取引額表!T$54=0,0,取引額表!T19/取引額表!T$54)","v":6.8042055147788133E-2},{"$f":"IF(取引額表!U$54=0,0,取引額表!U19/取引額表!U$54)","v":2.6679104477611942E-2},{"$f":"IF(取引額表!V$54=0,0,取引額表!V19/取引額表!V$54)","v":2.1381578947368422E-2},{"$f":"IF(取引額表!W$54=0,0,取引額表!W19/取引額表!W$54)","v":1.7628246130228988E-2},{"$f":"IF(取引額表!X$54=0,0,取引額表!X19/取引額表!X$54)","v":8.3045553980985922E-3},{"$f":"IF(取引額表!Y$54=0,0,取引額表!Y19/取引額表!Y$54)","v":2.7957545948744501E-4},{"$f":"IF(取引額表!Z$54=0,0,取引額表!Z19/取引額表!Z$54)","v":1.6379569217329584E-4},{"$f":"IF(取引額表!AA$54=0,0,取引額表!AA19/取引額表!AA$54)","v":0},{"$f":"IF(取引額表!AB$54=0,0,取引額表!AB19/取引額表!AB$54)","v":1.0583914566641618E-5},{"$f":"IF(取引額表!AC$54=0,0,取引額表!AC19/取引額表!AC$54)","v":0},{"$f":"IF(取引額表!AD$54=0,0,取引額表!AD19/取引額表!AD$54)","v":0},{"$f":"IF(取引額表!AE$54=0,0,取引額表!AE19/取引額表!AE$54)","v":8.2173545048906962E-6},{"$f":"IF(取引額表!AF$54=0,0,取引額表!AF19/取引額表!AF$54)","v":3.7279650636416895E-5},{"$f":"IF(取引額表!AG$54=0,0,取引額表!AG19/取引額表!AG$54)","v":1.7572976666992092E-4},{"$f":"IF(取引額表!AH$54=0,0,取引額表!AH19/取引額表!AH$54)","v":3.099717925668764E-5},{"$f":"IF(取引額表!AI$54=0,0,取引額表!AI19/取引額表!AI$54)","v":1.1496416477927082E-3},{"$f":"IF(取引額表!AJ$54=0,0,取引額表!AJ19/取引額表!AJ$54)","v":1.3821700069108501E-4},{"$f":"IF(取引額表!AK$54=0,0,取引額表!AK19/取引額表!AK$54)","v":3.4061395665687403E-4},{"$f":"IF(取引額表!AL$54=0,0,取引額表!AL19/取引額表!AL$54)","v":3.172937590566132E-4},{"$f":"IF(取引額表!AM$54=0,0,取引額表!AM19/取引額表!AM$54)","v":8.4324932071582501E-4},{"$f":"IF(取引額表!AN$54=0,0,取引額表!AN19/取引額表!AN$54)","v":1.5851768352825137E-3},{"$f":"IF(取引額表!AO$54=0,0,取引額表!AO19/取引額表!AO$54)","v":4.624913515284418E-3},{"$f":"IF(取引額表!AP$46=0,0,取引額表!AP19/取引額表!AP$46)","v":1.0295287566100426E-4},{"$f":"IF(取引額表!AQ$46=0,0,取引額表!AQ19/取引額表!AQ$46)","v":3.6090342734295034E-4},{"$f":"IF(取引額表!AR$46=0,0,取引額表!AR19/取引額表!AR$46)","v":0},{"$f":"IF(取引額表!AS$46=0,0,取引額表!AS19/取引額表!AS$46)","v":0},{"$f":"IF(取引額表!AT$46=0,0,取引額表!AT19/取引額表!AT$46)","v":0},{"$f":"IF(取引額表!AU$46=0,0,取引額表!AU19/取引額表!AU$46)","v":-3.1021839630161009E-2},{"$f":"IF(取引額表!AV$46=0,0,取引額表!AV19/取引額表!AV$46)","v":0},{"$f":"IF(取引額表!AW$46=0,0,取引額表!AW19/取引額表!AW$46)","v":-4.0109307949881415E-4},{"$f":"IF(取引額表!AX$46=0,0,取引額表!AX19/取引額表!AX$46)","v":4.0007094364367694E-3},{"$f":"IF(取引額表!AY$46=0,0,取引額表!AY19/取引額表!AY$46)","v":1.3087115967204585E-2},{"$f":"IF(取引額表!AZ$46=0,0,取引額表!AZ19/取引額表!AZ$46)","v":7.9899713974565106E-3},{"$f":"IF(取引額表!BA$46=0,0,取引額表!BA19/取引額表!BA$46)","v":8.6008689879910685E-3},{"$f":"IF(取引額表!BB$46=0,0,取引額表!BB19/取引額表!BB$46)","v":2.2713734389346314E-3},{"$f":"IF(取引額表!BC$46=0,0,取引額表!BC19/取引額表!BC$46)","v":4.9123295865010795E-3},{"$f":"IF(取引額表!BD$46=0,0,取引額表!BD19/取引額表!BD$46)","v":1.2206015847929318E-2},{"$f":"IF(取引額表!BE$46=0,0,取引額表!BE19/取引額表!BE$46)","v":1.1879414079526432E-2},{"$f":"IF(取引額表!BF$46=0,0,取引額表!BF19/取引額表!BF$46)","v":1.19471610723075E-2},{"$f":"IF(取引額表!BG$46=0,0,取引額表!BG19/取引額表!BG$46)","v":-4.1260753228851725E-3},{"$f":"IF(取引額表!BH$46=0,0,取引額表!BH19/取引額表!BH$46)","v":2.3670143969738698E-3}]
[null,"28","金属製品",{"$f":"IF(取引額表!D$54=0,0,取引額表!D20/取引額表!D$54)","v":9.6565043454269553E-4},{"$f":"IF(取引額表!E$54=0,0,取引額表!E20/取引額表!E$54)","v":0},{"$f":"IF(取引額表!F$54=0,0,取引額表!F20/取引額表!F$54)","v":2.4106474491543701E-3},{"$f":"IF(取引額表!G$54=0,0,取引額表!G20/取引額表!G$54)","v":6.0350030175015089E-4},{"$f":"IF(取引額表!H$54=0,0,取引額表!H20/取引額表!H$54)","v":2.7354472314245148E-2},{"$f":"IF(取引額表!I$54=0,0,取引額表!I20/取引額表!I$54)","v":1.3559322033898305E-2},{"$f":"IF(取引額表!J$54=0,0,取引額表!J20/取引額表!J$54)","v":1.5094243892539131E-3},{"$f":"IF(取引額表!K$54=0,0,取引額表!K20/取引額表!K$54)","v":4.8140383570152963E-3},{"$f":"IF(取引額表!L$54=0,0,取引額表!L20/取引額表!L$54)","v":1.1762269621039552E-2},{"$f":"IF(取引額表!M$54=0,0,取引額表!M20/取引額表!M$54)","v":1.1721425103785375E-4},{"$f":"IF(取引額表!N$54=0,0,取引額表!N20/取引額表!N$54)","v":6.8803394300785508E-4},{"$f":"IF(取引額表!O$54=0,0,取引額表!O20/取引額表!O$54)","v":4.7994956555107861E-2},{"$f":"IF(取引額表!P$54=0,0,取引額表!P20/取引額表!P$54)","v":2.5122640107031365E-2},{"$f":"IF(取引額表!Q$54=0,0,取引額表!Q20/取引額表!Q$54)","v":3.274323043933576E-2},{"$f":"IF(取引額表!R$54=0,0,取引額表!R20/取引額表!R$54)","v":1.9924812030075189E-2},{"$f":"IF(取引額表!S$54=0,0,取引額表!S20/取引額表!S$54)","v":1.6015280634734057E-2},{"$f":"IF(取引額表!T$54=0,0,取引額表!T20/取引額表!T$54)","v":3.6401507637373536E-2},{"$f":"IF(取引額表!U$54=0,0,取引額表!U20/取引額表!U$54)","v":1.082089552238806E-2},{"$f":"IF(取引額表!V$54=0,0,取引額表!V20/取引額表!V$54)","v":1.1513157894736841E-2},{"$f":"IF(取引額表!W$54=0,0,取引額表!W20/取引額表!W$54)","v":7.4708967634642444E-3},{"$f":"IF(取引額表!X$54=0,0,取引額表!X20/取引額表!X$54)","v":9.0271452746859646E-2},{"$f":"IF(取引額表!Y$54=0,0,取引額表!Y20/取引額表!Y$54)","v":6.1092415221330576E-4},{"$f":"IF(取引額表!Z$54=0,0,取引額表!Z20/取引額表!Z$54)","v":5.459856405776528E-4},{"$f":"IF(取引額表!AA$54=0,0,取引額表!AA20/取引額表!AA$54)","v":1.0838228599917629E-4},{"$f":"IF(取引額表!AB$54=0,0,取引額表!AB20/取引額表!AB$54)","v":2.8047373601600288E-3},{"$f":"IF(取引額表!AC$54=0,0,取引額表!AC20/取引額表!AC$54)","v":1.0981270238347132E-4},{"$f":"IF(取引額表!AD$54=0,0,取引額表!AD20/取引額表!AD$54)","v":2.8503316749585407E-4},{"$f":"IF(取引額表!AE$54=0,0,取引額表!AE20/取引額表!AE$54)","v":1.2517770029116825E-3},{"$f":"IF(取引額表!AF$54=0,0,取引額表!AF20/取引額表!AF$54)","v":2.9024870852638866E-4},{"$f":"IF(取引額表!AG$54=0,0,取引額表!AG20/取引額表!AG$54)","v":4.1426665364964694E-3},{"$f":"IF(取引額表!AH$54=0,0,取引額表!AH20/取引額表!AH$54)","v":1.0539040947273798E-4},{"$f":"IF(取引額表!AI$54=0,0,取引額表!AI20/取引額表!AI$54)","v":2.894344289337276E-4},{"$f":"IF(取引額表!AJ$54=0,0,取引額表!AJ20/取引額表!AJ$54)","v":1.8313752591568764E-3},{"$f":"IF(取引額表!AK$54=0,0,取引額表!AK20/取引額表!AK$54)","v":1.0476920363240456E-3},{"$f":"IF(取引額表!AL$54=0,0,取引額表!AL20/取引額表!AL$54)","v":2.4733922950082444E-3},{"$f":"IF(取引額表!AM$54=0,0,取引額表!AM20/取引額表!AM$54)","v":2.81083106905275E-4},{"$f":"IF(取引額表!AN$54=0,0,取引額表!AN20/取引額表!AN$54)","v":4.7790146071109854E-3},{"$f":"IF(取引額表!AO$54=0,0,取引額表!AO20/取引額表!AO$54)","v":6.5003662961904381E-3},{"$f":"IF(取引額表!AP$46=0,0,取引額表!AP20/取引額表!AP$46)","v":2.0029013992231737E-3},{"$f":"IF(取引額表!AQ$46=0,0,取引額表!AQ20/取引額表!AQ$46)","v":1.0416260842155221E-3},{"$f":"IF(取引額表!AR$46=0,0,取引額表!AR20/取引額表!AR$46)","v":2.2200293265874044E-6},{"$f":"IF(取引額表!AS$46=0,0,取引額表!AS20/取引額表!AS$46)","v":2.1146300619721064E-3},{"$f":"IF(取引額表!AT$46=0,0,取引額表!AT20/取引額表!AT$46)","v":6.2541384126861381E-3},{"$f":"IF(取引額表!AU$46=0,0,取引額表!AU20/取引額表!AU$46)","v":-8.5233009192837023E-3},{"$f":"IF(取引額表!AV$46=0,0,取引額表!AV20/取引額表!AV$46)","v":0},{"$f":"IF(取引額表!AW$46=0,0,取引額表!AW20/取引額表!AW$46)","v":1.3977743474540463E-3},{"$f":"IF(取引額表!AX$46=0,0,取引額表!AX20/取引額表!AX$46)","v":6.7712153250201997E-3},{"$f":"IF(取引額表!AY$46=0,0,取引額表!AY20/取引額表!AY$46)","v":6.6169868163775672E-3},{"$f":"IF(取引額表!AZ$46=0,0,取引額表!AZ20/取引額表!AZ$46)","v":1.319282319560003E-2},{"$f":"IF(取引額表!BA$46=0,0,取引額表!BA20/取引額表!BA$46)","v":1.2404702995192404E-2},{"$f":"IF(取引額表!BB$46=0,0,取引額表!BB20/取引額表!BB$46)","v":4.6654673305315643E-3},{"$f":"IF(取引額表!BC$46=0,0,取引額表!BC20/取引額表!BC$46)","v":7.8876115755660333E-3},{"$f":"IF(取引額表!BD$46=0,0,取引額表!BD20/取引額表!BD$46)","v":4.4900055333938508E-3},{"$f":"IF(取引額表!BE$46=0,0,取引額表!BE20/取引額表!BE$46)","v":1.9016243859983729E-2},{"$f":"IF(取引額表!BF$46=0,0,取引額表!BF20/取引額表!BF$46)","v":1.60030667793453E-2},{"$f":"IF(取引額表!BG$46=0,0,取引額表!BG20/取引額表!BG$46)","v":-2.8307401415766879E-3},{"$f":"IF(取引額表!BH$46=0,0,取引額表!BH20/取引額表!BH$46)","v":4.9513093426293035E-3}]
[null,"29","はん用機械",{"$f":"IF(取引額表!D$54=0,0,取引額表!D21/取引額表!D$54)","v":0},{"$f":"IF(取引額表!E$54=0,0,取引額表!E21/取引額表!E$54)","v":0},{"$f":"IF(取引額表!F$54=0,0,取引額表!F21/取引額表!F$54)","v":0},{"$f":"IF(取引額表!G$54=0,0,取引額表!G21/取引額表!G$54)","v":0},{"$f":"IF(取引額表!H$54=0,0,取引額表!H21/取引額表!H$54)","v":1.5617605300520586E-3},{"$f":"IF(取引額表!I$54=0,0,取引額表!I21/取引額表!I$54)","v":0},{"$f":"IF(取引額表!J$54=0,0,取引額表!J21/取引額表!J$54)","v":0},{"$f":"IF(取引額表!K$54=0,0,取引額表!K21/取引額表!K$54)","v":3.8822889975929806E-4},{"$f":"IF(取引額表!L$54=0,0,取引額表!L21/取引額表!L$54)","v":1.0354110581901014E-3},{"$f":"IF(取引額表!M$54=0,0,取引額表!M21/取引額表!M$54)","v":2.7688405756973326E-6},{"$f":"IF(取引額表!N$54=0,0,取引額表!N21/取引額表!N$54)","v":0},{"$f":"IF(取引額表!O$54=0,0,取引額表!O21/取引額表!O$54)","v":1.1512211166844833E-3},{"$f":"IF(取引額表!P$54=0,0,取引額表!P21/取引額表!P$54)","v":0.17214211386948119},{"$f":"IF(取引額表!Q$54=0,0,取引額表!Q21/取引額表!Q$54)","v":3.621403281304543E-2},{"$f":"IF(取引額表!R$54=0,0,取引額表!R21/取引額表!R$54)","v":5.263157894736842E-3},{"$f":"IF(取引額表!S$54=0,0,取引額表!S21/取引額表!S$54)","v":2.057008521892448E-3},{"$f":"IF(取引額表!T$54=0,0,取引額表!T21/取引額表!T$54)","v":3.273160087284269E-3},{"$f":"IF(取引額表!U$54=0,0,取引額表!U21/取引額表!U$54)","v":7.4626865671641792E-4},{"$f":"IF(取引額表!V$54=0,0,取引額表!V21/取引額表!V$54)","v":1.0690789473684211E-2},{"$f":"IF(取引額表!W$54=0,0,取引額表!W21/取引額表!W$54)","v":5.1170525777152359E-5},{"$f":"IF(取引額表!X$54=0,0,取引額表!X21/取引額表!X$54)","v":7.3112006934221204E-3},{"$f":"IF(取引額表!Y$54=0,0,取引額表!Y21/取引額表!Y$54)","v":0},{"$f":"IF(取引額表!Z$54=0,0,取引額表!Z21/取引額表!Z$54)","v":9.964237940542164E-3},{"$f":"IF(取引額表!AA$54=0,0,取引額表!AA21/取引額表!AA$54)","v":0},{"$f":"IF(取引額表!AB$54=0,0,取引額表!AB21/取引額表!AB$54)","v":2.6459786416604046E-6},{"$f":"IF(取引額表!AC$54=0,0,取引額表!AC21/取引額表!AC$54)","v":0},{"$f":"IF(取引額表!AD$54=0,0,取引額表!AD21/取引額表!AD$54)","v":0},{"$f":"IF(取引額表!AE$54=0,0,取引額表!AE21/取引額表!AE$54)","v":6.8477954207422456E-5},{"$f":"IF(取引額表!AF$54=0,0,取引額表!AF21/取引額表!AF$54)","v":0},{"$f":"IF(取引額表!AG$54=0,0,取引額表!AG21/取引額表!AG$54)","v":2.9939145432653194E-4},{"$f":"IF(取引額表!AH$54=0,0,取引額表!AH21/取引額表!AH$54)","v":0},{"$f":"IF(取引額表!AI$54=0,0,取引額表!AI21/取引額表!AI$54)","v":0},{"$f":"IF(取引額表!AJ$54=0,0,取引額表!AJ21/取引額表!AJ$54)","v":0},{"$f":"IF(取引額表!AK$54=0,0,取引額表!AK21/取引額表!AK$54)","v":6.9765037193827584E-3},{"$f":"IF(取引額表!AL$54=0,0,取引額表!AL21/取引額表!AL$54)","v":4.9967521111277671E-6},{"$f":"IF(取引額表!AM$54=0,0,取引額表!AM21/取引額表!AM$54)","v":0},{"$f":"IF(取引額表!AN$54=0,0,取引額表!AN21/取引額表!AN$54)","v":0},{"$f":"IF(取引額表!AO$54=0,0,取引額表!AO21/取引額表!AO$54)","v":1.7284728719602776E-3},{"$f":"IF(取引額表!AP$46=0,0,取引額表!AP21/取引額表!AP$46)","v":0},{"$f":"IF(取引額表!AQ$46=0,0,取引額表!AQ21/取引額表!AQ$46)","v":4.6396809599535321E-5},{"$f":"IF(取引額表!AR$46=0,0,取引額表!AR21/取引額表!AR$46)","v":0},{"$f":"IF(取引額表!AS$46=0,0,取引額表!AS21/取引額表!AS$46)","v":1.2712226962144455E-3},{"$f":"IF(取引額表!AT$46=0,0,取引額表!AT21/取引額表!AT$46)","v":5.0181324904262706E-2},{"$f":"IF(取引額表!AU$46=0,0,取引額表!AU21/取引額表!AU$46)","v":9.7242148892077163E-3},{"$f":"IF(取引額表!AV$46=0,0,取引額表!AV21/取引額表!AV$46)","v":0},{"$f":"IF(取引額表!AW$46=0,0,取引額表!AW21/取引額表!AW$46)","v":6.8799459830177741E-3},{"$f":"IF(取引額表!AX$46=0,0,取引額表!AX21/取引額表!AX$46)","v":5.6101159570624412E-3},{"$f":"IF(取引額表!AY$46=0,0,取引額表!AY21/取引額表!AY$46)","v":2.8280590451734179E-3},{"$f":"IF(取引額表!AZ$46=0,0,取引額表!AZ21/取引額表!AZ$46)","v":2.7179844063001017E-3},{"$f":"IF(取引額表!BA$46=0,0,取引額表!BA21/取引額表!BA$46)","v":2.7311769557258666E-3},{"$f":"IF(取引額表!BB$46=0,0,取引額表!BB21/取引額表!BB$46)","v":5.6482760165120216E-3},{"$f":"IF(取引額表!BC$46=0,0,取引額表!BC21/取引額表!BC$46)","v":5.0395925273832081E-3},{"$f":"IF(取引額表!BD$46=0,0,取引額表!BD21/取引額表!BD$46)","v":6.9239755084031639E-3},{"$f":"IF(取引額表!BE$46=0,0,取引額表!BE21/取引額表!BE$46)","v":1.893673541150118E-2},{"$f":"IF(取引額表!BF$46=0,0,取引額表!BF21/取引額表!BF$46)","v":1.6444929067599305E-2},{"$f":"IF(取引額表!BG$46=0,0,取引額表!BG21/取引額表!BG$46)","v":-1.4902678737282564E-3},{"$f":"IF(取引額表!BH$46=0,0,取引額表!BH21/取引額表!BH$46)","v":9.1295830792060206E-4}]
[null,"30","生産用機械",{"$f":"IF(取引額表!D$54=0,0,取引額表!D22/取引額表!D$54)","v":0},{"$f":"IF(取引額表!E$54=0,0,取引額表!E22/取引額表!E$54)","v":0},{"$f":"IF(取引額表!F$54=0,0,取引額表!F22/取引額表!F$54)","v":0},{"$f":"IF(取引額表!G$54=0,0,取引額表!G22/取引額表!G$54)","v":0},{"$f":"IF(取引額表!H$54=0,0,取引額表!H22/取引額表!H$54)","v":1.4197823000473261E-4},{"$f":"IF(取引額表!I$54=0,0,取引額表!I22/取引額表!I$54)","v":0},{"$f":"IF(取引額表!J$54=0,0,取引額表!J22/取引額表!J$54)","v":0},{"$f":"IF(取引額表!K$54=0,0,取引額表!K22/取引額表!K$54)","v":2.872893858218806E-3},{"$f":"IF(取引額表!L$54=0,0,取引額表!L22/取引額表!L$54)","v":1.3253261544833299E-3},{"$f":"IF(取引額表!M$54=0,0,取引額表!M22/取引額表!M$54)","v":1.0152415444223553E-5},{"$f":"IF(取引額表!N$54=0,0,取引額表!N22/取引額表!N$54)","v":5.7336161917321254E-5},{"$f":"IF(取引額表!O$54=0,0,取引額表!O22/取引額表!O$54)","v":7.9489077104404786E-4},{"$f":"IF(取引額表!P$54=0,0,取引額表!P22/取引額表!P$54)","v":6.540805708339527E-3},{"$f":"IF(取引額表!Q$54=0,0,取引額表!Q22/取引額表!Q$54)","v":0.19399591083628384},{"$f":"IF(取引額表!R$54=0,0,取引額表!R22/取引額表!R$54)","v":2.506265664160401E-4},{"$f":"IF(取引額表!S$54=0,0,取引額表!S22/取引額表!S$54)","v":3.5263003232441962E-3},{"$f":"IF(取引額表!T$54=0,0,取引額表!T22/取引額表!T$54)","v":2.5788534021027572E-3},{"$f":"IF(取引額表!U$54=0,0,取引額表!U22/取引額表!U$54)","v":7.4626865671641792E-4},{"$f":"IF(取引額表!V$54=0,0,取引額表!V22/取引額表!V$54)","v":0},{"$f":"IF(取引額表!W$54=0,0,取引額表!W22/取引額表!W$54)","v":0},{"$f":"IF(取引額表!X$54=0,0,取引額表!X22/取引額表!X$54)","v":4.6778476397506986E-5},{"$f":"IF(取引額表!Y$54=0,0,取引額表!Y22/取引額表!Y$54)","v":1.0354646647683148E-5},{"$f":"IF(取引額表!Z$54=0,0,取引額表!Z22/取引額表!Z$54)","v":2.1839425623106112E-4},{"$f":"IF(取引額表!AA$54=0,0,取引額表!AA22/取引額表!AA$54)","v":0},{"$f":"IF(取引額表!AB$54=0,0,取引額表!AB22/取引額表!AB$54)","v":2.6459786416604046E-6},{"$f":"IF(取引額表!AC$54=0,0,取引額表!AC22/取引額表!AC$54)","v":0},{"$f":"IF(取引額表!AD$54=0,0,取引額表!AD22/取引額表!AD$54)","v":0},{"$f":"IF(取引額表!AE$54=0,0,取引額表!AE22/取引額表!AE$54)","v":3.5608536187859678E-5},{"$f":"IF(取引額表!AF$54=0,0,取引額表!AF22/取引額表!AF$54)","v":0},{"$f":"IF(取引額表!AG$54=0,0,取引額表!AG22/取引額表!AG$54)","v":1.3017019753327476E-5},{"$f":"IF(取引額表!AH$54=0,0,取引額表!AH22/取引額表!AH$54)","v":0},{"$f":"IF(取引額表!AI$54=0,0,取引額表!AI22/取引額表!AI$54)","v":0},{"$f":"IF(取引額表!AJ$54=0,0,取引額表!AJ22/取引額表!AJ$54)","v":0},{"$f":"IF(取引額表!AK$54=0,0,取引額表!AK22/取引額表!AK$54)","v":1.0279242620537804E-2},{"$f":"IF(取引額表!AL$54=0,0,取引額表!AL22/取引額表!AL$54)","v":2.4983760555638835E-6},{"$f":"IF(取引額表!AM$54=0,0,取引額表!AM22/取引額表!AM$54)","v":0},{"$f":"IF(取引額表!AN$54=0,0,取引額表!AN22/取引額表!AN$54)","v":1.5264665821239021E-4},{"$f":"IF(取引額表!AO$54=0,0,取引額表!AO22/取引額表!AO$54)","v":3.5944255664155113E-3},{"$f":"IF(取引額表!AP$46=0,0,取引額表!AP22/取引額表!AP$46)","v":0},{"$f":"IF(取引額表!AQ$46=0,0,取引額表!AQ22/取引額表!AQ$46)","v":2.5500536573790408E-5},{"$f":"IF(取引額表!AR$46=0,0,取引額表!AR22/取引額表!AR$46)","v":0},{"$f":"IF(取引額表!AS$46=0,0,取引額表!AS22/取引額表!AS$46)","v":2.1757465377516471E-3},{"$f":"IF(取引額表!AT$46=0,0,取引額表!AT22/取引額表!AT$46)","v":8.1344075887412617E-2},{"$f":"IF(取引額表!AU$46=0,0,取引額表!AU22/取引額表!AU$46)","v":3.600616398320846E-2},{"$f":"IF(取引額表!AV$46=0,0,取引額表!AV22/取引額表!AV$46)","v":0},{"$f":"IF(取引額表!AW$46=0,0,取引額表!AW22/取引額表!AW$46)","v":1.1531054456507199E-2},{"$f":"IF(取引額表!AX$46=0,0,取引額表!AX22/取引額表!AX$46)","v":1.0041483636913215E-2},{"$f":"IF(取引額表!AY$46=0,0,取引額表!AY22/取引額表!AY$46)","v":4.654548811292096E-2},{"$f":"IF(取引額表!AZ$46=0,0,取引額表!AZ22/取引額表!AZ$46)","v":3.9375634929613518E-2},{"$f":"IF(取引額表!BA$46=0,0,取引額表!BA22/取引額表!BA$46)","v":4.023494860499266E-2},{"$f":"IF(取引額表!BB$46=0,0,取引額表!BB22/取引額表!BB$46)","v":2.0052551824011108E-2},{"$f":"IF(取引額表!BC$46=0,0,取引額表!BC22/取引額表!BC$46)","v":1.6024965461116886E-2},{"$f":"IF(取引額表!BD$46=0,0,取引額表!BD22/取引額表!BD$46)","v":1.0113814316662025E-2},{"$f":"IF(取引額表!BE$46=0,0,取引額表!BE22/取引額表!BE$46)","v":2.6002102241239045E-2},{"$f":"IF(取引額表!BF$46=0,0,取引額表!BF22/取引額表!BF$46)","v":2.2706395262696133E-2},{"$f":"IF(取引額表!BG$46=0,0,取引額表!BG22/取引額表!BG$46)","v":1.8297880466578591E-2},{"$f":"IF(取引額表!BH$46=0,0,取引額表!BH22/取引額表!BH$46)","v":1.3607516685544696E-2}]
[null,"31","業務用機械",{"$f":"IF(取引額表!D$54=0,0,取引額表!D23/取引額表!D$54)","v":2.000275900124155E-3},{"$f":"IF(取引額表!E$54=0,0,取引額表!E23/取引額表!E$54)","v":0},{"$f":"IF(取引額表!F$54=0,0,取引額表!F23/取引額表!F$54)","v":0},{"$f":"IF(取引額表!G$54=0,0,取引額表!G23/取引額表!G$54)","v":0},{"$f":"IF(取引額表!H$54=0,0,取引額表!H23/取引額表!H$54)","v":0},{"$f":"IF(取引額表!I$54=0,0,取引額表!I23/取引額表!I$54)","v":0},{"$f":"IF(取引額表!J$54=0,0,取引額表!J23/取引額表!J$54)","v":0},{"$f":"IF(取引額表!K$54=0,0,取引額表!K23/取引額表!K$54)","v":0},{"$f":"IF(取引額表!L$54=0,0,取引額表!L23/取引額表!L$54)","v":0},{"$f":"IF(取引額表!M$54=0,0,取引額表!M23/取引額表!M$54)","v":0},{"$f":"IF(取引額表!N$54=0,0,取引額表!N23/取引額表!N$54)","v":0},{"$f":"IF(取引額表!O$54=0,0,取引額表!O23/取引額表!O$54)","v":0},{"$f":"IF(取引額表!P$54=0,0,取引額表!P23/取引額表!P$54)","v":2.9730935037906941E-3},{"$f":"IF(取引額表!Q$54=0,0,取引額表!Q23/取引額表!Q$54)","v":6.2235077045828553E-3},{"$f":"IF(取引額表!R$54=0,0,取引額表!R23/取引額表!R$54)","v":6.5664160401002508E-2},{"$f":"IF(取引額表!S$54=0,0,取引額表!S23/取引額表!S$54)","v":0},{"$f":"IF(取引額表!T$54=0,0,取引額表!T23/取引額表!T$54)","v":9.918666931164452E-4},{"$f":"IF(取引額表!U$54=0,0,取引額表!U23/取引額表!U$54)","v":3.7313432835820896E-4},{"$f":"IF(取引額表!V$54=0,0,取引額表!V23/取引額表!V$54)","v":0},{"$f":"IF(取引額表!W$54=0,0,取引額表!W23/取引額表!W$54)","v":1.0234105155430472E-4},{"$f":"IF(取引額表!X$54=0,0,取引額表!X23/取引額表!X$54)","v":2.2838903182312233E-4},{"$f":"IF(取引額表!Y$54=0,0,取引額表!Y23/取引額表!Y$54)","v":0},{"$f":"IF(取引額表!Z$54=0,0,取引額表!Z23/取引額表!Z$54)","v":5.459856405776528E-5},{"$f":"IF(取引額表!AA$54=0,0,取引額表!AA23/取引額表!AA$54)","v":2.1676457199835259E-5},{"$f":"IF(取引額表!AB$54=0,0,取引額表!AB23/取引額表!AB$54)","v":1.0226707450017463E-3},{"$f":"IF(取引額表!AC$54=0,0,取引額表!AC23/取引額表!AC$54)","v":1.071343437887525E-5},{"$f":"IF(取引額表!AD$54=0,0,取引額表!AD23/取引額表!AD$54)","v":0},{"$f":"IF(取引額表!AE$54=0,0,取引額表!AE23/取引額表!AE$54)","v":2.7391181682968986E-6},{"$f":"IF(取引額表!AF$54=0,0,取引額表!AF23/取引額表!AF$54)","v":5.3256643766309845E-5},{"$f":"IF(取引額表!AG$54=0,0,取引額表!AG23/取引額表!AG$54)","v":2.9353379543753458E-3},{"$f":"IF(取引額表!AH$54=0,0,取引額表!AH23/取引額表!AH$54)","v":0},{"$f":"IF(取引額表!AI$54=0,0,取引額表!AI23/取引額表!AI$54)","v":9.9500675009664679E-3},{"$f":"IF(取引額表!AJ$54=0,0,取引額表!AJ23/取引額表!AJ$54)","v":0},{"$f":"IF(取引額表!AK$54=0,0,取引額表!AK23/取引額表!AK$54)","v":3.7056973766642944E-3},{"$f":"IF(取引額表!AL$54=0,0,取引額表!AL23/取引額表!AL$54)","v":8.1197221805826209E-4},{"$f":"IF(取引額表!AM$54=0,0,取引額表!AM23/取引額表!AM$54)","v":2.379836971797995E-2},{"$f":"IF(取引額表!AN$54=0,0,取引額表!AN23/取引額表!AN$54)","v":1.1742050631722324E-5},{"$f":"IF(取引額表!AO$54=0,0,取引額表!AO23/取引額表!AO$54)","v":1.4836420725714318E-3},{"$f":"IF(取引額表!AP$46=0,0,取引額表!AP23/取引額表!AP$46)","v":0},{"$f":"IF(取引額表!AQ$46=0,0,取引額表!AQ23/取引額表!AQ$46)","v":5.6455354581419319E-4},{"$f":"IF(取引額表!AR$46=0,0,取引額表!AR23/取引額表!AR$46)","v":1.1100146632937022E-6},{"$f":"IF(取引額表!AS$46=0,0,取引額表!AS23/取引額表!AS$46)","v":2.2490863086870958E-3},{"$f":"IF(取引額表!AT$46=0,0,取引額表!AT23/取引額表!AT$46)","v":6.7864329339513363E-2},{"$f":"IF(取引額表!AU$46=0,0,取引額表!AU23/取引額表!AU$46)","v":1.2848716722461342E-2},{"$f":"IF(取引額表!AV$46=0,0,取引額表!AV23/取引額表!AV$46)","v":0},{"$f":"IF(取引額表!AW$46=0,0,取引額表!AW23/取引額表!AW$46)","v":9.6177406717725174E-3},{"$f":"IF(取引額表!AX$46=0,0,取引額表!AX23/取引額表!AX$46)","v":6.988470912173932E-3},{"$f":"IF(取引額表!AY$46=0,0,取引額表!AY23/取引額表!AY$46)","v":6.4995006839371284E-3},{"$f":"IF(取引額表!AZ$46=0,0,取引額表!AZ23/取引額表!AZ$46)","v":2.8802521320493613E-3},{"$f":"IF(取引額表!BA$46=0,0,取引額表!BA23/取引額表!BA$46)","v":3.3140224890873616E-3},{"$f":"IF(取引額表!BB$46=0,0,取引額表!BB23/取引額表!BB$46)","v":7.7463180131827443E-3},{"$f":"IF(取引額表!BC$46=0,0,取引額表!BC23/取引額表!BC$46)","v":6.2603002508485111E-3},{"$f":"IF(取引額表!BD$46=0,0,取引額表!BD23/取引額表!BD$46)","v":1.905946770921111E-2},{"$f":"IF(取引額表!BE$46=0,0,取引額表!BE23/取引額表!BE$46)","v":2.0964674112380458E-2},{"$f":"IF(取引額表!BF$46=0,0,取引額表!BF23/取引額表!BF$46)","v":2.0569477218398125E-2},{"$f":"IF(取引額表!BG$46=0,0,取引額表!BG23/取引額表!BG$46)","v":-7.3211362343914347E-4},{"$f":"IF(取引額表!BH$46=0,0,取引額表!BH23/取引額表!BH$46)","v":1.083009855389684E-3}]
[null,"32","電子部品",{"$f":"IF(取引額表!D$54=0,0,取引額表!D24/取引額表!D$54)","v":0},{"$f":"IF(取引額表!E$54=0,0,取引額表!E24/取引額表!E$54)","v":0},{"$f":"IF(取引額表!F$54=0,0,取引額表!F24/取引額表!F$54)","v":0},{"$f":"IF(取引額表!G$54=0,0,取引額表!G24/取引額表!G$54)","v":0},{"$f":"IF(取引額表!H$54=0,0,取引額表!H24/取引額表!H$54)","v":0},{"$f":"IF(取引額表!I$54=0,0,取引額表!I24/取引額表!I$54)","v":0},{"$f":"IF(取引額表!J$54=0,0,取引額表!J24/取引額表!J$54)","v":0},{"$f":"IF(取引額表!K$54=0,0,取引額表!K24/取引額表!K$54)","v":0},{"$f":"IF(取引額表!L$54=0,0,取引額表!L24/取引額表!L$54)","v":0},{"$f":"IF(取引額表!M$54=0,0,取引額表!M24/取引額表!M$54)","v":0},{"$f":"IF(取引額表!N$54=0,0,取引額表!N24/取引額表!N$54)","v":0},{"$f":"IF(取引額表!O$54=0,0,取引額表!O24/取引額表!O$54)","v":5.4820053175451578E-5},{"$f":"IF(取引額表!P$54=0,0,取引額表!P24/取引額表!P$54)","v":1.4419503493384866E-2},{"$f":"IF(取引額表!Q$54=0,0,取引額表!Q24/取引額表!Q$54)","v":2.6230489203610432E-3},{"$f":"IF(取引額表!R$54=0,0,取引額表!R24/取引額表!R$54)","v":0.10438596491228071},{"$f":"IF(取引額表!S$54=0,0,取引額表!S24/取引額表!S$54)","v":0.25330590655304142},{"$f":"IF(取引額表!T$54=0,0,取引額表!T24/取引額表!T$54)","v":0.13648085697282286},{"$f":"IF(取引額表!U$54=0,0,取引額表!U24/取引額表!U$54)","v":0.38805970149253732},{"$f":"IF(取引額表!V$54=0,0,取引額表!V24/取引額表!V$54)","v":1.3980263157894737E-2},{"$f":"IF(取引額表!W$54=0,0,取引額表!W24/取引額表!W$54)","v":6.3963157221440454E-4},{"$f":"IF(取引額表!X$54=0,0,取引額表!X24/取引額表!X$54)","v":3.6597278593343698E-4},{"$f":"IF(取引額表!Y$54=0,0,取引額表!Y24/取引額表!Y$54)","v":0},{"$f":"IF(取引額表!Z$54=0,0,取引額表!Z24/取引額表!Z$54)","v":0},{"$f":"IF(取引額表!AA$54=0,0,取引額表!AA24/取引額表!AA$54)","v":0},{"$f":"IF(取引額表!AB$54=0,0,取引額表!AB24/取引額表!AB$54)","v":2.3813807774943641E-5},{"$f":"IF(取引額表!AC$54=0,0,取引額表!AC24/取引額表!AC$54)","v":4.2853737515501E-5},{"$f":"IF(取引額表!AD$54=0,0,取引額表!AD24/取引額表!AD$54)","v":0},{"$f":"IF(取引額表!AE$54=0,0,取引額表!AE24/取引額表!AE$54)","v":0},{"$f":"IF(取引額表!AF$54=0,0,取引額表!AF24/取引額表!AF$54)","v":8.7340895776748153E-4},{"$f":"IF(取引額表!AG$54=0,0,取引額表!AG24/取引額表!AG$54)","v":2.0241465716424223E-3},{"$f":"IF(取引額表!AH$54=0,0,取引額表!AH24/取引額表!AH$54)","v":6.9123709742413444E-4},{"$f":"IF(取引額表!AI$54=0,0,取引額表!AI24/取引額表!AI$54)","v":8.0960679422021709E-6},{"$f":"IF(取引額表!AJ$54=0,0,取引額表!AJ24/取引額表!AJ$54)","v":0},{"$f":"IF(取引額表!AK$54=0,0,取引額表!AK24/取引額表!AK$54)","v":1.0425220030533608E-2},{"$f":"IF(取引額表!AL$54=0,0,取引額表!AL24/取引額表!AL$54)","v":7.4951281666916502E-6},{"$f":"IF(取引額表!AM$54=0,0,取引額表!AM24/取引額表!AM$54)","v":3.4479527780380402E-2},{"$f":"IF(取引額表!AN$54=0,0,取引額表!AN24/取引額表!AN$54)","v":0},{"$f":"IF(取引額表!AO$54=0,0,取引額表!AO24/取引額表!AO$54)","v":2.0341042246341586E-3},{"$f":"IF(取引額表!AP$46=0,0,取引額表!AP24/取引額表!AP$46)","v":8.4234170995367124E-5},{"$f":"IF(取引額表!AQ$46=0,0,取引額表!AQ24/取引額表!AQ$46)","v":4.6148887716179028E-4},{"$f":"IF(取引額表!AR$46=0,0,取引額表!AR24/取引額表!AR$46)","v":0},{"$f":"IF(取引額表!AS$46=0,0,取引額表!AS24/取引額表!AS$46)","v":1.7968243879184951E-3},{"$f":"IF(取引額表!AT$46=0,0,取引額表!AT24/取引額表!AT$46)","v":0},{"$f":"IF(取引額表!AU$46=0,0,取引額表!AU24/取引額表!AU$46)","v":6.8802805675115569E-2},{"$f":"IF(取引額表!AV$46=0,0,取引額表!AV24/取引額表!AV$46)","v":0},{"$f":"IF(取引額表!AW$46=0,0,取引額表!AW24/取引額表!AW$46)","v":1.7156337122024449E-3},{"$f":"IF(取引額表!AX$46=0,0,取引額表!AX24/取引額表!AX$46)","v":2.8670777371065707E-3},{"$f":"IF(取引額表!AY$46=0,0,取引額表!AY24/取引額表!AY$46)","v":3.5833270394333813E-3},{"$f":"IF(取引額表!AZ$46=0,0,取引額表!AZ24/取引額表!AZ$46)","v":3.2567818196154255E-4},{"$f":"IF(取引額表!BA$46=0,0,取引額表!BA24/取引額表!BA$46)","v":7.1611047412145721E-4},{"$f":"IF(取引額表!BB$46=0,0,取引額表!BB24/取引額表!BB$46)","v":1.4188992482999038E-3},{"$f":"IF(取引額表!BC$46=0,0,取引額表!BC24/取引額表!BC$46)","v":2.4408175004581763E-3},{"$f":"IF(取引額表!BD$46=0,0,取引額表!BD24/取引額表!BD$46)","v":7.9962966043768055E-3},{"$f":"IF(取引額表!BE$46=0,0,取引額表!BE24/取引額表!BE$46)","v":6.2773813135268957E-3},{"$f":"IF(取引額表!BF$46=0,0,取引額表!BF24/取引額表!BF$46)","v":6.6339358489476141E-3},{"$f":"IF(取引額表!BG$46=0,0,取引額表!BG24/取引額表!BG$46)","v":-2.0291848465376259E-3},{"$f":"IF(取引額表!BH$46=0,0,取引額表!BH24/取引額表!BH$46)","v":9.2367983405791849E-4}]
[null,"33","電気機械",{"$f":"IF(取引額表!D$54=0,0,取引額表!D25/取引額表!D$54)","v":0},{"$f":"IF(取引額表!E$54=0,0,取引額表!E25/取引額表!E$54)","v":0},{"$f":"IF(取引額表!F$54=0,0,取引額表!F25/取引額表!F$54)","v":0},{"$f":"IF(取引額表!G$54=0,0,取引額表!G25/取引額表!G$54)","v":0},{"$f":"IF(取引額表!H$54=0,0,取引額表!H25/取引額表!H$54)","v":9.4652153336488405E-5},{"$f":"IF(取引額表!I$54=0,0,取引額表!I25/取引額表!I$54)","v":0},{"$f":"IF(取引額表!J$54=0,0,取引額表!J25/取引額表!J$54)","v":0},{"$f":"IF(取引額表!K$54=0,0,取引額表!K25/取引額表!K$54)","v":0},{"$f":"IF(取引額表!L$54=0,0,取引額表!L25/取引額表!L$54)","v":8.283288465520812E-5},{"$f":"IF(取引額表!M$54=0,0,取引額表!M25/取引額表!M$54)","v":0},{"$f":"IF(取引額表!N$54=0,0,取引額表!N25/取引額表!N$54)","v":0},{"$f":"IF(取引額表!O$54=0,0,取引額表!O25/取引額表!O$54)","v":2.4669023928953213E-4},{"$f":"IF(取引額表!P$54=0,0,取引額表!P25/取引額表!P$54)","v":1.4270848818195332E-2},{"$f":"IF(取引額表!Q$54=0,0,取引額表!Q25/取引額表!Q$54)","v":1.8879968084575875E-2},{"$f":"IF(取引額表!R$54=0,0,取引額表!R25/取引額表!R$54)","v":1.0025062656641603E-2},{"$f":"IF(取引額表!S$54=0,0,取引額表!S25/取引額表!S$54)","v":1.8660005877167204E-2},{"$f":"IF(取引額表!T$54=0,0,取引額表!T25/取引額表!T$54)","v":7.7167228724459427E-2},{"$f":"IF(取引額表!U$54=0,0,取引額表!U25/取引額表!U$54)","v":8.0223880597014921E-3},{"$f":"IF(取引額表!V$54=0,0,取引額表!V25/取引額表!V$54)","v":2.3026315789473683E-2},{"$f":"IF(取引額表!W$54=0,0,取引額表!W25/取引額表!W$54)","v":3.3260841755149032E-4},{"$f":"IF(取引額表!X$54=0,0,取引額表!X25/取引額表!X$54)","v":8.3210654485918311E-3},{"$f":"IF(取引額表!Y$54=0,0,取引額表!Y25/取引額表!Y$54)","v":0},{"$f":"IF(取引額表!Z$54=0,0,取引額表!Z25/取引額表!Z$54)","v":1.6379569217329584E-4},{"$f":"IF(取引額表!AA$54=0,0,取引額表!AA25/取引額表!AA$54)","v":0},{"$f":"IF(取引額表!AB$54=0,0,取引額表!AB25/取引額表!AB$54)","v":2.1167829133283237E-4},{"$f":"IF(取引額表!AC$54=0,0,取引額表!AC25/取引額表!AC$54)","v":0},{"$f":"IF(取引額表!AD$54=0,0,取引額表!AD25/取引額表!AD$54)","v":1.066969076187689E-5},{"$f":"IF(取引額表!AE$54=0,0,取引額表!AE25/取引額表!AE$54)","v":1.1778208123676664E-4},{"$f":"IF(取引額表!AF$54=0,0,取引額表!AF25/取引額表!AF$54)","v":8.2547797837780265E-5},{"$f":"IF(取引額表!AG$54=0,0,取引額表!AG25/取引額表!AG$54)","v":1.711738097562563E-3},{"$f":"IF(取引額表!AH$54=0,0,取引額表!AH25/取引額表!AH$54)","v":4.8665571432999599E-4},{"$f":"IF(取引額表!AI$54=0,0,取引額表!AI25/取引額表!AI$54)","v":6.2744526552066822E-5},{"$f":"IF(取引額表!AJ$54=0,0,取引額表!AJ25/取引額表!AJ$54)","v":0},{"$f":"IF(取引額表!AK$54=0,0,取引額表!AK25/取引額表!AK$54)","v":5.6900777937947435E-3},{"$f":"IF(取引額表!AL$54=0,0,取引額表!AL25/取引額表!AL$54)","v":1.5489931544496077E-4},{"$f":"IF(取引額表!AM$54=0,0,取引額表!AM25/取引額表!AM$54)","v":0},{"$f":"IF(取引額表!AN$54=0,0,取引額表!AN25/取引額表!AN$54)","v":6.8103893663989479E-4},{"$f":"IF(取引額表!AO$54=0,0,取引額表!AO25/取引額表!AO$54)","v":1.4817420552812744E-3},{"$f":"IF(取引額表!AP$46=0,0,取引額表!AP25/取引額表!AP$46)","v":3.6407880574664234E-3},{"$f":"IF(取引額表!AQ$46=0,0,取引額表!AQ25/取引額表!AQ$46)","v":1.0578826762813133E-2},{"$f":"IF(取引額表!AR$46=0,0,取引額表!AR25/取引額表!AR$46)","v":0},{"$f":"IF(取引額表!AS$46=0,0,取引額表!AS25/取引額表!AS$46)","v":5.6838322474972805E-4},{"$f":"IF(取引額表!AT$46=0,0,取引額表!AT25/取引額表!AT$46)","v":6.3680404182958519E-2},{"$f":"IF(取引額表!AU$46=0,0,取引額表!AU25/取引額表!AU$46)","v":-9.7773526754875396E-4},{"$f":"IF(取引額表!AV$46=0,0,取引額表!AV25/取引額表!AV$46)","v":0},{"$f":"IF(取引額表!AW$46=0,0,取引額表!AW25/取引額表!AW$46)","v":1.4817724534623739E-2},{"$f":"IF(取引額表!AX$46=0,0,取引額表!AX25/取引額表!AX$46)","v":1.0030546284699527E-2},{"$f":"IF(取引額表!AY$46=0,0,取引額表!AY25/取引額表!AY$46)","v":1.8713862524441312E-3},{"$f":"IF(取引額表!AZ$46=0,0,取引額表!AZ25/取引額表!AZ$46)","v":3.3316306649434292E-3},{"$f":"IF(取引額表!BA$46=0,0,取引額表!BA25/取引額表!BA$46)","v":3.1566189930199344E-3},{"$f":"IF(取引額表!BB$46=0,0,取引額表!BB25/取引額表!BB$46)","v":1.1355822129991117E-2},{"$f":"IF(取引額表!BC$46=0,0,取引額表!BC25/取引額表!BC$46)","v":8.6683303530684565E-3},{"$f":"IF(取引額表!BD$46=0,0,取引額表!BD25/取引額表!BD$46)","v":2.2247498218825837E-2},{"$f":"IF(取引額表!BE$46=0,0,取引額表!BE25/取引額表!BE$46)","v":3.0570998441539758E-2},{"$f":"IF(取引額表!BF$46=0,0,取引額表!BF25/取引額表!BF$46)","v":2.8844455097151563E-2},{"$f":"IF(取引額表!BG$46=0,0,取引額表!BG25/取引額表!BG$46)","v":-2.0733299091975742E-4},{"$f":"IF(取引額表!BH$46=0,0,取引額表!BH25/取引額表!BH$46)","v":1.3682838799547361E-3}]
[null,"34","情報通信機器",{"$f":"IF(取引額表!D$54=0,0,取引額表!D26/取引額表!D$54)","v":0},{"$f":"IF(取引額表!E$54=0,0,取引額表!E26/取引額表!E$54)","v":0},{"$f":"IF(取引額表!F$54=0,0,取引額表!F26/取引額表!F$54)","v":6.3438090767220266E-6},{"$f":"IF(取引額表!G$54=0,0,取引額表!G26/取引額表!G$54)","v":0},{"$f":"IF(取引額表!H$54=0,0,取引額表!H26/取引額表!H$54)","v":0},{"$f":"IF(取引額表!I$54=0,0,取引額表!I26/取引額表!I$54)","v":0},{"$f":"IF(取引額表!J$54=0,0,取引額表!J26/取引額表!J$54)","v":0},{"$f":"IF(取引額表!K$54=0,0,取引額表!K26/取引額表!K$54)","v":0},{"$f":"IF(取引額表!L$54=0,0,取引額表!L26/取引額表!L$54)","v":0},{"$f":"IF(取引額表!M$54=0,0,取引額表!M26/取引額表!M$54)","v":0},{"$f":"IF(取引額表!N$54=0,0,取引額表!N26/取引額表!N$54)","v":0},{"$f":"IF(取引額表!O$54=0,0,取引額表!O26/取引額表!O$54)","v":2.7410026587725789E-5},{"$f":"IF(取引額表!P$54=0,0,取引額表!P26/取引額表!P$54)","v":2.5271294782220899E-3},{"$f":"IF(取引額表!Q$54=0,0,取引額表!Q26/取引額表!Q$54)","v":6.1836134244252735E-4},{"$f":"IF(取引額表!R$54=0,0,取引額表!R26/取引額表!R$54)","v":0},{"$f":"IF(取引額表!S$54=0,0,取引額表!S26/取引額表!S$54)","v":0},{"$f":"IF(取引額表!T$54=0,0,取引額表!T26/取引額表!T$54)","v":0},{"$f":"IF(取引額表!U$54=0,0,取引額表!U26/取引額表!U$54)","v":2.6305970149253732E-2},{"$f":"IF(取引額表!V$54=0,0,取引額表!V26/取引額表!V$54)","v":8.2236842105263153E-4},{"$f":"IF(取引額表!W$54=0,0,取引額表!W26/取引額表!W$54)","v":0},{"$f":"IF(取引額表!X$54=0,0,取引額表!X26/取引額表!X$54)","v":1.728051951625552E-3},{"$f":"IF(取引額表!Y$54=0,0,取引額表!Y26/取引額表!Y$54)","v":3.4515488825610492E-6},{"$f":"IF(取引額表!Z$54=0,0,取引額表!Z26/取引額表!Z$54)","v":0},{"$f":"IF(取引額表!AA$54=0,0,取引額表!AA26/取引額表!AA$54)","v":2.1676457199835259E-5},{"$f":"IF(取引額表!AB$54=0,0,取引額表!AB26/取引額表!AB$54)","v":3.042875437909465E-4},{"$f":"IF(取引額表!AC$54=0,0,取引額表!AC26/取引額表!AC$54)","v":1.3391792973594063E-4},{"$f":"IF(取引額表!AD$54=0,0,取引額表!AD26/取引額表!AD$54)","v":6.8590869183494295E-5},{"$f":"IF(取引額表!AE$54=0,0,取引額表!AE26/取引額表!AE$54)","v":1.0134737222698524E-4},{"$f":"IF(取引額表!AF$54=0,0,取引額表!AF26/取引額表!AF$54)","v":1.8906108537039996E-4},{"$f":"IF(取引額表!AG$54=0,0,取引額表!AG26/取引額表!AG$54)","v":1.5197370562009828E-3},{"$f":"IF(取引額表!AH$54=0,0,取引額表!AH26/取引額表!AH$54)","v":6.8193794364712805E-5},{"$f":"IF(取引額表!AI$54=0,0,取引額表!AI26/取引額表!AI$54)","v":3.2384271768808684E-5},{"$f":"IF(取引額表!AJ$54=0,0,取引額表!AJ26/取引額表!AJ$54)","v":0},{"$f":"IF(取引額表!AK$54=0,0,取引額表!AK26/取引額表!AK$54)","v":1.2666581513177501E-3},{"$f":"IF(取引額表!AL$54=0,0,取引額表!AL26/取引額表!AL$54)","v":1.4490581122270524E-4},{"$f":"IF(取引額表!AM$54=0,0,取引額表!AM26/取引額表!AM$54)","v":0},{"$f":"IF(取引額表!AN$54=0,0,取引額表!AN26/取引額表!AN$54)","v":2.3484101263444648E-5},{"$f":"IF(取引額表!AO$54=0,0,取引額表!AO26/取引額表!AO$54)","v":3.6439617314803282E-4},{"$f":"IF(取引額表!AP$46=0,0,取引額表!AP26/取引額表!AP$46)","v":6.1022977209977073E-3},{"$f":"IF(取引額表!AQ$46=0,0,取引額表!AQ26/取引額表!AQ$46)","v":1.2647911966480961E-2},{"$f":"IF(取引額表!AR$46=0,0,取引額表!AR26/取引額表!AR$46)","v":0},{"$f":"IF(取引額表!AS$46=0,0,取引額表!AS26/取引額表!AS$46)","v":1.1795479825451344E-3},{"$f":"IF(取引額表!AT$46=0,0,取引額表!AT26/取引額表!AT$46)","v":4.8828033748503724E-2},{"$f":"IF(取引額表!AU$46=0,0,取引額表!AU26/取引額表!AU$46)","v":3.7090174823316861E-3},{"$f":"IF(取引額表!AV$46=0,0,取引額表!AV26/取引額表!AV$46)","v":0},{"$f":"IF(取引額表!AW$46=0,0,取引額表!AW26/取引額表!AW$46)","v":1.4271397116121649E-2},{"$f":"IF(取引額表!AX$46=0,0,取引額表!AX26/取引額表!AX$46)","v":8.6874891480958512E-3},{"$f":"IF(取引額表!AY$46=0,0,取引額表!AY26/取引額表!AY$46)","v":2.6560257798142039E-3},{"$f":"IF(取引額表!AZ$46=0,0,取引額表!AZ26/取引額表!AZ$46)","v":2.597997707682691E-3},{"$f":"IF(取引額表!BA$46=0,0,取引額表!BA26/取引額表!BA$46)","v":2.6049524269305814E-3},{"$f":"IF(取引額表!BB$46=0,0,取引額表!BB26/取引額表!BB$46)","v":1.080790964669349E-2},{"$f":"IF(取引額表!BC$46=0,0,取引額表!BC26/取引額表!BC$46)","v":7.4821042095132686E-3},{"$f":"IF(取引額表!BD$46=0,0,取引額表!BD26/取引額表!BD$46)","v":4.0825958488696322E-2},{"$f":"IF(取引額表!BE$46=0,0,取引額表!BE26/取引額表!BE$46)","v":2.2310165297117865E-2},{"$f":"IF(取引額表!BF$46=0,0,取引額表!BF26/取引額表!BF$46)","v":2.6150895596343419E-2},{"$f":"IF(取引額表!BG$46=0,0,取引額表!BG26/取引額表!BG$46)","v":6.6341596974922384E-4},{"$f":"IF(取引額表!BH$46=0,0,取引額表!BH26/取引額表!BH$46)","v":7.2743519108881037E-4}]
[null,"35","輸送機械",{"$f":"IF(取引額表!D$54=0,0,取引額表!D27/取引額表!D$54)","v":6.8975031038763962E-5},{"$f":"IF(取引額表!E$54=0,0,取引額表!E27/取引額表!E$54)","v":0},{"$f":"IF(取引額表!F$54=0,0,取引額表!F27/取引額表!F$54)","v":0},{"$f":"IF(取引額表!G$54=0,0,取引額表!G27/取引額表!G$54)","v":0},{"$f":"IF(取引額表!H$54=0,0,取引額表!H27/取引額表!H$54)","v":0},{"$f":"IF(取引額表!I$54=0,0,取引額表!I27/取引額表!I$54)","v":0},{"$f":"IF(取引額表!J$54=0,0,取引額表!J27/取引額表!J$54)","v":0},{"$f":"IF(取引額表!K$54=0,0,取引額表!K27/取引額表!K$54)","v":0},{"$f":"IF(取引額表!L$54=0,0,取引額表!L27/取引額表!L$54)","v":0},{"$f":"IF(取引額表!M$54=0,0,取引額表!M27/取引額表!M$54)","v":0},{"$f":"IF(取引額表!N$54=0,0,取引額表!N27/取引額表!N$54)","v":0},{"$f":"IF(取引額表!O$54=0,0,取引額表!O27/取引額表!O$54)","v":0},{"$f":"IF(取引額表!P$54=0,0,取引額表!P27/取引額表!P$54)","v":0},{"$f":"IF(取引額表!Q$54=0,0,取引額表!Q27/取引額表!Q$54)","v":1.6356654864608786E-3},{"$f":"IF(取引額表!R$54=0,0,取引額表!R27/取引額表!R$54)","v":0},{"$f":"IF(取引額表!S$54=0,0,取引額表!S27/取引額表!S$54)","v":0},{"$f":"IF(取引額表!T$54=0,0,取引額表!T27/取引額表!T$54)","v":0},{"$f":"IF(取引額表!U$54=0,0,取引額表!U27/取引額表!U$54)","v":0},{"$f":"IF(取引額表!V$54=0,0,取引額表!V27/取引額表!V$54)","v":0.33223684210526316},{"$f":"IF(取引額表!W$54=0,0,取引額表!W27/取引額表!W$54)","v":0},{"$f":"IF(取引額表!X$54=0,0,取引額表!X27/取引額表!X$54)","v":0},{"$f":"IF(取引額表!Y$54=0,0,取引額表!Y27/取引額表!Y$54)","v":0},{"$f":"IF(取引額表!Z$54=0,0,取引額表!Z27/取引額表!Z$54)","v":0},{"$f":"IF(取引額表!AA$54=0,0,取引額表!AA27/取引額表!AA$54)","v":0},{"$f":"IF(取引額表!AB$54=0,0,取引額表!AB27/取引額表!AB$54)","v":0},{"$f":"IF(取引額表!AC$54=0,0,取引額表!AC27/取引額表!AC$54)","v":0},{"$f":"IF(取引額表!AD$54=0,0,取引額表!AD27/取引額表!AD$54)","v":0},{"$f":"IF(取引額表!AE$54=0,0,取引額表!AE27/取引額表!AE$54)","v":1.4087284739550949E-2},{"$f":"IF(取引額表!AF$54=0,0,取引額表!AF27/取引額表!AF$54)","v":0},{"$f":"IF(取引額表!AG$54=0,0,取引額表!AG27/取引額表!AG$54)","v":4.9985355852777509E-3},{"$f":"IF(取引額表!AH$54=0,0,取引額表!AH27/取引額表!AH$54)","v":9.9190973621400452E-5},{"$f":"IF(取引額表!AI$54=0,0,取引額表!AI27/取引額表!AI$54)","v":0},{"$f":"IF(取引額表!AJ$54=0,0,取引額表!AJ27/取引額表!AJ$54)","v":0},{"$f":"IF(取引額表!AK$54=0,0,取引額表!AK27/取引額表!AK$54)","v":2.0391219458788752E-2},{"$f":"IF(取引額表!AL$54=0,0,取引額表!AL27/取引額表!AL$54)","v":1.9987008444511068E-5},{"$f":"IF(取引額表!AM$54=0,0,取引額表!AM27/取引額表!AM$54)","v":0},{"$f":"IF(取引額表!AN$54=0,0,取引額表!AN27/取引額表!AN$54)","v":1.9773613263820395E-2},{"$f":"IF(取引額表!AO$54=0,0,取引額表!AO27/取引額表!AO$54)","v":3.0375847848786853E-3},{"$f":"IF(取引額表!AP$46=0,0,取引額表!AP27/取引額表!AP$46)","v":0},{"$f":"IF(取引額表!AQ$46=0,0,取引額表!AQ27/取引額表!AQ$46)","v":1.5364427459827801E-2},{"$f":"IF(取引額表!AR$46=0,0,取引額表!AR27/取引額表!AR$46)","v":0},{"$f":"IF(取引額表!AS$46=0,0,取引額表!AS27/取引額表!AS$46)","v":7.5723313490850862E-3},{"$f":"IF(取引額表!AT$46=0,0,取引額表!AT27/取引額表!AT$46)","v":7.1688987915432198E-2},{"$f":"IF(取引額表!AU$46=0,0,取引額表!AU27/取引額表!AU$46)","v":2.0107338328285245E-2},{"$f":"IF(取引額表!AV$46=0,0,取引額表!AV27/取引額表!AV$46)","v":0},{"$f":"IF(取引額表!AW$46=0,0,取引額表!AW27/取引額表!AW$46)","v":1.9324235661824816E-2},{"$f":"IF(取引額表!AX$46=0,0,取引額表!AX27/取引額表!AX$46)","v":1.4093275479711646E-2},{"$f":"IF(取引額表!AY$46=0,0,取引額表!AY27/取引額表!AY$46)","v":2.0979666507221201E-4},{"$f":"IF(取引額表!AZ$46=0,0,取引額表!AZ27/取引額表!AZ$46)","v":1.3427082940519735E-4},{"$f":"IF(取引額表!BA$46=0,0,取引額表!BA27/取引額表!BA$46)","v":1.4332267213807253E-4},{"$f":"IF(取引額表!BB$46=0,0,取引額表!BB27/取引額表!BB$46)","v":1.3629882878108134E-2},{"$f":"IF(取引額表!BC$46=0,0,取引額表!BC27/取引額表!BC$46)","v":1.1328793524399156E-2},{"$f":"IF(取引額表!BD$46=0,0,取引額表!BD27/取引額表!BD$46)","v":1.5446487018224033E-2},{"$f":"IF(取引額表!BE$46=0,0,取引額表!BE27/取引額表!BE$46)","v":4.9181181296773333E-2},{"$f":"IF(取引額表!BF$46=0,0,取引額表!BF27/取引額表!BF$46)","v":4.2183594906055499E-2},{"$f":"IF(取引額表!BG$46=0,0,取引額表!BG27/取引額表!BG$46)","v":-5.2492943610138584E-3},{"$f":"IF(取引額表!BH$46=0,0,取引額表!BH27/取引額表!BH$46)","v":1.6503007320223758E-4}]
[null,"39","その他の製造工業製品",{"$f":"IF(取引額表!D$54=0,0,取引額表!D28/取引額表!D$54)","v":4.8282521727134776E-4},{"$f":"IF(取引額表!E$54=0,0,取引額表!E28/取引額表!E$54)","v":0},{"$f":"IF(取引額表!F$54=0,0,取引額表!F28/取引額表!F$54)","v":6.8766890391666769E-3},{"$f":"IF(取引額表!G$54=0,0,取引額表!G28/取引額表!G$54)","v":1.7501508750754374E-2},{"$f":"IF(取引額表!H$54=0,0,取引額表!H28/取引額表!H$54)","v":8.2347373402744915E-3},{"$f":"IF(取引額表!I$54=0,0,取引額表!I28/取引額表!I$54)","v":3.5714285714285713E-3},{"$f":"IF(取引額表!J$54=0,0,取引額表!J28/取引額表!J$54)","v":1.9368832288997693E-2},{"$f":"IF(取引額表!K$54=0,0,取引額表!K28/取引額表!K$54)","v":1.8634987188446308E-3},{"$f":"IF(取引額表!L$54=0,0,取引額表!L28/取引額表!L$54)","v":4.4729757713812381E-3},{"$f":"IF(取引額表!M$54=0,0,取引額表!M28/取引額表!M$54)","v":6.9304079609704234E-3},{"$f":"IF(取引額表!N$54=0,0,取引額表!N28/取引額表!N$54)","v":2.7234676910727597E-2},{"$f":"IF(取引額表!O$54=0,0,取引額表!O28/取引額表!O$54)","v":1.0689910369213059E-3},{"$f":"IF(取引額表!P$54=0,0,取引額表!P28/取引額表!P$54)","v":7.4327337594767352E-4},{"$f":"IF(取引額表!Q$54=0,0,取引額表!Q28/取引額表!Q$54)","v":1.8451104572881863E-3},{"$f":"IF(取引額表!R$54=0,0,取引額表!R28/取引額表!R$54)","v":4.1353383458646613E-3},{"$f":"IF(取引額表!S$54=0,0,取引額表!S28/取引額表!S$54)","v":4.2609462239200707E-3},{"$f":"IF(取引額表!T$54=0,0,取引額表!T28/取引額表!T$54)","v":2.3804800634794686E-3},{"$f":"IF(取引額表!U$54=0,0,取引額表!U28/取引額表!U$54)","v":5.597014925373134E-3},{"$f":"IF(取引額表!V$54=0,0,取引額表!V28/取引額表!V$54)","v":0},{"$f":"IF(取引額表!W$54=0,0,取引額表!W28/取引額表!W$54)","v":3.8659332224638611E-2},{"$f":"IF(取引額表!X$54=0,0,取引額表!X28/取引額表!X$54)","v":2.9277822874674959E-3},{"$f":"IF(取引額表!Y$54=0,0,取引額表!Y28/取引額表!Y$54)","v":7.5761497972215031E-3},{"$f":"IF(取引額表!Z$54=0,0,取引額表!Z28/取引額表!Z$54)","v":3.275913843465917E-3},{"$f":"IF(取引額表!AA$54=0,0,取引額表!AA28/取引額表!AA$54)","v":3.4899096091734767E-3},{"$f":"IF(取引額表!AB$54=0,0,取引額表!AB28/取引額表!AB$54)","v":6.326534932210027E-3},{"$f":"IF(取引額表!AC$54=0,0,取引額表!AC28/取引額表!AC$54)","v":1.6908477808459863E-2},{"$f":"IF(取引額表!AD$54=0,0,取引額表!AD28/取引額表!AD$54)","v":7.3163593795727246E-5},{"$f":"IF(取引額表!AE$54=0,0,取引額表!AE28/取引額表!AE$54)","v":2.5775101963673814E-3},{"$f":"IF(取引額表!AF$54=0,0,取引額表!AF28/取引額表!AF$54)","v":1.3244927304681259E-2},{"$f":"IF(取引額表!AG$54=0,0,取引額表!AG28/取引額表!AG$54)","v":8.8092681180643694E-3},{"$f":"IF(取引額表!AH$54=0,0,取引額表!AH28/取引額表!AH$54)","v":1.306531105669384E-2},{"$f":"IF(取引額表!AI$54=0,0,取引額表!AI28/取引額表!AI$54)","v":4.9730097334976832E-3},{"$f":"IF(取引額表!AJ$54=0,0,取引額表!AJ28/取引額表!AJ$54)","v":4.1568762957843813E-2},{"$f":"IF(取引額表!AK$54=0,0,取引額表!AK28/取引額表!AK$54)","v":8.0819784804968091E-3},{"$f":"IF(取引額表!AL$54=0,0,取引額表!AL28/取引額表!AL$54)","v":6.2959076600209865E-3},{"$f":"IF(取引額表!AM$54=0,0,取引額表!AM28/取引額表!AM$54)","v":0.14147849714232175},{"$f":"IF(取引額表!AN$54=0,0,取引額表!AN28/取引額表!AN$54)","v":1.7965337466535156E-3},{"$f":"IF(取引額表!AO$54=0,0,取引額表!AO28/取引額表!AO$54)","v":7.411967448903785E-3},{"$f":"IF(取引額表!AP$46=0,0,取引額表!AP28/取引額表!AP$46)","v":1.4946885675511255E-2},{"$f":"IF(取引額表!AQ$46=0,0,取引額表!AQ28/取引額表!AQ$46)","v":8.2423400992395878E-3},{"$f":"IF(取引額表!AR$46=0,0,取引額表!AR28/取引額表!AR$46)","v":0},{"$f":"IF(取引額表!AS$46=0,0,取引額表!AS28/取引額表!AS$46)","v":8.1284912786789057E-4},{"$f":"IF(取引額表!AT$46=0,0,取引額表!AT28/取引額表!AT$46)","v":9.6180335712870279E-3},{"$f":"IF(取引額表!AU$46=0,0,取引額表!AU28/取引額表!AU$46)","v":4.4848291620171107E-3},{"$f":"IF(取引額表!AV$46=0,0,取引額表!AV28/取引額表!AV$46)","v":0},{"$f":"IF(取引額表!AW$46=0,0,取引額表!AW28/取引額表!AW$46)","v":6.6659164308024198E-3},{"$f":"IF(取引額表!AX$46=0,0,取引額表!AX28/取引額表!AX$46)","v":1.0689770331760965E-2},{"$f":"IF(取引額表!AY$46=0,0,取引額表!AY28/取引額表!AY$46)","v":1.9511089851715717E-3},{"$f":"IF(取引額表!AZ$46=0,0,取引額表!AZ28/取引額表!AZ$46)","v":6.7015428003981276E-3},{"$f":"IF(取引額表!BA$46=0,0,取引額表!BA28/取引額表!BA$46)","v":6.1321988212338823E-3},{"$f":"IF(取引額表!BB$46=0,0,取引額表!BB28/取引額表!BB$46)","v":6.5074684801027152E-3},{"$f":"IF(取引額表!BC$46=0,0,取引額表!BC28/取引額表!BC$46)","v":9.7865899142574649E-3},{"$f":"IF(取引額表!BD$46=0,0,取引額表!BD28/取引額表!BD$46)","v":3.374646929689732E-2},{"$f":"IF(取引額表!BE$46=0,0,取引額表!BE28/取引額表!BE$46)","v":1.9145918353342169E-2},{"$f":"IF(取引額表!BF$46=0,0,取引額表!BF28/取引額表!BF$46)","v":2.2174510097378496E-2},{"$f":"IF(取引額表!BG$46=0,0,取引額表!BG28/取引額表!BG$46)","v":-3.851284708125494E-3},{"$f":"IF(取引額表!BH$46=0,0,取引額表!BH28/取引額表!BH$46)","v":5.3044411275571177E-3}]
[null,"41","建設",{"$f":"IF(取引額表!D$54=0,0,取引額表!D29/取引額表!D$54)","v":1.4484756518140433E-3},{"$f":"IF(取引額表!E$54=0,0,取引額表!E29/取引額表!E$54)","v":0},{"$f":"IF(取引額表!F$54=0,0,取引額表!F29/取引額表!F$54)","v":4.916452034459571E-4},{"$f":"IF(取引額表!G$54=0,0,取引額表!G29/取引額表!G$54)","v":1.2070006035003018E-3},{"$f":"IF(取引額表!H$54=0,0,取引額表!H29/取引額表!H$54)","v":1.7037387600567914E-3},{"$f":"IF(取引額表!I$54=0,0,取引額表!I29/取引額表!I$54)","v":2.9661016949152543E-3},{"$f":"IF(取引額表!J$54=0,0,取引額表!J29/取引額表!J$54)","v":1.4460031964281185E-3},{"$f":"IF(取引額表!K$54=0,0,取引額表!K29/取引額表!K$54)","v":3.1058311980743845E-3},{"$f":"IF(取引額表!L$54=0,0,取引額表!L29/取引額表!L$54)","v":6.0053841375025882E-3},{"$f":"IF(取引額表!M$54=0,0,取引額表!M29/取引額表!M$54)","v":2.9598905754204484E-3},{"$f":"IF(取引額表!N$54=0,0,取引額表!N29/取引額表!N$54)","v":2.4081188005274927E-3},{"$f":"IF(取引額表!O$54=0,0,取引額表!O29/取引額表!O$54)","v":3.2617931639393688E-3},{"$f":"IF(取引額表!P$54=0,0,取引額表!P29/取引額表!P$54)","v":1.1892374015162776E-3},{"$f":"IF(取引額表!Q$54=0,0,取引額表!Q29/取引額表!Q$54)","v":1.6955069066972523E-3},{"$f":"IF(取引額表!R$54=0,0,取引額表!R29/取引額表!R$54)","v":1.5037593984962407E-3},{"$f":"IF(取引額表!S$54=0,0,取引額表!S29/取引額表!S$54)","v":2.3508668821627977E-3},{"$f":"IF(取引額表!T$54=0,0,取引額表!T29/取引額表!T$54)","v":9.918666931164452E-4},{"$f":"IF(取引額表!U$54=0,0,取引額表!U29/取引額表!U$54)","v":1.1194029850746269E-3},{"$f":"IF(取引額表!V$54=0,0,取引額表!V29/取引額表!V$54)","v":0},{"$f":"IF(取引額表!W$54=0,0,取引額表!W29/取引額表!W$54)","v":9.4665472687731865E-4},{"$f":"IF(取引額表!X$54=0,0,取引額表!X29/取引額表!X$54)","v":5.7785176726332156E-4},{"$f":"IF(取引額表!Y$54=0,0,取引額表!Y29/取引額表!Y$54)","v":1.584951246872034E-2},{"$f":"IF(取引額表!Z$54=0,0,取引額表!Z29/取引額表!Z$54)","v":2.5333733722803089E-2},{"$f":"IF(取引額表!AA$54=0,0,取引額表!AA29/取引額表!AA$54)","v":2.8612923503782543E-3},{"$f":"IF(取引額表!AB$54=0,0,取引額表!AB29/取引額表!AB$54)","v":2.9555581427346718E-3},{"$f":"IF(取引額表!AC$54=0,0,取引額表!AC29/取引額表!AC$54)","v":3.0426153636005709E-3},{"$f":"IF(取引額表!AD$54=0,0,取引額表!AD29/取引額表!AD$54)","v":8.5875768217734856E-3},{"$f":"IF(取引額表!AE$54=0,0,取引額表!AE29/取引額表!AE$54)","v":6.7902739392080112E-3},{"$f":"IF(取引額表!AF$54=0,0,取引額表!AF29/取引額表!AF$54)","v":2.3539436544708953E-3},{"$f":"IF(取引額表!AG$54=0,0,取引額表!AG29/取引額表!AG$54)","v":8.5424192131211552E-3},{"$f":"IF(取引額表!AH$54=0,0,取引額表!AH29/取引額表!AH$54)","v":4.9905458603267099E-3},{"$f":"IF(取引額表!AI$54=0,0,取引額表!AI29/取引額表!AI$54)","v":2.1393859537269235E-3},{"$f":"IF(取引額表!AJ$54=0,0,取引額表!AJ29/取引額表!AJ$54)","v":1.1402902557014513E-3},{"$f":"IF(取引額表!AK$54=0,0,取引額表!AK29/取引額表!AK$54)","v":1.6239986862033101E-3},{"$f":"IF(取引額表!AL$54=0,0,取引額表!AL29/取引額表!AL$54)","v":2.0611602458402039E-3},{"$f":"IF(取引額表!AM$54=0,0,取引額表!AM29/取引額表!AM$54)","v":0},{"$f":"IF(取引額表!AN$54=0,0,取引額表!AN29/取引額表!AN$54)","v":1.6086609365459584E-3},{"$f":"IF(取引額表!AO$54=0,0,取引額表!AO29/取引額表!AO$54)","v":4.0406581985610356E-3},{"$f":"IF(取引額表!AP$46=0,0,取引額表!AP29/取引額表!AP$46)","v":0},{"$f":"IF(取引額表!AQ$46=0,0,取引額表!AQ29/取引額表!AQ$46)","v":0},{"$f":"IF(取引額表!AR$46=0,0,取引額表!AR29/取引額表!AR$46)","v":0},{"$f":"IF(取引額表!AS$46=0,0,取引額表!AS29/取引額表!AS$46)","v":0.83012064392318885},{"$f":"IF(取引額表!AT$46=0,0,取引額表!AT29/取引額表!AT$46)","v":0.31869362293764064},{"$f":"IF(取引額表!AU$46=0,0,取引額表!AU29/取引額表!AU$46)","v":0},{"$f":"IF(取引額表!AV$46=0,0,取引額表!AV29/取引額表!AV$46)","v":0},{"$f":"IF(取引額表!AW$46=0,0,取引額表!AW29/取引額表!AW$46)","v":7.0842507797852491E-2},{"$f":"IF(取引額表!AX$46=0,0,取引額表!AX29/取引額表!AX$46)","v":4.5168157440202202E-2},{"$f":"IF(取引額表!AY$46=0,0,取引額表!AY29/取引額表!AY$46)","v":0},{"$f":"IF(取引額表!AZ$46=0,0,取引額表!AZ29/取引額表!AZ$46)","v":0},{"$f":"IF(取引額表!BA$46=0,0,取引額表!BA29/取引額表!BA$46)","v":0},{"$f":"IF(取引額表!BB$46=0,0,取引額表!BB29/取引額表!BB$46)","v":4.9811067234982791E-2},{"$f":"IF(取引額表!BC$46=0,0,取引額表!BC29/取引額表!BC$46)","v":3.6217119546341998E-2},{"$f":"IF(取引額表!BD$46=0,0,取引額表!BD29/取引額表!BD$46)","v":0},{"$f":"IF(取引額表!BE$46=0,0,取引額表!BE29/取引額表!BE$46)","v":0},{"$f":"IF(取引額表!BF$46=0,0,取引額表!BF29/取引額表!BF$46)","v":0},{"$f":"IF(取引額表!BG$46=0,0,取引額表!BG29/取引額表!BG$46)","v":8.2745207842643193E-2},{"$f":"IF(取引額表!BH$46=0,0,取引額表!BH29/取引額表!BH$46)","v":4.9321055964466419E-2}]
[null,"46","電力・ガス・熱供給",{"$f":"IF(取引額表!D$54=0,0,取引額表!D30/取引額表!D$54)","v":8.1390536625741486E-3},{"$f":"IF(取引額表!E$54=0,0,取引額表!E30/取引額表!E$54)","v":0},{"$f":"IF(取引額表!F$54=0,0,取引額表!F30/取引額表!F$54)","v":1.317609145235165E-2},{"$f":"IF(取引額表!G$54=0,0,取引額表!G30/取引額表!G$54)","v":1.6898008449004225E-2},{"$f":"IF(取引額表!H$54=0,0,取引額表!H30/取引額表!H$54)","v":1.9971604353999053E-2},{"$f":"IF(取引額表!I$54=0,0,取引額表!I30/取引額表!I$54)","v":6.0593220338983053E-2},{"$f":"IF(取引額表!J$54=0,0,取引額表!J30/取引額表!J$54)","v":1.0020548466475557E-2},{"$f":"IF(取引額表!K$54=0,0,取引額表!K30/取引額表!K$54)","v":3.1990061340166159E-2},{"$f":"IF(取引額表!L$54=0,0,取引額表!L30/取引額表!L$54)","v":4.4149927521225929E-2},{"$f":"IF(取引額表!M$54=0,0,取引額表!M30/取引額表!M$54)","v":2.9239879426222398E-2},{"$f":"IF(取引額表!N$54=0,0,取引額表!N30/取引額表!N$54)","v":2.9700131873172411E-2},{"$f":"IF(取引額表!O$54=0,0,取引額表!O30/取引額表!O$54)","v":2.2640681961461503E-2},{"$f":"IF(取引額表!P$54=0,0,取引額表!P30/取引額表!P$54)","v":1.040582726326743E-2},{"$f":"IF(取引額表!Q$54=0,0,取引額表!Q30/取引額表!Q$54)","v":8.4575873934074706E-3},{"$f":"IF(取引額表!R$54=0,0,取引額表!R30/取引額表!R$54)","v":1.0025062656641603E-2},{"$f":"IF(取引額表!S$54=0,0,取引額表!S30/取引額表!S$54)","v":2.9826623567440494E-2},{"$f":"IF(取引額表!T$54=0,0,取引額表!T30/取引額表!T$54)","v":7.2406268597500498E-3},{"$f":"IF(取引額表!U$54=0,0,取引額表!U30/取引額表!U$54)","v":2.2388059701492539E-3},{"$f":"IF(取引額表!V$54=0,0,取引額表!V30/取引額表!V$54)","v":1.3157894736842105E-2},{"$f":"IF(取引額表!W$54=0,0,取引額表!W30/取引額表!W$54)","v":1.9265702955097865E-2},{"$f":"IF(取引額表!X$54=0,0,取引額表!X30/取引額表!X$54)","v":3.4038220766891844E-3},{"$f":"IF(取引額表!Y$54=0,0,取引額表!Y30/取引額表!Y$54)","v":8.2533436879799804E-2},{"$f":"IF(取引額表!Z$54=0,0,取引額表!Z30/取引額表!Z$54)","v":3.9092571865359943E-2},{"$f":"IF(取引額表!AA$54=0,0,取引額表!AA30/取引額表!AA$54)","v":7.3895042594238403E-2},{"$f":"IF(取引額表!AB$54=0,0,取引額表!AB30/取引額表!AB$54)","v":2.4315220727538289E-2},{"$f":"IF(取引額表!AC$54=0,0,取引額表!AC30/取引額表!AC$54)","v":6.1013008787694552E-3},{"$f":"IF(取引額表!AD$54=0,0,取引額表!AD30/取引額表!AD$54)","v":4.2861672031996876E-3},{"$f":"IF(取引額表!AE$54=0,0,取引額表!AE30/取引額表!AE$54)","v":1.4281762129500029E-2},{"$f":"IF(取引額表!AF$54=0,0,取引額表!AF30/取引額表!AF$54)","v":4.7744581136496779E-3},{"$f":"IF(取引額表!AG$54=0,0,取引額表!AG30/取引額表!AG$54)","v":1.2047251781704578E-2},{"$f":"IF(取引額表!AH$54=0,0,取引額表!AH30/取引額表!AH$54)","v":2.0985090356777533E-2},{"$f":"IF(取引額表!AI$54=0,0,取引額表!AI30/取引額表!AI$54)","v":1.4265271714160225E-2},{"$f":"IF(取引額表!AJ$54=0,0,取引額表!AJ30/取引額表!AJ$54)","v":3.8700760193503803E-3},{"$f":"IF(取引額表!AK$54=0,0,取引額表!AK30/取引額表!AK$54)","v":5.1837186528718012E-3},{"$f":"IF(取引額表!AL$54=0,0,取引額表!AL30/取引額表!AL$54)","v":3.5416978963673615E-2},{"$f":"IF(取引額表!AM$54=0,0,取引額表!AM30/取引額表!AM$54)","v":0},{"$f":"IF(取引額表!AN$54=0,0,取引額表!AN30/取引額表!AN$54)","v":3.0881593161429712E-3},{"$f":"IF(取引額表!AO$54=0,0,取引額表!AO30/取引額表!AO$54)","v":1.8866764544700213E-2},{"$f":"IF(取引額表!AP$46=0,0,取引額表!AP30/取引額表!AP$46)","v":4.2117085497683559E-4},{"$f":"IF(取引額表!AQ$46=0,0,取引額表!AQ30/取引額表!AQ$46)","v":3.3445724587121521E-2},{"$f":"IF(取引額表!AR$46=0,0,取引額表!AR30/取引額表!AR$46)","v":0},{"$f":"IF(取引額表!AS$46=0,0,取引額表!AS30/取引額表!AS$46)","v":0},{"$f":"IF(取引額表!AT$46=0,0,取引額表!AT30/取引額表!AT$46)","v":0},{"$f":"IF(取引額表!AU$46=0,0,取引額表!AU30/取引額表!AU$46)","v":0},{"$f":"IF(取引額表!AV$46=0,0,取引額表!AV30/取引額表!AV$46)","v":0},{"$f":"IF(取引額表!AW$46=0,0,取引額表!AW30/取引額表!AW$46)","v":2.0060599240280023E-2},{"$f":"IF(取引額表!AX$46=0,0,取引額表!AX30/取引額表!AX$46)","v":2.9020648353810418E-2},{"$f":"IF(取引額表!AY$46=0,0,取引額表!AY30/取引額表!AY$46)","v":3.3567466411553923E-5},{"$f":"IF(取引額表!AZ$46=0,0,取引額表!AZ30/取引額表!AZ$46)","v":3.2123296046038322E-2},{"$f":"IF(取引額表!BA$46=0,0,取引額表!BA30/取引額表!BA$46)","v":2.8277311769557258E-2},{"$f":"IF(取引額表!BB$46=0,0,取引額表!BB30/取引額表!BB$46)","v":2.2499944014392034E-2},{"$f":"IF(取引額表!BC$46=0,0,取引額表!BC30/取引額表!BC$46)","v":2.8873340287450807E-2},{"$f":"IF(取引額表!BD$46=0,0,取引額表!BD30/取引額表!BD$46)","v":0},{"$f":"IF(取引額表!BE$46=0,0,取引額表!BE30/取引額表!BE$46)","v":0},{"$f":"IF(取引額表!BF$46=0,0,取引額表!BF30/取引額表!BF$46)","v":0},{"$f":"IF(取引額表!BG$46=0,0,取引額表!BG30/取引額表!BG$46)","v":3.7376483726716273E-2},{"$f":"IF(取引額表!BH$46=0,0,取引額表!BH30/取引額表!BH$46)","v":3.9320179242202533E-2}]
[null,"47","水道",{"$f":"IF(取引額表!D$54=0,0,取引額表!D31/取引額表!D$54)","v":5.518002483101117E-4},{"$f":"IF(取引額表!E$54=0,0,取引額表!E31/取引額表!E$54)","v":0},{"$f":"IF(取引額表!F$54=0,0,取引額表!F31/取引額表!F$54)","v":1.2465584835758784E-3},{"$f":"IF(取引額表!G$54=0,0,取引額表!G31/取引額表!G$54)","v":0},{"$f":"IF(取引額表!H$54=0,0,取引額表!H31/取引額表!H$54)","v":4.2593469001419784E-4},{"$f":"IF(取引額表!I$54=0,0,取引額表!I31/取引額表!I$54)","v":1.8159806295399517E-3},{"$f":"IF(取引額表!J$54=0,0,取引額表!J31/取引額表!J$54)","v":2.6002689058575814E-3},{"$f":"IF(取引額表!K$54=0,0,取引額表!K31/取引額表!K$54)","v":8.5410357947045582E-4},{"$f":"IF(取引額表!L$54=0,0,取引額表!L31/取引額表!L$54)","v":6.2124663491406088E-4},{"$f":"IF(取引額表!M$54=0,0,取引額表!M31/取引額表!M$54)","v":1.0161644912809211E-3},{"$f":"IF(取引額表!N$54=0,0,取引額表!N31/取引額表!N$54)","v":8.6004242875981887E-4},{"$f":"IF(取引額表!O$54=0,0,取引額表!O31/取引額表!O$54)","v":4.3856042540361262E-4},{"$f":"IF(取引額表!P$54=0,0,取引額表!P31/取引額表!P$54)","v":1.486546751895347E-4},{"$f":"IF(取引額表!Q$54=0,0,取引額表!Q31/取引額表!Q$54)","v":4.0891637161521966E-4},{"$f":"IF(取引額表!R$54=0,0,取引額表!R31/取引額表!R$54)","v":3.7593984962406017E-4},{"$f":"IF(取引額表!S$54=0,0,取引額表!S31/取引額表!S$54)","v":7.3464590067587418E-4},{"$f":"IF(取引額表!T$54=0,0,取引額表!T31/取引額表!T$54)","v":9.9186669311644515E-5},{"$f":"IF(取引額表!U$54=0,0,取引額表!U31/取引額表!U$54)","v":0},{"$f":"IF(取引額表!V$54=0,0,取引額表!V31/取引額表!V$54)","v":0},{"$f":"IF(取引額表!W$54=0,0,取引額表!W31/取引額表!W$54)","v":1.0745810413201997E-3},{"$f":"IF(取引額表!X$54=0,0,取引額表!X31/取引額表!X$54)","v":6.4939531940068514E-4},{"$f":"IF(取引額表!Y$54=0,0,取引額表!Y31/取引額表!Y$54)","v":1.2977823798429545E-3},{"$f":"IF(取引額表!Z$54=0,0,取引額表!Z31/取引額表!Z$54)","v":7.1606016761759164E-2},{"$f":"IF(取引額表!AA$54=0,0,取引額表!AA31/取引額表!AA$54)","v":8.5405241367350927E-3},{"$f":"IF(取引額表!AB$54=0,0,取引額表!AB31/取引額表!AB$54)","v":2.4157784998359495E-3},{"$f":"IF(取引額表!AC$54=0,0,取引額表!AC31/取引額表!AC$54)","v":1.2079397262181844E-3},{"$f":"IF(取引額表!AD$54=0,0,取引額表!AD31/取引額表!AD$54)","v":4.3288459662471954E-4},{"$f":"IF(取引額表!AE$54=0,0,取引額表!AE31/取引額表!AE$54)","v":3.5142886099249209E-3},{"$f":"IF(取引額表!AF$54=0,0,取引額表!AF31/取引額表!AF$54)","v":1.4592320391968899E-3},{"$f":"IF(取引額表!AG$54=0,0,取引額表!AG31/取引額表!AG$54)","v":4.0450388883465135E-3},{"$f":"IF(取引額表!AH$54=0,0,取引額表!AH31/取引額表!AH$54)","v":8.9023898825206903E-3},{"$f":"IF(取引額表!AI$54=0,0,取引額表!AI31/取引額表!AI$54)","v":4.497365741893306E-3},{"$f":"IF(取引額表!AJ$54=0,0,取引額表!AJ31/取引額表!AJ$54)","v":1.9004837595024188E-3},{"$f":"IF(取引額表!AK$54=0,0,取引額表!AK31/取引額表!AK$54)","v":1.0796245947606274E-3},{"$f":"IF(取引額表!AL$54=0,0,取引額表!AL31/取引額表!AL$54)","v":8.76180482686254E-3},{"$f":"IF(取引額表!AM$54=0,0,取引額表!AM31/取引額表!AM$54)","v":0},{"$f":"IF(取引額表!AN$54=0,0,取引額表!AN31/取引額表!AN$54)","v":1.3503358226480673E-3},{"$f":"IF(取引額表!AO$54=0,0,取引額表!AO31/取引額表!AO$54)","v":2.8013040632955473E-3},{"$f":"IF(取引額表!AP$46=0,0,取引額表!AP31/取引額表!AP$46)","v":1.1231222799382283E-4},{"$f":"IF(取引額表!AQ$46=0,0,取引額表!AQ31/取引額表!AQ$46)","v":4.7643502498698406E-3},{"$f":"IF(取引額表!AR$46=0,0,取引額表!AR31/取引額表!AR$46)","v":2.8027870248165977E-3},{"$f":"IF(取引額表!AS$46=0,0,取引額表!AS31/取引額表!AS$46)","v":0},{"$f":"IF(取引額表!AT$46=0,0,取引額表!AT31/取引額表!AT$46)","v":0},{"$f":"IF(取引額表!AU$46=0,0,取引額表!AU31/取引額表!AU$46)","v":0},{"$f":"IF(取引額表!AV$46=0,0,取引額表!AV31/取引額表!AV$46)","v":0},{"$f":"IF(取引額表!AW$46=0,0,取引額表!AW31/取引額表!AW$46)","v":3.3949588396540707E-3},{"$f":"IF(取引額表!AX$46=0,0,取引額表!AX31/取引額表!AX$46)","v":4.5526728589480531E-3},{"$f":"IF(取引額表!AY$46=0,0,取引額表!AY31/取引額表!AY$46)","v":4.1959333014442403E-6},{"$f":"IF(取引額表!AZ$46=0,0,取引額表!AZ31/取引額表!AZ$46)","v":0},{"$f":"IF(取引額表!BA$46=0,0,取引額表!BA31/取引額表!BA$46)","v":5.0288656890551768E-7},{"$f":"IF(取引額表!BB$46=0,0,取引額表!BB31/取引額表!BB$46)","v":2.3872263236863912E-3},{"$f":"IF(取引額表!BC$46=0,0,取引額表!BC31/取引額表!BC$46)","v":3.6505628719289344E-3},{"$f":"IF(取引額表!BD$46=0,0,取引額表!BD31/取引額表!BD$46)","v":0},{"$f":"IF(取引額表!BE$46=0,0,取引額表!BE31/取引額表!BE$46)","v":0},{"$f":"IF(取引額表!BF$46=0,0,取引額表!BF31/取引額表!BF$46)","v":0},{"$f":"IF(取引額表!BG$46=0,0,取引額表!BG31/取引額表!BG$46)","v":3.9656154602953604E-3},{"$f":"IF(取引額表!BH$46=0,0,取引額表!BH31/取引額表!BH$46)","v":4.9713952396966809E-3}]
[null,"48","廃棄物処理",{"$f":"IF(取引額表!D$54=0,0,取引額表!D32/取引額表!D$54)","v":5.518002483101117E-4},{"$f":"IF(取引額表!E$54=0,0,取引額表!E32/取引額表!E$54)","v":0},{"$f":"IF(取引額表!F$54=0,0,取引額表!F32/取引額表!F$54)","v":3.6794092644987757E-4},{"$f":"IF(取引額表!G$54=0,0,取引額表!G32/取引額表!G$54)","v":0},{"$f":"IF(取引額表!H$54=0,0,取引額表!H32/取引額表!H$54)","v":4.7326076668244203E-5},{"$f":"IF(取引額表!I$54=0,0,取引額表!I32/取引額表!I$54)","v":2.4818401937046005E-3},{"$f":"IF(取引額表!J$54=0,0,取引額表!J32/取引額表!J$54)","v":1.7757933991222508E-4},{"$f":"IF(取引額表!K$54=0,0,取引額表!K32/取引額表!K$54)","v":0},{"$f":"IF(取引額表!L$54=0,0,取引額表!L32/取引額表!L$54)","v":3.3547318285359288E-3},{"$f":"IF(取引額表!M$54=0,0,取引額表!M32/取引額表!M$54)","v":1.8551231857172128E-4},{"$f":"IF(取引額表!N$54=0,0,取引額表!N32/取引額表!N$54)","v":0},{"$f":"IF(取引額表!O$54=0,0,取引額表!O32/取引額表!O$54)","v":0},{"$f":"IF(取引額表!P$54=0,0,取引額表!P32/取引額表!P$54)","v":0},{"$f":"IF(取引額表!Q$54=0,0,取引額表!Q32/取引額表!Q$54)","v":0},{"$f":"IF(取引額表!R$54=0,0,取引額表!R32/取引額表!R$54)","v":0},{"$f":"IF(取引額表!S$54=0,0,取引額表!S32/取引額表!S$54)","v":5.8771672054069943E-4},{"$f":"IF(取引額表!T$54=0,0,取引額表!T32/取引額表!T$54)","v":0},{"$f":"IF(取引額表!U$54=0,0,取引額表!U32/取引額表!U$54)","v":0},{"$f":"IF(取引額表!V$54=0,0,取引額表!V32/取引額表!V$54)","v":0},{"$f":"IF(取引額表!W$54=0,0,取引額表!W32/取引額表!W$54)","v":2.0468210310860944E-4},{"$f":"IF(取引額表!X$54=0,0,取引額表!X32/取引額表!X$54)","v":1.6592600745703946E-3},{"$f":"IF(取引額表!Y$54=0,0,取引額表!Y32/取引額表!Y$54)","v":1.1787039433945982E-2},{"$f":"IF(取引額表!Z$54=0,0,取引額表!Z32/取引額表!Z$54)","v":1.5287597936174278E-3},{"$f":"IF(取引額表!AA$54=0,0,取引額表!AA32/取引額表!AA$54)","v":0},{"$f":"IF(取引額表!AB$54=0,0,取引額表!AB32/取引額表!AB$54)","v":1.3481261179259761E-3},{"$f":"IF(取引額表!AC$54=0,0,取引額表!AC32/取引額表!AC$54)","v":2.9194108682435056E-3},{"$f":"IF(取引額表!AD$54=0,0,取引額表!AD32/取引額表!AD$54)","v":1.3718173836698859E-5},{"$f":"IF(取引額表!AE$54=0,0,取引額表!AE32/取引額表!AE$54)","v":5.8206261076309091E-3},{"$f":"IF(取引額表!AF$54=0,0,取引額表!AF32/取引額表!AF$54)","v":3.1021994993875486E-3},{"$f":"IF(取引額表!AG$54=0,0,取引額表!AG32/取引額表!AG$54)","v":2.8617917927690455E-2},{"$f":"IF(取引額表!AH$54=0,0,取引額表!AH32/取引額表!AH$54)","v":4.646477170577477E-3},{"$f":"IF(取引額表!AI$54=0,0,取引額表!AI32/取引額表!AI$54)","v":3.7869357799650656E-3},{"$f":"IF(取引額表!AJ$54=0,0,取引額表!AJ32/取引額表!AJ$54)","v":0},{"$f":"IF(取引額表!AK$54=0,0,取引額表!AK32/取引額表!AK$54)","v":3.3757276061529477E-4},{"$f":"IF(取引額表!AL$54=0,0,取引額表!AL32/取引額表!AL$54)","v":1.6466796582221555E-2},{"$f":"IF(取引額表!AM$54=0,0,取引額表!AM32/取引額表!AM$54)","v":0},{"$f":"IF(取引額表!AN$54=0,0,取引額表!AN32/取引額表!AN$54)","v":7.5501385561974541E-3},{"$f":"IF(取引額表!AO$54=0,0,取引額表!AO32/取引額表!AO$54)","v":4.0139222409781069E-3},{"$f":"IF(取引額表!AP$46=0,0,取引額表!AP32/取引額表!AP$46)","v":0},{"$f":"IF(取引額表!AQ$46=0,0,取引額表!AQ32/取引額表!AQ$46)","v":4.1580041580041582E-4},{"$f":"IF(取引額表!AR$46=0,0,取引額表!AR32/取引額表!AR$46)","v":3.699678872757909E-3},{"$f":"IF(取引額表!AS$46=0,0,取引額表!AS32/取引額表!AS$46)","v":0},{"$f":"IF(取引額表!AT$46=0,0,取引額表!AT32/取引額表!AT$46)","v":0},{"$f":"IF(取引額表!AU$46=0,0,取引額表!AU32/取引額表!AU$46)","v":0},{"$f":"IF(取引額表!AV$46=0,0,取引額表!AV32/取引額表!AV$46)","v":0},{"$f":"IF(取引額表!AW$46=0,0,取引額表!AW32/取引額表!AW$46)","v":9.5697538872480429E-4},{"$f":"IF(取引額表!AX$46=0,0,取引額表!AX32/取引額表!AX$46)","v":4.2361110852177581E-3},{"$f":"IF(取引額表!AY$46=0,0,取引額表!AY32/取引額表!AY$46)","v":0},{"$f":"IF(取引額表!AZ$46=0,0,取引額表!AZ32/取引額表!AZ$46)","v":1.3628774867243289E-2},{"$f":"IF(取引額表!BA$46=0,0,取引額表!BA32/取引額表!BA$46)","v":1.1995353328103314E-2},{"$f":"IF(取引額表!BB$46=0,0,取引額表!BB32/取引額表!BB$46)","v":4.234004911804006E-3},{"$f":"IF(取引額表!BC$46=0,0,取引額表!BC32/取引額表!BC$46)","v":5.7737711377815167E-3},{"$f":"IF(取引額表!BD$46=0,0,取引額表!BD32/取引額表!BD$46)","v":0},{"$f":"IF(取引額表!BE$46=0,0,取引額表!BE32/取引額表!BE$46)","v":5.5859417704733072E-3},{"$f":"IF(取引額表!BF$46=0,0,取引額表!BF32/取引額表!BF$46)","v":4.4272500749252906E-3},{"$f":"IF(取引額表!BG$46=0,0,取引額表!BG32/取引額表!BG$46)","v":4.1062348452851954E-3},{"$f":"IF(取引額表!BH$46=0,0,取引額表!BH32/取引額表!BH$46)","v":6.2609641176306135E-3}]
[null,"51","商業",{"$f":"IF(取引額表!D$54=0,0,取引額表!D33/取引額表!D$54)","v":6.7043730169678573E-2},{"$f":"IF(取引額表!E$54=0,0,取引額表!E33/取引額表!E$54)","v":0},{"$f":"IF(取引額表!F$54=0,0,取引額表!F33/取引額表!F$54)","v":6.9299770354111417E-2},{"$f":"IF(取引額表!G$54=0,0,取引額表!G33/取引額表!G$54)","v":8.2679541339770665E-2},{"$f":"IF(取引額表!H$54=0,0,取引額表!H33/取引額表!H$54)","v":6.5357311878845248E-2},{"$f":"IF(取引額表!I$54=0,0,取引額表!I33/取引額表!I$54)","v":4.6791767554479419E-2},{"$f":"IF(取引額表!J$54=0,0,取引額表!J33/取引額表!J$54)","v":2.0992414825338035E-2},{"$f":"IF(取引額表!K$54=0,0,取引額表!K33/取引額表!K$54)","v":5.6448482025001939E-2},{"$f":"IF(取引額表!L$54=0,0,取引額表!L33/取引額表!L$54)","v":3.6032304825015529E-2},{"$f":"IF(取引額表!M$54=0,0,取引額表!M33/取引額表!M$54)","v":1.9604314222795679E-2},{"$f":"IF(取引額表!N$54=0,0,取引額表!N33/取引額表!N$54)","v":5.4584026145289836E-2},{"$f":"IF(取引額表!O$54=0,0,取引額表!O33/取引額表!O$54)","v":4.5144313789984375E-2},{"$f":"IF(取引額表!P$54=0,0,取引額表!P33/取引額表!P$54)","v":3.9690798275605767E-2},{"$f":"IF(取引額表!Q$54=0,0,取引額表!Q33/取引額表!Q$54)","v":3.7301151947339552E-2},{"$f":"IF(取引額表!R$54=0,0,取引額表!R33/取引額表!R$54)","v":4.6491228070175437E-2},{"$f":"IF(取引額表!S$54=0,0,取引額表!S33/取引額表!S$54)","v":3.9964736996767558E-2},{"$f":"IF(取引額表!T$54=0,0,取引額表!T33/取引額表!T$54)","v":4.8700654632017455E-2},{"$f":"IF(取引額表!U$54=0,0,取引額表!U33/取引額表!U$54)","v":4.0671641791044773E-2},{"$f":"IF(取引額表!V$54=0,0,取引額表!V33/取引額表!V$54)","v":4.8519736842105261E-2},{"$f":"IF(取引額表!W$54=0,0,取引額表!W33/取引額表!W$54)","v":6.8107969809389796E-2},{"$f":"IF(取引額表!X$54=0,0,取引額表!X33/取引額表!X$54)","v":5.5542561534334026E-2},{"$f":"IF(取引額表!Y$54=0,0,取引額表!Y33/取引額表!Y$54)","v":1.618431271032876E-2},{"$f":"IF(取引額表!Z$54=0,0,取引額表!Z33/取引額表!Z$54)","v":1.6406868499358466E-2},{"$f":"IF(取引額表!AA$54=0,0,取引額表!AA33/取引額表!AA$54)","v":1.4046344265493248E-2},{"$f":"IF(取引額表!AB$54=0,0,取引額表!AB33/取引額表!AB$54)","v":1.079030090069113E-2},{"$f":"IF(取引額表!AC$54=0,0,取引額表!AC33/取引額表!AC$54)","v":5.4611731746316587E-3},{"$f":"IF(取引額表!AD$54=0,0,取引額表!AD33/取引額表!AD$54)","v":1.1797629499561018E-3},{"$f":"IF(取引額表!AE$54=0,0,取引額表!AE33/取引額表!AE$54)","v":2.4342543161654538E-2},{"$f":"IF(取引額表!AF$54=0,0,取引額表!AF33/取引額表!AF$54)","v":9.8924215795920534E-3},{"$f":"IF(取引額表!AG$54=0,0,取引額表!AG33/取引額表!AG$54)","v":9.798561619317258E-3},{"$f":"IF(取引額表!AH$54=0,0,取引額表!AH33/取引額表!AH$54)","v":1.4782554787514337E-2},{"$f":"IF(取引額表!AI$54=0,0,取引額表!AI33/取引額表!AI$54)","v":4.9043955576875201E-2},{"$f":"IF(取引額表!AJ$54=0,0,取引額表!AJ33/取引額表!AJ$54)","v":3.140981340704907E-2},{"$f":"IF(取引額表!AK$54=0,0,取引額表!AK33/取引額表!AK$54)","v":1.8753535390398337E-2},{"$f":"IF(取引額表!AL$54=0,0,取引額表!AL33/取引額表!AL$54)","v":7.7329735671813324E-2},{"$f":"IF(取引額表!AM$54=0,0,取引額表!AM33/取引額表!AM$54)","v":0.21868265717230395},{"$f":"IF(取引額表!AN$54=0,0,取引額表!AN33/取引額表!AN$54)","v":1.9620966605608005E-2},{"$f":"IF(取引額表!AO$54=0,0,取引額表!AO33/取引額表!AO$54)","v":2.5811327740225293E-2},{"$f":"IF(取引額表!AP$46=0,0,取引額表!AP33/取引額表!AP$46)","v":0.11947213252842903},{"$f":"IF(取引額表!AQ$46=0,0,取引額表!AQ33/取引額表!AQ$46)","v":0.17381484485402715},{"$f":"IF(取引額表!AR$46=0,0,取引額表!AR33/取引額表!AR$46)","v":1.1544152498254502E-4},{"$f":"IF(取引額表!AS$46=0,0,取引額表!AS33/取引額表!AS$46)","v":5.5169842686191344E-2},{"$f":"IF(取引額表!AT$46=0,0,取引額表!AT33/取引額表!AT$46)","v":2.9691852381711882E-2},{"$f":"IF(取引額表!AU$46=0,0,取引額表!AU33/取引額表!AU$46)","v":0},{"$f":"IF(取引額表!AV$46=0,0,取引額表!AV33/取引額表!AV$46)","v":0},{"$f":"IF(取引額表!AW$46=0,0,取引額表!AW33/取引額表!AW$46)","v":0.11276618333074998},{"$f":"IF(取引額表!AX$46=0,0,取引額表!AX33/取引額表!AX$46)","v":8.9645770233821948E-2},{"$f":"IF(取引額表!AY$46=0,0,取引額表!AY33/取引額表!AY$46)","v":0.32471488633216689},{"$f":"IF(取引額表!AZ$46=0,0,取引額表!AZ33/取引額表!AZ$46)","v":2.7616938465107297E-2},{"$f":"IF(取引額表!BA$46=0,0,取引額表!BA33/取引額表!BA$46)","v":6.32244081025084E-2},{"$f":"IF(取引額表!BB$46=0,0,取引額表!BB33/取引額表!BB$46)","v":9.8058419115725978E-2},{"$f":"IF(取引額表!BC$46=0,0,取引額表!BC33/取引額表!BC$46)","v":8.4409811384761307E-2},{"$f":"IF(取引額表!BD$46=0,0,取引額表!BD33/取引額表!BD$46)","v":1.372137011171669E-2},{"$f":"IF(取引額表!BE$46=0,0,取引額表!BE33/取引額表!BE$46)","v":3.9538888859967168E-2},{"$f":"IF(取引額表!BF$46=0,0,取引額表!BF33/取引額表!BF$46)","v":3.4183561897667247E-2},{"$f":"IF(取引額表!BG$46=0,0,取引額表!BG33/取引額表!BG$46)","v":0.14029127309152586},{"$f":"IF(取引額表!BH$46=0,0,取引額表!BH33/取引額表!BH$46)","v":0.10258247635767771}]
[null,"53","金融・保険",{"$f":"IF(取引額表!D$54=0,0,取引額表!D34/取引額表!D$54)","v":6.4836529176438128E-3},{"$f":"IF(取引額表!E$54=0,0,取引額表!E34/取引額表!E$54)","v":0},{"$f":"IF(取引額表!F$54=0,0,取引額表!F34/取引額表!F$54)","v":4.0790692363322631E-3},{"$f":"IF(取引額表!G$54=0,0,取引額表!G34/取引額表!G$54)","v":1.0259505129752565E-2},{"$f":"IF(取引額表!H$54=0,0,取引額表!H34/取引額表!H$54)","v":8.7079981069569327E-3},{"$f":"IF(取引額表!I$54=0,0,取引額表!I34/取引額表!I$54)","v":4.8426150121065378E-3},{"$f":"IF(取引額表!J$54=0,0,取引額表!J34/取引額表!J$54)","v":6.0503817955808109E-3},{"$f":"IF(取引額表!K$54=0,0,取引額表!K34/取引額表!K$54)","v":3.2611227579781039E-3},{"$f":"IF(取引額表!L$54=0,0,取引額表!L34/取引額表!L$54)","v":9.89852971629737E-3},{"$f":"IF(取引額表!M$54=0,0,取引額表!M34/取引額表!M$54)","v":3.9732862261256724E-3},{"$f":"IF(取引額表!N$54=0,0,取引額表!N34/取引額表!N$54)","v":4.1282036580471302E-3},{"$f":"IF(取引額表!O$54=0,0,取引額表!O34/取引額表!O$54)","v":1.0689910369213058E-2},{"$f":"IF(取引額表!P$54=0,0,取引額表!P34/取引額表!P$54)","v":5.5002229820127844E-3},{"$f":"IF(取引額表!Q$54=0,0,取引額表!Q34/取引額表!Q$54)","v":6.1337455742282946E-3},{"$f":"IF(取引額表!R$54=0,0,取引額表!R34/取引額表!R$54)","v":1.3909774436090226E-2},{"$f":"IF(取引額表!S$54=0,0,取引額表!S34/取引額表!S$54)","v":5.289450484866294E-3},{"$f":"IF(取引額表!T$54=0,0,取引額表!T34/取引額表!T$54)","v":4.0666534417774253E-3},{"$f":"IF(取引額表!U$54=0,0,取引額表!U34/取引額表!U$54)","v":3.3582089552238806E-3},{"$f":"IF(取引額表!V$54=0,0,取引額表!V34/取引額表!V$54)","v":2.4671052631578946E-3},{"$f":"IF(取引額表!W$54=0,0,取引額表!W34/取引額表!W$54)","v":1.1590124088525009E-2},{"$f":"IF(取引額表!X$54=0,0,取引額表!X34/取引額表!X$54)","v":1.2588913501093792E-2},{"$f":"IF(取引額表!Y$54=0,0,取引額表!Y34/取引額表!Y$54)","v":1.3996030718785055E-2},{"$f":"IF(取引額表!Z$54=0,0,取引額表!Z34/取引額表!Z$54)","v":2.2030520597308291E-2},{"$f":"IF(取引額表!AA$54=0,0,取引額表!AA34/取引額表!AA$54)","v":1.8793488392257168E-2},{"$f":"IF(取引額表!AB$54=0,0,取引額表!AB34/取引額表!AB$54)","v":1.6935586295947418E-2},{"$f":"IF(取引額表!AC$54=0,0,取引額表!AC34/取引額表!AC$54)","v":4.7428373995280729E-2},{"$f":"IF(取引額表!AD$54=0,0,取引額表!AD34/取引額表!AD$54)","v":7.5041459369817584E-2},{"$f":"IF(取引額表!AE$54=0,0,取引額表!AE34/取引額表!AE$54)","v":2.7582919954749766E-2},{"$f":"IF(取引額表!AF$54=0,0,取引額表!AF34/取引額表!AF$54)","v":4.7797837780263084E-3},{"$f":"IF(取引額表!AG$54=0,0,取引額表!AG34/取引額表!AG$54)","v":2.0749129486803995E-2},{"$f":"IF(取引額表!AH$54=0,0,取引額表!AH34/取引額表!AH$54)","v":7.1727472799975201E-3},{"$f":"IF(取引額表!AI$54=0,0,取引額表!AI34/取引額表!AI$54)","v":8.8328101249425684E-3},{"$f":"IF(取引額表!AJ$54=0,0,取引額表!AJ34/取引額表!AJ$54)","v":2.297857636489288E-2},{"$f":"IF(取引額表!AK$54=0,0,取引額表!AK34/取引額表!AK$54)","v":8.2097087142431382E-3},{"$f":"IF(取引額表!AL$54=0,0,取引額表!AL34/取引額表!AL$54)","v":6.685654324688952E-3},{"$f":"IF(取引額表!AM$54=0,0,取引額表!AM34/取引額表!AM$54)","v":0},{"$f":"IF(取引額表!AN$54=0,0,取引額表!AN34/取引額表!AN$54)","v":3.5214409844535249E-2},{"$f":"IF(取引額表!AO$54=0,0,取引額表!AO34/取引額表!AO$54)","v":1.8349145548653065E-2},{"$f":"IF(取引額表!AP$46=0,0,取引額表!AP34/取引額表!AP$46)","v":1.8718704665637137E-5},{"$f":"IF(取引額表!AQ$46=0,0,取引額表!AQ34/取引額表!AQ$46)","v":8.4882431901171257E-2},{"$f":"IF(取引額表!AR$46=0,0,取引額表!AR34/取引額表!AR$46)","v":0},{"$f":"IF(取引額表!AS$46=0,0,取引額表!AS34/取引額表!AS$46)","v":0},{"$f":"IF(取引額表!AT$46=0,0,取引額表!AT34/取引額表!AT$46)","v":0},{"$f":"IF(取引額表!AU$46=0,0,取引額表!AU34/取引額表!AU$46)","v":0},{"$f":"IF(取引額表!AV$46=0,0,取引額表!AV34/取引額表!AV$46)","v":0},{"$f":"IF(取引額表!AW$46=0,0,取引額表!AW34/取引額表!AW$46)","v":5.0888286340965212E-2},{"$f":"IF(取引額表!AX$46=0,0,取引額表!AX34/取引額表!AX$46)","v":4.6591628973195159E-2},{"$f":"IF(取引額表!AY$46=0,0,取引額表!AY34/取引額表!AY$46)","v":8.3918666028884806E-6},{"$f":"IF(取引額表!AZ$46=0,0,取引額表!AZ34/取引額表!AZ$46)","v":2.405847580325381E-2},{"$f":"IF(取引額表!BA$46=0,0,取引額表!BA34/取引額表!BA$46)","v":2.1176050530042442E-2},{"$f":"IF(取引額表!BB$46=0,0,取引額表!BB34/取引額表!BB$46)","v":4.2067436530982438E-2},{"$f":"IF(取引額表!BC$46=0,0,取引額表!BC34/取引額表!BC$46)","v":4.1554987705722239E-2},{"$f":"IF(取引額表!BD$46=0,0,取引額表!BD34/取引額表!BD$46)","v":1.1356115485184608E-3},{"$f":"IF(取引額表!BE$46=0,0,取引額表!BE34/取引額表!BE$46)","v":2.0343750990897701E-2},{"$f":"IF(取引額表!BF$46=0,0,取引額表!BF34/取引額表!BF$46)","v":1.6359407334388853E-2},{"$f":"IF(取引額表!BG$46=0,0,取引額表!BG34/取引額表!BG$46)","v":5.9065101815130895E-2},{"$f":"IF(取引額表!BH$46=0,0,取引額表!BH34/取引額表!BH$46)","v":5.0671153964643938E-2}]
[null,"55","不動産",{"$f":"IF(取引額表!D$54=0,0,取引額表!D35/取引額表!D$54)","v":9.3806042212718991E-3},{"$f":"IF(取引額表!E$54=0,0,取引額表!E35/取引額表!E$54)","v":0},{"$f":"IF(取引額表!F$54=0,0,取引額表!F35/取引額表!F$54)","v":2.0490503317812147E-3},{"$f":"IF(取引額表!G$54=0,0,取引額表!G35/取引額表!G$54)","v":1.8105009052504525E-3},{"$f":"IF(取引額表!H$54=0,0,取引額表!H35/取引額表!H$54)","v":2.8395646000946521E-3},{"$f":"IF(取引額表!I$54=0,0,取引額表!I35/取引額表!I$54)","v":1.6949152542372881E-3},{"$f":"IF(取引額表!J$54=0,0,取引額表!J35/取引額表!J$54)","v":7.2300159821405926E-4},{"$f":"IF(取引額表!K$54=0,0,取引額表!K35/取引額表!K$54)","v":3.1834769780262444E-3},{"$f":"IF(取引額表!L$54=0,0,取引額表!L35/取引額表!L$54)","v":2.4435700973286394E-3},{"$f":"IF(取引額表!M$54=0,0,取引額表!M35/取引額表!M$54)","v":9.7832367007972426E-4},{"$f":"IF(取引額表!N$54=0,0,取引額表!N35/取引額表!N$54)","v":6.3069778109053377E-4},{"$f":"IF(取引額表!O$54=0,0,取引額表!O35/取引額表!O$54)","v":4.4678343337993037E-3},{"$f":"IF(取引額表!P$54=0,0,取引額表!P35/取引額表!P$54)","v":2.8244388286011593E-3},{"$f":"IF(取引額表!Q$54=0,0,取引額表!Q35/取引額表!Q$54)","v":2.1343439884306589E-3},{"$f":"IF(取引額表!R$54=0,0,取引額表!R35/取引額表!R$54)","v":1.1278195488721805E-3},{"$f":"IF(取引額表!S$54=0,0,取引額表!S35/取引額表!S$54)","v":1.3223626212165735E-3},{"$f":"IF(取引額表!T$54=0,0,取引額表!T35/取引額表!T$54)","v":1.5869867089863122E-3},{"$f":"IF(取引額表!U$54=0,0,取引額表!U35/取引額表!U$54)","v":1.4925373134328358E-3},{"$f":"IF(取引額表!V$54=0,0,取引額表!V35/取引額表!V$54)","v":0},{"$f":"IF(取引額表!W$54=0,0,取引額表!W35/取引額表!W$54)","v":2.2259178713061275E-3},{"$f":"IF(取引額表!X$54=0,0,取引額表!X35/取引額表!X$54)","v":5.2887195080004957E-3},{"$f":"IF(取引額表!Y$54=0,0,取引額表!Y35/取引額表!Y$54)","v":6.7891966519975843E-3},{"$f":"IF(取引額表!Z$54=0,0,取引額表!Z35/取引額表!Z$54)","v":1.0373727170975404E-3},{"$f":"IF(取引額表!AA$54=0,0,取引額表!AA35/取引額表!AA$54)","v":1.4956755467886329E-3},{"$f":"IF(取引額表!AB$54=0,0,取引額表!AB35/取引額表!AB$54)","v":2.7262840934347977E-2},{"$f":"IF(取引額表!AC$54=0,0,取引額表!AC35/取引額表!AC$54)","v":1.6972758414733113E-2},{"$f":"IF(取引額表!AD$54=0,0,取引額表!AD35/取引額表!AD$54)","v":2.8157313920593112E-2},{"$f":"IF(取引額表!AE$54=0,0,取引額表!AE35/取引額表!AE$54)","v":3.8898217107984252E-2},{"$f":"IF(取引額表!AF$54=0,0,取引額表!AF35/取引額表!AF$54)","v":2.149704425627097E-2},{"$f":"IF(取引額表!AG$54=0,0,取引額表!AG35/取引額表!AG$54)","v":1.5034657815093235E-3},{"$f":"IF(取引額表!AH$54=0,0,取引額表!AH35/取引額表!AH$54)","v":4.2869098911999005E-3},{"$f":"IF(取引額表!AI$54=0,0,取引額表!AI35/取引額表!AI$54)","v":1.6623251502326606E-2},{"$f":"IF(取引額表!AJ$54=0,0,取引額表!AJ35/取引額表!AJ$54)","v":1.4961990324809951E-2},{"$f":"IF(取引額表!AK$54=0,0,取引額表!AK35/取引額表!AK$54)","v":7.1924286383348839E-3},{"$f":"IF(取引額表!AL$54=0,0,取引額表!AL35/取引額表!AL$54)","v":1.327137360715535E-2},{"$f":"IF(取引額表!AM$54=0,0,取引額表!AM35/取引額表!AM$54)","v":0},{"$f":"IF(取引額表!AN$54=0,0,取引額表!AN35/取引額表!AN$54)","v":1.3843877694800621E-2},{"$f":"IF(取引額表!AO$54=0,0,取引額表!AO35/取引額表!AO$54)","v":1.3032082877668473E-2},{"$f":"IF(取引額表!AP$46=0,0,取引額表!AP35/取引額表!AP$46)","v":0},{"$f":"IF(取引額表!AQ$46=0,0,取引額表!AQ35/取引額表!AQ$46)","v":0.18496601699327422},{"$f":"IF(取引額表!AR$46=0,0,取引額表!AR35/取引額表!AR$46)","v":7.2150953114090638E-4},{"$f":"IF(取引額表!AS$46=0,0,取引額表!AS35/取引額表!AS$46)","v":0},{"$f":"IF(取引額表!AT$46=0,0,取引額表!AT35/取引額表!AT$46)","v":0},{"$f":"IF(取引額表!AU$46=0,0,取引額表!AU35/取引額表!AU$46)","v":0},{"$f":"IF(取引額表!AV$46=0,0,取引額表!AV35/取引額表!AV$46)","v":0},{"$f":"IF(取引額表!AW$46=0,0,取引額表!AW35/取引額表!AW$46)","v":0.11102698088809525},{"$f":"IF(取引額表!AX$46=0,0,取引額表!AX35/取引額表!AX$46)","v":7.6924511016461583E-2},{"$f":"IF(取引額表!AY$46=0,0,取引額表!AY35/取引額表!AY$46)","v":4.1959333014442403E-6},{"$f":"IF(取引額表!AZ$46=0,0,取引額表!AZ35/取引額表!AZ$46)","v":2.507893410673331E-2},{"$f":"IF(取引額表!BA$46=0,0,取引額表!BA35/取引額表!BA$46)","v":2.2073703055538792E-2},{"$f":"IF(取引額表!BB$46=0,0,取引額表!BB35/取引額表!BB$46)","v":8.4618887304703544E-2},{"$f":"IF(取引額表!BC$46=0,0,取引額表!BC35/取引額表!BC$46)","v":6.6054648520585749E-2},{"$f":"IF(取引額表!BD$46=0,0,取引額表!BD35/取引額表!BD$46)","v":0},{"$f":"IF(取引額表!BE$46=0,0,取引額表!BE35/取引額表!BE$46)","v":3.1950091411052524E-3},{"$f":"IF(取引額表!BF$46=0,0,取引額表!BF35/取引額表!BF$46)","v":2.532268512735799E-3},{"$f":"IF(取引額表!BG$46=0,0,取引額表!BG35/取引額表!BG$46)","v":0.13889301543266749},{"$f":"IF(取引額表!BH$46=0,0,取引額表!BH35/取引額表!BH$46)","v":8.9038067389270378E-2}]
[null,"57","運輸・郵便",{"$f":"IF(取引額表!D$54=0,0,取引額表!D36/取引額表!D$54)","v":4.9110222099599941E-2},{"$f":"IF(取引額表!E$54=0,0,取引額表!E36/取引額表!E$54)","v":0.625},{"$f":"IF(取引額表!F$54=0,0,取引額表!F36/取引額表!F$54)","v":5.4978621363411445E-2},{"$f":"IF(取引額表!G$54=0,0,取引額表!G36/取引額表!G$54)","v":1.448400724200362E-2},{"$f":"IF(取引額表!H$54=0,0,取引額表!H36/取引額表!H$54)","v":4.0179839091339327E-2},{"$f":"IF(取引額表!I$54=0,0,取引額表!I36/取引額表!I$54)","v":2.3062953995157384E-2},{"$f":"IF(取引額表!J$54=0,0,取引額表!J36/取引額表!J$54)","v":3.970166670894746E-2},{"$f":"IF(取引額表!K$54=0,0,取引額表!K36/取引額表!K$54)","v":1.8402049848590729E-2},{"$f":"IF(取引額表!L$54=0,0,取引額表!L36/取引額表!L$54)","v":5.5332366949679024E-2},{"$f":"IF(取引額表!M$54=0,0,取引額表!M36/取引額表!M$54)","v":1.9739064464146285E-2},{"$f":"IF(取引額表!N$54=0,0,取引額表!N36/取引額表!N$54)","v":2.8266727825239379E-2},{"$f":"IF(取引額表!O$54=0,0,取引額表!O36/取引額表!O$54)","v":2.8725707863936627E-2},{"$f":"IF(取引額表!P$54=0,0,取引額表!P36/取引額表!P$54)","v":1.7095287646796492E-2},{"$f":"IF(取引額表!Q$54=0,0,取引額表!Q36/取引額表!Q$54)","v":1.6925148356854335E-2},{"$f":"IF(取引額表!R$54=0,0,取引額表!R36/取引額表!R$54)","v":2.0426065162907268E-2},{"$f":"IF(取引額表!S$54=0,0,取引額表!S36/取引額表!S$54)","v":1.7484572436085807E-2},{"$f":"IF(取引額表!T$54=0,0,取引額表!T36/取引額表!T$54)","v":1.6464987105732989E-2},{"$f":"IF(取引額表!U$54=0,0,取引額表!U36/取引額表!U$54)","v":1.3246268656716418E-2},{"$f":"IF(取引額表!V$54=0,0,取引額表!V36/取引額表!V$54)","v":7.4013157894736838E-3},{"$f":"IF(取引額表!W$54=0,0,取引額表!W36/取引額表!W$54)","v":0.16479467826531918},{"$f":"IF(取引額表!X$54=0,0,取引額表!X36/取引額表!X$54)","v":4.3556264876243415E-2},{"$f":"IF(取引額表!Y$54=0,0,取引額表!Y36/取引額表!Y$54)","v":3.888169816205022E-2},{"$f":"IF(取引額表!Z$54=0,0,取引額表!Z36/取引額表!Z$54)","v":1.77718326008026E-2},{"$f":"IF(取引額表!AA$54=0,0,取引額表!AA36/取引額表!AA$54)","v":6.2211432163527196E-2},{"$f":"IF(取引額表!AB$54=0,0,取引額表!AB36/取引額表!AB$54)","v":5.278462792248341E-2},{"$f":"IF(取引額表!AC$54=0,0,取引額表!AC36/取引額表!AC$54)","v":3.6404250019418098E-2},{"$f":"IF(取引額表!AD$54=0,0,取引額表!AD36/取引額表!AD$54)","v":2.6537045166325239E-3},{"$f":"IF(取引額表!AE$54=0,0,取引額表!AE36/取引額表!AE$54)","v":7.4084929097926217E-2},{"$f":"IF(取引額表!AF$54=0,0,取引額表!AF36/取引額表!AF$54)","v":2.2588805453480323E-2},{"$f":"IF(取引額表!AG$54=0,0,取引額表!AG36/取引額表!AG$54)","v":3.4130625793224643E-2},{"$f":"IF(取引額表!AH$54=0,0,取引額表!AH36/取引額表!AH$54)","v":2.5361892067821828E-2},{"$f":"IF(取引額表!AI$54=0,0,取引額表!AI36/取引額表!AI$54)","v":1.6169871697563287E-2},{"$f":"IF(取引額表!AJ$54=0,0,取引額表!AJ36/取引額表!AJ$54)","v":3.1513476157567381E-2},{"$f":"IF(取引額表!AK$54=0,0,取引額表!AK36/取引額表!AK$54)","v":1.5922181875688071E-2},{"$f":"IF(取引額表!AL$54=0,0,取引額表!AL36/取引額表!AL$54)","v":3.4812371958227152E-2},{"$f":"IF(取引額表!AM$54=0,0,取引額表!AM36/取引額表!AM$54)","v":4.8533683125644149E-2},{"$f":"IF(取引額表!AN$54=0,0,取引額表!AN36/取引額表!AN$54)","v":0.58994410783899298},{"$f":"IF(取引額表!AO$54=0,0,取引額表!AO36/取引額表!AO$54)","v":3.7979038466392903E-2},{"$f":"IF(取引額表!AP$46=0,0,取引額表!AP36/取引額表!AP$46)","v":2.6543123215873463E-2},{"$f":"IF(取引額表!AQ$46=0,0,取引額表!AQ36/取引額表!AQ$46)","v":4.1841422079922932E-2},{"$f":"IF(取引額表!AR$46=0,0,取引額表!AR36/取引額表!AR$46)","v":7.3482970710043083E-4},{"$f":"IF(取引額表!AS$46=0,0,取引額表!AS36/取引額表!AS$46)","v":0},{"$f":"IF(取引額表!AT$46=0,0,取引額表!AT36/取引額表!AT$46)","v":4.665632365569051E-3},{"$f":"IF(取引額表!AU$46=0,0,取引額表!AU36/取引額表!AU$46)","v":1.1010149317179446E-2},{"$f":"IF(取引額表!AV$46=0,0,取引額表!AV36/取引額表!AV$46)","v":0},{"$f":"IF(取引額表!AW$46=0,0,取引額表!AW36/取引額表!AW$46)","v":2.6661967075969874E-2},{"$f":"IF(取引額表!AX$46=0,0,取引額表!AX36/取引額表!AX$46)","v":5.0387760207998608E-2},{"$f":"IF(取引額表!AY$46=0,0,取引額表!AY36/取引額表!AY$46)","v":7.5870865956714759E-2},{"$f":"IF(取引額表!AZ$46=0,0,取引額表!AZ36/取引額表!AZ$46)","v":3.4371618232035994E-2},{"$f":"IF(取引額表!BA$46=0,0,取引額表!BA36/取引額表!BA$46)","v":3.93453422645988E-2},{"$f":"IF(取引額表!BB$46=0,0,取引額表!BB36/取引額表!BB$46)","v":3.0427356807476692E-2},{"$f":"IF(取引額表!BC$46=0,0,取引額表!BC36/取引額表!BC$46)","v":4.8199468565106852E-2},{"$f":"IF(取引額表!BD$46=0,0,取引額表!BD36/取引額表!BD$46)","v":6.3744335504497235E-2},{"$f":"IF(取引額表!BE$46=0,0,取引額表!BE36/取引額表!BE$46)","v":3.9431457801600865E-2},{"$f":"IF(取引額表!BF$46=0,0,取引額表!BF36/取引額表!BF$46)","v":4.4474677127324981E-2},{"$f":"IF(取引額表!BG$46=0,0,取引額表!BG36/取引額表!BG$46)","v":2.1139532870835268E-2},{"$f":"IF(取引額表!BH$46=0,0,取引額表!BH36/取引額表!BH$46)","v":4.9547158021995143E-2}]
[null,"59","情報通信",{"$f":"IF(取引額表!D$54=0,0,取引額表!D37/取引額表!D$54)","v":2.8969513036280867E-3},{"$f":"IF(取引額表!E$54=0,0,取引額表!E37/取引額表!E$54)","v":0},{"$f":"IF(取引額表!F$54=0,0,取引額表!F37/取引額表!F$54)","v":2.8610578936016343E-3},{"$f":"IF(取引額表!G$54=0,0,取引額表!G37/取引額表!G$54)","v":1.2070006035003018E-3},{"$f":"IF(取引額表!H$54=0,0,取引額表!H37/取引額表!H$54)","v":5.3005205868433504E-3},{"$f":"IF(取引額表!I$54=0,0,取引額表!I37/取引額表!I$54)","v":7.5060532687651329E-3},{"$f":"IF(取引額表!J$54=0,0,取引額表!J37/取引額表!J$54)","v":6.2152768969278777E-4},{"$f":"IF(取引額表!K$54=0,0,取引額表!K37/取引額表!K$54)","v":5.4352045966301731E-3},{"$f":"IF(取引額表!L$54=0,0,取引額表!L37/取引額表!L$54)","v":6.5437978877614413E-3},{"$f":"IF(取引額表!M$54=0,0,取引額表!M37/取引額表!M$54)","v":2.1846152142251953E-3},{"$f":"IF(取引額表!N$54=0,0,取引額表!N37/取引額表!N$54)","v":3.0388165816180265E-3},{"$f":"IF(取引額表!O$54=0,0,取引額表!O37/取引額表!O$54)","v":5.9205657429487702E-3},{"$f":"IF(取引額表!P$54=0,0,取引額表!P37/取引額表!P$54)","v":5.5002229820127844E-3},{"$f":"IF(取引額表!Q$54=0,0,取引額表!Q37/取引額表!Q$54)","v":1.2786116790505161E-2},{"$f":"IF(取引額表!R$54=0,0,取引額表!R37/取引額表!R$54)","v":7.1428571428571426E-3},{"$f":"IF(取引額表!S$54=0,0,取引額表!S37/取引額表!S$54)","v":8.0811049074346157E-3},{"$f":"IF(取引額表!T$54=0,0,取引額表!T37/取引額表!T$54)","v":1.7952787145407656E-2},{"$f":"IF(取引額表!U$54=0,0,取引額表!U37/取引額表!U$54)","v":2.7611940298507463E-2},{"$f":"IF(取引額表!V$54=0,0,取引額表!V37/取引額表!V$54)","v":8.2236842105263153E-4},{"$f":"IF(取引額表!W$54=0,0,取引額表!W37/取引額表!W$54)","v":5.0914673148266601E-3},{"$f":"IF(取引額表!X$54=0,0,取引額表!X37/取引額表!X$54)","v":7.2066370402982813E-3},{"$f":"IF(取引額表!Y$54=0,0,取引額表!Y37/取引額表!Y$54)","v":1.1307274139269997E-2},{"$f":"IF(取引額表!Z$54=0,0,取引額表!Z37/取引額表!Z$54)","v":3.6144249406240614E-2},{"$f":"IF(取引額表!AA$54=0,0,取引額表!AA37/取引額表!AA$54)","v":9.4942882535278428E-3},{"$f":"IF(取引額表!AB$54=0,0,取引額表!AB37/取引額表!AB$54)","v":3.7957886603939332E-2},{"$f":"IF(取引額表!AC$54=0,0,取引額表!AC37/取引額表!AC$54)","v":6.2314691064727895E-2},{"$f":"IF(取引額表!AD$54=0,0,取引額表!AD37/取引額表!AD$54)","v":3.4082040776509609E-3},{"$f":"IF(取引額表!AE$54=0,0,取引額表!AE37/取引額表!AE$54)","v":1.2399987947880059E-2},{"$f":"IF(取引額表!AF$54=0,0,取引額表!AF37/取引額表!AF$54)","v":0.1354076796080311},{"$f":"IF(取引額表!AG$54=0,0,取引額表!AG37/取引額表!AG$54)","v":3.0147417748706433E-2},{"$f":"IF(取引額表!AH$54=0,0,取引額表!AH37/取引額表!AH$54)","v":1.8768792039924365E-2},{"$f":"IF(取引額表!AI$54=0,0,取引額表!AI37/取引額表!AI$54)","v":1.7248672750861727E-2},{"$f":"IF(取引額表!AJ$54=0,0,取引額表!AJ37/取引額表!AJ$54)","v":5.6807187284035936E-2},{"$f":"IF(取引額表!AK$54=0,0,取引額表!AK37/取引額表!AK$54)","v":3.8975968468879442E-2},{"$f":"IF(取引額表!AL$54=0,0,取引額表!AL37/取引額表!AL$54)","v":2.0021985709288963E-2},{"$f":"IF(取引額表!AM$54=0,0,取引額表!AM37/取引額表!AM$54)","v":0},{"$f":"IF(取引額表!AN$54=0,0,取引額表!AN37/取引額表!AN$54)","v":4.1061951059132969E-2},{"$f":"IF(取引額表!AO$54=0,0,取引額表!AO37/取引額表!AO$54)","v":2.5231008173602951E-2},{"$f":"IF(取引額表!AP$46=0,0,取引額表!AP37/取引額表!AP$46)","v":9.3780710374842067E-3},{"$f":"IF(取引額表!AQ$46=0,0,取引額表!AQ37/取引額表!AQ$46)","v":4.6890528321533433E-2},{"$f":"IF(取引額表!AR$46=0,0,取引額表!AR37/取引額表!AR$46)","v":2.2200293265874044E-6},{"$f":"IF(取引額表!AS$46=0,0,取引額表!AS37/取引額表!AS$46)","v":8.000146679541871E-2},{"$f":"IF(取引額表!AT$46=0,0,取引額表!AT37/取引額表!AT$46)","v":8.3672058887498013E-2},{"$f":"IF(取引額表!AU$46=0,0,取引額表!AU37/取引額表!AU$46)","v":1.3815824432754131E-4},{"$f":"IF(取引額表!AV$46=0,0,取引額表!AV37/取引額表!AV$46)","v":0},{"$f":"IF(取引額表!AW$46=0,0,取引額表!AW37/取引額表!AW$46)","v":4.2134307790633235E-2},{"$f":"IF(取引額表!AX$46=0,0,取引額表!AX37/取引額表!AX$46)","v":4.7769880098033478E-2},{"$f":"IF(取引額表!AY$46=0,0,取引額表!AY37/取引額表!AY$46)","v":1.2659130770457272E-2},{"$f":"IF(取引額表!AZ$46=0,0,取引額表!AZ37/取引額表!AZ$46)","v":6.1650308480088491E-2},{"$f":"IF(取引額表!BA$46=0,0,取引額表!BA37/取引額表!BA$46)","v":5.5778669563293304E-2},{"$f":"IF(取引額表!BB$46=0,0,取引額表!BB37/取引額表!BB$46)","v":4.6184991378216377E-2},{"$f":"IF(取引額表!BC$46=0,0,取引額表!BC37/取引額表!BC$46)","v":4.9356993277985414E-2},{"$f":"IF(取引額表!BD$46=0,0,取引額表!BD37/取引額表!BD$46)","v":1.7365091879654109E-2},{"$f":"IF(取引額表!BE$46=0,0,取引額表!BE37/取引額表!BE$46)","v":5.2116841451161702E-2},{"$f":"IF(取引額表!BF$46=0,0,取引額表!BF37/取引額表!BF$46)","v":4.4908287318514817E-2},{"$f":"IF(取引額表!BG$46=0,0,取引額表!BG37/取引額表!BG$46)","v":4.7029124085074973E-2},{"$f":"IF(取引額表!BH$46=0,0,取引額表!BH37/取引額表!BH$46)","v":5.0966606653263399E-2}]
[null,"61","公務",{"$f":"IF(取引額表!D$54=0,0,取引額表!D38/取引額表!D$54)","v":0},{"$f":"IF(取引額表!E$54=0,0,取引額表!E38/取引額表!E$54)","v":0},{"$f":"IF(取引額表!F$54=0,0,取引額表!F38/取引額表!F$54)","v":0},{"$f":"IF(取引額表!G$54=0,0,取引額表!G38/取引額表!G$54)","v":0},{"$f":"IF(取引額表!H$54=0,0,取引額表!H38/取引額表!H$54)","v":0},{"$f":"IF(取引額表!I$54=0,0,取引額表!I38/取引額表!I$54)","v":0},{"$f":"IF(取引額表!J$54=0,0,取引額表!J38/取引額表!J$54)","v":0},{"$f":"IF(取引額表!K$54=0,0,取引額表!K38/取引額表!K$54)","v":0},{"$f":"IF(取引額表!L$54=0,0,取引額表!L38/取引額表!L$54)","v":0},{"$f":"IF(取引額表!M$54=0,0,取引額表!M38/取引額表!M$54)","v":0},{"$f":"IF(取引額表!N$54=0,0,取引額表!N38/取引額表!N$54)","v":0},{"$f":"IF(取引額表!O$54=0,0,取引額表!O38/取引額表!O$54)","v":0},{"$f":"IF(取引額表!P$54=0,0,取引額表!P38/取引額表!P$54)","v":0},{"$f":"IF(取引額表!Q$54=0,0,取引額表!Q38/取引額表!Q$54)","v":0},{"$f":"IF(取引額表!R$54=0,0,取引額表!R38/取引額表!R$54)","v":0},{"$f":"IF(取引額表!S$54=0,0,取引額表!S38/取引額表!S$54)","v":0},{"$f":"IF(取引額表!T$54=0,0,取引額表!T38/取引額表!T$54)","v":0},{"$f":"IF(取引額表!U$54=0,0,取引額表!U38/取引額表!U$54)","v":0},{"$f":"IF(取引額表!V$54=0,0,取引額表!V38/取引額表!V$54)","v":0},{"$f":"IF(取引額表!W$54=0,0,取引額表!W38/取引額表!W$54)","v":0},{"$f":"IF(取引額表!X$54=0,0,取引額表!X38/取引額表!X$54)","v":0},{"$f":"IF(取引額表!Y$54=0,0,取引額表!Y38/取引額表!Y$54)","v":0},{"$f":"IF(取引額表!Z$54=0,0,取引額表!Z38/取引額表!Z$54)","v":0},{"$f":"IF(取引額表!AA$54=0,0,取引額表!AA38/取引額表!AA$54)","v":0},{"$f":"IF(取引額表!AB$54=0,0,取引額表!AB38/取引額表!AB$54)","v":0},{"$f":"IF(取引額表!AC$54=0,0,取引額表!AC38/取引額表!AC$54)","v":0},{"$f":"IF(取引額表!AD$54=0,0,取引額表!AD38/取引額表!AD$54)","v":0},{"$f":"IF(取引額表!AE$54=0,0,取引額表!AE38/取引額表!AE$54)","v":0},{"$f":"IF(取引額表!AF$54=0,0,取引額表!AF38/取引額表!AF$54)","v":0},{"$f":"IF(取引額表!AG$54=0,0,取引額表!AG38/取引額表!AG$54)","v":0},{"$f":"IF(取引額表!AH$54=0,0,取引額表!AH38/取引額表!AH$54)","v":0},{"$f":"IF(取引額表!AI$54=0,0,取引額表!AI38/取引額表!AI$54)","v":0},{"$f":"IF(取引額表!AJ$54=0,0,取引額表!AJ38/取引額表!AJ$54)","v":0},{"$f":"IF(取引額表!AK$54=0,0,取引額表!AK38/取引額表!AK$54)","v":0},{"$f":"IF(取引額表!AL$54=0,0,取引額表!AL38/取引額表!AL$54)","v":0},{"$f":"IF(取引額表!AM$54=0,0,取引額表!AM38/取引額表!AM$54)","v":0},{"$f":"IF(取引額表!AN$54=0,0,取引額表!AN38/取引額表!AN$54)","v":9.6907143863604342E-2},{"$f":"IF(取引額表!AO$54=0,0,取引額表!AO38/取引額表!AO$54)","v":1.1200601925477522E-3},{"$f":"IF(取引額表!AP$46=0,0,取引額表!AP38/取引額表!AP$46)","v":0},{"$f":"IF(取引額表!AQ$46=0,0,取引額表!AQ38/取引額表!AQ$46)","v":3.303382008663099E-3},{"$f":"IF(取引額表!AR$46=0,0,取引額表!AR38/取引額表!AR$46)","v":0.32158234810281844},{"$f":"IF(取引額表!AS$46=0,0,取引額表!AS38/取引額表!AS$46)","v":0},{"$f":"IF(取引額表!AT$46=0,0,取引額表!AT38/取引額表!AT$46)","v":0},{"$f":"IF(取引額表!AU$46=0,0,取引額表!AU38/取引額表!AU$46)","v":0},{"$f":"IF(取引額表!AV$46=0,0,取引額表!AV38/取引額表!AV$46)","v":0},{"$f":"IF(取引額表!AW$46=0,0,取引額表!AW38/取引額表!AW$46)","v":6.3494796831173581E-2},{"$f":"IF(取引額表!AX$46=0,0,取引額表!AX38/取引額表!AX$46)","v":3.8192488201642019E-2},{"$f":"IF(取引額表!AY$46=0,0,取引額表!AY38/取引額表!AY$46)","v":0},{"$f":"IF(取引額表!AZ$46=0,0,取引額表!AZ38/取引額表!AZ$46)","v":0},{"$f":"IF(取引額表!BA$46=0,0,取引額表!BA38/取引額表!BA$46)","v":0},{"$f":"IF(取引額表!BB$46=0,0,取引額表!BB38/取引額表!BB$46)","v":4.4644715331845358E-2},{"$f":"IF(取引額表!BC$46=0,0,取引額表!BC38/取引額表!BC$46)","v":3.0623828585488854E-2},{"$f":"IF(取引額表!BD$46=0,0,取引額表!BD38/取引額表!BD$46)","v":0},{"$f":"IF(取引額表!BE$46=0,0,取引額表!BE38/取引額表!BE$46)","v":0},{"$f":"IF(取引額表!BF$46=0,0,取引額表!BF38/取引額表!BF$46)","v":0},{"$f":"IF(取引額表!BG$46=0,0,取引額表!BG38/取引額表!BG$46)","v":7.4162961250803225E-2},{"$f":"IF(取引額表!BH$46=0,0,取引額表!BH38/取引額表!BH$46)","v":4.1704022363746367E-2}]
[null,"63","教育・研究",{"$f":"IF(取引額表!D$54=0,0,取引額表!D39/取引額表!D$54)","v":2.0692509311629191E-4},{"$f":"IF(取引額表!E$54=0,0,取引額表!E39/取引額表!E$54)","v":0},{"$f":"IF(取引額表!F$54=0,0,取引額表!F39/取引額表!F$54)","v":1.0784475430427446E-4},{"$f":"IF(取引額表!G$54=0,0,取引額表!G39/取引額表!G$54)","v":0},{"$f":"IF(取引額表!H$54=0,0,取引額表!H39/取引額表!H$54)","v":9.4652153336488405E-5},{"$f":"IF(取引額表!I$54=0,0,取引額表!I39/取引額表!I$54)","v":6.0532687651331719E-5},{"$f":"IF(取引額表!J$54=0,0,取引額表!J39/取引額表!J$54)","v":0},{"$f":"IF(取引額表!K$54=0,0,取引額表!K39/取引額表!K$54)","v":7.7645779951859614E-5},{"$f":"IF(取引額表!L$54=0,0,取引額表!L39/取引額表!L$54)","v":1.2424932698281219E-4},{"$f":"IF(取引額表!M$54=0,0,取引額表!M39/取引額表!M$54)","v":4.8916183503986207E-5},{"$f":"IF(取引額表!N$54=0,0,取引額表!N39/取引額表!N$54)","v":0},{"$f":"IF(取引額表!O$54=0,0,取引額表!O39/取引額表!O$54)","v":4.1115039881588683E-4},{"$f":"IF(取引額表!P$54=0,0,取引額表!P39/取引額表!P$54)","v":5.9461870075813879E-4},{"$f":"IF(取引額表!Q$54=0,0,取引額表!Q39/取引額表!Q$54)","v":4.2886351169401087E-4},{"$f":"IF(取引額表!R$54=0,0,取引額表!R39/取引額表!R$54)","v":2.506265664160401E-4},{"$f":"IF(取引額表!S$54=0,0,取引額表!S39/取引額表!S$54)","v":1.028504260946224E-3},{"$f":"IF(取引額表!T$54=0,0,取引額表!T39/取引額表!T$54)","v":1.0910533624280897E-3},{"$f":"IF(取引額表!U$54=0,0,取引額表!U39/取引額表!U$54)","v":0},{"$f":"IF(取引額表!V$54=0,0,取引額表!V39/取引額表!V$54)","v":0},{"$f":"IF(取引額表!W$54=0,0,取引額表!W39/取引額表!W$54)","v":0},{"$f":"IF(取引額表!X$54=0,0,取引額表!X39/取引額表!X$54)","v":1.59597154767965E-4},{"$f":"IF(取引額表!Y$54=0,0,取引額表!Y39/取引額表!Y$54)","v":5.4189317456208473E-4},{"$f":"IF(取引額表!Z$54=0,0,取引額表!Z39/取引額表!Z$54)","v":8.1897846086647919E-5},{"$f":"IF(取引額表!AA$54=0,0,取引額表!AA39/取引額表!AA$54)","v":1.3005874319901156E-4},{"$f":"IF(取引額表!AB$54=0,0,取引額表!AB39/取引額表!AB$54)","v":2.1167829133283237E-4},{"$f":"IF(取引額表!AC$54=0,0,取引額表!AC39/取引額表!AC$54)","v":1.687365914672852E-4},{"$f":"IF(取引額表!AD$54=0,0,取引額表!AD39/取引額表!AD$54)","v":0},{"$f":"IF(取引額表!AE$54=0,0,取引額表!AE39/取引額表!AE$54)","v":1.5969058921170918E-3},{"$f":"IF(取引額表!AF$54=0,0,取引額表!AF39/取引額表!AF$54)","v":3.8131756936677849E-3},{"$f":"IF(取引額表!AG$54=0,0,取引額表!AG39/取引額表!AG$54)","v":1.1389892284161541E-4},{"$f":"IF(取引額表!AH$54=0,0,取引額表!AH39/取引額表!AH$54)","v":0},{"$f":"IF(取引額表!AI$54=0,0,取引額表!AI39/取引額表!AI$54)","v":1.0727290023417876E-4},{"$f":"IF(取引額表!AJ$54=0,0,取引額表!AJ39/取引額表!AJ$54)","v":0},{"$f":"IF(取引額表!AK$54=0,0,取引額表!AK39/取引額表!AK$54)","v":4.6530299436162251E-4},{"$f":"IF(取引額表!AL$54=0,0,取引額表!AL39/取引額表!AL$54)","v":4.4970769000149901E-4},{"$f":"IF(取引額表!AM$54=0,0,取引額表!AM39/取引額表!AM$54)","v":0},{"$f":"IF(取引額表!AN$54=0,0,取引額表!AN39/取引額表!AN$54)","v":5.8710253158611619E-5},{"$f":"IF(取引額表!AO$54=0,0,取引額表!AO39/取引額表!AO$54)","v":4.3700397673618828E-4},{"$f":"IF(取引額表!AP$46=0,0,取引額表!AP39/取引額表!AP$46)","v":0},{"$f":"IF(取引額表!AQ$46=0,0,取引額表!AQ39/取引額表!AQ$46)","v":5.0698962624005216E-2},{"$f":"IF(取引額表!AR$46=0,0,取引額表!AR39/取引額表!AR$46)","v":0.22790155057948316},{"$f":"IF(取引額表!AS$46=0,0,取引額表!AS39/取引額表!AS$46)","v":0},{"$f":"IF(取引額表!AT$46=0,0,取引額表!AT39/取引額表!AT$46)","v":8.7889816322946818E-2},{"$f":"IF(取引額表!AU$46=0,0,取引額表!AU39/取引額表!AU$46)","v":0},{"$f":"IF(取引額表!AV$46=0,0,取引額表!AV39/取引額表!AV$46)","v":0},{"$f":"IF(取引額表!AW$46=0,0,取引額表!AW39/取引額表!AW$46)","v":8.5572539668721317E-2},{"$f":"IF(取引額表!AX$46=0,0,取引額表!AX39/取引額表!AX$46)","v":5.0490173596908605E-2},{"$f":"IF(取引額表!AY$46=0,0,取引額表!AY39/取引額表!AY$46)","v":5.1526060941735272E-3},{"$f":"IF(取引額表!AZ$46=0,0,取引額表!AZ39/取引額表!AZ$46)","v":1.3307096241902325E-2},{"$f":"IF(取引額表!BA$46=0,0,取引額表!BA39/取引額表!BA$46)","v":1.2329772896425482E-2},{"$f":"IF(取引額表!BB$46=0,0,取引額表!BB39/取引額表!BB$46)","v":6.3828519815172846E-2},{"$f":"IF(取引額表!BC$46=0,0,取引額表!BC39/取引額表!BC$46)","v":4.2927872806420908E-2},{"$f":"IF(取引額表!BD$46=0,0,取引額表!BD39/取引額表!BD$46)","v":5.3760718690213129E-3},{"$f":"IF(取引額表!BE$46=0,0,取引額表!BE39/取引額表!BE$46)","v":4.9773235279223733E-2},{"$f":"IF(取引額表!BF$46=0,0,取引額表!BF39/取引額表!BF$46)","v":4.056393330955229E-2},{"$f":"IF(取引額表!BG$46=0,0,取引額表!BG39/取引額表!BG$46)","v":7.9210626758207323E-2},{"$f":"IF(取引額表!BH$46=0,0,取引額表!BH39/取引額表!BH$46)","v":4.3783184141261401E-2}]
[null,"64","医療・福祉",{"$f":"IF(取引額表!D$54=0,0,取引額表!D40/取引額表!D$54)","v":2.6210511794730307E-3},{"$f":"IF(取引額表!E$54=0,0,取引額表!E40/取引額表!E$54)","v":0},{"$f":"IF(取引額表!F$54=0,0,取引額表!F40/取引額表!F$54)","v":0},{"$f":"IF(取引額表!G$54=0,0,取引額表!G40/取引額表!G$54)","v":0},{"$f":"IF(取引額表!H$54=0,0,取引額表!H40/取引額表!H$54)","v":0},{"$f":"IF(取引額表!I$54=0,0,取引額表!I40/取引額表!I$54)","v":0},{"$f":"IF(取引額表!J$54=0,0,取引額表!J40/取引額表!J$54)","v":0},{"$f":"IF(取引額表!K$54=0,0,取引額表!K40/取引額表!K$54)","v":0},{"$f":"IF(取引額表!L$54=0,0,取引額表!L40/取引額表!L$54)","v":0},{"$f":"IF(取引額表!M$54=0,0,取引額表!M40/取引額表!M$54)","v":9.2294685856577748E-7},{"$f":"IF(取引額表!N$54=0,0,取引額表!N40/取引額表!N$54)","v":0},{"$f":"IF(取引額表!O$54=0,0,取引額表!O40/取引額表!O$54)","v":0},{"$f":"IF(取引額表!P$54=0,0,取引額表!P40/取引額表!P$54)","v":0},{"$f":"IF(取引額表!Q$54=0,0,取引額表!Q40/取引額表!Q$54)","v":0},{"$f":"IF(取引額表!R$54=0,0,取引額表!R40/取引額表!R$54)","v":0},{"$f":"IF(取引額表!S$54=0,0,取引額表!S40/取引額表!S$54)","v":0},{"$f":"IF(取引額表!T$54=0,0,取引額表!T40/取引額表!T$54)","v":0},{"$f":"IF(取引額表!U$54=0,0,取引額表!U40/取引額表!U$54)","v":0},{"$f":"IF(取引額表!V$54=0,0,取引額表!V40/取引額表!V$54)","v":0},{"$f":"IF(取引額表!W$54=0,0,取引額表!W40/取引額表!W$54)","v":0},{"$f":"IF(取引額表!X$54=0,0,取引額表!X40/取引額表!X$54)","v":0},{"$f":"IF(取引額表!Y$54=0,0,取引額表!Y40/取引額表!Y$54)","v":4.4870135473293644E-5},{"$f":"IF(取引額表!Z$54=0,0,取引額表!Z40/取引額表!Z$54)","v":2.1839425623106112E-4},{"$f":"IF(取引額表!AA$54=0,0,取引額表!AA40/取引額表!AA$54)","v":0},{"$f":"IF(取引額表!AB$54=0,0,取引額表!AB40/取引額表!AB$54)","v":2.5136797095773844E-5},{"$f":"IF(取引額表!AC$54=0,0,取引額表!AC40/取引額表!AC$54)","v":1.2856121254650301E-4},{"$f":"IF(取引額表!AD$54=0,0,取引額表!AD40/取引額表!AD$54)","v":3.0484830748219687E-6},{"$f":"IF(取引額表!AE$54=0,0,取引額表!AE40/取引額表!AE$54)","v":5.560409881642704E-4},{"$f":"IF(取引額表!AF$54=0,0,取引額表!AF40/取引額表!AF$54)","v":4.4735580763700271E-4},{"$f":"IF(取引額表!AG$54=0,0,取引額表!AG40/取引額表!AG$54)","v":2.2779784568323083E-5},{"$f":"IF(取引額表!AH$54=0,0,取引額表!AH40/取引額表!AH$54)","v":1.8598307554012586E-5},{"$f":"IF(取引額表!AI$54=0,0,取引額表!AI40/取引額表!AI$54)","v":1.7463218551330081E-2},{"$f":"IF(取引額表!AJ$54=0,0,取引額表!AJ40/取引額表!AJ$54)","v":0},{"$f":"IF(取引額表!AK$54=0,0,取引額表!AK40/取引額表!AK$54)","v":3.0411960415792323E-5},{"$f":"IF(取引額表!AL$54=0,0,取引額表!AL40/取引額表!AL$54)","v":7.2452905611352622E-5},{"$f":"IF(取引額表!AM$54=0,0,取引額表!AM40/取引額表!AM$54)","v":0},{"$f":"IF(取引額表!AN$54=0,0,取引額表!AN40/取引額表!AN$54)","v":1.526466582123902E-3},{"$f":"IF(取引額表!AO$54=0,0,取引額表!AO40/取引額表!AO$54)","v":1.2648686531618867E-3},{"$f":"IF(取引額表!AP$46=0,0,取引額表!AP40/取引額表!AP$46)","v":5.5323131639290563E-2},{"$f":"IF(取引額表!AQ$46=0,0,取引額表!AQ40/取引額表!AQ$46)","v":2.6589976164081784E-2},{"$f":"IF(取引額表!AR$46=0,0,取引額表!AR40/取引額表!AR$46)","v":0.44173033525772876},{"$f":"IF(取引額表!AS$46=0,0,取引額表!AS40/取引額表!AS$46)","v":0},{"$f":"IF(取引額表!AT$46=0,0,取引額表!AT40/取引額表!AT$46)","v":0},{"$f":"IF(取引額表!AU$46=0,0,取引額表!AU40/取引額表!AU$46)","v":0},{"$f":"IF(取引額表!AV$46=0,0,取引額表!AV40/取引額表!AV$46)","v":0},{"$f":"IF(取引額表!AW$46=0,0,取引額表!AW40/取引額表!AW$46)","v":0.10169312663627504},{"$f":"IF(取引額表!AX$46=0,0,取引額表!AX40/取引額表!AX$46)","v":6.0684531588626793E-2},{"$f":"IF(取引額表!AY$46=0,0,取引額表!AY40/取引額表!AY$46)","v":0},{"$f":"IF(取引額表!AZ$46=0,0,取引額表!AZ40/取引額表!AZ$46)","v":2.4741828620141539E-2},{"$f":"IF(取引額表!BA$46=0,0,取引額表!BA40/取引額表!BA$46)","v":2.1776497093315632E-2},{"$f":"IF(取引額表!BB$46=0,0,取引額表!BB40/取引額表!BB$46)","v":7.7967797078297735E-2},{"$f":"IF(取引額表!BC$46=0,0,取引額表!BC40/取引額表!BC$46)","v":5.2974071147458286E-2},{"$f":"IF(取引額表!BD$46=0,0,取引額表!BD40/取引額表!BD$46)","v":3.0741076950340505E-5},{"$f":"IF(取引額表!BE$46=0,0,取引額表!BE40/取引額表!BE$46)","v":1.7736063186499843E-2},{"$f":"IF(取引額表!BF$46=0,0,取引額表!BF40/取引額表!BF$46)","v":1.4063448873945091E-2},{"$f":"IF(取引額表!BG$46=0,0,取引額表!BG40/取引額表!BG$46)","v":0.12022014993944934},{"$f":"IF(取引額表!BH$46=0,0,取引額表!BH40/取引額表!BH$46)","v":6.7052560178297624E-2}]
[null,"65","他に分類されない会員制団体",{"$f":"IF(取引額表!D$54=0,0,取引額表!D41/取引額表!D$54)","v":5.518002483101117E-4},{"$f":"IF(取引額表!E$54=0,0,取引額表!E41/取引額表!E$54)","v":0},{"$f":"IF(取引額表!F$54=0,0,取引額表!F41/取引額表!F$54)","v":5.0433282159940117E-4},{"$f":"IF(取引額表!G$54=0,0,取引額表!G41/取引額表!G$54)","v":0},{"$f":"IF(取引額表!H$54=0,0,取引額表!H41/取引額表!H$54)","v":8.0454330336015146E-4},{"$f":"IF(取引額表!I$54=0,0,取引額表!I41/取引額表!I$54)","v":1.6343825665859565E-3},{"$f":"IF(取引額表!J$54=0,0,取引額表!J41/取引額表!J$54)","v":3.4247444125929121E-4},{"$f":"IF(取引額表!K$54=0,0,取引額表!K41/取引額表!K$54)","v":3.8822889975929806E-4},{"$f":"IF(取引額表!L$54=0,0,取引額表!L41/取引額表!L$54)","v":5.798301925864568E-4},{"$f":"IF(取引額表!M$54=0,0,取引額表!M41/取引額表!M$54)","v":7.032855062271225E-4},{"$f":"IF(取引額表!N$54=0,0,取引額表!N41/取引額表!N$54)","v":3.4401697150392754E-4},{"$f":"IF(取引額表!O$54=0,0,取引額表!O41/取引額表!O$54)","v":7.4007071786859628E-4},{"$f":"IF(取引額表!P$54=0,0,取引額表!P41/取引額表!P$54)","v":1.3378920767058123E-3},{"$f":"IF(取引額表!Q$54=0,0,取引額表!Q41/取引額表!Q$54)","v":6.5825562260010966E-4},{"$f":"IF(取引額表!R$54=0,0,取引額表!R41/取引額表!R$54)","v":3.7593984962406017E-4},{"$f":"IF(取引額表!S$54=0,0,取引額表!S41/取引額表!S$54)","v":5.8771672054069943E-4},{"$f":"IF(取引額表!T$54=0,0,取引額表!T41/取引額表!T$54)","v":4.959333465582226E-4},{"$f":"IF(取引額表!U$54=0,0,取引額表!U41/取引額表!U$54)","v":5.5970149253731347E-4},{"$f":"IF(取引額表!V$54=0,0,取引額表!V41/取引額表!V$54)","v":0},{"$f":"IF(取引額表!W$54=0,0,取引額表!W41/取引額表!W$54)","v":8.1872841243443774E-4},{"$f":"IF(取引額表!X$54=0,0,取引額表!X41/取引額表!X$54)","v":8.64025975812776E-4},{"$f":"IF(取引額表!Y$54=0,0,取引額表!Y41/取引額表!Y$54)","v":2.0881870739494347E-3},{"$f":"IF(取引額表!Z$54=0,0,取引額表!Z41/取引額表!Z$54)","v":7.2070104556250167E-3},{"$f":"IF(取引額表!AA$54=0,0,取引額表!AA41/取引額表!AA$54)","v":1.8858517763856676E-3},{"$f":"IF(取引額表!AB$54=0,0,取引額表!AB41/取引額表!AB$54)","v":5.9269921573193061E-4},{"$f":"IF(取引額表!AC$54=0,0,取引額表!AC41/取引額表!AC$54)","v":3.5782870825443337E-3},{"$f":"IF(取引額表!AD$54=0,0,取引額表!AD41/取引額表!AD$54)","v":3.2009072285630669E-4},{"$f":"IF(取引額表!AE$54=0,0,取引額表!AE41/取引額表!AE$54)","v":1.1449513943481036E-3},{"$f":"IF(取引額表!AF$54=0,0,取引額表!AF41/取引額表!AF$54)","v":1.0677957075145125E-3},{"$f":"IF(取引額表!AG$54=0,0,取引額表!AG41/取引額表!AG$54)","v":0},{"$f":"IF(取引額表!AH$54=0,0,取引額表!AH41/取引額表!AH$54)","v":1.3979727844766127E-3},{"$f":"IF(取引額表!AI$54=0,0,取引額表!AI41/取引額表!AI$54)","v":9.6545610210760889E-4},{"$f":"IF(取引額表!AJ$54=0,0,取引額表!AJ41/取引額表!AJ$54)","v":0},{"$f":"IF(取引額表!AK$54=0,0,取引額表!AK41/取引額表!AK$54)","v":1.7334817437001625E-3},{"$f":"IF(取引額表!AL$54=0,0,取引額表!AL41/取引額表!AL$54)","v":2.6282916104532054E-3},{"$f":"IF(取引額表!AM$54=0,0,取引額表!AM41/取引額表!AM$54)","v":0},{"$f":"IF(取引額表!AN$54=0,0,取引額表!AN41/取引額表!AN$54)","v":2.9472547085623033E-3},{"$f":"IF(取引額表!AO$54=0,0,取引額表!AO41/取引額表!AO$54)","v":1.1709535128198239E-3},{"$f":"IF(取引額表!AP$46=0,0,取引額表!AP41/取引額表!AP$46)","v":0},{"$f":"IF(取引額表!AQ$46=0,0,取引額表!AQ41/取引額表!AQ$46)","v":1.4955356352289912E-2},{"$f":"IF(取引額表!AR$46=0,0,取引額表!AR41/取引額表!AR$46)","v":0},{"$f":"IF(取引額表!AS$46=0,0,取引額表!AS41/取引額表!AS$46)","v":0},{"$f":"IF(取引額表!AT$46=0,0,取引額表!AT41/取引額表!AT$46)","v":0},{"$f":"IF(取引額表!AU$46=0,0,取引額表!AU41/取引額表!AU$46)","v":0},{"$f":"IF(取引額表!AV$46=0,0,取引額表!AV41/取引額表!AV$46)","v":0},{"$f":"IF(取引額表!AW$46=0,0,取引額表!AW41/取引額表!AW$46)","v":8.9658847934975788E-3},{"$f":"IF(取引額表!AX$46=0,0,取引額表!AX41/取引額表!AX$46)","v":6.3205466985788777E-3},{"$f":"IF(取引額表!AY$46=0,0,取引額表!AY41/取引額表!AY$46)","v":4.1120146354153554E-4},{"$f":"IF(取引額表!AZ$46=0,0,取引額表!AZ41/取引額表!AZ$46)","v":0},{"$f":"IF(取引額表!BA$46=0,0,取引額表!BA41/取引額表!BA$46)","v":4.9282883752740734E-5},{"$f":"IF(取引額表!BB$46=0,0,取引額表!BB41/取引額表!BB$46)","v":6.3187596575173741E-3},{"$f":"IF(取引額表!BC$46=0,0,取引額表!BC41/取引額表!BC$46)","v":5.0777614438733062E-3},{"$f":"IF(取引額表!BD$46=0,0,取引額表!BD41/取引額表!BD$46)","v":6.8172858883990407E-4},{"$f":"IF(取引額表!BE$46=0,0,取引額表!BE41/取引額表!BE$46)","v":1.0239079064999577E-2},{"$f":"IF(取引額表!BF$46=0,0,取引額表!BF41/取引額表!BF$46)","v":8.2565982080196124E-3},{"$f":"IF(取引額表!BG$46=0,0,取引額表!BG41/取引額表!BG$46)","v":5.0374972626341065E-3},{"$f":"IF(取引額表!BH$46=0,0,取引額表!BH41/取引額表!BH$46)","v":3.9276071697966737E-3}]
[null,"66","対事業所サービス",{"$f":"IF(取引額表!D$54=0,0,取引額表!D42/取引額表!D$54)","v":2.4831011173955028E-2},{"$f":"IF(取引額表!E$54=0,0,取引額表!E42/取引額表!E$54)","v":0},{"$f":"IF(取引額表!F$54=0,0,取引額表!F42/取引額表!F$54)","v":2.2054252255224126E-2},{"$f":"IF(取引額表!G$54=0,0,取引額表!G42/取引額表!G$54)","v":3.0175015087507542E-2},{"$f":"IF(取引額表!H$54=0,0,取引額表!H42/取引額表!H$54)","v":2.7827733080927591E-2},{"$f":"IF(取引額表!I$54=0,0,取引額表!I42/取引額表!I$54)","v":3.7530266343825669E-2},{"$f":"IF(取引額表!J$54=0,0,取引額表!J42/取引額表!J$54)","v":1.070549734899414E-2},{"$f":"IF(取引額表!K$54=0,0,取引額表!K42/取引額表!K$54)","v":3.6881745477133319E-2},{"$f":"IF(取引額表!L$54=0,0,取引額表!L42/取引額表!L$54)","v":5.7403189066059228E-2},{"$f":"IF(取引額表!M$54=0,0,取引額表!M42/取引額表!M$54)","v":7.9548789739784364E-3},{"$f":"IF(取引額表!N$54=0,0,取引額表!N42/取引額表!N$54)","v":1.6111461498767271E-2},{"$f":"IF(取引額表!O$54=0,0,取引額表!O42/取引額表!O$54)","v":2.6779595976208097E-2},{"$f":"IF(取引額表!P$54=0,0,取引額表!P42/取引額表!P$54)","v":4.7123532035082502E-2},{"$f":"IF(取引額表!Q$54=0,0,取引額表!Q42/取引額表!Q$54)","v":3.2713309729217571E-2},{"$f":"IF(取引額表!R$54=0,0,取引額表!R42/取引額表!R$54)","v":2.7694235588972431E-2},{"$f":"IF(取引額表!S$54=0,0,取引額表!S42/取引額表!S$54)","v":4.5988833382309725E-2},{"$f":"IF(取引額表!T$54=0,0,取引額表!T42/取引額表!T$54)","v":3.3822654235270783E-2},{"$f":"IF(取引額表!U$54=0,0,取引額表!U42/取引額表!U$54)","v":2.7798507462686566E-2},{"$f":"IF(取引額表!V$54=0,0,取引額表!V42/取引額表!V$54)","v":1.8092105263157895E-2},{"$f":"IF(取引額表!W$54=0,0,取引額表!W42/取引額表!W$54)","v":4.1601637456824866E-2},{"$f":"IF(取引額表!X$54=0,0,取引額表!X42/取引額表!X$54)","v":9.7186412228444069E-2},{"$f":"IF(取引額表!Y$54=0,0,取引額表!Y42/取引額表!Y$54)","v":7.4225558719475365E-2},{"$f":"IF(取引額表!Z$54=0,0,取引額表!Z42/取引額表!Z$54)","v":0.12519450738445578},{"$f":"IF(取引額表!AA$54=0,0,取引額表!AA42/取引額表!AA$54)","v":6.3555372509916983E-2},{"$f":"IF(取引額表!AB$54=0,0,取引額表!AB42/取引額表!AB$54)","v":8.6888646634844358E-2},{"$f":"IF(取引額表!AC$54=0,0,取引額表!AC42/取引額表!AC$54)","v":0.11987797398242461},{"$f":"IF(取引額表!AD$54=0,0,取引額表!AD42/取引額表!AD$54)","v":2.8320407765096089E-2},{"$f":"IF(取引額表!AE$54=0,0,取引額表!AE42/取引額表!AE$54)","v":9.8301472823839095E-2},{"$f":"IF(取引額表!AF$54=0,0,取引額表!AF42/取引額表!AF$54)","v":0.15446556957980509},{"$f":"IF(取引額表!AG$54=0,0,取引額表!AG42/取引額表!AG$54)","v":9.1109375508477336E-2},{"$f":"IF(取引額表!AH$54=0,0,取引額表!AH42/取引額表!AH$54)","v":6.1343417748984844E-2},{"$f":"IF(取引額表!AI$54=0,0,取引額表!AI42/取引額表!AI$54)","v":5.2090101140128769E-2},{"$f":"IF(取引額表!AJ$54=0,0,取引額表!AJ42/取引額表!AJ$54)","v":6.2266758811333797E-2},{"$f":"IF(取引額表!AK$54=0,0,取引額表!AK42/取引額表!AK$54)","v":0.1460595222889258},{"$f":"IF(取引額表!AL$54=0,0,取引額表!AL42/取引額表!AL$54)","v":3.6913506220956377E-2},{"$f":"IF(取引額表!AM$54=0,0,取引額表!AM42/取引額表!AM$54)","v":0},{"$f":"IF(取引額表!AN$54=0,0,取引額表!AN42/取引額表!AN$54)","v":3.0083133718472595E-2},{"$f":"IF(取引額表!AO$54=0,0,取引額表!AO42/取引額表!AO$54)","v":6.8317835978021685E-2},{"$f":"IF(取引額表!AP$46=0,0,取引額表!AP42/取引額表!AP$46)","v":5.5220178763629559E-3},{"$f":"IF(取引額表!AQ$46=0,0,取引額表!AQ42/取引額表!AQ$46)","v":1.4587369442565353E-2},{"$f":"IF(取引額表!AR$46=0,0,取引額表!AR42/取引額表!AR$46)","v":0},{"$f":"IF(取引額表!AS$46=0,0,取引額表!AS42/取引額表!AS$46)","v":1.4545721235530674E-2},{"$f":"IF(取引額表!AT$46=0,0,取引額表!AT42/取引額表!AT$46)","v":6.3881786795422654E-2},{"$f":"IF(取引額表!AU$46=0,0,取引額表!AU42/取引額表!AU$46)","v":0},{"$f":"IF(取引額表!AV$46=0,0,取引額表!AV42/取引額表!AV$46)","v":0},{"$f":"IF(取引額表!AW$46=0,0,取引額表!AW42/取引額表!AW$46)","v":1.7795240815095877E-2},{"$f":"IF(取引額表!AX$46=0,0,取引額表!AX42/取引額表!AX$46)","v":7.2981844119613365E-2},{"$f":"IF(取引額表!AY$46=0,0,取引額表!AY42/取引額表!AY$46)","v":4.6717521378280169E-2},{"$f":"IF(取引額表!AZ$46=0,0,取引額表!AZ42/取引額表!AZ$46)","v":0.15080671057037107},{"$f":"IF(取引額表!BA$46=0,0,取引額表!BA42/取引額表!BA$46)","v":0.13833152294168527},{"$f":"IF(取引額表!BB$46=0,0,取引額表!BB42/取引額表!BB$46)","v":5.3579570478415682E-2},{"$f":"IF(取引額表!BC$46=0,0,取引額表!BC42/取引額表!BC$46)","v":8.5932282761312817E-2},{"$f":"IF(取引額表!BD$46=0,0,取引額表!BD42/取引額表!BD$46)","v":2.0902124027587406E-2},{"$f":"IF(取引額表!BE$46=0,0,取引額表!BE42/取引額表!BE$46)","v":9.137745074143995E-2},{"$f":"IF(取引額表!BF$46=0,0,取引額表!BF42/取引額表!BF$46)","v":7.6758756318949559E-2},{"$f":"IF(取引額表!BG$46=0,0,取引額表!BG42/取引額表!BG$46)","v":3.8253928848575244E-2},{"$f":"IF(取引額表!BH$46=0,0,取引額表!BH42/取引額表!BH$46)","v":8.9251412187850904E-2}]
[null,"67","対個人サービス",{"$f":"IF(取引額表!D$54=0,0,取引額表!D43/取引額表!D$54)","v":2.7590012415505585E-4},{"$f":"IF(取引額表!E$54=0,0,取引額表!E43/取引額表!E$54)","v":0},{"$f":"IF(取引額表!F$54=0,0,取引額表!F43/取引額表!F$54)","v":3.4890949921971147E-5},{"$f":"IF(取引額表!G$54=0,0,取引額表!G43/取引額表!G$54)","v":0},{"$f":"IF(取引額表!H$54=0,0,取引額表!H43/取引額表!H$54)","v":0},{"$f":"IF(取引額表!I$54=0,0,取引額表!I43/取引額表!I$54)","v":0},{"$f":"IF(取引額表!J$54=0,0,取引額表!J43/取引額表!J$54)","v":0},{"$f":"IF(取引額表!K$54=0,0,取引額表!K43/取引額表!K$54)","v":0},{"$f":"IF(取引額表!L$54=0,0,取引額表!L43/取引額表!L$54)","v":0},{"$f":"IF(取引額表!M$54=0,0,取引額表!M43/取引額表!M$54)","v":4.4301449211157321E-5},{"$f":"IF(取引額表!N$54=0,0,取引額表!N43/取引額表!N$54)","v":0},{"$f":"IF(取引額表!O$54=0,0,取引額表!O43/取引額表!O$54)","v":0},{"$f":"IF(取引額表!P$54=0,0,取引額表!P43/取引額表!P$54)","v":0},{"$f":"IF(取引額表!Q$54=0,0,取引額表!Q43/取引額表!Q$54)","v":1.0970927043335162E-4},{"$f":"IF(取引額表!R$54=0,0,取引額表!R43/取引額表!R$54)","v":0},{"$f":"IF(取引額表!S$54=0,0,取引額表!S43/取引額表!S$54)","v":0},{"$f":"IF(取引額表!T$54=0,0,取引額表!T43/取引額表!T$54)","v":9.9186669311644515E-5},{"$f":"IF(取引額表!U$54=0,0,取引額表!U43/取引額表!U$54)","v":0},{"$f":"IF(取引額表!V$54=0,0,取引額表!V43/取引額表!V$54)","v":0},{"$f":"IF(取引額表!W$54=0,0,取引額表!W43/取引額表!W$54)","v":0},{"$f":"IF(取引額表!X$54=0,0,取引額表!X43/取引額表!X$54)","v":2.0637563116547198E-4},{"$f":"IF(取引額表!Y$54=0,0,取引額表!Y43/取引額表!Y$54)","v":5.1773233238415737E-5},{"$f":"IF(取引額表!Z$54=0,0,取引額表!Z43/取引額表!Z$54)","v":1.364964101444132E-4},{"$f":"IF(取引額表!AA$54=0,0,取引額表!AA43/取引額表!AA$54)","v":2.1676457199835259E-5},{"$f":"IF(取引額表!AB$54=0,0,取引額表!AB43/取引額表!AB$54)","v":8.2554533619804619E-4},{"$f":"IF(取引額表!AC$54=0,0,取引額表!AC43/取引額表!AC$54)","v":2.0623361179334857E-4},{"$f":"IF(取引額表!AD$54=0,0,取引額表!AD43/取引額表!AD$54)","v":5.1519363964491272E-4},{"$f":"IF(取引額表!AE$54=0,0,取引額表!AE43/取引額表!AE$54)","v":7.5325749628164709E-4},{"$f":"IF(取引額表!AF$54=0,0,取引額表!AF43/取引額表!AF$54)","v":5.5067369654364382E-3},{"$f":"IF(取引額表!AG$54=0,0,取引額表!AG43/取引額表!AG$54)","v":4.6210420124312537E-4},{"$f":"IF(取引額表!AH$54=0,0,取引額表!AH43/取引額表!AH$54)","v":2.8238430302842442E-3},{"$f":"IF(取引額表!AI$54=0,0,取引額表!AI43/取引額表!AI$54)","v":1.0816346770782101E-2},{"$f":"IF(取引額表!AJ$54=0,0,取引額表!AJ43/取引額表!AJ$54)","v":2.0387007601935037E-3},{"$f":"IF(取引額表!AK$54=0,0,取引額表!AK43/取引額表!AK$54)","v":1.0993923690308925E-3},{"$f":"IF(取引額表!AL$54=0,0,取引額表!AL43/取引額表!AL$54)","v":1.4293209413880978E-2},{"$f":"IF(取引額表!AM$54=0,0,取引額表!AM43/取引額表!AM$54)","v":0},{"$f":"IF(取引額表!AN$54=0,0,取引額表!AN43/取引額表!AN$54)","v":8.2194354422056271E-4},{"$f":"IF(取引額表!AO$54=0,0,取引額表!AO43/取引額表!AO$54)","v":2.2424275489478381E-3},{"$f":"IF(取引額表!AP$46=0,0,取引額表!AP43/取引額表!AP$46)","v":0.67085029715943656},{"$f":"IF(取引額表!AQ$46=0,0,取引額表!AQ43/取引額表!AQ$46)","v":0.1329647561334103},{"$f":"IF(取引額表!AR$46=0,0,取引額表!AR43/取引額表!AR$46)","v":0},{"$f":"IF(取引額表!AS$46=0,0,取引額表!AS43/取引額表!AS$46)","v":0},{"$f":"IF(取引額表!AT$46=0,0,取引額表!AT43/取引額表!AT$46)","v":0},{"$f":"IF(取引額表!AU$46=0,0,取引額表!AU43/取引額表!AU$46)","v":0},{"$f":"IF(取引額表!AV$46=0,0,取引額表!AV43/取引額表!AV$46)","v":0},{"$f":"IF(取引額表!AW$46=0,0,取引額表!AW43/取引額表!AW$46)","v":9.4932935283663478E-2},{"$f":"IF(取引額表!AX$46=0,0,取引額表!AX43/取引額表!AX$46)","v":5.7622694409260558E-2},{"$f":"IF(取引額表!AY$46=0,0,取引額表!AY43/取引額表!AY$46)","v":1.6154343210560324E-2},{"$f":"IF(取引額表!AZ$46=0,0,取引額表!AZ43/取引額表!AZ$46)","v":2.7745495642197381E-2},{"$f":"IF(取引額表!BA$46=0,0,取引額表!BA43/取引額表!BA$46)","v":2.6356285076338182E-2},{"$f":"IF(取引額表!BB$46=0,0,取引額表!BB43/取引額表!BB$46)","v":7.4574173465807719E-2},{"$f":"IF(取引額表!BC$46=0,0,取引額表!BC43/取引額表!BC$46)","v":5.1426585676810133E-2},{"$f":"IF(取引額表!BD$46=0,0,取引額表!BD43/取引額表!BD$46)","v":1.3477249794758103E-2},{"$f":"IF(取引額表!BE$46=0,0,取引額表!BE43/取引額表!BE$46)","v":5.126354542369721E-2},{"$f":"IF(取引額表!BF$46=0,0,取引額表!BF43/取引額表!BF$46)","v":4.3425535514212549E-2},{"$f":"IF(取引額表!BG$46=0,0,取引額表!BG43/取引額表!BG$46)","v":9.5169066909778652E-2},{"$f":"IF(取引額表!BH$46=0,0,取引額表!BH43/取引額表!BH$46)","v":5.4321494325598366E-2}]
[null,"68","事務用品",{"$f":"IF(取引額表!D$54=0,0,取引額表!D44/取引額表!D$54)","v":8.2770037246516766E-4},{"$f":"IF(取引額表!E$54=0,0,取引額表!E44/取引額表!E$54)","v":0},{"$f":"IF(取引額表!F$54=0,0,取引額表!F44/取引額表!F$54)","v":6.5341233490236877E-4},{"$f":"IF(取引額表!G$54=0,0,取引額表!G44/取引額表!G$54)","v":0},{"$f":"IF(取引額表!H$54=0,0,取引額表!H44/取引額表!H$54)","v":1.0411736867013725E-3},{"$f":"IF(取引額表!I$54=0,0,取引額表!I44/取引額表!I$54)","v":2.4213075060532688E-4},{"$f":"IF(取引額表!J$54=0,0,取引額表!J44/取引額表!J$54)","v":3.8052715695476801E-5},{"$f":"IF(取引額表!K$54=0,0,取引額表!K44/取引額表!K$54)","v":7.7645779951859614E-5},{"$f":"IF(取引額表!L$54=0,0,取引額表!L44/取引額表!L$54)","v":7.4549596189687302E-4},{"$f":"IF(取引額表!M$54=0,0,取引額表!M44/取引額表!M$54)","v":1.107536230278933E-4},{"$f":"IF(取引額表!N$54=0,0,取引額表!N44/取引額表!N$54)","v":1.7200848575196377E-4},{"$f":"IF(取引額表!O$54=0,0,取引額表!O44/取引額表!O$54)","v":2.4669023928953213E-4},{"$f":"IF(取引額表!P$54=0,0,取引額表!P44/取引額表!P$54)","v":7.4327337594767352E-4},{"$f":"IF(取引額表!Q$54=0,0,取引額表!Q44/取引額表!Q$54)","v":8.2780631326983493E-4},{"$f":"IF(取引額表!R$54=0,0,取引額表!R44/取引額表!R$54)","v":1.5037593984962407E-3},{"$f":"IF(取引額表!S$54=0,0,取引額表!S44/取引額表!S$54)","v":4.4078754040552452E-4},{"$f":"IF(取引額表!T$54=0,0,取引額表!T44/取引額表!T$54)","v":7.9349335449315612E-4},{"$f":"IF(取引額表!U$54=0,0,取引額表!U44/取引額表!U$54)","v":1.8656716417910448E-4},{"$f":"IF(取引額表!V$54=0,0,取引額表!V44/取引額表!V$54)","v":0},{"$f":"IF(取引額表!W$54=0,0,取引額表!W44/取引額表!W$54)","v":6.3963157221440454E-4},{"$f":"IF(取引額表!X$54=0,0,取引額表!X44/取引額表!X$54)","v":9.1080445221028298E-4},{"$f":"IF(取引額表!Y$54=0,0,取引額表!Y44/取引額表!Y$54)","v":6.2127879886098887E-5},{"$f":"IF(取引額表!Z$54=0,0,取引額表!Z44/取引額表!Z$54)","v":8.4627774289536186E-4},{"$f":"IF(取引額表!AA$54=0,0,取引額表!AA44/取引額表!AA$54)","v":3.2514685799752887E-3},{"$f":"IF(取引額表!AB$54=0,0,取引額表!AB44/取引額表!AB$54)","v":2.0850311696283988E-3},{"$f":"IF(取引額表!AC$54=0,0,取引額表!AC44/取引額表!AC$54)","v":3.3318780918302027E-3},{"$f":"IF(取引額表!AD$54=0,0,取引額表!AD44/取引額表!AD$54)","v":3.383816213052385E-4},{"$f":"IF(取引額表!AE$54=0,0,取引額表!AE44/取引額表!AE$54)","v":1.8269918182540314E-3},{"$f":"IF(取引額表!AF$54=0,0,取引額表!AF44/取引額表!AF$54)","v":1.4033125632422646E-3},{"$f":"IF(取引額表!AG$54=0,0,取引額表!AG44/取引額表!AG$54)","v":3.0036773080803149E-3},{"$f":"IF(取引額表!AH$54=0,0,取引額表!AH44/取引額表!AH$54)","v":3.022224977527045E-3},{"$f":"IF(取引額表!AI$54=0,0,取引額表!AI44/取引額表!AI$54)","v":2.2648750068310574E-3},{"$f":"IF(取引額表!AJ$54=0,0,取引額表!AJ44/取引額表!AJ$54)","v":4.0774015203870074E-3},{"$f":"IF(取引額表!AK$54=0,0,取引額表!AK44/取引額表!AK$54)","v":1.8262382229683289E-3},{"$f":"IF(取引額表!AL$54=0,0,取引額表!AL44/取引額表!AL$54)","v":1.8687852895617849E-3},{"$f":"IF(取引額表!AM$54=0,0,取引額表!AM44/取引額表!AM$54)","v":0},{"$f":"IF(取引額表!AN$54=0,0,取引額表!AN44/取引額表!AN$54)","v":3.3817105819360293E-3},{"$f":"IF(取引額表!AO$54=0,0,取引額表!AO44/取引額表!AO$54)","v":1.4484917527035209E-3},{"$f":"IF(取引額表!AP$46=0,0,取引額表!AP44/取引額表!AP$46)","v":0},{"$f":"IF(取引額表!AQ$46=0,0,取引額表!AQ44/取引額表!AQ$46)","v":0},{"$f":"IF(取引額表!AR$46=0,0,取引額表!AR44/取引額表!AR$46)","v":0},{"$f":"IF(取引額表!AS$46=0,0,取引額表!AS44/取引額表!AS$46)","v":0},{"$f":"IF(取引額表!AT$46=0,0,取引額表!AT44/取引額表!AT$46)","v":0},{"$f":"IF(取引額表!AU$46=0,0,取引額表!AU44/取引額表!AU$46)","v":0},{"$f":"IF(取引額表!AV$46=0,0,取引額表!AV44/取引額表!AV$46)","v":0},{"$f":"IF(取引額表!AW$46=0,0,取引額表!AW44/取引額表!AW$46)","v":0},{"$f":"IF(取引額表!AX$46=0,0,取引額表!AX44/取引額表!AX$46)","v":1.3265268201898054E-3},{"$f":"IF(取引額表!AY$46=0,0,取引額表!AY44/取引額表!AY$46)","v":0},{"$f":"IF(取引額表!AZ$46=0,0,取引額表!AZ44/取引額表!AZ$46)","v":0},{"$f":"IF(取引額表!BA$46=0,0,取引額表!BA44/取引額表!BA$46)","v":0},{"$f":"IF(取引額表!BB$46=0,0,取引額表!BB44/取引額表!BB$46)","v":0},{"$f":"IF(取引額表!BC$46=0,0,取引額表!BC44/取引額表!BC$46)","v":1.0636471167070928E-3},{"$f":"IF(取引額表!BD$46=0,0,取引額表!BD44/取引額表!BD$46)","v":0},{"$f":"IF(取引額表!BE$46=0,0,取引額表!BE44/取引額表!BE$46)","v":0},{"$f":"IF(取引額表!BF$46=0,0,取引額表!BF44/取引額表!BF$46)","v":0},{"$f":"IF(取引額表!BG$46=0,0,取引額表!BG44/取引額表!BG$46)","v":0},{"$f":"IF(取引額表!BH$46=0,0,取引額表!BH44/取引額表!BH$46)","v":1.4484917527035209E-3}]
[null,"69","分類不明",{"$f":"IF(取引額表!D$54=0,0,取引額表!D45/取引額表!D$54)","v":2.8279762725893225E-3},{"$f":"IF(取引額表!E$54=0,0,取引額表!E45/取引額表!E$54)","v":0},{"$f":"IF(取引額表!F$54=0,0,取引額表!F45/取引額表!F$54)","v":7.149472829465724E-3},{"$f":"IF(取引額表!G$54=0,0,取引額表!G45/取引額表!G$54)","v":1.2070006035003018E-3},{"$f":"IF(取引額表!H$54=0,0,取引額表!H45/取引額表!H$54)","v":2.4609559867486987E-3},{"$f":"IF(取引額表!I$54=0,0,取引額表!I45/取引額表!I$54)","v":1.2106537530266344E-3},{"$f":"IF(取引額表!J$54=0,0,取引額表!J45/取引額表!J$54)","v":3.0442172556381441E-4},{"$f":"IF(取引額表!K$54=0,0,取引額表!K45/取引額表!K$54)","v":1.7858529388927711E-3},{"$f":"IF(取引額表!L$54=0,0,取引額表!L45/取引額表!L$54)","v":6.8337129840546698E-3},{"$f":"IF(取引額表!M$54=0,0,取引額表!M45/取引額表!M$54)","v":2.4079683539981133E-3},{"$f":"IF(取引額表!N$54=0,0,取引額表!N45/取引額表!N$54)","v":2.4081188005274927E-3},{"$f":"IF(取引額表!O$54=0,0,取引額表!O45/取引額表!O$54)","v":3.3440232437025462E-3},{"$f":"IF(取引額表!P$54=0,0,取引額表!P45/取引額表!P$54)","v":7.5813884346662705E-3},{"$f":"IF(取引額表!Q$54=0,0,取引額表!Q45/取引額表!Q$54)","v":6.652371216276866E-3},{"$f":"IF(取引額表!R$54=0,0,取引額表!R45/取引額表!R$54)","v":1.8796992481203006E-3},{"$f":"IF(取引額表!S$54=0,0,取引額表!S45/取引額表!S$54)","v":2.9385836027034972E-4},{"$f":"IF(取引額表!T$54=0,0,取引額表!T45/取引額表!T$54)","v":1.6861733782979568E-3},{"$f":"IF(取引額表!U$54=0,0,取引額表!U45/取引額表!U$54)","v":1.1194029850746269E-3},{"$f":"IF(取引額表!V$54=0,0,取引額表!V45/取引額表!V$54)","v":4.1118421052631577E-3},{"$f":"IF(取引額表!W$54=0,0,取引額表!W45/取引額表!W$54)","v":1.7142126135346041E-3},{"$f":"IF(取引額表!X$54=0,0,取引額表!X45/取引額表!X$54)","v":1.4083073070731807E-2},{"$f":"IF(取引額表!Y$54=0,0,取引額表!Y45/取引額表!Y$54)","v":2.9648804901199412E-3},{"$f":"IF(取引額表!Z$54=0,0,取引額表!Z45/取引額表!Z$54)","v":7.9713903524337316E-3},{"$f":"IF(取引額表!AA$54=0,0,取引額表!AA45/取引額表!AA$54)","v":2.3497279604621422E-2},{"$f":"IF(取引額表!AB$54=0,0,取引額表!AB45/取引額表!AB$54)","v":6.9271720838669391E-3},{"$f":"IF(取引額表!AC$54=0,0,取引額表!AC45/取引額表!AC$54)","v":5.5924127457728807E-3},{"$f":"IF(取引額表!AD$54=0,0,取引額表!AD45/取引額表!AD$54)","v":1.8778655740903326E-3},{"$f":"IF(取引額表!AE$54=0,0,取引額表!AE45/取引額表!AE$54)","v":6.2095808875290686E-3},{"$f":"IF(取引額表!AF$54=0,0,取引額表!AF45/取引額表!AF$54)","v":1.9704958193534645E-3},{"$f":"IF(取引額表!AG$54=0,0,取引額表!AG45/取引額表!AG$54)","v":9.1444563767125516E-4},{"$f":"IF(取引額表!AH$54=0,0,取引額表!AH45/取引額表!AH$54)","v":8.2483494002045816E-3},{"$f":"IF(取引額表!AI$54=0,0,取引額表!AI45/取引額表!AI$54)","v":4.329372332092611E-3},{"$f":"IF(取引額表!AJ$54=0,0,取引額表!AJ45/取引額表!AJ$54)","v":3.3517622667588115E-3},{"$f":"IF(取引額表!AK$54=0,0,取引額表!AK45/取引額表!AK$54)","v":3.2160648139700383E-3},{"$f":"IF(取引額表!AL$54=0,0,取引額表!AL45/取引額表!AL$54)","v":2.9755658821765851E-3},{"$f":"IF(取引額表!AM$54=0,0,取引額表!AM45/取引額表!AM$54)","v":4.68471844842125E-4},{"$f":"IF(取引額表!AN$54=0,0,取引額表!AN45/取引額表!AN$54)","v":0},{"$f":"IF(取引額表!AO$54=0,0,取引額表!AO45/取引額表!AO$54)","v":4.5585486256496362E-3},{"$f":"IF(取引額表!AP$46=0,0,取引額表!AP45/取引額表!AP$46)","v":0},{"$f":"IF(取引額表!AQ$46=0,0,取引額表!AQ45/取引額表!AQ$46)","v":0},{"$f":"IF(取引額表!AR$46=0,0,取引額表!AR45/取引額表!AR$46)","v":0},{"$f":"IF(取引額表!AS$46=0,0,取引額表!AS45/取引額表!AS$46)","v":0},{"$f":"IF(取引額表!AT$46=0,0,取引額表!AT45/取引額表!AT$46)","v":0},{"$f":"IF(取引額表!AU$46=0,0,取引額表!AU45/取引額表!AU$46)","v":0},{"$f":"IF(取引額表!AV$46=0,0,取引額表!AV45/取引額表!AV$46)","v":0},{"$f":"IF(取引額表!AW$46=0,0,取引額表!AW45/取引額表!AW$46)","v":0},{"$f":"IF(取引額表!AX$46=0,0,取引額表!AX45/取引額表!AX$46)","v":4.1747127671090947E-3},{"$f":"IF(取引額表!AY$46=0,0,取引額表!AY45/取引額表!AY$46)","v":0},{"$f":"IF(取引額表!AZ$46=0,0,取引額表!AZ45/取引額表!AZ$46)","v":2.9468161815204487E-2},{"$f":"IF(取引額表!BA$46=0,0,取引額表!BA45/取引額表!BA$46)","v":2.5936374791302074E-2},{"$f":"IF(取引額表!BB$46=0,0,取引額表!BB45/取引額表!BB$46)","v":7.6998872823092947E-3},{"$f":"IF(取引額表!BC$46=0,0,取引額表!BC45/取引額表!BC$46)","v":8.4872522296676519E-3},{"$f":"IF(取引額表!BD$46=0,0,取引額表!BD45/取引額表!BD$46)","v":0},{"$f":"IF(取引額表!BE$46=0,0,取引額表!BE45/取引額表!BE$46)","v":0},{"$f":"IF(取引額表!BF$46=0,0,取引額表!BF45/取引額表!BF$46)","v":0},{"$f":"IF(取引額表!BG$46=0,0,取引額表!BG45/取引額表!BG$46)","v":1.2790907902735035E-2},{"$f":"IF(取引額表!BH$46=0,0,取引額表!BH45/取引額表!BH$46)","v":1.1558076607068552E-2}]
[null,"70","内生部門計　　",{"$f":"IF(取引額表!D$54=0,0,取引額表!D46/取引額表!D$54)","v":0.47254793764657194},{"$f":"IF(取引額表!E$54=0,0,取引額表!E46/取引額表!E$54)","v":0.625},{"$f":"IF(取引額表!F$54=0,0,取引額表!F46/取引額表!F$54)","v":0.73304299833792197},{"$f":"IF(取引額表!G$54=0,0,取引額表!G46/取引額表!G$54)","v":0.48521424260712132},{"$f":"IF(取引額表!H$54=0,0,取引額表!H46/取引額表!H$54)","v":0.53625177472787511},{"$f":"IF(取引額表!I$54=0,0,取引額表!I46/取引額表!I$54)","v":0.63644067796610171},{"$f":"IF(取引額表!J$54=0,0,取引額表!J46/取引額表!J$54)","v":0.9181105558233339},{"$f":"IF(取引額表!K$54=0,0,取引額表!K46/取引額表!K$54)","v":0.61371224473949837},{"$f":"IF(取引額表!L$54=0,0,取引額表!L46/取引額表!L$54)","v":0.47314143715054879},{"$f":"IF(取引額表!M$54=0,0,取引額表!M46/取引額表!M$54)","v":0.75088279867021812},{"$f":"IF(取引額表!N$54=0,0,取引額表!N46/取引額表!N$54)","v":0.81228140588269027},{"$f":"IF(取引額表!O$54=0,0,取引額表!O46/取引額表!O$54)","v":0.52808157223912511},{"$f":"IF(取引額表!P$54=0,0,取引額表!P46/取引額表!P$54)","v":0.53917050691244239},{"$f":"IF(取引額表!Q$54=0,0,取引額表!Q46/取引額表!Q$54)","v":0.5717349025083529},{"$f":"IF(取引額表!R$54=0,0,取引額表!R46/取引額表!R$54)","v":0.52243107769423558},{"$f":"IF(取引額表!S$54=0,0,取引額表!S46/取引額表!S$54)","v":0.57816632383191302},{"$f":"IF(取引額表!T$54=0,0,取引額表!T46/取引額表!T$54)","v":0.55336242808966474},{"$f":"IF(取引額表!U$54=0,0,取引額表!U46/取引額表!U$54)","v":0.6264925373134328},{"$f":"IF(取引額表!V$54=0,0,取引額表!V46/取引額表!V$54)","v":0.62006578947368418},{"$f":"IF(取引額表!W$54=0,0,取引額表!W46/取引額表!W$54)","v":0.55325572470257134},{"$f":"IF(取引額表!X$54=0,0,取引額表!X46/取引額表!X$54)","v":0.53225100780099888},{"$f":"IF(取引額表!Y$54=0,0,取引額表!Y46/取引額表!Y$54)","v":0.6146690827508845},{"$f":"IF(取引額表!Z$54=0,0,取引額表!Z46/取引額表!Z$54)","v":0.4469438453768666},{"$f":"IF(取引額表!AA$54=0,0,取引額表!AA46/取引額表!AA$54)","v":0.330132443153491},{"$f":"IF(取引額表!AB$54=0,0,取引額表!AB46/取引額表!AB$54)","v":0.30480615560471197},{"$f":"IF(取引額表!AC$54=0,0,取引額表!AC46/取引額表!AC$54)","v":0.34100058120381505},{"$f":"IF(取引額表!AD$54=0,0,取引額表!AD46/取引額表!AD$54)","v":0.15702583894254218},{"$f":"IF(取引額表!AE$54=0,0,取引額表!AE46/取引額表!AE$54)","v":0.41999172786313177},{"$f":"IF(取引額表!AF$54=0,0,取引額表!AF46/取引額表!AF$54)","v":0.40596740693401501},{"$f":"IF(取引額表!AG$54=0,0,取引額表!AG46/取引額表!AG$54)","v":0.2898727586319112},{"$f":"IF(取引額表!AH$54=0,0,取引額表!AH46/取引額表!AH$54)","v":0.22667307275037971},{"$f":"IF(取引額表!AI$54=0,0,取引額表!AI46/取引額表!AI$54)","v":0.38810525697931658},{"$f":"IF(取引額表!AJ$54=0,0,取引額表!AJ46/取引額表!AJ$54)","v":0.3270559778852799},{"$f":"IF(取引額表!AK$54=0,0,取引額表!AK46/取引額表!AK$54)","v":0.33994945532178894},{"$f":"IF(取引額表!AL$54=0,0,取引額表!AL46/取引額表!AL$54)","v":0.46078798780792485},{"$f":"IF(取引額表!AM$54=0,0,取引額表!AM46/取引額表!AM$54)","v":0.96252225241263001},{"$f":"IF(取引額表!AN$54=0,0,取引額表!AN46/取引額表!AN$54)","v":1},{"$f":"IF(取引額表!AO$54=0,0,取引額表!AO46/取引額表!AO$54)","v":0.45277317023584912},{"$f":"IF(取引額表!AP$46=0,0,取引額表!AP46/取引額表!AP$46)","v":1},{"$f":"IF(取引額表!AQ$46=0,0,取引額表!AQ46/取引額表!AQ$46)","v":1},{"$f":"IF(取引額表!AR$46=0,0,取引額表!AR46/取引額表!AR$46)","v":1},{"$f":"IF(取引額表!AS$46=0,0,取引額表!AS46/取引額表!AS$46)","v":1},{"$f":"IF(取引額表!AT$46=0,0,取引額表!AT46/取引額表!AT$46)","v":1},{"$f":"IF(取引額表!AU$46=0,0,取引額表!AU46/取引額表!AU$46)","v":1},{"$f":"IF(取引額表!AV$46=0,0,取引額表!AV46/取引額表!AV$46)","v":0},{"$f":"IF(取引額表!AW$46=0,0,取引額表!AW46/取引額表!AW$46)","v":1},{"$f":"IF(取引額表!AX$46=0,0,取引額表!AX46/取引額表!AX$46)","v":1},{"$f":"IF(取引額表!AY$46=0,0,取引額表!AY46/取引額表!AY$46)","v":1},{"$f":"IF(取引額表!AZ$46=0,0,取引額表!AZ46/取引額表!AZ$46)","v":1},{"$f":"IF(取引額表!BA$46=0,0,取引額表!BA46/取引額表!BA$46)","v":1},{"$f":"IF(取引額表!BB$46=0,0,取引額表!BB46/取引額表!BB$46)","v":1},{"$f":"IF(取引額表!BC$46=0,0,取引額表!BC46/取引額表!BC$46)","v":1},{"$f":"IF(取引額表!BD$46=0,0,取引額表!BD46/取引額表!BD$46)","v":1},{"$f":"IF(取引額表!BE$46=0,0,取引額表!BE46/取引額表!BE$46)","v":1},{"$f":"IF(取引額表!BF$46=0,0,取引額表!BF46/取引額表!BF$46)","v":1},{"$f":"IF(取引額表!BG$46=0,0,取引額表!BG46/取引額表!BG$46)","v":1},{"$f":"IF(取引額表!BH$46=0,0,取引額表!BH46/取引額表!BH$46)","v":1}]
[null,"71","家計外消費支出（行）",{"$f":"IF(取引額表!D$54=0,0,取引額表!D47/取引額表!D$54)","v":5.0351772658297697E-3},{"$f":"IF(取引額表!E$54=0,0,取引額表!E47/取引額表!E$54)","v":0},{"$f":"IF(取引額表!F$54=0,0,取引額表!F47/取引額表!F$54)","v":7.2287704429247496E-3},{"$f":"IF(取引額表!G$54=0,0,取引額表!G47/取引額表!G$54)","v":8.4490042245021126E-3},{"$f":"IF(取引額表!H$54=0,0,取引額表!H47/取引額表!H$54)","v":1.159488878371983E-2},{"$f":"IF(取引額表!I$54=0,0,取引額表!I47/取引額表!I$54)","v":1.4588377723970944E-2},{"$f":"IF(取引額表!J$54=0,0,取引額表!J47/取引額表!J$54)","v":6.430908952535579E-3},{"$f":"IF(取引額表!K$54=0,0,取引額表!K47/取引額表!K$54)","v":1.8324404068638868E-2},{"$f":"IF(取引額表!L$54=0,0,取引額表!L47/取引額表!L$54)","v":1.8968730586042658E-2},{"$f":"IF(取引額表!M$54=0,0,取引額表!M47/取引額表!M$54)","v":7.9087316310501466E-3},{"$f":"IF(取引額表!N$54=0,0,取引額表!N47/取引額表!N$54)","v":8.3137434780115819E-3},{"$f":"IF(取引額表!O$54=0,0,取引額表!O47/取引額表!O$54)","v":1.8474357920127183E-2},{"$f":"IF(取引額表!P$54=0,0,取引額表!P47/取引額表!P$54)","v":1.2041028690352312E-2},{"$f":"IF(取引額表!Q$54=0,0,取引額表!Q47/取引額表!Q$54)","v":7.7694110606891737E-3},{"$f":"IF(取引額表!R$54=0,0,取引額表!R47/取引額表!R$54)","v":1.6791979949874688E-2},{"$f":"IF(取引額表!S$54=0,0,取引額表!S47/取引額表!S$54)","v":1.9982368498383779E-2},{"$f":"IF(取引額表!T$54=0,0,取引額表!T47/取引額表!T$54)","v":2.3308867288236459E-2},{"$f":"IF(取引額表!U$54=0,0,取引額表!U47/取引額表!U$54)","v":3.9179104477611942E-2},{"$f":"IF(取引額表!V$54=0,0,取引額表!V47/取引額表!V$54)","v":7.4013157894736838E-3},{"$f":"IF(取引額表!W$54=0,0,取引額表!W47/取引額表!W$54)","v":1.6272227197134451E-2},{"$f":"IF(取引額表!X$54=0,0,取引額表!X47/取引額表!X$54)","v":2.1831790102224729E-2},{"$f":"IF(取引額表!Y$54=0,0,取引額表!Y47/取引額表!Y$54)","v":1.1818103373889033E-2},{"$f":"IF(取引額表!Z$54=0,0,取引額表!Z47/取引額表!Z$54)","v":1.1411099888072944E-2},{"$f":"IF(取引額表!AA$54=0,0,取引額表!AA47/取引額表!AA$54)","v":2.4017514577417468E-2},{"$f":"IF(取引額表!AB$54=0,0,取引額表!AB47/取引額表!AB$54)","v":2.3307102865065672E-2},{"$f":"IF(取引額表!AC$54=0,0,取引額表!AC47/取引額表!AC$54)","v":3.3155401044024181E-2},{"$f":"IF(取引額表!AD$54=0,0,取引額表!AD47/取引額表!AD$54)","v":3.8791947127109552E-3},{"$f":"IF(取引額表!AE$54=0,0,取引額表!AE47/取引額表!AE$54)","v":2.3224982948989403E-2},{"$f":"IF(取引額表!AF$54=0,0,取引額表!AF47/取引額表!AF$54)","v":1.5119561165255365E-2},{"$f":"IF(取引額表!AG$54=0,0,取引額表!AG47/取引額表!AG$54)","v":1.0625142373653551E-2},{"$f":"IF(取引額表!AH$54=0,0,取引額表!AH47/取引額表!AH$54)","v":8.6823099097982082E-3},{"$f":"IF(取引額表!AI$54=0,0,取引額表!AI47/取引額表!AI$54)","v":1.3239095102486101E-2},{"$f":"IF(取引額表!AJ$54=0,0,取引額表!AJ47/取引額表!AJ$54)","v":3.1651693158258463E-2},{"$f":"IF(取引額表!AK$54=0,0,取引額表!AK47/取引額表!AK$54)","v":1.5158841669251683E-2},{"$f":"IF(取引額表!AL$54=0,0,取引額表!AL47/取引額表!AL$54)","v":2.208564433118473E-2},{"$f":"IF(取引額表!AM$54=0,0,取引額表!AM47/取引額表!AM$54)","v":0},{"$f":"IF(取引額表!AN$54=0,0,取引額表!AN47/取引額表!AN$54)","v":-8.5716969611572963E-3},{"$f":"IF(取引額表!AO$54=0,0,取引額表!AO47/取引額表!AO$54)","v":1.4500524811918646E-2}]
[null,"91","雇用者所得",{"$f":"IF(取引額表!D$54=0,0,取引額表!D48/取引額表!D$54)","v":0.18574975858739137},{"$f":"IF(取引額表!E$54=0,0,取引額表!E48/取引額表!E$54)","v":6.25E-2},{"$f":"IF(取引額表!F$54=0,0,取引額表!F48/取引額表!F$54)","v":0.1073372495781367},{"$f":"IF(取引額表!G$54=0,0,取引額表!G48/取引額表!G$54)","v":0.2631261315630658},{"$f":"IF(取引額表!H$54=0,0,取引額表!H48/取引額表!H$54)","v":0.18797917652626597},{"$f":"IF(取引額表!I$54=0,0,取引額表!I48/取引額表!I$54)","v":0.10423728813559321},{"$f":"IF(取引額表!J$54=0,0,取引額表!J48/取引額表!J$54)","v":1.6616352520358202E-2},{"$f":"IF(取引額表!K$54=0,0,取引額表!K48/取引額表!K$54)","v":0.23200559049615654},{"$f":"IF(取引額表!L$54=0,0,取引額表!L48/取引額表!L$54)","v":0.23313315386208325},{"$f":"IF(取引額表!M$54=0,0,取引額表!M48/取引額表!M$54)","v":4.7004760559896483E-2},{"$f":"IF(取引額表!N$54=0,0,取引額表!N48/取引額表!N$54)","v":0.11897253597844161},{"$f":"IF(取引額表!O$54=0,0,取引額表!O48/取引額表!O$54)","v":0.29918044020502699},{"$f":"IF(取引額表!P$54=0,0,取引額表!P48/取引額表!P$54)","v":0.24825330756652297},{"$f":"IF(取引額表!Q$54=0,0,取引額表!Q48/取引額表!Q$54)","v":0.19343739091407769},{"$f":"IF(取引額表!R$54=0,0,取引額表!R48/取引額表!R$54)","v":0.24736842105263157},{"$f":"IF(取引額表!S$54=0,0,取引額表!S48/取引額表!S$54)","v":0.18042903320599471},{"$f":"IF(取引額表!T$54=0,0,取引額表!T48/取引額表!T$54)","v":0.19916683197778218},{"$f":"IF(取引額表!U$54=0,0,取引額表!U48/取引額表!U$54)","v":0.10802238805970149},{"$f":"IF(取引額表!V$54=0,0,取引額表!V48/取引額表!V$54)","v":0.15049342105263158},{"$f":"IF(取引額表!W$54=0,0,取引額表!W48/取引額表!W$54)","v":0.26311884354611742},{"$f":"IF(取引額表!X$54=0,0,取引額表!X48/取引額表!X$54)","v":0.34487844475324353},{"$f":"IF(取引額表!Y$54=0,0,取引額表!Y48/取引額表!Y$54)","v":8.944688929156959E-2},{"$f":"IF(取引額表!Z$54=0,0,取引額表!Z48/取引額表!Z$54)","v":0.12071742513171904},{"$f":"IF(取引額表!AA$54=0,0,取引額表!AA48/取引額表!AA$54)","v":0.48479396527431556},{"$f":"IF(取引額表!AB$54=0,0,取引額表!AB48/取引額表!AB$54)","v":0.39385921276843455},{"$f":"IF(取引額表!AC$54=0,0,取引額表!AC48/取引額表!AC$54)","v":0.32362071228268469},{"$f":"IF(取引額表!AD$54=0,0,取引額表!AD48/取引額表!AD$54)","v":5.7631572529509317E-2},{"$f":"IF(取引額表!AE$54=0,0,取引額表!AE48/取引額表!AE$54)","v":0.300990739041473},{"$f":"IF(取引額表!AF$54=0,0,取引額表!AF48/取引額表!AF$54)","v":0.19856207061830963},{"$f":"IF(取引額表!AG$54=0,0,取引額表!AG48/取引額表!AG$54)","v":0.36182758957336719},{"$f":"IF(取引額表!AH$54=0,0,取引額表!AH48/取引額表!AH$54)","v":0.47399336660363905},{"$f":"IF(取引額表!AI$54=0,0,取引額表!AI48/取引額表!AI$54)","v":0.49481345647452674},{"$f":"IF(取引額表!AJ$54=0,0,取引額表!AJ48/取引額表!AJ$54)","v":0.42581202487906011},{"$f":"IF(取引額表!AK$54=0,0,取引額表!AK48/取引額表!AK$54)","v":0.35185877902061324},{"$f":"IF(取引額表!AL$54=0,0,取引額表!AL48/取引額表!AL$54)","v":0.27309498825763256},{"$f":"IF(取引額表!AM$54=0,0,取引額表!AM48/取引額表!AM$54)","v":0},{"$f":"IF(取引額表!AN$54=0,0,取引額表!AN48/取引額表!AN$54)","v":0},{"$f":"IF(取引額表!AO$54=0,0,取引額表!AO48/取引額表!AO$54)","v":0.2489379581925624}]
[null,"92","営業余剰",{"$f":"IF(取引額表!D$54=0,0,取引額表!D49/取引額表!D$54)","v":0.26879569595806319},{"$f":"IF(取引額表!E$54=0,0,取引額表!E49/取引額表!E$54)","v":0.25},{"$f":"IF(取引額表!F$54=0,0,取引額表!F49/取引額表!F$54)","v":7.8422167806437695E-2},{"$f":"IF(取引額表!G$54=0,0,取引額表!G49/取引額表!G$54)","v":0.11466505733252867},{"$f":"IF(取引額表!H$54=0,0,取引額表!H49/取引額表!H$54)","v":0.16346426881211548},{"$f":"IF(取引額表!I$54=0,0,取引額表!I49/取引額表!I$54)","v":9.1888619854721548E-2},{"$f":"IF(取引額表!J$54=0,0,取引額表!J49/取引額表!J$54)","v":-1.3001344529287907E-2},{"$f":"IF(取引額表!K$54=0,0,取引額表!K49/取引額表!K$54)","v":7.7645779951859614E-3},{"$f":"IF(取引額表!L$54=0,0,取引額表!L49/取引額表!L$54)","v":0.14740111824394284},{"$f":"IF(取引額表!M$54=0,0,取引額表!M49/取引額表!M$54)","v":0.1249337785628979},{"$f":"IF(取引額表!N$54=0,0,取引額表!N49/取引額表!N$54)","v":1.5710108365346025E-2},{"$f":"IF(取引額表!O$54=0,0,取引額表!O49/取引額表!O$54)","v":4.6048844667379324E-2},{"$f":"IF(取引額表!P$54=0,0,取引額表!P49/取引額表!P$54)","v":0.10599078341013825},{"$f":"IF(取引額表!Q$54=0,0,取引額表!Q49/取引額表!Q$54)","v":0.10974916471350921},{"$f":"IF(取引額表!R$54=0,0,取引額表!R49/取引額表!R$54)","v":4.3483709273182958E-2},{"$f":"IF(取引額表!S$54=0,0,取引額表!S49/取引額表!S$54)","v":-8.2280340875697921E-3},{"$f":"IF(取引額表!T$54=0,0,取引額表!T49/取引額表!T$54)","v":4.939496131719897E-2},{"$f":"IF(取引額表!U$54=0,0,取引額表!U49/取引額表!U$54)","v":-2.6492537313432835E-2},{"$f":"IF(取引額表!V$54=0,0,取引額表!V49/取引額表!V$54)","v":0.13240131578947367},{"$f":"IF(取引額表!W$54=0,0,取引額表!W49/取引額表!W$54)","v":5.2066009978252524E-2},{"$f":"IF(取引額表!X$54=0,0,取引額表!X49/取引額表!X$54)","v":2.9880439717678137E-2},{"$f":"IF(取引額表!Y$54=0,0,取引額表!Y49/取引額表!Y$54)","v":2.0281301233928725E-2},{"$f":"IF(取引額表!Z$54=0,0,取引額表!Z49/取引額表!Z$54)","v":0.24765908656602331},{"$f":"IF(取引額表!AA$54=0,0,取引額表!AA49/取引額表!AA$54)","v":6.79340168642837E-2},{"$f":"IF(取引額表!AB$54=0,0,取引額表!AB49/取引額表!AB$54)","v":0.14778584507265857},{"$f":"IF(取引額表!AC$54=0,0,取引額表!AC49/取引額表!AC$54)","v":0.21913258678551437},{"$f":"IF(取引額表!AD$54=0,0,取引額表!AD49/取引額表!AD$54)","v":0.40375938932787048},{"$f":"IF(取引額表!AE$54=0,0,取引額表!AE49/取引額表!AE$54)","v":8.4457969601266572E-2},{"$f":"IF(取引額表!AF$54=0,0,取引額表!AF49/取引額表!AF$54)","v":0.25203174095968472},{"$f":"IF(取引額表!AG$54=0,0,取引額表!AG49/取引額表!AG$54)","v":-3.5471378827817374E-4},{"$f":"IF(取引額表!AH$54=0,0,取引額表!AH49/取引額表!AH$54)","v":9.3245714639967767E-2},{"$f":"IF(取引額表!AI$54=0,0,取引額表!AI49/取引額表!AI$54)","v":3.9719309324443848E-2},{"$f":"IF(取引額表!AJ$54=0,0,取引額表!AJ49/取引額表!AJ$54)","v":0.1474775397373877},{"$f":"IF(取引額表!AK$54=0,0,取引額表!AK49/取引額表!AK$54)","v":0.12384510580321029},{"$f":"IF(取引額表!AL$54=0,0,取引額表!AL49/取引額表!AL$54)","v":0.1043371808324589},{"$f":"IF(取引額表!AM$54=0,0,取引額表!AM49/取引額表!AM$54)","v":3.7477747587369999E-2},{"$f":"IF(取引額表!AN$54=0,0,取引額表!AN49/取引額表!AN$54)","v":8.5716969611572963E-3},{"$f":"IF(取引額表!AO$54=0,0,取引額表!AO49/取引額表!AO$54)","v":0.13291190949837645}]
[null,"93","資本減耗引当",{"$f":"IF(取引額表!D$54=0,0,取引額表!D50/取引額表!D$54)","v":0.14022623810180715},{"$f":"IF(取引額表!E$54=0,0,取引額表!E50/取引額表!E$54)","v":3.125E-2},{"$f":"IF(取引額表!F$54=0,0,取引額表!F50/取引額表!F$54)","v":4.0178514787418955E-2},{"$f":"IF(取引額表!G$54=0,0,取引額表!G50/取引額表!G$54)","v":7.966203983101991E-2},{"$f":"IF(取引額表!H$54=0,0,取引額表!H50/取引額表!H$54)","v":6.6729768102224321E-2},{"$f":"IF(取引額表!I$54=0,0,取引額表!I50/取引額表!I$54)","v":0.13353510895883777},{"$f":"IF(取引額表!J$54=0,0,取引額表!J50/取引額表!J$54)","v":6.6160988355868991E-2},{"$f":"IF(取引額表!K$54=0,0,取引額表!K50/取引額表!K$54)","v":8.9913813184253441E-2},{"$f":"IF(取引額表!L$54=0,0,取引額表!L50/取引額表!L$54)","v":9.840546697038724E-2},{"$f":"IF(取引額表!M$54=0,0,取引額表!M50/取引額表!M$54)","v":5.7461748467446741E-2},{"$f":"IF(取引額表!N$54=0,0,取引額表!N50/取引額表!N$54)","v":3.7325841408176137E-2},{"$f":"IF(取引額表!O$54=0,0,取引額表!O50/取引額表!O$54)","v":8.1873749417536931E-2},{"$f":"IF(取引額表!P$54=0,0,取引額表!P50/取引額表!P$54)","v":8.6368366285119666E-2},{"$f":"IF(取引額表!Q$54=0,0,取引額表!Q50/取引額表!Q$54)","v":0.10938014262205156},{"$f":"IF(取引額表!R$54=0,0,取引額表!R50/取引額表!R$54)","v":0.15651629072681705},{"$f":"IF(取引額表!S$54=0,0,取引額表!S50/取引額表!S$54)","v":0.21863062004114017},{"$f":"IF(取引額表!T$54=0,0,取引額表!T50/取引額表!T$54)","v":0.16762547113667922},{"$f":"IF(取引額表!U$54=0,0,取引額表!U50/取引額表!U$54)","v":0.2294776119402985},{"$f":"IF(取引額表!V$54=0,0,取引額表!V50/取引額表!V$54)","v":8.3881578947368418E-2},{"$f":"IF(取引額表!W$54=0,0,取引額表!W50/取引額表!W$54)","v":8.026096968146347E-2},{"$f":"IF(取引額表!X$54=0,0,取引額表!X50/取引額表!X$54)","v":3.8003384560351114E-2},{"$f":"IF(取引額表!Y$54=0,0,取引額表!Y50/取引額表!Y$54)","v":0.22739839502976961},{"$f":"IF(取引額表!Z$54=0,0,取引額表!Z50/取引額表!Z$54)","v":0.17588927411209085},{"$f":"IF(取引額表!AA$54=0,0,取引額表!AA50/取引額表!AA$54)","v":7.2529425790648777E-2},{"$f":"IF(取引額表!AB$54=0,0,取引額表!AB50/取引額表!AB$54)","v":8.923562968999714E-2},{"$f":"IF(取引額表!AC$54=0,0,取引額表!AC50/取引額表!AC$54)","v":8.0597166832278508E-2},{"$f":"IF(取引額表!AD$54=0,0,取引額表!AD50/取引額表!AD$54)","v":0.32860208760120962},{"$f":"IF(取引額表!AE$54=0,0,取引額表!AE50/取引額表!AE$54)","v":0.12810307849490934},{"$f":"IF(取引額表!AF$54=0,0,取引額表!AF50/取引額表!AF$54)","v":9.9086648559407783E-2},{"$f":"IF(取引額表!AG$54=0,0,取引額表!AG50/取引額表!AG$54)","v":0.33634677340622865},{"$f":"IF(取引額表!AH$54=0,0,取引額表!AH50/取引額表!AH$54)","v":0.18835435975326245},{"$f":"IF(取引額表!AI$54=0,0,取引額表!AI50/取引額表!AI$54)","v":6.003031977444355E-2},{"$f":"IF(取引額表!AJ$54=0,0,取引額表!AJ50/取引額表!AJ$54)","v":5.3386316516931584E-2},{"$f":"IF(取引額表!AK$54=0,0,取引額表!AK50/取引額表!AK$54)","v":0.11903089246939036},{"$f":"IF(取引額表!AL$54=0,0,取引額表!AL50/取引額表!AL$54)","v":9.3913955928646375E-2},{"$f":"IF(取引額表!AM$54=0,0,取引額表!AM50/取引額表!AM$54)","v":0},{"$f":"IF(取引額表!AN$54=0,0,取引額表!AN50/取引額表!AN$54)","v":0},{"$f":"IF(取引額表!AO$54=0,0,取引額表!AO50/取引額表!AO$54)","v":0.12368053977862627}]
[null,"94","間接税（関税・輸入品商品税を除く。）",{"$f":"IF(取引額表!D$54=0,0,取引額表!D51/取引額表!D$54)","v":3.8488067319630295E-2},{"$f":"IF(取引額表!E$54=0,0,取引額表!E51/取引額表!E$54)","v":3.125E-2},{"$f":"IF(取引額表!F$54=0,0,取引額表!F51/取引額表!F$54)","v":3.9150817716989993E-2},{"$f":"IF(取引額表!G$54=0,0,取引額表!G51/取引額表!G$54)","v":4.8883524441762222E-2},{"$f":"IF(取引額表!H$54=0,0,取引額表!H51/取引額表!H$54)","v":3.3980123047799335E-2},{"$f":"IF(取引額表!I$54=0,0,取引額表!I51/取引額表!I$54)","v":1.9309927360774817E-2},{"$f":"IF(取引額表!J$54=0,0,取引額表!J51/取引額表!J$54)","v":5.6825388771912025E-3},{"$f":"IF(取引額表!K$54=0,0,取引額表!K51/取引額表!K$54)","v":3.8279369516266794E-2},{"$f":"IF(取引額表!L$54=0,0,取引額表!L51/取引額表!L$54)","v":2.8950093186995238E-2},{"$f":"IF(取引額表!M$54=0,0,取引額表!M51/取引額表!M$54)","v":1.1808182108490557E-2},{"$f":"IF(取引額表!N$54=0,0,取引額表!N51/取引額表!N$54)","v":7.3963648873344419E-3},{"$f":"IF(取引額表!O$54=0,0,取引額表!O51/取引額表!O$54)","v":2.6341035550804484E-2},{"$f":"IF(取引額表!P$54=0,0,取引額表!P51/取引額表!P$54)","v":8.1760071354244086E-3},{"$f":"IF(取引額表!Q$54=0,0,取引額表!Q51/取引額表!Q$54)","v":7.9289881813195025E-3},{"$f":"IF(取引額表!R$54=0,0,取引額表!R51/取引額表!R$54)","v":1.3408521303258146E-2},{"$f":"IF(取引額表!S$54=0,0,取引額表!S51/取引額表!S$54)","v":1.1019688510138114E-2},{"$f":"IF(取引額表!T$54=0,0,取引額表!T51/取引額表!T$54)","v":7.1414401904384053E-3},{"$f":"IF(取引額表!U$54=0,0,取引額表!U51/取引額表!U$54)","v":2.3320895522388061E-2},{"$f":"IF(取引額表!V$54=0,0,取引額表!V51/取引額表!V$54)","v":5.7565789473684207E-3},{"$f":"IF(取引額表!W$54=0,0,取引額表!W51/取引額表!W$54)","v":3.5026224894460792E-2},{"$f":"IF(取引額表!X$54=0,0,取引額表!X51/取引額表!X$54)","v":3.7194392086182464E-2},{"$f":"IF(取引額表!Y$54=0,0,取引額表!Y51/取引額表!Y$54)","v":3.699715247217189E-2},{"$f":"IF(取引額表!Z$54=0,0,取引額表!Z51/取引額表!Z$54)","v":3.7290819251453687E-2},{"$f":"IF(取引額表!AA$54=0,0,取引額表!AA51/取引額表!AA$54)","v":2.0592634339843496E-2},{"$f":"IF(取引額表!AB$54=0,0,取引額表!AB51/取引額表!AB$54)","v":4.1492914069197633E-2},{"$f":"IF(取引額表!AC$54=0,0,取引額表!AC51/取引額表!AC$54)","v":2.2356259190117928E-2},{"$f":"IF(取引額表!AD$54=0,0,取引額表!AD51/取引額表!AD$54)","v":4.9345795532143202E-2},{"$f":"IF(取引額表!AE$54=0,0,取引額表!AE51/取引額表!AE$54)","v":4.5617273974816547E-2},{"$f":"IF(取引額表!AF$54=0,0,取引額表!AF51/取引額表!AF$54)","v":2.9237897427704107E-2},{"$f":"IF(取引額表!AG$54=0,0,取引額表!AG51/取引額表!AG$54)","v":1.6824498031175763E-3},{"$f":"IF(取引額表!AH$54=0,0,取引額表!AH51/取引額表!AH$54)","v":1.4320696816589691E-2},{"$f":"IF(取引額表!AI$54=0,0,取引額表!AI51/取引額表!AI$54)","v":1.4502081701469639E-2},{"$f":"IF(取引額表!AJ$54=0,0,取引額表!AJ51/取引額表!AJ$54)","v":3.0027643400138217E-2},{"$f":"IF(取引額表!AK$54=0,0,取引額表!AK51/取引額表!AK$54)","v":5.0201023058348386E-2},{"$f":"IF(取引額表!AL$54=0,0,取引額表!AL51/取引額表!AL$54)","v":4.5780242842152603E-2},{"$f":"IF(取引額表!AM$54=0,0,取引額表!AM51/取引額表!AM$54)","v":0},{"$f":"IF(取引額表!AN$54=0,0,取引額表!AN51/取引額表!AN$54)","v":0},{"$f":"IF(取引額表!AO$54=0,0,取引額表!AO51/取引額表!AO$54)","v":3.0254789604299684E-2}]
[null,"95","（控除）経常補助金",{"$f":"IF(取引額表!D$54=0,0,取引額表!D52/取引額表!D$54)","v":-0.1108428748792937},{"$f":"IF(取引額表!E$54=0,0,取引額表!E52/取引額表!E$54)","v":0},{"$f":"IF(取引額表!F$54=0,0,取引額表!F52/取引額表!F$54)","v":-5.3605186698301131E-3},{"$f":"IF(取引額表!G$54=0,0,取引額表!G52/取引額表!G$54)","v":0},{"$f":"IF(取引額表!H$54=0,0,取引額表!H52/取引額表!H$54)","v":0},{"$f":"IF(取引額表!I$54=0,0,取引額表!I52/取引額表!I$54)","v":0},{"$f":"IF(取引額表!J$54=0,0,取引額表!J52/取引額表!J$54)","v":0},{"$f":"IF(取引額表!K$54=0,0,取引額表!K52/取引額表!K$54)","v":0},{"$f":"IF(取引額表!L$54=0,0,取引額表!L52/取引額表!L$54)","v":0},{"$f":"IF(取引額表!M$54=0,0,取引額表!M52/取引額表!M$54)","v":0},{"$f":"IF(取引額表!N$54=0,0,取引額表!N52/取引額表!N$54)","v":0},{"$f":"IF(取引額表!O$54=0,0,取引額表!O52/取引額表!O$54)","v":0},{"$f":"IF(取引額表!P$54=0,0,取引額表!P52/取引額表!P$54)","v":0},{"$f":"IF(取引額表!Q$54=0,0,取引額表!Q52/取引額表!Q$54)","v":0},{"$f":"IF(取引額表!R$54=0,0,取引額表!R52/取引額表!R$54)","v":0},{"$f":"IF(取引額表!S$54=0,0,取引額表!S52/取引額表!S$54)","v":0},{"$f":"IF(取引額表!T$54=0,0,取引額表!T52/取引額表!T$54)","v":0},{"$f":"IF(取引額表!U$54=0,0,取引額表!U52/取引額表!U$54)","v":0},{"$f":"IF(取引額表!V$54=0,0,取引額表!V52/取引額表!V$54)","v":0},{"$f":"IF(取引額表!W$54=0,0,取引額表!W52/取引額表!W$54)","v":0},{"$f":"IF(取引額表!X$54=0,0,取引額表!X52/取引額表!X$54)","v":-4.0394590206788384E-3},{"$f":"IF(取引額表!Y$54=0,0,取引額表!Y52/取引額表!Y$54)","v":-6.1092415221330576E-4},{"$f":"IF(取引額表!Z$54=0,0,取引額表!Z52/取引額表!Z$54)","v":-3.9911550326226418E-2},{"$f":"IF(取引額表!AA$54=0,0,取引額表!AA52/取引額表!AA$54)","v":0},{"$f":"IF(取引額表!AB$54=0,0,取引額表!AB52/取引額表!AB$54)","v":-4.8686007006551441E-4},{"$f":"IF(取引額表!AC$54=0,0,取引額表!AC52/取引額表!AC$54)","v":-1.9862707338434715E-2},{"$f":"IF(取引額表!AD$54=0,0,取引額表!AD52/取引額表!AD$54)","v":-2.4387864598575748E-4},{"$f":"IF(取引額表!AE$54=0,0,取引額表!AE52/取引額表!AE$54)","v":-2.3857719245865988E-3},{"$f":"IF(取引額表!AF$54=0,0,取引額表!AF52/取引額表!AF$54)","v":-5.3256643766309845E-6},{"$f":"IF(取引額表!AG$54=0,0,取引額表!AG52/取引額表!AG$54)","v":0},{"$f":"IF(取引額表!AH$54=0,0,取引額表!AH52/取引額表!AH$54)","v":-5.2695204736368994E-3},{"$f":"IF(取引額表!AI$54=0,0,取引額表!AI52/取引額表!AI$54)","v":-1.0409519356686442E-2},{"$f":"IF(取引額表!AJ$54=0,0,取引額表!AJ52/取引額表!AJ$54)","v":-1.5411195577055978E-2},{"$f":"IF(取引額表!AK$54=0,0,取引額表!AK52/取引額表!AK$54)","v":-4.4097342602898865E-5},{"$f":"IF(取引額表!AL$54=0,0,取引額表!AL52/取引額表!AL$54)","v":0},{"$f":"IF(取引額表!AM$54=0,0,取引額表!AM52/取引額表!AM$54)","v":0},{"$f":"IF(取引額表!AN$54=0,0,取引額表!AN52/取引額表!AN$54)","v":0},{"$f":"IF(取引額表!AO$54=0,0,取引額表!AO52/取引額表!AO$54)","v":-3.0588921216325926E-3}]
[null,"96","粗付加価値部門計",{"$f":"IF(取引額表!D$54=0,0,取引額表!D53/取引額表!D$54)","v":0.52745206235342801},{"$f":"IF(取引額表!E$54=0,0,取引額表!E53/取引額表!E$54)","v":0.375},{"$f":"IF(取引額表!F$54=0,0,取引額表!F53/取引額表!F$54)","v":0.26695700166207798},{"$f":"IF(取引額表!G$54=0,0,取引額表!G53/取引額表!G$54)","v":0.51478575739287868},{"$f":"IF(取引額表!H$54=0,0,取引額表!H53/取引額表!H$54)","v":0.46374822527212495},{"$f":"IF(取引額表!I$54=0,0,取引額表!I53/取引額表!I$54)","v":0.36355932203389829},{"$f":"IF(取引額表!J$54=0,0,取引額表!J53/取引額表!J$54)","v":8.1889444176666076E-2},{"$f":"IF(取引額表!K$54=0,0,取引額表!K53/取引額表!K$54)","v":0.38628775526050158},{"$f":"IF(取引額表!L$54=0,0,取引額表!L53/取引額表!L$54)","v":0.52685856284945121},{"$f":"IF(取引額表!M$54=0,0,取引額表!M53/取引額表!M$54)","v":0.24911720132978182},{"$f":"IF(取引額表!N$54=0,0,取引額表!N53/取引額表!N$54)","v":0.18771859411730979},{"$f":"IF(取引額表!O$54=0,0,取引額表!O53/取引額表!O$54)","v":0.47191842776087495},{"$f":"IF(取引額表!P$54=0,0,取引額表!P53/取引額表!P$54)","v":0.46082949308755761},{"$f":"IF(取引額表!Q$54=0,0,取引額表!Q53/取引額表!Q$54)","v":0.42826509749164715},{"$f":"IF(取引額表!R$54=0,0,取引額表!R53/取引額表!R$54)","v":0.47756892230576442},{"$f":"IF(取引額表!S$54=0,0,取引額表!S53/取引額表!S$54)","v":0.42183367616808698},{"$f":"IF(取引額表!T$54=0,0,取引額表!T53/取引額表!T$54)","v":0.44663757191033526},{"$f":"IF(取引額表!U$54=0,0,取引額表!U53/取引額表!U$54)","v":0.37350746268656715},{"$f":"IF(取引額表!V$54=0,0,取引額表!V53/取引額表!V$54)","v":0.37993421052631576},{"$f":"IF(取引額表!W$54=0,0,取引額表!W53/取引額表!W$54)","v":0.44674427529742866},{"$f":"IF(取引額表!X$54=0,0,取引額表!X53/取引額表!X$54)","v":0.46774899219900112},{"$f":"IF(取引額表!Y$54=0,0,取引額表!Y53/取引額表!Y$54)","v":0.38533091724911556},{"$f":"IF(取引額表!Z$54=0,0,取引額表!Z53/取引額表!Z$54)","v":0.5530561546231334},{"$f":"IF(取引額表!AA$54=0,0,取引額表!AA53/取引額表!AA$54)","v":0.669867556846509},{"$f":"IF(取引額表!AB$54=0,0,取引額表!AB53/取引額表!AB$54)","v":0.69519384439528809},{"$f":"IF(取引額表!AC$54=0,0,取引額表!AC53/取引額表!AC$54)","v":0.65899941879618495},{"$f":"IF(取引額表!AD$54=0,0,取引額表!AD53/取引額表!AD$54)","v":0.84297416105745782},{"$f":"IF(取引額表!AE$54=0,0,取引額表!AE53/取引額表!AE$54)","v":0.58000827213686823},{"$f":"IF(取引額表!AF$54=0,0,取引額表!AF53/取引額表!AF$54)","v":0.59403259306598499},{"$f":"IF(取引額表!AG$54=0,0,取引額表!AG53/取引額表!AG$54)","v":0.7101272413680888},{"$f":"IF(取引額表!AH$54=0,0,取引額表!AH53/取引額表!AH$54)","v":0.77332692724962027},{"$f":"IF(取引額表!AI$54=0,0,取引額表!AI53/取引額表!AI$54)","v":0.61189474302068347},{"$f":"IF(取引額表!AJ$54=0,0,取引額表!AJ53/取引額表!AJ$54)","v":0.67294402211472015},{"$f":"IF(取引額表!AK$54=0,0,取引額表!AK53/取引額表!AK$54)","v":0.660050544678211},{"$f":"IF(取引額表!AL$54=0,0,取引額表!AL53/取引額表!AL$54)","v":0.53921201219207515},{"$f":"IF(取引額表!AM$54=0,0,取引額表!AM53/取引額表!AM$54)","v":3.7477747587369999E-2},{"$f":"IF(取引額表!AN$54=0,0,取引額表!AN53/取引額表!AN$54)","v":0},{"$f":"IF(取引額表!AO$54=0,0,取引額表!AO53/取引額表!AO$54)","v":0.54722682976415082}]
[null,"97","市内生産額",{"$f":"IF(取引額表!D$54=0,0,取引額表!D54/取引額表!D$54)","v":1},{"$f":"IF(取引額表!E$54=0,0,取引額表!E54/取引額表!E$54)","v":1},{"$f":"IF(取引額表!F$54=0,0,取引額表!F54/取引額表!F$54)","v":1},{"$f":"IF(取引額表!G$54=0,0,取引額表!G54/取引額表!G$54)","v":1},{"$f":"IF(取引額表!H$54=0,0,取引額表!H54/取引額表!H$54)","v":1},{"$f":"IF(取引額表!I$54=0,0,取引額表!I54/取引額表!I$54)","v":1},{"$f":"IF(取引額表!J$54=0,0,取引額表!J54/取引額表!J$54)","v":1},{"$f":"IF(取引額表!K$54=0,0,取引額表!K54/取引額表!K$54)","v":1},{"$f":"IF(取引額表!L$54=0,0,取引額表!L54/取引額表!L$54)","v":1},{"$f":"IF(取引額表!M$54=0,0,取引額表!M54/取引額表!M$54)","v":1},{"$f":"IF(取引額表!N$54=0,0,取引額表!N54/取引額表!N$54)","v":1},{"$f":"IF(取引額表!O$54=0,0,取引額表!O54/取引額表!O$54)","v":1},{"$f":"IF(取引額表!P$54=0,0,取引額表!P54/取引額表!P$54)","v":1},{"$f":"IF(取引額表!Q$54=0,0,取引額表!Q54/取引額表!Q$54)","v":1},{"$f":"IF(取引額表!R$54=0,0,取引額表!R54/取引額表!R$54)","v":1},{"$f":"IF(取引額表!S$54=0,0,取引額表!S54/取引額表!S$54)","v":1},{"$f":"IF(取引額表!T$54=0,0,取引額表!T54/取引額表!T$54)","v":1},{"$f":"IF(取引額表!U$54=0,0,取引額表!U54/取引額表!U$54)","v":1},{"$f":"IF(取引額表!V$54=0,0,取引額表!V54/取引額表!V$54)","v":1},{"$f":"IF(取引額表!W$54=0,0,取引額表!W54/取引額表!W$54)","v":1},{"$f":"IF(取引額表!X$54=0,0,取引額表!X54/取引額表!X$54)","v":1},{"$f":"IF(取引額表!Y$54=0,0,取引額表!Y54/取引額表!Y$54)","v":1},{"$f":"IF(取引額表!Z$54=0,0,取引額表!Z54/取引額表!Z$54)","v":1},{"$f":"IF(取引額表!AA$54=0,0,取引額表!AA54/取引額表!AA$54)","v":1},{"$f":"IF(取引額表!AB$54=0,0,取引額表!AB54/取引額表!AB$54)","v":1},{"$f":"IF(取引額表!AC$54=0,0,取引額表!AC54/取引額表!AC$54)","v":1},{"$f":"IF(取引額表!AD$54=0,0,取引額表!AD54/取引額表!AD$54)","v":1},{"$f":"IF(取引額表!AE$54=0,0,取引額表!AE54/取引額表!AE$54)","v":1},{"$f":"IF(取引額表!AF$54=0,0,取引額表!AF54/取引額表!AF$54)","v":1},{"$f":"IF(取引額表!AG$54=0,0,取引額表!AG54/取引額表!AG$54)","v":1},{"$f":"IF(取引額表!AH$54=0,0,取引額表!AH54/取引額表!AH$54)","v":1},{"$f":"IF(取引額表!AI$54=0,0,取引額表!AI54/取引額表!AI$54)","v":1},{"$f":"IF(取引額表!AJ$54=0,0,取引額表!AJ54/取引額表!AJ$54)","v":1},{"$f":"IF(取引額表!AK$54=0,0,取引額表!AK54/取引額表!AK$54)","v":1},{"$f":"IF(取引額表!AL$54=0,0,取引額表!AL54/取引額表!AL$54)","v":1},{"$f":"IF(取引額表!AM$54=0,0,取引額表!AM54/取引額表!AM$54)","v":1},{"$f":"IF(取引額表!AN$54=0,0,取引額表!AN54/取引額表!AN$54)","v":1},{"$f":"IF(取引額表!AO$54=0,0,取引額表!AO54/取引額表!AO$54)","v":1}]

{"sheet":"逆行列","index":5,"n_rows":45,"n_cols":40,"rows_kept":45,"cut":false,"hidden":true,"merged":[]}
[]
[]
[]
[]
[]
[]
[null,null,null,"01","06","11","15","16","20","21","22","25","26","27","28","29","30","31","32","33","34","35","39","41","46","47","48","51","53","55","57","59","61","63","64","65","66","67","68","69"]
[null,null,null,"農林漁業","鉱業","飲食料品","繊維製品","パルプ・紙・木製品","化学製品","石油・石炭製品","プラスチック・ゴム製品","窯業・土石製品","鉄鋼","非鉄金属","金属製品","はん用機械","生産用機械","業務用機械","電子部品","電気機械","情報通信機器","輸送機械","その他の製造工業製品","建設","電力・ガス・熱供給","水道","廃棄物処理","商業","金融・保険","不動産","運輸・郵便","情報通信","公務","教育・研究","医療・福祉","他に分類されない会員制団体","対事業所サービス","対個人サービス","事務用品","分類不明"]
[null,"01","農林漁業",{"$f":"MINVERSE(単位行列マイナス市内品投入係数!D9:AN45)","v":1.0055912937718634},2.7115194342227961E-6,1.979955977096003E-2,1.7767263820108259E-4,3.6476323231839531E-4,7.2844365025638387E-5,1.1085023135730246E-5,4.5524224436521024E-5,1.6036456395892074E-5,7.5233799933511828E-6,1.5590193284286412E-5,3.7798944757875721E-6,2.5601143720987284E-6,3.3472519036779908E-6,4.6437936760555728E-6,4.4382778574440782E-6,3.9273768051401165E-6,5.1374081953462149E-6,1.4395668410231099E-6,1.6252674868092929E-3,6.1949694997954152E-5,7.2296183538108242E-6,7.1135995825850037E-6,4.950657679824076E-6,1.5350210992123767E-5,1.2567279535289532E-5,2.7359615657946498E-6,6.1317648341467337E-6,1.9867555149179429E-5,1.0988638092099687E-5,1.5998195152809355E-4,1.9748303533691404E-4,1.338933504721123E-4,8.8574177152767529E-6,2.0262497925006839E-3,1.0286299362436176E-4,1.6689803205299294E-5]
[null,"06","鉱業",1.0025990108733691E-6,1.0000024032930694,1.3818480746932373E-6,1.0439001862970823E-6,1.7485365103857574E-6,5.0546089846927131E-6,1.0887749315126494E-4,1.8591520022502907E-6,1.1505214493661552E-5,2.1070342454647179E-5,1.8330796832208284E-6,5.3273404916868677E-6,2.2494900631970536E-6,2.1442725678608485E-6,1.0726619094054627E-6,1.8610278831591235E-6,1.1874055312156443E-6,5.3297086554878217E-7,1.8017964174514197E-6,2.0451175020371393E-6,2.5199332334773907E-6,4.8030002313051646E-5,3.0348411356030713E-6,4.7321762124693061E-6,1.6368638272638126E-6,6.5625176219100773E-7,3.4682686035634616E-7,5.4347491459321815E-6,5.4940817484068707E-7,1.5048606124530081E-6,1.5178264861088391E-6,1.1067706843864062E-6,6.5348712812946843E-7,5.9575981440383037E-7,2.4737411944656846E-6,7.5014964283010817E-7,8.5083775082801636E-6]
[null,"11","飲食料品",2.8431367870311128E-2,2.0558121862599502E-5,1.0585038766185735,2.3319690520482488E-4,1.1178579536827648E-4,2.4486729366538489E-3,7.3555006258315019E-6,2.5329649304775132E-5,3.5200752486775613E-4,1.2851174374321414E-5,1.2983922009477832E-5,1.3452874424023713E-5,1.3537445619957417E-5,1.7669346434045066E-5,1.1527080866159987E-5,1.2803919501403149E-5,1.7283548889825891E-5,1.2977286356802131E-5,8.9440114808375389E-6,4.7140961745565263E-4,3.4298650343352355E-5,1.5935885633548911E-5,2.9294105694481563E-5,2.3928538388342441E-5,9.5937146636191281E-5,3.2262298091359861E-5,2.3784785656179696E-5,4.6489642339341244E-5,2.2986186938053454E-4,1.2213005476627495E-4,1.9995151055999371E-3,2.8913475120857469E-3,4.9588090496098427E-4,5.7922964903867417E-5,4.5935351737475989E-2,5.0429754911721135E-5,4.8667181281420515E-4]
[null,"15","繊維製品",1.7135372506454435E-5,5.8694934694644834E-6,9.4441409685512138E-6,1.0010662380853441,2.3999943226468321E-5,4.5359471152382085E-6,2.0305333787916654E-6,1.354920483209795E-5,1.4284847437452328E-5,3.5445638931954356E-6,2.8177169361725183E-6,6.6331301691430399E-6,4.5156884467006636E-6,5.3425697223144927E-6,6.2847575698490769E-6,2.4167951933334426E-5,6.1769461870599928E-6,4.672044305104808E-6,1.7094837742126086E-6,1.2359415114617114E-5,1.8886317830976732E-5,3.2859447328410751E-6,7.5053997041321515E-6,1.1964660356098993E-5,2.3419308013026391E-5,1.0031578026523221E-5,1.4185004945335699E-6,1.3273131365415477E-5,7.1279036170777278E-6,1.9136920232931083E-5,4.7340085440464271E-6,1.7247870967979639E-5,9.4254407851080568E-5,1.2977201998638471E-5,2.0329884429567023E-5,9.9085327048673588E-5,3.3295868497711688E-5]
[null,"16","パルプ・紙・木製品",5.0779413277016357E-3,4.874073586209401E-4,2.0503989473089177E-3,1.216615459110516E-3,1.0447446119871746,1.1804921884609599E-3,2.2045417080757742E-4,1.409886517902249E-3,1.7956418008633539E-3,3.3250639909586697E-4,7.2624797845663989E-4,7.1849111056395212E-4,3.2239576330679121E-4,3.9510996631198593E-4,2.2617802183986617E-3,9.7812145106903432E-4,1.7993651124436742E-3,1.6173168876536807E-3,1.4679494688341746E-4,1.3375996024311179E-2,1.0636453610830994E-2,6.2578289203843126E-4,1.2161193978429692E-3,1.1636975779819475E-3,1.9942188679375967E-3,1.5695842211495812E-3,3.4428181953156326E-4,1.1022112782137841E-3,2.5580279785417889E-3,8.3289221738099125E-4,1.5569936327789983E-3,1.5425220894697133E-3,3.6440040745652608E-3,1.03854996584527E-3,1.6981363874284455E-3,8.0336319090636141E-2,1.5471422263207307E-3]
[null,"20","化学製品",2.3545382162206115E-3,1.3751140670244026E-5,3.2307372514144792E-4,2.0518914848310387E-3,9.4575725122145735E-4,1.0113997388077132,-3.3777427516717745E-5,5.8182179068028443E-3,1.3280049777845868E-3,1.9489264771094397E-4,1.0659782302106946E-4,3.2783322819124333E-4,9.2502987350670871E-5,1.3538781534665846E-4,4.8575832027063313E-4,4.047533010985596E-4,3.0343979234321303E-4,2.7038690039260808E-4,3.4614276231151255E-4,7.7531720984797871E-4,2.0280802623408328E-4,5.6470075388649967E-5,2.7934762405661584E-4,4.3509173940163012E-4,2.1697938953915148E-5,2.7910708019005656E-5,8.9452775270075615E-6,3.1096498784776579E-5,6.0661612545477083E-5,5.4337925885693288E-5,1.521811505955038E-4,3.9852965990996728E-3,8.1792865029244258E-5,1.5827687600382498E-4,2.5198970802434368E-4,3.8931315455831842E-4,1.2454165676087579E-4]
[null,"21","石油・石炭製品",4.447340778847373E-3,1.9550731743752461E-2,5.379314678555399E-3,1.314010395349991E-3,3.2420584200937822E-3,7.3914624976796454E-3,1.0418920287872242,2.2258277977493107E-3,1.4371499841951225E-2,2.6189483830007795E-2,2.5583506916405708E-3,8.0073379448014331E-3,3.5518236101839164E-3,3.7142013647864995E-3,2.4430665034499738E-3,2.1880826035772195E-3,2.3641710246257133E-3,1.1331304723528656E-3,2.2871995868188276E-3,7.5549816245907547E-3,9.2961431052665678E-3,2.0058546236594813E-2,9.1786832508359249E-3,1.1662053937494624E-2,3.9115415098958366E-3,2.4670437223788116E-3,8.563838224535077E-4,4.4211554553190563E-2,1.8764268953040215E-3,7.516125564324537E-3,4.2184762012892731E-3,2.7660656388191038E-3,3.2879932765598665E-3,2.41967532105358E-3,5.6984109953232944E-3,2.9102338823563663E-3,7.4955184148460086E-2]
[null,"22","プラスチック・ゴム製品",2.0828922382941413E-4,4.4127099365072085E-5,2.3357388729513526E-4,3.6124198885810526E-4,4.8363861298511541E-4,2.2891901172656949E-4,1.8615815380468074E-5,1.0054577206998518,1.0927034026408228E-4,4.0238604944716401E-5,4.442947124641812E-5,8.3825044908971376E-5,3.8204096499627326E-4,8.0635900550960816E-4,1.4749623988666587E-3,6.2352966507444522E-4,8.2697143557561488E-4,4.9779342603433949E-4,7.6144571993093835E-4,9.4669055644358026E-4,3.3733527839356029E-4,3.3573036155063025E-5,8.9311306667500998E-4,3.2891077164606591E-4,1.6099188705447494E-4,1.0453134603916465E-4,2.9210363037824005E-5,9.978796120899029E-5,1.4713806474661082E-4,8.4783554361937626E-5,9.0742144350441112E-5,7.7231505761814082E-5,1.8067370006600631E-4,2.197757657460066E-4,1.1612269470208816E-4,1.1712284530877189E-3,1.678735153490137E-4]
[null,"25","窯業・土石製品",1.2683342187935764E-4,2.1351906080749756E-5,5.0380824766745137E-5,6.2053084392273602E-5,2.9190690423426318E-4,3.9518134264291999E-4,6.387418329237396E-5,2.6979834079606608E-4,1.005689943107974,3.4212621579487237E-4,9.2460439170634353E-5,3.1613846491598921E-4,5.8575405113229324E-4,2.1545610490488203E-4,5.9937775193918356E-4,2.4087149682860418E-3,4.8885185042015183E-4,3.0375113454312664E-4,3.0925569114354811E-5,2.5667518991529518E-4,4.1793337055543505E-3,8.5997772534984697E-5,4.7339851174408432E-4,6.8020001165217339E-5,4.3691036653182814E-5,2.8573016396965263E-5,4.6882603291943721E-5,4.8284686879064268E-5,2.6890833615560703E-5,6.3828975366455733E-5,1.7811317095765318E-4,8.9384621138605052E-5,3.9375558586056541E-5,6.7241513861117179E-5,1.2861984818599663E-4,4.3821268542689373E-4,1.9862538419235755E-4]
[null,"26","鉄鋼",3.1985030136843254E-4,2.83656817900892E-4,3.3090041780854061E-4,1.8806929952417921E-4,2.5717276372394196E-2,1.0780551264539082E-3,2.0893183624922984E-4,2.5431824316209583E-3,1.2547993793803062E-2,1.5792079755941828,2.2816448620681645E-4,0.28647288117163128,0.11230447982329955,0.10838920449436404,1.7360912613071624E-2,5.4721678721834045E-3,3.9440736345238037E-2,7.9977221235598799E-3,7.5912207299727391E-2,2.7434261629014993E-3,3.1611524006381286E-2,6.8951986296783086E-4,1.1126926175024504E-3,3.2016869066152587E-4,4.4494257331649094E-4,2.7246392624177151E-4,3.4379666926613893E-4,6.4145470580748187E-4,2.9092918922395139E-4,6.7931226578053631E-4,3.1388307349280764E-4,2.2784965251908804E-4,3.5781220619161526E-4,7.0372161702061075E-4,4.1288501480542689E-4,2.2613722202565229E-3,2.7423224640556738E-3]
[null,"27","非鉄金属",1.6465783644019937E-6,1.0456682045189634E-6,1.0335615252448113E-5,1.9848311798213058E-6,6.1631286542733802E-5,8.573724646161778E-5,1.809722582593103E-6,2.4810882274564138E-5,1.2582184654835705E-4,1.877045716322881E-4,1.0066924833826496,4.8485765862242591E-4,3.826644266773547E-4,2.1077710538335156E-4,7.5550521969247738E-4,5.5772705703084386E-4,7.4899159338345767E-4,3.3572790456314701E-4,2.39951106635964E-4,1.9157377900184659E-4,1.031980221149174E-4,6.3084600226303787E-6,6.6023188201655182E-6,2.2176052618223568E-6,2.2983079567559974E-6,2.6100424652573902E-6,1.3762354749860721E-6,2.3646489284678678E-6,3.0273411958895771E-6,5.0293876300077155E-6,2.7646749703424465E-6,1.4343951138474674E-5,5.2964923293757155E-6,7.8048309781779427E-6,5.738249051158477E-6,2.7652711323090049E-5,2.001333498590406E-5]
[null,"28","金属製品",3.848849727963406E-4,2.4002662826450957E-4,6.9455489146296855E-4,2.6319950568110114E-4,6.4020953665589724E-3,3.1712559215077594E-3,4.2997261400768365E-4,1.2359725248366742E-3,2.8395324973848426E-3,2.2439438778761419E-4,2.9536340031494009E-4,1.0107048863899344,5.6755646403102459E-3,7.6790934288784385E-3,4.587058399448854E-3,3.884037177845683E-3,8.2373602763936276E-3,2.8131104570158867E-3,2.6215628916561409E-3,1.9033232961730997E-3,1.9996269657160323E-2,5.6881997633938448E-4,7.9120122507411034E-4,2.3247755672328678E-4,7.8175846775063338E-4,1.8741156736366135E-4,2.7044080123179922E-4,5.4279044430783859E-4,2.2566036840664837E-4,1.1606724610243987E-3,2.1760948858418023E-4,2.2330306807611457E-4,5.4675234520660653E-4,3.812428678946135E-4,7.5410649498117534E-4,8.376873240733112E-4,1.4934092058796606E-3]
[null,"29","はん用機械",7.095133576406225E-6,1.0098868255121347E-5,6.9967990488845476E-6,7.02516630465782E-6,5.4911961433110252E-5,9.7745548693390369E-6,4.3768291627015659E-6,2.0792663715475751E-5,4.3732849841016252E-5,5.9155785647344914E-6,5.4918256814880883E-6,4.189476512407517E-5,1.0049788117384026,1.1066058427893649E-3,1.6079685022934463E-4,7.4557644117110951E-5,1.0547106873019044E-4,3.4686117065742259E-5,3.1405322284067154E-4,1.3702346838582669E-5,2.2991638376305826E-4,1.8428151005811402E-5,3.3908871610705454E-4,1.6779928529738107E-5,1.7615766007539791E-5,2.236650089860901E-5,8.3193066737955275E-6,2.283733778555163E-5,2.7914016784906483E-5,2.8032205413622827E-5,1.5310057100733532E-5,1.2348357040276912E-5,1.3405438121764394E-5,2.2875786655352751E-4,1.2984987736166619E-5,9.6722467328750215E-6,2.0108164397005399E-5]
[null,"30","生産用機械",7.9586956075049405E-5,1.0756124810017259E-4,7.9047960273481802E-5,8.51672266268906E-5,1.2887782230750581E-4,1.061079307195024E-4,3.9209376381361655E-5,8.5922070786862846E-4,4.9984820700148291E-4,5.555668712217669E-5,7.2360555637795897E-5,2.995041586513809E-4,1.8538517638033826E-3,1.0512249863994765,1.7263980500928469E-4,1.1099458118928405E-3,8.0909597484088262E-4,3.7237593658510563E-4,5.9301717658688194E-5,1.3683684563900073E-4,2.4293169708622286E-4,1.8841745994347664E-4,3.6902605512230288E-4,1.7026210229103685E-4,2.0752231419061254E-4,2.7689935494631116E-4,8.1567195346841012E-5,2.4323641951200491E-4,3.5056607827260191E-4,2.1403560430113491E-4,1.4734490789733694E-4,1.3278103647155172E-4,1.5977345589403603E-4,3.0221551385157248E-3,1.1988448773678197E-4,7.412507337902726E-5,2.5086633660196904E-4]
[null,"31","業務用機械",5.5487056211552691E-5,4.5833150357174634E-6,6.1236261848190294E-6,5.0256532638634014E-6,5.5298007119083866E-6,5.0850499879006397E-6,2.0273479259720501E-6,5.0231966970152693E-6,6.7854475146586567E-6,2.8227902110056866E-6,3.5500160545621346E-6,4.6260074895285983E-6,7.9905799154963384E-5,1.6696351740030837E-4,1.0016308827036835,5.7334727842654294E-6,2.9805680512774065E-5,1.3566640083875163E-5,3.1873774633911664E-6,9.6993758549278845E-6,1.5645565576553297E-5,7.2368707389372602E-6,1.3610250106193146E-5,9.1780591792686302E-6,3.433129332715752E-5,1.2430899550002535E-5,3.3632422306270178E-6,1.036459838905183E-5,1.5138701266470515E-5,8.2312386559452044E-5,7.580654039584268E-6,2.5795899451573216E-4,9.0815914016525424E-6,1.0469317148560609E-4,2.7896016161124869E-5,5.9710236351151144E-4,1.8757900645849567E-5]
[null,"32","電子部品",8.9291704125626426E-5,1.1030014175430014E-4,8.6803388450507982E-5,8.6630143291646915E-5,9.9719021676878783E-5,1.0805891536749944E-4,4.0877676139404829E-5,9.9393525558337235E-5,1.5494088544501703E-4,5.4727286576418066E-5,6.132327017316827E-5,1.0548829479426546E-4,3.7423861654140018E-3,8.2542144710507411E-4,2.6037795692768716E-2,1.0629672559018473,3.4070987261405727E-2,9.6339185641675359E-2,3.568633605040315E-3,3.0310072998794178E-4,3.3541010412588415E-4,1.8671063613975676E-4,3.1775064468545709E-4,1.9798553080691586E-4,2.3444609941832109E-4,3.2272596138491238E-4,8.7370278842638838E-5,2.4943008774867045E-4,5.942678636963937E-4,7.4480658877726564E-4,3.4643204901928666E-4,1.6305619572719662E-4,2.0428455787931222E-4,2.9246750848240513E-3,1.4219009833907228E-4,8.640961105685005E-3,3.0244929686985437E-4]
[null,"33","電気機械",1.0081179010253702E-5,1.4916933632586949E-5,9.9612090310700664E-6,1.0422505128875766E-5,1.5927543110432158E-5,1.3215808571341363E-5,5.3429852079874894E-6,1.3004995344416862E-5,2.325564572630517E-5,8.2485749234542281E-6,8.077138189091713E-6,2.3789295162994458E-5,6.96994789676384E-4,9.5191919340492594E-4,5.0799131193139245E-4,9.5356448012312654E-4,1.0036932224840887,4.7497114335013523E-4,1.1023808856073178E-3,3.2422519631832371E-5,4.1903792763962639E-4,2.6521024385900989E-5,5.1731473365411156E-5,2.0771310371400969E-5,3.3568504298838353E-5,3.0542141014011435E-5,1.2632394627134741E-5,3.3732794951482471E-5,4.1948582590490816E-5,1.0710792148622801E-4,4.131991986203042E-5,1.8833746107755616E-5,1.8090649101627989E-5,3.0730570525636607E-4,2.2303934759663364E-5,1.8244512246087704E-5,6.7227739508215459E-5]
[null,"34","情報通信機器",1.7885506470918701E-7,2.8679092937563388E-7,1.9724846067909508E-7,1.8308648049513679E-7,1.9046454334963928E-7,1.9855967985549727E-7,8.6538913327661269E-8,1.9197906558182013E-7,2.685442803109503E-7,1.2831028432536236E-7,1.3808432650288531E-7,2.5892949506309016E-7,6.7413960909444997E-6,1.854882402302864E-6,1.5933665569301158E-7,2.0735416507520153E-7,1.7651611431162388E-7,1.0000679102611638,2.2384854445656329E-6,2.7489165015381636E-7,4.8040725025736224E-6,3.5496648149020994E-7,5.533521385856122E-7,3.392051129652062E-7,1.1078694419689746E-6,7.6319615951730684E-7,3.5525376696766956E-7,6.4854211011835145E-7,1.0057737150265717E-6,4.2514546797251351E-6,4.1787154394171308E-7,3.2323880898615074E-7,2.7239480720051E-7,3.6971958087132983E-6,6.2728729129561468E-7,2.6312598862180112E-7,9.1099765173864586E-7]
[null,"35","輸送機械",1.1224895842208472E-5,6.1547246987229062E-5,1.2385737390176554E-5,7.5705131971071786E-6,1.0464075495340401E-5,9.6337204290307381E-6,6.4682739805401186E-6,8.7255974052484718E-6,1.6326696173694761E-5,7.3909038158329144E-6,7.2415907497228974E-6,9.9656641839315528E-6,1.1124311411326536E-5,2.3673492452771041E-5,7.7619214161032634E-6,9.7518515841505867E-6,8.2606764885185915E-6,7.325942911091067E-6,1.0027407561364334,2.414437850422582E-5,2.1623198297488885E-5,1.6588510842075097E-5,2.3490239241716716E-5,2.1856749973864186E-5,1.9552665016896113E-5,2.2363498519233096E-5,6.2174301367615733E-6,1.3918146407200911E-4,2.4964055838983723E-5,5.814547770434929E-5,1.4515894858449936E-5,1.1340323230676696E-5,1.4203156927140271E-5,1.8982743677182216E-4,1.2613784478518574E-5,1.0588548878541983E-5,2.3276885436955772E-4]
[null,"39","その他の製造工業製品",6.8193854263385028E-4,8.2119928485727437E-4,2.7841690995833068E-3,5.9628417005998507E-3,3.2898796661031365E-3,1.7102628207390036E-3,6.5980334392177729E-3,1.0210213735930677E-3,2.1164488108804174E-3,3.9983107010931425E-3,9.0474457212512682E-3,1.4817113441494502E-3,9.1578032028175385E-4,1.2794520447749287E-3,1.8438106415681712E-3,1.9039628257004238E-3,1.3154441029712277E-3,2.2935134089614594E-3,4.4140663462093494E-4,1.0129676852458935,1.7029910892395765E-3,3.2180540845424687E-3,2.1059731267421195E-3,2.0288776097946094E-3,2.7571593442534625E-3,6.408957365263479E-3,5.9932125852109797E-4,1.857040312218002E-3,5.2467022762063015E-3,3.5599769207089486E-3,4.7492194074631646E-3,2.2186050673833335E-3,1.3998622962807598E-2,3.2805197566732267E-3,2.8701689550773846E-3,4.5668841795614222E-2,2.7254370789854499E-3]
[null,"41","建設",2.4477022669944994E-3,3.7662435416338852E-3,1.6510058594959172E-3,2.069148951919723E-3,2.9735340905498384E-3,4.6615149609559878E-3,2.1796004450346188E-3,4.2425214433906349E-3,7.6696600313615115E-3,6.0290961595658738E-3,3.4787677937399382E-3,5.3486852236127687E-3,2.3181806895842417E-3,2.8614816725838171E-3,2.3428693313032466E-3,3.5887200824141177E-3,1.8835664965852301E-3,1.9226568261947042E-3,8.5985304561118838E-4,2.8441476809274628E-3,1.0017899813944757,1.8071155069901052E-2,2.878932659174854E-2,5.273070058463611E-3,4.4475847023837381E-3,4.1828979688547305E-3,9.3195543054967224E-3,8.516892563612502E-3,3.5302170282237523E-3,9.5813409523750562E-3,6.1648098943861886E-3,3.2943913196313169E-3,2.1250306718685751E-3,2.4063951485393002E-3,3.9417493200293854E-3,1.5362636048508412E-3,6.8475515311719783E-3]
[null,"46","電力・ガス・熱供給",1.2607412633949393E-2,8.6599120551490993E-3,1.8736813726004751E-2,2.1412228888448199E-2,2.6679615019001051E-2,6.937338040292837E-2,1.2977772415511395E-2,3.7799026360315714E-2,5.1827194735399262E-2,5.2454911691398348E-2,3.4972377021758913E-2,3.6571267818253934E-2,1.7274759871551602E-2,1.5374898866814346E-2,1.465416397353549E-2,3.7015821939964638E-2,1.2671475551334806E-2,7.8237722960751554E-3,1.8725125364764887E-2,2.6446031647775894E-2,8.9564950002769018E-3,1.0929551624862166,4.8577519771236179E-2,8.3547062859744295E-2,2.9057033166365553E-2,9.3371818304497992E-3,5.857830517573279E-3,1.9583316843084637E-2,8.2662350300998291E-3,1.6816130355448169E-2,2.5380296707966189E-2,1.9214622816986798E-2,7.1181146362589102E-3,7.9219727632107682E-3,4.4472457440502308E-2,9.8146670543889491E-3,1.5879043518630186E-2]
[null,"47","水道",1.1068780572090421E-3,2.0037593985748076E-3,1.9458329401462289E-3,3.8012426869407217E-4,9.6279440573704108E-4,2.4208784664029952E-3,3.1688909583591912E-3,1.2924235448397521E-3,1.2467161452706509E-3,2.1431019523091939E-3,1.2962477136624279E-3,1.2160821350968825E-3,6.1847208323409703E-4,9.0874320707055943E-4,7.6127803532282127E-4,1.1923981678331431E-3,5.0121695654612949E-4,3.6705377880239264E-4,3.3521602202162047E-4,2.0425678177500768E-3,1.3000736988039256E-3,2.0254963755455065E-3,1.0776795279264,9.8350058728409202E-3,3.1038119156995103E-3,1.8189088240890738E-3,6.8525014785776822E-4,4.5312533117778352E-3,2.1816618054176194E-3,4.9223036741587222E-3,9.9803795190299919E-3,5.4067090084725681E-3,2.5081064066138008E-3,1.5500465212168438E-3,1.0262529670652982E-2,9.2665973307494421E-4,4.2885570203899503E-3]
[null,"48","廃棄物処理",7.7659161178721841E-4,1.9572238923000998E-3,7.6959487423625692E-4,3.601730445876833E-4,5.2478240403403844E-4,2.3773858943606277E-3,4.0525077351190498E-4,4.834008729775314E-4,2.9600866354940422E-3,8.1605378156859247E-4,4.783917261554758E-4,5.8234640504278075E-4,3.7443757849803542E-4,3.6545286181147244E-4,3.2439741170127526E-4,8.7006882462852691E-4,3.0857561800433489E-4,2.7916665385252927E-4,2.9639319889386507E-4,1.0004702772265378E-3,1.5755474317972549E-3,8.7193662875460123E-3,1.8238440877440805E-3,1.0011735598238165,1.4973869792450955E-3,2.4095170933770491E-3,2.7542856196793701E-4,4.4260190371076813E-3,2.5524944578069553E-3,1.9124489731321005E-2,3.5251289430933857E-3,2.9972611398078495E-3,4.1879211859190591E-4,5.3170411715274782E-4,1.15732099428E-2,5.3582889544686609E-4,8.9000262532177785E-3]
[null,"51","商業",6.4081358138106753E-2,1.2038373315424556E-2,6.8813823514250805E-2,7.5122084948005929E-2,6.3712135086394159E-2,4.513396179119198E-2,2.1167532387271065E-2,5.2644870097978656E-2,3.6610765111007776E-2,3.0426475965916886E-2,5.1003761202799605E-2,4.7978052176786141E-2,3.9837981412569209E-2,3.9092152628842962E-2,4.4783948356661579E-2,4.0351265311353718E-2,4.7406193429739646E-2,4.1325910363505171E-2,4.5744828304928577E-2,6.6851191123434073E-2,5.4818495289508239E-2,1.9677307683857479E-2,2.1737694418980623E-2,1.831465996909758E-2,1.0140578807465059,9.9418901865916537E-3,2.9995890455974342E-3,2.7223287882134892E-2,1.416740420345269E-2,1.3243446843108221E-2,1.7210045194429459E-2,4.786207394801139E-2,3.244938860235199E-2,2.0648907880027614E-2,7.5840185198507007E-2,0.20292424681196297,3.3642072671630531E-2]
[null,"53","金融・保険",9.950013671904144E-3,1.4349641152035552E-2,7.9751683256272625E-3,1.2202617975251394E-2,1.192113866752976E-2,7.791526478356672E-3,7.7243686249591388E-3,5.8546751207938022E-3,1.3310378776268198E-2,8.6916857570873887E-3,6.5537202255002243E-3,1.4306773943582343E-2,8.1750112261559649E-3,8.8815425765898168E-3,1.5275868252361338E-2,7.7250512789943972E-3,6.3832776380827235E-3,5.5759622596103179E-3,4.4109023598397461E-3,1.7153244993080186E-2,1.6269449789251003E-2,1.7475198998806084E-2,2.5837488125797468E-2,2.257233502870502E-2,2.0879470323353889E-2,1.0479772393734408,7.2136383026821738E-2,3.2449933379841908E-2,9.0760007650980846E-3,2.2158185862530121E-2,9.6871117667302643E-3,1.219735532836398E-2,2.5056481113278743E-2,1.0546824298877782E-2,1.1610357136900493E-2,6.877303732649072E-3,5.0886561252202887E-2]
[null,"55","不動産",1.3945974493454069E-2,1.982050368587367E-2,7.183580533080978E-3,5.377571364883346E-3,7.2724088426842125E-3,5.1764825554908335E-3,3.1315528934775E-3,6.3843927537483676E-3,6.9475724946268325E-3,4.5301203637040394E-3,3.884200262578135E-3,8.5667416081316502E-3,5.9182476091101137E-3,5.3466004771482098E-3,4.1507465666917667E-3,4.3229667824972928E-3,4.6817646300808067E-3,4.4001081328305632E-3,2.3430541300045239E-3,1.0589110789353845E-2,1.0331494237681775E-2,1.0938178530941485E-2,5.5578190340528303E-3,6.6871383679430359E-3,3.2045430405316939E-2,2.197002193968561E-2,1.0307604556221441,4.4821610334853226E-2,2.6937688566413761E-2,4.972217789178229E-3,7.3010460863987894E-3,2.0643021739327808E-2,1.9481693431148191E-2,1.0566904508221767E-2,1.8809422409425069E-2,8.7477034805277104E-3,3.5896308722896945E-2]
[null,"57","運輸・郵便",4.4155352034831639E-2,0.47093244631143122,5.2755330013263678E-2,1.7147103571519901E-2,3.841378944687375E-2,2.4087336526343164E-2,3.3955960603171111E-2,1.9535447597938377E-2,5.079053488303234E-2,3.0227267344964847E-2,2.7657592069952247E-2,3.2771002283462643E-2,2.1911164521747229E-2,2.200309819145551E-2,2.091432769820158E-2,1.8855127729083019E-2,1.8295643623823514E-2,1.5456480148754821E-2,1.1919737922819345E-2,0.13192555919911927,4.5559090118766458E-2,3.8180729278987004E-2,2.5568708859027435E-2,6.3383946763483898E-2,4.7418660631241831E-2,3.575233532270182E-2,6.4581207542366197E-3,1.0649553077530551,2.4085936189863943E-2,3.1684879874269059E-2,2.721709870657291E-2,1.9648215003776871E-2,3.149628305560187E-2,1.7898965987246346E-2,3.7488533340404702E-2,5.480699596059093E-2,0.4534649572816325]
[null,"59","情報通信",6.298296963954452E-3,6.9634876457608285E-3,6.6418172396025604E-3,5.0904581391234081E-3,8.4656224706513468E-3,9.6879382328073811E-3,2.5023580885905001E-3,7.7626917765726746E-3,9.6931572459858732E-3,5.5285250084556757E-3,5.5160462485756255E-3,8.9564192928626545E-3,8.0032565819635523E-3,1.3694934892714549E-2,9.0371963599530161E-3,1.0069323447588204E-2,1.7137764284785261E-2,2.4324327614461388E-2,3.3829849265290916E-3,9.930287795751374E-3,1.1625146874328411E-2,1.3652033202160191E-2,3.6180226718689382E-2,1.319564387453136E-2,3.3696994279935312E-2,5.3828462456151867E-2,7.3575374854791291E-3,1.5747063484178987E-2,1.1082404296063395,2.751823901415398E-2,1.8045932581391939E-2,1.7694341389861482E-2,4.774216948476899E-2,3.4676439374052084E-2,2.0941833651717395E-2,8.1828931314179044E-3,4.4090756310422571E-2]
[null,"61","公務",3.9631848117189697E-4,3.3162919881750473E-4,8.4555125269900478E-4,2.0842886280294078E-4,3.5804768051664343E-4,2.2080089178002363E-4,8.6717327778023152E-5,2.6016452057198072E-4,7.8780573668816851E-4,4.4873079715482798E-4,3.1678876352010443E-4,4.8923411427042869E-4,8.392524101911204E-4,7.7619427012840826E-4,2.6255401645905707E-4,1.1462475544020349E-4,2.481908141927735E-4,1.7695094653074985E-4,4.7418696951653523E-4,3.4294755673328027E-4,1.4980801787989387E-3,4.3447341241529126E-4,9.8134796145856883E-4,2.4067422072355316E-3,7.7932036920789506E-4,6.6082786361328755E-4,2.5972115587309425E-4,7.4993829423475474E-4,3.0701299110388495E-4,1.0002265642997896,8.8992586877712984E-4,5.2700293954457695E-4,4.2302085033155682E-4,3.9898370787903891E-4,4.7984240180480706E-4,2.6433989771716866E-4,9.7322384313004204E-2]
[null,"63","教育・研究",2.5203937424504838E-4,5.9265725645572299E-4,1.9745500378018808E-4,6.753614133655502E-5,1.780691028772815E-4,1.5149435571546661E-4,6.1798713955712998E-5,1.4005277200723667E-4,2.2829337000149696E-4,1.4196518894260183E-4,7.8553934672182023E-5,4.1462837670076536E-4,5.2576220103391991E-4,4.2877219521309412E-4,2.8164155616774739E-4,8.9293027901691873E-4,9.2837993331106614E-4,1.8198328453872999E-4,5.294685915720626E-5,2.2529230339439447E-4,2.5554277653317049E-4,5.4982404310022768E-4,2.6539316724398494E-4,2.6966763280422983E-4,3.496095597337515E-4,3.6417521391897742E-4,5.1780358822909017E-5,1.3402208658256248E-3,3.183244341485788E-3,2.4023316044449017E-4,1.0001183110746319,1.9065249036069557E-4,2.0344929951458921E-4,5.1081170057075051E-4,4.8880616061157433E-4,1.4430531146485069E-4,7.5331029954667813E-4]
[null,"64","医療・福祉",2.5090961245343513E-3,2.5751179293417094E-4,9.6149368287990223E-5,1.9740804315486742E-5,3.5026267533356254E-5,2.6628034075998584E-5,2.3123740750080597E-5,2.2269189722776301E-5,4.8763855739950228E-5,3.1087945870451695E-5,2.5817125158937962E-5,3.39486301007414E-5,3.134144980431353E-5,3.2642254775365989E-5,2.3144720480299865E-5,2.0749484371142161E-5,2.3995519964613077E-5,2.3881075247229031E-5,1.7765763832012374E-5,8.8706434079995785E-5,5.7300627859079537E-5,8.3100019240041771E-5,2.728432280158892E-4,8.4733720714210334E-5,8.1074798768987128E-5,1.8149141858155135E-4,2.3304721865033514E-5,5.8233097515836675E-4,4.8872749260414064E-4,5.9795629018772818E-5,5.9192949943633763E-5,1.0164189221198816,4.9521134112125779E-5,6.4139262644416202E-5,1.1763709078741173E-4,4.3101848054356428E-5,1.7065428912458091E-3]
[null,"65","他に分類されない会員制団体",4.6455714058003903E-4,4.1799909965995841E-4,4.6692980434345755E-4,1.3388732079019653E-4,6.4584385232005644E-4,1.1353178707521497E-3,2.981693554025585E-4,3.710439490919752E-4,5.6317201773340667E-4,7.9015851953826723E-4,3.2935473647504167E-4,7.0685987828237045E-4,9.4500999218335719E-4,5.6773043817590063E-4,3.5625318908131219E-4,5.0774783364101138E-4,4.2496515102807126E-4,4.5362943850476705E-4,1.207819247752067E-4,7.2949469229134677E-4,7.3627178031384179E-4,1.4795418876459795E-3,4.7112616528210641E-3,1.4222542933122922E-3,5.8440984175581786E-4,2.3303001042764065E-3,3.933879370070332E-4,9.4525311072851757E-4,8.8466513772144035E-4,2.3819767897236745E-4,1.0025376996601857E-3,7.512174971113344E-4,1.0002122112599652,1.1901265109015267E-3,1.7747402474644937E-3,2.3172343603415825E-4,2.266623125323399E-3]
[null,"66","対事業所サービス",2.8885790308809268E-2,3.7860812576498752E-2,2.858883594637901E-2,3.1104302837603317E-2,3.2109631426512825E-2,3.847089301181765E-2,1.4178307910461981E-2,3.5742384567579749E-2,5.4046214270987679E-2,1.8537039281323022E-2,2.0774504396703929E-2,3.1680577836484231E-2,4.2371274069387739E-2,3.3531392707022697E-2,2.9079519376035694E-2,4.379383001951645E-2,3.3952495377467119E-2,3.1115083698048392E-2,1.9534934172008422E-2,4.9145564504426684E-2,8.1948426113711156E-2,6.7962913165070124E-2,0.11216750163982901,6.1716036835733346E-2,7.5700821099352902E-2,0.10171319616359183,2.9903689087571489E-2,8.5617530974967063E-2,0.12886697664010627,7.6990294953586044E-2,5.3660506746157972E-2,4.8553249649449598E-2,5.8491464299302916E-2,1.1140368075333604,4.3308044181484616E-2,2.2491850202490563E-2,7.5500633003224821E-2]
[null,"67","対個人サービス",3.5946615875549672E-4,3.5468205393624874E-4,1.6990331444340505E-4,1.1123014861077106E-4,1.3534409673792225E-4,1.2546451474444731E-4,5.9926360658794057E-5,1.1503381556569767E-4,1.5327596071967983E-4,1.3912455257198496E-4,9.5752188362835855E-5,1.3580722594482104E-4,1.2343533299450388E-4,2.2534210853394042E-4,1.1077699943305899E-4,1.2364996866554294E-4,2.2511758005896854E-4,1.6830363819081683E-4,7.4684230459923381E-5,2.133293500168431E-4,3.5456905120308859E-4,2.0805813729442166E-4,4.1388870466329181E-4,2.0179905204751391E-4,8.9146942608410928E-4,5.2041113645468222E-4,4.7972219787367819E-4,8.0206946635903254E-4,4.7859840149084279E-3,5.6734221821045608E-4,2.3039551041408968E-3,8.5107477500686729E-3,1.8491836188899156E-3,1.1099680216195354E-3,1.0110552048549033,2.1943731323100451E-4,1.2308981739407687E-3]
[null,"68","事務用品",1.2020622157490537E-3,1.0503311226324067E-3,1.0849130655824937E-3,3.1421109077537561E-4,1.4351826953529082E-3,5.3230728475641808E-4,2.1835955833461127E-4,3.4755081600891893E-4,1.1389943990281208E-3,4.0427060684737295E-4,4.2764352605267539E-4,5.9780235255167474E-4,1.049716948607957E-3,1.1605864980575448E-3,1.7927900551602018E-3,7.349057029391677E-4,1.0816128022955679E-3,4.7331155508386231E-4,2.0759309851464461E-4,1.236653873662242E-3,1.4268782292500377E-3,4.5922159084948587E-4,1.4459607624839434E-3,3.7382038360323552E-3,2.5198229420543218E-3,3.9037037392132992E-3,6.9607426725508479E-4,2.375193539342364E-3,1.9592590675825894E-3,3.4361928429650253E-3,3.3424688742094196E-3,2.6638088248486834E-3,4.5072462920306812E-3,2.2350504013899058E-3,2.3855700125357954E-3,1.0007369586284713,5.0339147220949008E-3]
[null,"69","分類不明",4.0896724985488228E-3,3.4221336590444652E-3,8.7253758493709005E-3,2.1508100898763659E-3,3.6947501106893762E-3,2.2784789952203966E-3,8.9484969137132724E-4,2.6846784478362007E-3,8.1294908226476649E-3,4.6305233986300457E-3,3.268992882155116E-3,5.0484834736128428E-3,8.6603771066904849E-3,8.0096702800455302E-3,2.7093360302579833E-3,1.1828308096824779E-3,2.5611198957849707E-3,1.8259845402089881E-3,4.8932096294567072E-3,3.5389295676279027E-3,1.5458924069699844E-2,4.483399211793998E-3,1.0126683362372175E-2,2.4835549901491193E-2,8.0419289862136405E-3,6.819186256726284E-3,2.6801032980463104E-3,7.7387307512672542E-3,3.1681151550189334E-3,2.3379525054268708E-3,9.1832844648655626E-3,5.4382258988700293E-3,4.3652184293755851E-3,4.1171753905016924E-3,4.9515689212776669E-3,2.7277648187549923E-3,1.0042849312532036]

{"sheet":"単位行列","index":6,"n_rows":45,"n_cols":40,"rows_kept":45,"cut":false,"hidden":true,"merged":[]}
[]
[]
[]
[]
[]
[]
[null,null,null,"01","06","11","15","16","20","21","22","25","26","27","28","29","30","31","32","33","34","35","39","41","46","47","48","51","53","55","57","59","61","63","64","65","66","67","68","69"]
[null,null,null,"農林漁業","鉱業","飲食料品","繊維製品","パルプ・紙・木製品","化学製品","石油・石炭製品","プラスチック・ゴム製品","窯業・土石製品","鉄鋼","非鉄金属","金属製品","はん用機械","生産用機械","業務用機械","電子部品","電気機械","情報通信機器","輸送機械","その他の製造工業製品","建設","電力・ガス・熱供給","水道","廃棄物処理","商業","金融・保険","不動産","運輸・郵便","情報通信","公務","教育・研究","医療・福祉","他に分類されない会員制団体","対事業所サービス","対個人サービス","事務用品","分類不明"]
[null,"01","農林漁業",{"$f":"IF($B9=D$7,1,0)","v":1},{"$f":"IF($B9=E$7,1,0)","v":0},{"$f":"IF($B9=F$7,1,0)","v":0},0,0,0,0,0,0,0,0,0,0,0,0,0,0,0,0,0,0,0,0,0,0,0,0,0,0,0,0,0,0,0,0,0,0]
[null,"06","鉱業",{"$f":"IF($B10=D$7,1,0)","v":0},1,0,0,0,0,0,0,0,0,0,0,0,0,0,0,0,0,0,0,0,0,0,0,0,0,0,0,0,0,0,0,0,0,0,0,0]
[null,"11","飲食料品",0,0,{"$f":"IF($B11=F$7,1,0)","v":1},0,0,0,0,0,0,0,0,0,0,0,0,0,0,0,0,0,0,0,0,0,0,0,0,0,0,0,0,0,0,0,0,0,0]
[null,"15","繊維製品",0,0,0,1,0,0,0,0,0,0,0,0,0,0,0,0,0,0,0,0,0,0,0,0,0,0,0,0,0,0,0,0,0,0,0,0,0]
[null,"16","パルプ・紙・木製品",0,0,0,0,1,0,0,0,0,0,0,0,0,0,0,0,0,0,0,0,0,0,0,0,0,0,0,0,0,0,0,0,0,0,0,0,0]
[null,"20","化学製品",0,0,0,0,0,1,0,0,0,0,0,0,0,0,0,0,0,0,0,0,0,0,0,0,0,0,0,0,0,0,0,0,0,0,0,0,0]
[null,"21","石油・石炭製品",0,0,{"$f":"IF($B15=F$7,1,0)","v":0},0,0,0,1,0,0,0,0,0,0,0,0,0,0,0,0,0,0,0,0,0,0,0,0,0,0,0,0,0,0,0,0,0,0]
[null,"22","プラスチック・ゴム製品",0,0,0,0,0,0,0,1,0,0,0,0,0,0,0,0,0,0,0,0,0,0,0,0,0,0,0,0,0,0,0,0,0,0,0,0,0]
[null,"25","窯業・土石製品",0,0,0,0,0,0,0,0,1,0,0,0,0,0,0,0,0,0,0,0,0,0,0,0,0,0,0,0,0,0,0,0,0,0,0,0,0]
[null,"26","鉄鋼",0,0,0,0,0,0,0,0,0,1,0,0,0,0,0,0,0,0,0,0,0,0,0,0,0,0,0,0,0,0,0,0,0,0,0,0,0]
[null,"27","非鉄金属",0,0,{"$f":"IF($B19=F$7,1,0)","v":0},0,0,0,0,0,0,0,1,0,0,0,0,0,0,0,0,0,0,0,0,0,0,0,0,0,0,0,0,0,0,0,0,0,0]
[null,"28","金属製品",0,0,0,0,0,0,0,0,0,0,0,1,0,0,0,0,0,0,0,0,0,0,0,0,0,0,0,0,0,0,0,0,0,0,0,0,0]
[null,"29","はん用機械",0,0,0,0,0,0,0,0,0,0,0,0,1,0,0,0,0,0,0,0,0,0,0,0,0,0,0,0,0,0,0,0,0,0,0,0,0]
[null,"30","生産用機械",0,0,0,0,0,0,0,0,0,0,0,0,0,1,0,0,0,0,0,0,0,0,0,0,0,0,0,0,0,0,0,0,0,0,0,0,0]
[null,"31","業務用機械",0,0,{"$f":"IF($B23=F$7,1,0)","v":0},0,0,0,0,0,0,0,0,0,0,0,1,0,0,0,0,0,0,0,0,0,0,0,0,0,0,0,0,0,0,0,0,0,0]
[null,"32","電子部品",0,0,0,0,0,0,0,0,0,0,0,0,0,0,0,1,0,0,0,0,0,0,0,0,0,0,0,0,0,0,0,0,0,0,0,0,0]
[null,"33","電気機械",0,0,0,0,0,0,0,0,0,0,0,0,0,0,0,0,1,0,0,0,0,0,0,0,0,0,0,0,0,0,0,0,0,0,0,0,0]
[null,"34","情報通信機器",0,0,0,0,0,0,0,0,0,0,0,0,0,0,0,0,0,1,0,0,0,0,0,0,0,0,0,0,0,0,0,0,0,0,0,0,0]
[null,"35","輸送機械",0,0,{"$f":"IF($B27=F$7,1,0)","v":0},0,0,0,0,0,0,0,0,0,0,0,0,0,0,0,1,0,0,0,0,0,0,0,0,0,0,0,0,0,0,0,0,0,0]
[null,"39","その他の製造工業製品",0,0,0,0,0,0,0,0,0,0,0,0,0,0,0,0,0,0,0,1,0,0,0,0,0,0,0,0,0,0,0,0,0,0,0,0,0]
[null,"41","建設",0,0,0,0,0,0,0,0,0,0,0,0,0,0,0,0,0,0,0,0,1,0,0,0,0,0,0,0,0,0,0,0,0,0,0,0,0]
[null,"46","電力・ガス・熱供給",0,0,0,0,0,0,0,0,0,0,0,0,0,0,0,0,0,0,0,0,0,1,0,0,0,0,0,0,0,0,0,0,0,0,0,0,0]
[null,"47","水道",0,0,{"$f":"IF($B31=F$7,1,0)","v":0},0,0,0,0,0,0,0,0,0,0,0,0,0,0,0,0,0,0,0,1,0,0,0,0,0,0,0,0,0,0,0,0,0,0]
[null,"48","廃棄物処理",0,0,0,0,0,0,0,0,0,0,0,0,0,0,0,0,0,0,0,0,0,0,0,1,0,0,0,0,0,0,0,0,0,0,0,0,0]
[null,"51","商業",0,0,0,0,0,0,0,0,0,0,0,0,0,0,0,0,0,0,0,0,0,0,0,0,1,0,0,0,0,0,0,0,0,0,0,0,0]
[null,"53","金融・保険",0,0,0,0,0,0,0,0,0,0,0,0,0,0,0,0,0,0,0,0,0,0,0,0,0,1,0,0,0,0,0,0,0,0,0,0,0]
[null,"55","不動産",0,0,{"$f":"IF($B35=F$7,1,0)","v":0},0,0,0,0,0,0,0,0,0,0,0,0,0,0,0,0,0,0,0,0,0,0,0,1,0,0,0,0,0,0,0,0,0,0]
[null,"57","運輸・郵便",0,0,0,0,0,0,0,0,0,0,0,0,0,0,0,0,0,0,0,0,0,0,0,0,0,0,0,1,0,0,0,0,0,0,0,0,0]
[null,"59","情報通信",0,0,0,0,0,0,0,0,0,0,0,0,0,0,0,0,0,0,0,0,0,0,0,0,0,0,0,0,1,0,0,0,0,0,0,0,0]
[null,"61","公務",0,0,0,0,0,0,0,0,0,0,0,0,0,0,0,0,0,0,0,0,0,0,0,0,0,0,0,0,0,1,0,0,0,0,0,0,0]
[null,"63","教育・研究",0,0,{"$f":"IF($B39=F$7,1,0)","v":0},0,0,0,0,0,0,0,0,0,0,0,0,0,0,0,0,0,0,0,0,0,0,0,0,0,0,0,1,0,0,0,0,0,0]
[null,"64","医療・福祉",0,0,0,0,0,0,0,0,0,0,0,0,0,0,0,0,0,0,0,0,0,0,0,0,0,0,0,0,0,0,0,1,0,0,0,0,0]
[null,"65","他に分類されない会員制団体",0,0,0,0,0,0,0,0,0,0,0,0,0,0,0,0,0,0,0,0,0,0,0,0,0,0,0,0,0,0,0,0,1,0,0,0,0]
[null,"66","対事業所サービス",0,0,0,0,0,0,0,0,0,0,0,0,0,0,0,0,0,0,0,0,0,0,0,0,0,0,0,0,0,0,0,0,0,1,0,0,0]
[null,"67","対個人サービス",0,0,{"$f":"IF($B43=F$7,1,0)","v":0},0,0,0,0,0,0,0,0,0,0,0,0,0,0,0,0,0,0,0,0,0,0,0,0,0,0,0,0,0,0,0,1,0,0]
[null,"68","事務用品",0,0,0,0,0,0,0,0,0,0,0,0,0,0,0,0,0,0,0,0,0,0,0,0,0,0,0,0,0,0,0,0,0,0,0,1,0]
[null,"69","分類不明",0,0,0,0,0,0,0,0,0,0,0,0,0,0,0,0,0,0,0,0,0,0,0,0,0,0,0,0,0,0,0,0,0,0,0,0,1]

{"sheet":"移輸入係数","index":7,"n_rows":45,"n_cols":46,"rows_kept":45,"cut":false,"hidden":true,"merged":[]}
[]
[]
[]
[]
[]
[]
[null,null,null,null,null,null,null,null,null,"M"]
[null,null,null,"移輸入係数","市内品係数","比率",null,null,null,1,2,3,4,5,6,7,8,9,10,11,12,13,14,15,16,17,18,19,20,21,22,23,24,25,26,27,28,29,30,31,32,33,34,35,36,37]
[null,"01","農林漁業",{"$f":"-取引額表!BF9/(取引額表!BH9-取引額表!BF9-取引額表!BA9-取引額表!AV9)","v":0.94645819135667542},{"$f":"1-D9","v":5.3541808643324584E-2},{"$f":"D9/E9","v":17.676993275696464},null,null,1,{"$f":"IF($I9=J$8,$D9,0)","v":0.94645819135667542},{"$f":"IF($I9=K$8,$D9,0)","v":0},0,0,0,0,0,0,0,0,0,0,0,0,0,0,0,0,0,0,0,0,0,0,0,0,0,0,0,0,0,0,0,0,0,0,0]
[null,"06","鉱業",{"$f":"-取引額表!BF10/(取引額表!BH10-取引額表!BF10-取引額表!BA10-取引額表!AV10)","v":0.99985742037819247},{"$f":"1-D10","v":1.4257962180752592E-4},{"$f":"D10/E10","v":7012.6250000013397},null,null,2,{"$f":"IF($I10=J$8,$D10,0)","v":0},0.99985742037819247,0,0,0,0,0,0,0,0,0,0,0,0,0,0,0,0,0,0,0,0,0,0,0,0,0,0,0,0,0,0,0,0,0,0,0]
[null,"11","飲食料品",{"$f":"-取引額表!BF11/(取引額表!BH11-取引額表!BF11-取引額表!BA11-取引額表!AV11)","v":0.67008253191280664},0.32991746808719336,2.0310610886954055,null,null,3,0,{"$f":"IF($I11=K$8,$D11,0)","v":0},0.67008253191280664,0,0,0,0,0,0,0,0,0,0,0,0,0,0,0,0,0,0,0,0,0,0,0,0,0,0,0,0,0,0,0,0,0,0]
[null,"15","繊維製品",{"$f":"-取引額表!BF12/(取引額表!BH12-取引額表!BF12-取引額表!BA12-取引額表!AV12)","v":0.99509502294263463},4.9049770573653673E-3,202.87455197132655,null,null,4,0,0,0,0.99509502294263463,0,0,0,0,0,0,0,0,0,0,0,0,0,0,0,0,0,0,0,0,0,0,0,0,0,0,0,0,0,0,0,0,0]
[null,"16","パルプ・紙・木製品",{"$f":"-取引額表!BF13/(取引額表!BH13-取引額表!BF13-取引額表!BA13-取引額表!AV13)","v":0.81763318636570037},0.18236681363429963,4.4834538152610435,null,null,5,0,0,0,0,0.81763318636570037,0,0,0,0,0,0,0,0,0,0,0,0,0,0,0,0,0,0,0,0,0,0,0,0,0,0,0,0,0,0,0,0]
[null,"20","化学製品",{"$f":"-取引額表!BF14/(取引額表!BH14-取引額表!BF14-取引額表!BA14-取引額表!AV14)","v":0.96995700890288072},3.0042991097119276E-2,32.285633802816882,null,null,6,0,0,0,0,0,0.96995700890288072,0,0,0,0,0,0,0,0,0,0,0,0,0,0,0,0,0,0,0,0,0,0,0,0,0,0,0,0,0,0,0]
[null,"21","石油・石炭製品",{"$f":"-取引額表!BF15/(取引額表!BH15-取引額表!BF15-取引額表!BA15-取引額表!AV15)","v":0.48339708942564574},0.51660291057435426,0.93572273700163522,null,null,7,0,{"$f":"IF($I15=K$8,$D15,0)","v":0},0,0,0,0,0.48339708942564574,0,0,0,0,0,0,0,0,0,0,0,0,0,0,0,0,0,0,0,0,0,0,0,0,0,0,0,0,0,0]
[null,"22","プラスチック・ゴム製品",{"$f":"-取引額表!BF16/(取引額表!BH16-取引額表!BF16-取引額表!BA16-取引額表!AV16)","v":0.97696750400111332},2.3032495998886682E-2,42.416918429002955,null,null,8,0,0,0,0,0,0,0,0.97696750400111332,0,0,0,0,0,0,0,0,0,0,0,0,0,0,0,0,0,0,0,0,0,0,0,0,0,0,0,0,0]
[null,"25","窯業・土石製品",{"$f":"-取引額表!BF17/(取引額表!BH17-取引額表!BF17-取引額表!BA17-取引額表!AV17)","v":0.92207887406538636},7.7921125934613644E-2,11.833490122295398,null,null,9,0,0,0,0,0,0,0,0,0.92207887406538636,0,0,0,0,0,0,0,0,0,0,0,0,0,0,0,0,0,0,0,0,0,0,0,0,0,0,0,0]
[null,"26","鉄鋼",{"$f":"-取引額表!BF18/(取引額表!BH18-取引額表!BF18-取引額表!BA18-取引額表!AV18)","v":0.31395431857568462},0.68604568142431543,0.45762888256052681,null,null,10,0,0,0,0,0,0,0,0,0,0.31395431857568462,0,0,0,0,0,0,0,0,0,0,0,0,0,0,0,0,0,0,0,0,0,0,0,0,0,0,0]
[null,"27","非鉄金属",{"$f":"-取引額表!BF19/(取引額表!BH19-取引額表!BF19-取引額表!BA19-取引額表!AV19)","v":0.98949951846904227},1.0500481530957728E-2,94.233727810651359,null,null,11,0,{"$f":"IF($I19=K$8,$D19,0)","v":0},0,0,0,0,0,0,0,0,0.98949951846904227,0,0,0,0,0,0,0,0,0,0,0,0,0,0,0,0,0,0,0,0,0,0,0,0,0,0]
[null,"28","金属製品",{"$f":"-取引額表!BF20/(取引額表!BH20-取引額表!BF20-取引額表!BA20-取引額表!AV20)","v":0.78311306901615274},0.21688693098384726,3.610697359512526,null,null,12,0,0,0,0,0,0,0,0,0,0,0,0.78311306901615274,0,0,0,0,0,0,0,0,0,0,0,0,0,0,0,0,0,0,0,0,0,0,0,0,0]
[null,"29","はん用機械",{"$f":"-取引額表!BF21/(取引額表!BH21-取引額表!BF21-取引額表!BA21-取引額表!AV21)","v":0.97128804998006113},2.871195001993887E-2,33.828703703703681,null,null,13,0,0,0,0,0,0,0,0,0,0,0,0,0.97128804998006113,0,0,0,0,0,0,0,0,0,0,0,0,0,0,0,0,0,0,0,0,0,0,0,0]
[null,"30","生産用機械",{"$f":"-取引額表!BF22/(取引額表!BH22-取引額表!BF22-取引額表!BA22-取引額表!AV22)","v":0.74926972967620553},0.25073027032379447,2.9883497062743736,null,null,14,0,0,0,0,0,0,0,0,0,0,0,0,0,0.74926972967620553,0,0,0,0,0,0,0,0,0,0,0,0,0,0,0,0,0,0,0,0,0,0,0]
[null,"31","業務用機械",{"$f":"-取引額表!BF23/(取引額表!BH23-取引額表!BF23-取引額表!BA23-取引額表!AV23)","v":0.97527922031727965},2.4720779682720351E-2,39.45179856115108,null,null,15,0,{"$f":"IF($I23=K$8,$D23,0)","v":0},0,0,0,0,0,0,0,0,0,0,0,0,0.97527922031727965,0,0,0,0,0,0,0,0,0,0,0,0,0,0,0,0,0,0,0,0,0,0]
[null,"32","電子部品",{"$f":"-取引額表!BF24/(取引額表!BH24-取引額表!BF24-取引額表!BA24-取引額表!AV24)","v":0.76668978671753074},0.23331021328246926,3.2861389817911548,null,null,16,0,0,0,0,0,0,0,0,0,0,0,0,0,0,0,0.76668978671753074,0,0,0,0,0,0,0,0,0,0,0,0,0,0,0,0,0,0,0,0,0]
[null,"33","電気機械",{"$f":"-取引額表!BF25/(取引額表!BH25-取引額表!BF25-取引額表!BA25-取引額表!AV25)","v":0.95285239888977002},4.7147601110229975E-2,20.209986859395531,null,null,17,0,0,0,0,0,0,0,0,0,0,0,0,0,0,0,0,0.95285239888977002,0,0,0,0,0,0,0,0,0,0,0,0,0,0,0,0,0,0,0,0]
[null,"34","情報通信機器",{"$f":"-取引額表!BF26/(取引額表!BH26-取引額表!BF26-取引額表!BA26-取引額表!AV26)","v":0.99742481902200353},2.5751809779964718E-3,387.32222222222788,null,null,18,{"$f":"IF($I26=J$8,$D26,0)","v":0},0,0,0,0,0,0,0,0,0,0,0,0,0,0,0,0,0.99742481902200353,0,0,0,0,0,0,0,0,0,0,0,0,0,0,0,0,0,0,0]
[null,"35","輸送機械",{"$f":"-取引額表!BF27/(取引額表!BH27-取引額表!BF27-取引額表!BA27-取引額表!AV27)","v":0.99178954423592491},8.2104557640750864E-3,120.79591836734666,null,null,19,0,{"$f":"IF($I27=K$8,$D27,0)","v":0},0,0,0,0,0,0,0,0,0,0,0,0,0,0,0,0,0.99178954423592491,0,0,0,0,0,0,0,0,0,0,0,0,0,0,0,0,0,0]
[null,"39","その他の製造工業製品",{"$f":"-取引額表!BF28/(取引額表!BH28-取引額表!BF28-取引額表!BA28-取引額表!AV28)","v":0.68734303785694351},0.31265696214305649,2.1983935145587741,null,null,20,0,0,0,0,0,0,0,0,0,0,0,0,0,0,0,0,0,0,0,0.68734303785694351,0,0,0,0,0,0,0,0,0,0,0,0,0,0,0,0,0]
[null,"41","建設",{"$f":"-取引額表!BF29/(取引額表!BH29-取引額表!BF29-取引額表!BA29-取引額表!AV29)","v":0},1,0,null,null,21,0,0,0,0,0,0,0,0,0,0,0,0,0,0,0,0,0,0,0,0,0,0,0,0,0,0,0,0,0,0,0,0,0,0,0,0,0]
[null,"46","電力・ガス・熱供給",{"$f":"-取引額表!BF30/(取引額表!BH30-取引額表!BF30-取引額表!BA30-取引額表!AV30)","v":0},1,0,null,null,22,0,0,0,0,0,0,0,0,0,0,0,0,0,0,0,0,0,0,0,0,0,0,0,0,0,0,0,0,0,0,0,0,0,0,0,0,0]
[null,"47","水道",{"$f":"-取引額表!BF31/(取引額表!BH31-取引額表!BF31-取引額表!BA31-取引額表!AV31)","v":0},1,0,null,null,23,0,{"$f":"IF($I31=K$8,$D31,0)","v":0},0,0,0,0,0,0,0,0,0,0,0,0,0,0,0,0,0,0,0,0,0,0,0,0,0,0,0,0,0,0,0,0,0,0,0]
[null,"48","廃棄物処理",{"$f":"-取引額表!BF32/(取引額表!BH32-取引額表!BF32-取引額表!BA32-取引額表!AV32)","v":0.34630167532200806},{"$f":"1-D32","v":0.65369832467799194},0.52975763016157995,null,null,24,0,0,0,0,0,0,0,0,0,0,0,0,0,0,0,0,0,0,0,0,0,0,0,0.34630167532200806,0,0,0,0,0,0,0,0,0,0,0,0,0]
[null,"51","商業",{"$f":"-取引額表!BF33/(取引額表!BH33-取引額表!BF33-取引額表!BA33-取引額表!AV33)","v":0.1263500417317136},0.8736499582682864,0.14462318750882738,null,null,25,0,0,0,0,0,0,0,0,0,0,0,0,0,0,0,0,0,0,0,0,0,0,0,0,0.1263500417317136,0,0,0,0,0,0,0,0,0,0,0,0]
[null,"53","金融・保険",{"$f":"-取引額表!BF34/(取引額表!BH34-取引額表!BF34-取引額表!BA34-取引額表!AV34)","v":0.11634495342360511},0.88365504657639493,0.13166331576373416,null,null,26,0,0,0,0,0,0,0,0,0,0,0,0,0,0,0,0,0,0,0,0,0,0,0,0,0,0.11634495342360511,0,0,0,0,0,0,0,0,0,0,0]
[null,"55","不動産",{"$f":"-取引額表!BF35/(取引額表!BH35-取引額表!BF35-取引額表!BA35-取引額表!AV35)","v":1.0907692581121016E-2},0.98909230741887899,1.1027982423183104E-2,null,null,27,0,{"$f":"IF($I35=K$8,$D35,0)","v":0},0,0,0,0,0,0,0,0,0,0,0,0,0,0,0,0,0,0,0,0,0,0,0,0,1.0907692581121016E-2,0,0,0,0,0,0,0,0,0,0]
[null,"57","運輸・郵便",{"$f":"-取引額表!BF36/(取引額表!BH36-取引額表!BF36-取引額表!BA36-取引額表!AV36)","v":0.29246616396693725},0.70753383603306275,0.41335996820549292,null,null,28,0,0,0,0,0,0,0,0,0,0,0,0,0,0,0,0,0,0,0,0,0,0,0,0,0,0,0,0.29246616396693725,0,0,0,0,0,0,0,0,0]
[null,"59","情報通信",{"$f":"-取引額表!BF37/(取引額表!BH37-取引額表!BF37-取引額表!BA37-取引額表!AV37)","v":0.31150155588164891},0.68849844411835104,0.45243610721668187,null,null,29,0,0,0,0,0,0,0,0,0,0,0,0,0,0,0,0,0,0,0,0,0,0,0,0,0,0,0,0,0.31150155588164891,0,0,0,0,0,0,0,0]
[null,"61","公務",{"$f":"-取引額表!BF38/(取引額表!BH38-取引額表!BF38-取引額表!BA38-取引額表!AV38)","v":0},1,0,null,null,30,0,0,0,0,0,0,0,0,0,0,0,0,0,0,0,0,0,0,0,0,0,0,0,0,0,0,0,0,0,0,0,0,0,0,0,0,0]
[null,"63","教育・研究",{"$f":"-取引額表!BF39/(取引額表!BH39-取引額表!BF39-取引額表!BA39-取引額表!AV39)","v":0.26620798306399007},0.73379201693600993,0.36278397273325019,null,null,31,0,{"$f":"IF($I39=K$8,$D39,0)","v":0},0,0,0,0,0,0,0,0,0,0,0,0,0,0,0,0,0,0,0,0,0,0,0,0,0,0,0,0,0.26620798306399007,0,0,0,0,0,0]
[null,"64","医療・福祉",{"$f":"-取引額表!BF40/(取引額表!BH40-取引額表!BF40-取引額表!BA40-取引額表!AV40)","v":7.6789477672619136E-2},0.92321052232738088,8.3176562458403963E-2,null,null,32,0,0,0,0,0,0,0,0,0,0,0,0,0,0,0,0,0,0,0,0,0,0,0,0,0,0,0,0,0,0,0,7.6789477672619136E-2,0,0,0,0,0]
[null,"65","他に分類されない会員制団体",{"$f":"-取引額表!BF41/(取引額表!BH41-取引額表!BF41-取引額表!BA41-取引額表!AV41)","v":0.43284697368938529},0.56715302631061471,0.76319256639622768,null,null,33,0,0,0,0,0,0,0,0,0,0,0,0,0,0,0,0,0,0,0,0,0,0,0,0,0,0,0,0,0,0,0,0,0.43284697368938529,0,0,0,0]
[null,"66","対事業所サービス",{"$f":"-取引額表!BF42/(取引額表!BH42-取引額表!BF42-取引額表!BA42-取引額表!AV42)","v":0.34849854989535062},0.65150145010464944,0.53491600032413122,null,null,34,0,0,0,0,0,0,0,0,0,0,0,0,0,0,0,0,0,0,0,0,0,0,0,0,0,0,0,0,0,0,0,0,0,0.34849854989535062,0,0,0]
[null,"67","対個人サービス",{"$f":"-取引額表!BF43/(取引額表!BH43-取引額表!BF43-取引額表!BA43-取引額表!AV43)","v":0.24971204990272247},0.75028795009727756,0.33282161851372716,null,null,35,0,{"$f":"IF($I43=K$8,$D43,0)","v":0},0,0,0,0,0,0,0,0,0,0,0,0,0,0,0,0,0,0,0,0,0,0,0,0,0,0,0,0,0,0,0,0,0.24971204990272247,0,0]
[null,"68","事務用品",{"$f":"-取引額表!BF44/(取引額表!BH44-取引額表!BF44-取引額表!BA44-取引額表!AV44)","v":0},1,0,null,null,36,0,0,0,0,0,0,0,0,0,0,0,0,0,0,0,0,0,0,0,0,0,0,0,0,0,0,0,0,0,0,0,0,0,0,0,0,0]
[null,"69","分類不明",{"$f":"-取引額表!BF45/(取引額表!BH45-取引額表!BF45-取引額表!BA45-取引額表!AV45)","v":0},1,0,null,null,37,0,0,0,0,0,0,0,0,0,0,0,0,0,0,0,0,0,0,0,0,0,0,0,0,0,0,0,0,0,0,0,0,0,0,0,0,0]

{"sheet":"付加価値率","index":8,"n_rows":45,"n_cols":8,"rows_kept":45,"cut":false,"hidden":true,"merged":[]}
[]
[]
[]
[]
[]
[]
[]
[null,null,null,"粗付加価値額","市内生産額","付加価値率","雇用者数","雇用者数/生産額"]
[null,"01","農林漁業",{"$f":"TRANSPOSE(取引額表!D53:AN53)","v":7647},{"$f":"TRANSPOSE(取引額表!D54:AN54)","v":14498},{"$f":"IF(E9=0,0,D9/E9)","v":0.52745206235342801},776,{"$f":"IF(E9=0,0,G9/E9)","v":5.3524624086080837E-2}]
[null,"06","鉱業",12,32,{"$f":"IF(E10=0,0,D10/E10)","v":0.375},3,{"$f":"IF(E10=0,0,G10/E10)","v":9.375E-2}]
[null,"11","飲食料品",84163,315268,0.26695700166207798,8360,2.6517121940698073E-2]
[null,"15","繊維製品",853,1657,0.51478575739287868,312,0.18829209414604708]
[null,"16","パルプ・紙・木製品",9799,21130,0.46374822527212495,777,3.6772361571225744E-2]
[null,"20","化学製品",6006,16520,0.36355932203389829,1096,6.6343825665859571E-2]
[null,"21","石油・石炭製品",6456,78838,8.1889444176666076E-2,128,1.6235825363403434E-3]
[null,"22","プラスチック・ゴム製品",4975,12879,0.38628775526050158,920,7.1434117555710844E-2]
[null,"25","窯業・土石製品",12721,24145,0.52685856284945121,935,3.8724373576309798E-2]
[null,"26","鉄鋼",269915,1083486,0.24911720132978182,4389,4.0508137622451978E-3]
[null,"27","非鉄金属",3274,17441,0.18771859411730979,420,2.4081188005274926E-2]
[null,"28","金属製品",17217,36483,0.47191842776087495,3031,8.3079790587396868E-2]
[null,"29","はん用機械",3100,6727,0.46082949308755761,800,0.11892374015162777]
[null,"30","生産用機械",42940,100265,0.42826509749164715,3741,3.7311125517378946E-2]
[null,"31","業務用機械",3811,7980,0.47756892230576442,512,6.4160401002506265E-2]
[null,"32","電子部品",2871,6806,0.42183367616808698,972,0.14281516309138995]
[null,"33","電気機械",4503,10082,0.44663757191033526,640,6.3479468359452493E-2]
[null,"34","情報通信機器",2002,5360,0.37350746268656715,696,0.12985074626865672]
[null,"35","輸送機械",462,1216,0.37993421052631576,508,0.41776315789473684]
[null,"39","その他の製造工業製品",17461,39085,0.44674427529742866,2989,7.6474350773954203E-2]
[null,"41","建設",169987,363415,0.46774899219900112,36562,0.10060674435562648]
[null,"46","電力・ガス・熱供給",111640,289725,0.38533091724911556,1603,5.5328328587453618E-3]
[null,"47","水道",20259,36631,0.5530561546231334,1388,3.7891403456089108E-2]
[null,"48","廃棄物処理",30903,46133,0.669867556846509,3655,7.9227451065397872E-2]
[null,"51","商業",525472,755864,0.69519384439528809,79654,0.10538139136140894]
[null,"53","金融・保険",246046,373363,0.65899941879618495,17753,4.7548900132043076E-2]
[null,"55","不動産",553045,656064,0.84297416105745782,7000,1.066969076187689E-2]
[null,"57","運輸・郵便",211750,365081,0.58000827213686823,25583,7.007486009953956E-2]
[null,"59","情報通信",223083,375540,0.59403259306598499,16716,4.4511902859881769E-2]
[null,"61","公務",218215,307290,0.7101272413680888,17858,5.8114484688730518E-2]
[null,"63","教育・研究",249483,322610,0.77332692724962027,26787,8.303214407488918E-2]
[null,"64","医療・福祉",302317,494067,0.61189474302068347,55108,0.11153952803971931]
[null,"65","他に分類されない会員制団体",19475,28940,0.67294402211472015,3582,0.12377332411886662]
[null,"66","対事業所サービス",434073,657636,0.660050544678211,66330,0.10086126671897525]
[null,"67","対個人サービス",215825,400260,0.53921201219207515,61323,0.15320791485534402]
[null,"68","事務用品",400,10673,3.7477747587369999E-2,0,0]
[null,"69","分類不明",0,85164,0,65,7.6323329106195101E-4]

{"sheet":"市内品投入係数表","index":9,"n_rows":45,"n_cols":40,"rows_kept":45,"cut":false,"hidden":true,"merged":[]}
[]
[]
[]
[]
[]
[]
[null,null,null,"01","06","11","15","16","20","21","22","25","26","27","28","29","30","31","32","33","34","35","39","41","46","47","48","51","53","55","57","59","61","63","64","65","66","67","68","69"]
[null,null,null,"農林漁業","鉱業","飲食料品","繊維製品","パルプ・紙・木製品","化学製品","石油・石炭製品","プラスチック・ゴム製品","窯業・土石製品","鉄鋼","非鉄金属","金属製品","はん用機械","生産用機械","業務用機械","電子部品","電気機械","情報通信機器","輸送機械","その他の製造工業製品","建設","電力・ガス・熱供給","水道","廃棄物処理","商業","金融・保険","不動産","運輸・郵便","情報通信","公務","教育・研究","医療・福祉","他に分類されない会員制団体","対事業所サービス","対個人サービス","事務用品","分類不明"]
[null,"01","農林漁業",{"$f":"投入係数表!D9*移輸入係数!$E9","v":5.0299312575671183E-3},{"$f":"投入係数表!E9*移輸入係数!$E9","v":0},{"$f":"投入係数表!F9*移輸入係数!$E9","v":1.8605501681460794E-2},{"$f":"投入係数表!G9*移輸入係数!$E9","v":1.6156248836247611E-4},{"$f":"投入係数表!H9*移輸入係数!$E9","v":3.3954578126859888E-4},{"$f":"投入係数表!I9*移輸入係数!$E9","v":2.2687207052256177E-5},{"$f":"投入係数表!J9*移輸入係数!$E9","v":0},{"$f":"投入係数表!K9*移輸入係数!$E9","v":4.1572954921441557E-5},{"$f":"投入係数表!L9*移輸入係数!$E9","v":4.4350224595837304E-6},{"$f":"投入係数表!M9*移輸入係数!$E9","v":0},{"$f":"投入係数表!N9*移輸入係数!$E9","v":0},{"$f":"投入係数表!O9*移輸入係数!$E9","v":0},{"$f":"投入係数表!P9*移輸入係数!$E9","v":0},{"$f":"投入係数表!Q9*移輸入係数!$E9","v":0},{"$f":"投入係数表!R9*移輸入係数!$E9","v":0},{"$f":"投入係数表!S9*移輸入係数!$E9","v":0},{"$f":"投入係数表!T9*移輸入係数!$E9","v":0},{"$f":"投入係数表!U9*移輸入係数!$E9","v":0},{"$f":"投入係数表!V9*移輸入係数!$E9","v":0},{"$f":"投入係数表!W9*移輸入係数!$E9","v":1.5822128433680414E-3},{"$f":"投入係数表!X9*移輸入係数!$E9","v":5.3627996494834132E-5},{"$f":"投入係数表!Y9*移輸入係数!$E9","v":0},{"$f":"投入係数表!Z9*移輸入係数!$E9","v":0},{"$f":"投入係数表!AA9*移輸入係数!$E9","v":0},{"$f":"投入係数表!AB9*移輸入係数!$E9","v":6.941853623199159E-6},{"$f":"投入係数表!AC9*移輸入係数!$E9","v":0},{"$f":"投入係数表!AD9*移輸入係数!$E9","v":8.1610648722265797E-8},{"$f":"投入係数表!AE9*移輸入係数!$E9","v":0},{"$f":"投入係数表!AF9*移輸入係数!$E9","v":0},{"$f":"投入係数表!AG9*移輸入係数!$E9","v":1.3939095614780717E-6},{"$f":"投入係数表!AH9*移輸入係数!$E9","v":1.1069832418430148E-4},{"$f":"投入係数表!AI9*移輸入係数!$E9","v":1.2614213307270031E-4},{"$f":"投入係数表!AJ9*移輸入係数!$E9","v":9.805514367989644E-5},{"$f":"投入係数表!AK9*移輸入係数!$E9","v":4.0707784126267865E-7},{"$f":"投入係数表!AL9*移輸入係数!$E9","v":1.1426426058843717E-3},{"$f":"投入係数表!AM9*移輸入係数!$E9","v":0},{"$f":"投入係数表!AN9*移輸入係数!$E9","v":0}]
[null,"06","鉱業",{"$f":"投入係数表!D10*移輸入係数!$E10","v":0},{"$f":"投入係数表!E10*移輸入係数!$E10","v":0},{"$f":"投入係数表!F10*移輸入係数!$E10","v":2.7587185918834395E-8},{"$f":"投入係数表!G10*移輸入係数!$E10","v":0},{"$f":"投入係数表!H10*移輸入係数!$E10","v":2.0243202338976705E-8},{"$f":"投入係数表!I10*移輸入係数!$E10","v":1.3377627954095957E-6},{"$f":"投入係数表!J10*移輸入係数!$E10","v":1.039714662689904E-4},{"$f":"投入係数表!K10*移輸入係数!$E10","v":0},{"$f":"投入係数表!L10*移輸入係数!$E10","v":7.6530623260531619E-6},{"$f":"投入係数表!M10*移輸入係数!$E10","v":1.0217175853107403E-5},{"$f":"投入係数表!N10*移輸入係数!$E10","v":8.9924651102734083E-8},{"$f":"投入係数表!O10*移輸入係数!$E10","v":2.3448667347673041E-8},{"$f":"投入係数表!P10*移輸入係数!$E10","v":0},{"$f":"投入係数表!Q10*移輸入係数!$E10","v":0},{"$f":"投入係数表!R10*移輸入係数!$E10","v":1.7867120527258888E-8},{"$f":"投入係数表!S10*移輸入係数!$E10","v":0},{"$f":"投入係数表!T10*移輸入係数!$E10","v":0},{"$f":"投入係数表!U10*移輸入係数!$E10","v":0},{"$f":"投入係数表!V10*移輸入係数!$E10","v":0},{"$f":"投入係数表!W10*移輸入係数!$E10","v":1.1308605030147891E-7},{"$f":"投入係数表!X10*移輸入係数!$E10","v":8.1919087086145077E-7},{"$f":"投入係数表!Y10*移輸入係数!$E10","v":4.2015774859128971E-5},{"$f":"投入係数表!Z10*移輸入係数!$E10","v":0},{"$f":"投入係数表!AA10*移輸入係数!$E10","v":0},{"$f":"投入係数表!AB10*移輸入係数!$E10","v":1.8863131701936583E-10},{"$f":"投入係数表!AC10*移輸入係数!$E10","v":0},{"$f":"投入係数表!AD10*移輸入係数!$E10","v":0},{"$f":"投入係数表!AE10*移輸入係数!$E10","v":7.8108486504378992E-10},{"$f":"投入係数表!AF10*移輸入係数!$E10","v":0},{"$f":"投入係数表!AG10*移輸入係数!$E10","v":9.279808767452629E-10},{"$f":"投入係数表!AH10*移輸入係数!$E10","v":2.2097830477593058E-9},{"$f":"投入係数表!AI10*移輸入係数!$E10","v":2.8858357633180504E-10},{"$f":"投入係数表!AJ10*移輸入係数!$E10","v":4.926731921476363E-9},{"$f":"投入係数表!AK10*移輸入係数!$E10","v":8.6722516290182358E-10},{"$f":"投入係数表!AL10*移輸入係数!$E10","v":2.1373050788116611E-9},{"$f":"投入係数表!AM10*移輸入係数!$E10","v":0},{"$f":"投入係数表!AN10*移輸入係数!$E10","v":1.1719239968210529E-8}]
[null,"11","飲食料品",{"$f":"投入係数表!D11*移輸入係数!$E11","v":2.6692867296611796E-2},{"$f":"投入係数表!E11*移輸入係数!$E11","v":0},{"$f":"投入係数表!F11*移輸入係数!$E11","v":5.4755324359574413E-2},{"$f":"投入係数表!G11*移輸入係数!$E11","v":1.9910529154326697E-4},{"$f":"投入係数表!H11*移輸入係数!$E11","v":7.8068496944437612E-5},{"$f":"投入係数表!I11*移輸入係数!$E11","v":2.2766701792941916E-3},{"$f":"投入係数表!J11*移輸入係数!$E11","v":0},{"$f":"投入係数表!K11*移輸入係数!$E11","v":0},{"$f":"投入係数表!L11*移輸入係数!$E11","v":3.1427217916775511E-4},{"$f":"投入係数表!M11*移輸入係数!$E11","v":0},{"$f":"投入係数表!N11*移輸入係数!$E11","v":0},{"$f":"投入係数表!O11*移輸入係数!$E11","v":0},{"$f":"投入係数表!P11*移輸入係数!$E11","v":0},{"$f":"投入係数表!Q11*移輸入係数!$E11","v":0},{"$f":"投入係数表!R11*移輸入係数!$E11","v":0},{"$f":"投入係数表!S11*移輸入係数!$E11","v":0},{"$f":"投入係数表!T11*移輸入係数!$E11","v":0},{"$f":"投入係数表!U11*移輸入係数!$E11","v":0},{"$f":"投入係数表!V11*移輸入係数!$E11","v":0},{"$f":"投入係数表!W11*移輸入係数!$E11","v":3.7984613186449278E-4},{"$f":"投入係数表!X11*移輸入係数!$E11","v":2.7234770283603595E-6},{"$f":"投入係数表!Y11*移輸入係数!$E11","v":0},{"$f":"投入係数表!Z11*移輸入係数!$E11","v":0},{"$f":"投入係数表!AA11*移輸入係数!$E11","v":0},{"$f":"投入係数表!AB11*移輸入係数!$E11","v":4.5830115138643066E-5},{"$f":"投入係数表!AC11*移輸入係数!$E11","v":0},{"$f":"投入係数表!AD11*移輸入係数!$E11","v":0},{"$f":"投入係数表!AE11*移輸入係数!$E11","v":0},{"$f":"投入係数表!AF11*移輸入係数!$E11","v":0},{"$f":"投入係数表!AG11*移輸入係数!$E11","v":8.696447953094035E-5},{"$f":"投入係数表!AH11*移輸入係数!$E11","v":1.7794128962887587E-3},{"$f":"投入係数表!AI11*移輸入係数!$E11","v":2.309776856405309E-3},{"$f":"投入係数表!AJ11*移輸入係数!$E11","v":3.7620167404552111E-4},{"$f":"投入係数表!AK11*移輸入係数!$E11","v":1.0033436979946151E-6},{"$f":"投入係数表!AL11*移輸入係数!$E11","v":4.2882841639695003E-2},{"$f":"投入係数表!AM11*移輸入係数!$E11","v":0},{"$f":"投入係数表!AN11*移輸入係数!$E11","v":3.8739076145694583E-4}]
[null,"15","繊維製品",{"$f":"投入係数表!D12*移輸入係数!$E12","v":1.4209479680600457E-5},{"$f":"投入係数表!E12*移輸入係数!$E12","v":0},{"$f":"投入係数表!F12*移輸入係数!$E12","v":5.9587595727157072E-6},{"$f":"投入係数表!G12*移輸入係数!$E12","v":1.0626956931769262E-3},{"$f":"投入係数表!H12*移輸入係数!$E12","v":2.0427732184010994E-5},{"$f":"投入係数表!I12*移輸入係数!$E12","v":2.3752915532035675E-6},{"$f":"投入係数表!J12*移輸入係数!$E12","v":8.088066889792964E-7},{"$f":"投入係数表!K12*移輸入係数!$E12","v":1.1425523077953337E-5},{"$f":"投入係数表!L12*移輸入係数!$E12","v":1.1579361866631846E-5},{"$f":"投入係数表!M12*移輸入係数!$E12","v":1.1906097227717679E-6},{"$f":"投入係数表!N12*移輸入係数!$E12","v":8.4369767628554E-7},{"$f":"投入係数表!O12*移輸入係数!$E12","v":4.0333665466370914E-6},{"$f":"投入係数表!P12*移輸入係数!$E12","v":2.1874433138243053E-6},{"$f":"投入係数表!Q12*移輸入係数!$E12","v":3.0330481978422458E-6},{"$f":"投入係数表!R12*移輸入係数!$E12","v":3.6879526747108027E-6},{"$f":"投入係数表!S12*移輸入係数!$E12","v":2.089984347099554E-5},{"$f":"投入係数表!T12*移輸入係数!$E12","v":3.4055583615907133E-6},{"$f":"投入係数表!U12*移輸入係数!$E12","v":9.1510765995622521E-7},{"$f":"投入係数表!V12*移輸入係数!$E12","v":0},{"$f":"投入係数表!W12*移輸入係数!$E12","v":8.1571832858833019E-6},{"$f":"投入係数表!X12*移輸入係数!$E12","v":1.5184016040989057E-5},{"$f":"投入係数表!Y12*移輸入係数!$E12","v":8.1262886790417682E-7},{"$f":"投入係数表!Z12*移輸入係数!$E12","v":3.6153635049238329E-6},{"$f":"投入係数表!AA12*移輸入係数!$E12","v":8.7184470705126515E-6},{"$f":"投入係数表!AB12*移輸入係数!$E12","v":2.085639250231826E-5},{"$f":"投入係数表!AC12*移輸入係数!$E12","v":6.8970759157088891E-6},{"$f":"投入係数表!AD12*移輸入係数!$E12","v":1.046691767923787E-7},{"$f":"投入係数表!AE12*移輸入係数!$E12","v":1.0049613206135885E-5},{"$f":"投入係数表!AF12*移輸入係数!$E12","v":4.1011950684686728E-6},{"$f":"投入係数表!AG12*移輸入係数!$E12","v":1.6632451735411867E-5},{"$f":"投入係数表!AH12*移輸入係数!$E12","v":2.4478512948632223E-6},{"$f":"投入係数表!AI12*移輸入係数!$E12","v":1.4345608688483457E-5},{"$f":"投入係数表!AJ12*移輸入係数!$E12","v":9.1353926534897475E-5},{"$f":"投入係数表!AK12*移輸入係数!$E12","v":1.0337478789951279E-5},{"$f":"投入係数表!AL12*移輸入係数!$E12","v":1.6433253969737066E-5},{"$f":"投入係数表!AM12*移輸入係数!$E12","v":9.1454177308695608E-5},{"$f":"投入係数表!AN12*移輸入係数!$E12","v":2.3901712916333515E-5}]
[null,"16","パルプ・紙・木製品",{"$f":"投入係数表!D13*移輸入係数!$E13","v":4.5031948738501358E-3},{"$f":"投入係数表!E13*移輸入係数!$E13","v":0},{"$f":"投入係数表!F13*移輸入係数!$E13","v":1.4773616162185863E-3},{"$f":"投入係数表!G13*移輸入係数!$E13","v":8.8046741646010686E-4},{"$f":"投入係数表!H13*移輸入係数!$E13","v":4.2488964672108713E-2},{"$f":"投入係数表!I13*移輸入係数!$E13","v":8.6105396268010715E-4},{"$f":"投入係数表!J13*移輸入係数!$E13","v":1.6192289193537349E-5},{"$f":"投入係数表!K13*移輸入係数!$E13","v":1.1186410650756791E-3},{"$f":"投入係数表!L13*移輸入係数!$E13","v":1.3595372314836997E-3},{"$f":"投入係数表!M13*移輸入係数!$E13","v":4.5781646748116265E-5},{"$f":"投入係数表!N13*移輸入係数!$E13","v":3.8687988673063967E-4},{"$f":"投入係数表!O13*移輸入係数!$E13","v":4.0489301604523396E-4},{"$f":"投入係数表!P13*移輸入係数!$E13","v":5.4219358892314437E-5},{"$f":"投入係数表!Q13*移輸入係数!$E13","v":9.8217802186726982E-5},{"$f":"投入係数表!R13*移輸入係数!$E13","v":1.828238733175936E-3},{"$f":"投入係数表!S13*移輸入係数!$E13","v":6.4308015386764484E-4},{"$f":"投入係数表!T13*移輸入係数!$E13","v":1.4289801901517228E-3},{"$f":"投入係数表!U13*移輸入係数!$E13","v":1.2588753926248296E-3},{"$f":"投入係数表!V13*移輸入係数!$E13","v":0},{"$f":"投入係数表!W13*移輸入係数!$E13","v":1.2271324545431957E-2},{"$f":"投入係数表!X13*移輸入係数!$E13","v":9.8189987820600164E-3},{"$f":"投入係数表!Y13*移輸入係数!$E13","v":1.8631659965744307E-4},{"$f":"投入係数表!Z13*移輸入係数!$E13","v":4.7793437549869687E-4},{"$f":"投入係数表!AA13*移輸入係数!$E13","v":5.7319463241006319E-4},{"$f":"投入係数表!AB13*移輸入係数!$E13","v":1.4519589297164769E-3},{"$f":"投入係数表!AC13*移輸入係数!$E13","v":8.367040969661034E-4},{"$f":"投入係数表!AD13*移輸入係数!$E13","v":7.1716536675765327E-5},{"$f":"投入係数表!AE13*移輸入係数!$E13","v":5.6496192960026092E-4},{"$f":"投入係数表!AF13*移輸入係数!$E13","v":1.8647509302756311E-3},{"$f":"投入係数表!AG13*移輸入係数!$E13","v":2.2670481567347607E-4},{"$f":"投入係数表!AH13*移輸入係数!$E13","v":9.7907479995848544E-4},{"$f":"投入係数表!AI13*移輸入係数!$E13","v":1.0143239760337271E-3},{"$f":"投入係数表!AJ13*移輸入係数!$E13","v":2.7348720496643414E-3},{"$f":"投入係数表!AK13*移輸入係数!$E13","v":5.6847856253355086E-4},{"$f":"投入係数表!AL13*移輸入係数!$E13","v":1.0474724043003419E-3},{"$f":"投入係数表!AM13*移輸入係数!$E13","v":7.5916401478234155E-2},{"$f":"投入係数表!AN13*移輸入係数!$E13","v":4.7538199975123897E-4}]
[null,"20","化学製品",{"$f":"投入係数表!D14*移輸入係数!$E14","v":2.2856545164934858E-3},{"$f":"投入係数表!E14*移輸入係数!$E14","v":0},{"$f":"投入係数表!F14*移輸入係数!$E14","v":2.4690545799965758E-4},{"$f":"投入係数表!G14*移輸入係数!$E14","v":2.0125359153773323E-3},{"$f":"投入係数表!H14*移輸入係数!$E14","v":8.7726102730348288E-4},{"$f":"投入係数表!I14*移輸入係数!$E14","v":1.1255210163442565E-2},{"$f":"投入係数表!J14*移輸入係数!$E14","v":-4.1155826358975139E-5},{"$f":"投入係数表!K14*移輸入係数!$E14","v":5.7104776928137268E-3},{"$f":"投入係数表!L14*移輸入係数!$E14","v":1.28657911759873E-3},{"$f":"投入係数表!M14*移輸入係数!$E14","v":1.1570929559613944E-4},{"$f":"投入係数表!N14*移輸入係数!$E14","v":9.1295139507328798E-5},{"$f":"投入係数表!O14*移輸入係数!$E14","v":2.7751248525968795E-4},{"$f":"投入係数表!P14*移輸入係数!$E14","v":6.2524435165700891E-5},{"$f":"投入係数表!Q14*移輸入係数!$E14","v":9.9778746674719185E-5},{"$f":"投入係数表!R14*移輸入係数!$E14","v":4.4800951636055059E-4},{"$f":"投入係数表!S14*移輸入係数!$E14","v":3.5754955610735551E-4},{"$f":"投入係数表!T14*移輸入係数!$E14","v":2.6520791585435584E-4},{"$f":"投入係数表!U14*移輸入係数!$E14","v":2.185963904454574E-4},{"$f":"投入係数表!V14*移輸入係数!$E14","v":3.2118329297907124E-4},{"$f":"投入係数表!W14*移輸入係数!$E14","v":7.2407567131857128E-4},{"$f":"投入係数表!X14*移輸入係数!$E14","v":1.582276046940448E-4},{"$f":"投入係数表!Y14*移輸入係数!$E14","v":3.2560183637916824E-5},{"$f":"投入係数表!Z14*移輸入係数!$E14","v":2.2472167182470263E-4},{"$f":"投入係数表!AA14*移輸入係数!$E14","v":4.0701600666983608E-4},{"$f":"投入係数表!AB14*移輸入係数!$E14","v":1.9873278193642823E-7},{"$f":"投入係数表!AC14*移輸入係数!$E14","v":6.4372722732824142E-7},{"$f":"投入係数表!AD14*移輸入係数!$E14","v":9.1585549876595191E-7},{"$f":"投入係数表!AE14*移輸入係数!$E14","v":8.1468389716660361E-6},{"$f":"投入係数表!AF14*移輸入係数!$E14","v":2.6159818098625988E-5},{"$f":"投入係数表!AG14*移輸入係数!$E14","v":2.5712866212835984E-5},{"$f":"投入係数表!AH14*移輸入係数!$E14","v":1.2823284690720448E-4},{"$f":"投入係数表!AI14*移輸入係数!$E14","v":3.8585414530169057E-3},{"$f":"投入係数表!AJ14*移輸入係数!$E14","v":5.2943764545718142E-5},{"$f":"投入係数表!AK14*移輸入係数!$E14","v":1.3133952430252895E-4},{"$f":"投入係数表!AL14*移輸入係数!$E14","v":2.0896339183125985E-4},{"$f":"投入係数表!AM14*移輸入係数!$E14","v":2.6459675472024845E-4},{"$f":"投入係数表!AN14*移輸入係数!$E14","v":8.8191580647689391E-5}]
[null,"21","石油・石炭製品",{"$f":"投入係数表!D15*移輸入係数!$E15","v":1.9241658967454221E-3},{"$f":"投入係数表!E15*移輸入係数!$E15","v":0},{"$f":"投入係数表!F15*移輸入係数!$E15","v":2.059739201542698E-3},{"$f":"投入係数表!G15*移輸入係数!$E15","v":0},{"$f":"投入係数表!H15*移輸入係数!$E15","v":4.6452699010471983E-4},{"$f":"投入係数表!I15*移輸入係数!$E15","v":4.7219757564605017E-3},{"$f":"投入係数表!J15*移輸入係数!$E15","v":3.8615146909037133E-2},{"$f":"投入係数表!K15*移輸入係数!$E15","v":4.4123239508641178E-4},{"$f":"投入係数表!L15*移輸入係数!$E15","v":1.0163030959735692E-2},{"$f":"投入係数表!M15*移輸入係数!$E15","v":1.4444089331047644E-2},{"$f":"投入係数表!N15*移輸入係数!$E15","v":5.3316050629771097E-4},{"$f":"投入係数表!O15*移輸入係数!$E15","v":1.2885690557867017E-3},{"$f":"投入係数表!P15*移輸入係数!$E15","v":7.6795437873398875E-5},{"$f":"投入係数表!Q15*移輸入係数!$E15","v":3.4005677053715035E-4},{"$f":"投入係数表!R15*移輸入係数!$E15","v":7.7684648206669817E-4},{"$f":"投入係数表!S15*移輸入係数!$E15","v":4.5542425263680948E-4},{"$f":"投入係数表!T15*移輸入係数!$E15","v":5.1240122056571543E-4},{"$f":"投入係数表!U15*移輸入係数!$E15","v":0},{"$f":"投入係数表!V15*移輸入係数!$E15","v":0},{"$f":"投入係数表!W15*移輸入係数!$E15","v":1.2820898637767011E-3},{"$f":"投入係数表!X15*移輸入係数!$E15","v":5.4842371090787637E-3},{"$f":"投入係数表!Y15*移輸入係数!$E15","v":1.5803439801261546E-2},{"$f":"投入係数表!Z15*移輸入係数!$E15","v":5.711669863847928E-3},{"$f":"投入係数表!AA15*移輸入係数!$E15","v":5.8902115830774138E-3},{"$f":"投入係数表!AB15*移輸入係数!$E15","v":8.3860558417219594E-4},{"$f":"投入係数表!AC15*移輸入係数!$E15","v":2.4767296436125009E-4},{"$f":"投入係数表!AD15*移輸入係数!$E15","v":2.0866831788088339E-4},{"$f":"投入係数表!AE15*移輸入係数!$E15","v":3.8991328502103184E-2},{"$f":"投入係数表!AF15*移輸入係数!$E15","v":2.9300852093608527E-4},{"$f":"投入係数表!AG15*移輸入係数!$E15","v":5.277153621311783E-3},{"$f":"投入係数表!AH15*移輸入係数!$E15","v":1.8815548802729807E-3},{"$f":"投入係数表!AI15*移輸入係数!$E15","v":1.0518867441820651E-3},{"$f":"投入係数表!AJ15*移輸入係数!$E15","v":1.410215270745473E-3},{"$f":"投入係数表!AK15*移輸入係数!$E15","v":1.0769826931576734E-3},{"$f":"投入係数表!AL15*移輸入係数!$E15","v":2.6316727493656831E-3},{"$f":"投入係数表!AM15*移輸入係数!$E15","v":0},{"$f":"投入係数表!AN15*移輸入係数!$E15","v":5.3071237431485431E-2}]
[null,"22","プラスチック・ゴム製品",{"$f":"投入係数表!D16*移輸入係数!$E16","v":1.7634205103299913E-4},{"$f":"投入係数表!E16*移輸入係数!$E16","v":0},{"$f":"投入係数表!F16*移輸入係数!$E16","v":1.9162819253803039E-4},{"$f":"投入係数表!G16*移輸入係数!$E16","v":3.3360283884929413E-4},{"$f":"投入係数表!H16*移輸入係数!$E16","v":4.3601506860173556E-4},{"$f":"投入係数表!I16*移輸入係数!$E16","v":2.0216173848901749E-4},{"$f":"投入係数表!J16*移輸入係数!$E16","v":8.7644902200284184E-7},{"$f":"投入係数表!K16*移輸入係数!$E16","v":5.4062609988845753E-3},{"$f":"投入係数表!L16*移輸入係数!$E16","v":7.9175695502488907E-5},{"$f":"投入係数表!M16*移輸入係数!$E16","v":1.356245714969063E-5},{"$f":"投入係数表!N16*移輸入係数!$E16","v":1.9808923799283314E-5},{"$f":"投入係数表!O16*移輸入係数!$E16","v":5.7450240821716641E-5},{"$f":"投入係数表!P16*移輸入係数!$E16","v":3.5266048578643205E-4},{"$f":"投入係数表!Q16*移輸入係数!$E16","v":7.4106449999908688E-4},{"$f":"投入係数表!R16*移輸入係数!$E16","v":1.4287074585775572E-3},{"$f":"投入係数表!S16*移輸入係数!$E16","v":5.6176819509479712E-4},{"$f":"投入係数表!T16*移輸入係数!$E16","v":7.7902014834560203E-4},{"$f":"投入係数表!U16*移輸入係数!$E16","v":4.2111653132292817E-4},{"$f":"投入係数表!V16*移輸入係数!$E16","v":7.3870669733271436E-4},{"$f":"投入係数表!W16*移輸入係数!$E16","v":8.9159949971384287E-4},{"$f":"投入係数表!X16*移輸入係数!$E16","v":2.9508771341528662E-4},{"$f":"投入係数表!Y16*移輸入係数!$E16","v":0},{"$f":"投入係数表!Z16*移輸入係数!$E16","v":7.8281940210788456E-4},{"$f":"投入係数表!AA16*移輸入係数!$E16","v":2.8857396413319101E-4},{"$f":"投入係数表!AB16*移輸入係数!$E16","v":1.2569595323418971E-4},{"$f":"投入係数表!AC16*移輸入係数!$E16","v":5.891326585370479E-5},{"$f":"投入係数表!AD16*移輸入係数!$E16","v":1.2357694663337895E-5},{"$f":"投入係数表!AE16*移輸入係数!$E16","v":5.9240315828417789E-5},{"$f":"投入係数表!AF16*移輸入係数!$E16","v":9.5984066246625272E-5},{"$f":"投入係数表!AG16*移輸入係数!$E16","v":4.2498699050957561E-5},{"$f":"投入係数表!AH16*移輸入係数!$E16","v":5.3474286299761713E-5},{"$f":"投入係数表!AI16*移輸入係数!$E16","v":4.29353282347832E-5},{"$f":"投入係数表!AJ16*移輸入係数!$E16","v":1.3450213627546129E-4},{"$f":"投入係数表!AK16*移輸入係数!$E16","v":1.7756746089684183E-4},{"$f":"投入係数表!AL16*移輸入係数!$E16","v":6.3816114682369788E-5},{"$f":"投入係数表!AM16*移輸入係数!$E16","v":1.0466373615159786E-3},{"$f":"投入係数表!AN16*移輸入係数!$E16","v":9.2493467094303283E-5}]
[null,"25","窯業・土石製品",{"$f":"投入係数表!D17*移輸入係数!$E17","v":1.0749224159830825E-4},{"$f":"投入係数表!E17*移輸入係数!$E17","v":0},{"$f":"投入係数表!F17*移輸入係数!$E17","v":3.2377746861192342E-5},{"$f":"投入係数表!G17*移輸入係数!$E17","v":4.7025423014250843E-5},{"$f":"投入係数表!H17*移輸入係数!$E17","v":2.5445138142396315E-4},{"$f":"投入係数表!I17*移輸入係数!$E17","v":3.6319168867828395E-4},{"$f":"投入係数表!J17*移輸入係数!$E17","v":4.8430137380401186E-5},{"$f":"投入係数表!K17*移輸入係数!$E17","v":2.4200986391680607E-4},{"$f":"投入係数表!L17*移輸入係数!$E17","v":5.6153555239688438E-3},{"$f":"投入係数表!M17*移輸入係数!$E17","v":1.9611781824932801E-4},{"$f":"投入係数表!N17*移輸入係数!$E17","v":7.148317269387181E-5},{"$f":"投入係数表!O17*移輸入係数!$E17","v":2.2853275429662198E-4},{"$f":"投入係数表!P17*移輸入係数!$E17","v":5.3283362464578976E-4},{"$f":"投入係数表!Q17*移輸入係数!$E17","v":1.632018794820612E-4},{"$f":"投入係数表!R17*移輸入係数!$E17","v":5.1752126247299793E-4},{"$f":"投入係数表!S17*移輸入係数!$E17","v":2.232532994012586E-3},{"$f":"投入係数表!T17*移輸入係数!$E17","v":3.864368475233765E-4},{"$f":"投入係数表!U17*移輸入係数!$E17","v":7.2687617476318697E-5},{"$f":"投入係数表!V17*移輸入係数!$E17","v":0},{"$f":"投入係数表!W17*移輸入係数!$E17","v":2.2926773653525825E-4},{"$f":"投入係数表!X17*移輸入係数!$E17","v":4.1251036469491676E-3},{"$f":"投入係数表!Y17*移輸入係数!$E17","v":2.95843432662266E-6},{"$f":"投入係数表!Z17*移輸入係数!$E17","v":3.1695142814166778E-4},{"$f":"投入係数表!AA17*移輸入係数!$E17","v":3.2092025074407893E-5},{"$f":"投入係数表!AB17*移輸入係数!$E17","v":1.5875677891698111E-5},{"$f":"投入係数表!AC17*移輸入係数!$E17","v":4.1740143471427883E-7},{"$f":"投入係数表!AD17*移輸入係数!$E17","v":5.1071365220289286E-6},{"$f":"投入係数表!AE17*移輸入係数!$E17","v":8.5374068696660358E-7},{"$f":"投入係数表!AF17*移輸入係数!$E17","v":0},{"$f":"投入係数表!AG17*移輸入係数!$E17","v":1.2932335652527891E-5},{"$f":"投入係数表!AH17*移輸入係数!$E17","v":1.4008943629173278E-4},{"$f":"投入係数表!AI17*移輸入係数!$E17","v":6.3558614017227014E-5},{"$f":"投入係数表!AJ17*移輸入係数!$E17","v":1.8847542555020579E-5},{"$f":"投入係数表!AK17*移輸入係数!$E17","v":4.0877914906485819E-5},{"$f":"投入係数表!AL17*移輸入係数!$E17","v":9.8116842729838801E-5},{"$f":"投入係数表!AM17*移輸入係数!$E17","v":3.7233930691139285E-4},{"$f":"投入係数表!AN17*移輸入係数!$E17","v":1.5279728560284252E-4}]
[null,"26","鉄鋼",{"$f":"投入係数表!D18*移輸入係数!$E18","v":0},{"$f":"投入係数表!E18*移輸入係数!$E18","v":0},{"$f":"投入係数表!F18*移輸入係数!$E18","v":0},{"$f":"投入係数表!G18*移輸入係数!$E18","v":0},{"$f":"投入係数表!H18*移輸入係数!$E18","v":1.4415725629550215E-2},{"$f":"投入係数表!I18*移輸入係数!$E18","v":0},{"$f":"投入係数表!J18*移輸入係数!$E18","v":0},{"$f":"投入係数表!K18*移輸入係数!$E18","v":1.2251766963863075E-3},{"$f":"投入係数表!L18*移輸入係数!$E18","v":7.1886335638994331E-3},{"$f":"投入係数表!M18*移輸入係数!$E18","v":0.36666718668039983},{"$f":"投入係数表!N18*移輸入係数!$E18","v":0},{"$f":"投入係数表!O18*移輸入係数!$E18","v":0.17937641518259315},{"$f":"投入係数表!P18*移輸入係数!$E18","v":6.9553018393248567E-2},{"$f":"投入係数表!Q18*移輸入係数!$E18","v":6.3825204371675215E-2},{"$f":"投入係数表!R18*移輸入係数!$E18","v":9.9725938653158642E-3},{"$f":"投入係数表!S18*移輸入係数!$E18","v":2.4192031081668483E-3},{"$f":"投入係数表!T18*移輸入係数!$E18","v":2.3203885872415352E-2},{"$f":"投入係数表!U18*移輸入係数!$E18","v":4.2237887102616438E-3},{"$f":"投入係数表!V18*移輸入係数!$E18","v":4.7391313519442847E-2},{"$f":"投入係数表!W18*移輸入係数!$E18","v":1.10581752410725E-3},{"$f":"投入係数表!X18*移輸入係数!$E18","v":1.6146137922821484E-2},{"$f":"投入係数表!Y18*移輸入係数!$E18","v":0},{"$f":"投入係数表!Z18*移輸入係数!$E18","v":0},{"$f":"投入係数表!AA18*移輸入係数!$E18","v":0},{"$f":"投入係数表!AB18*移輸入係数!$E18","v":0},{"$f":"投入係数表!AC18*移輸入係数!$E18","v":0},{"$f":"投入係数表!AD18*移輸入係数!$E18","v":0},{"$f":"投入係数表!AE18*移輸入係数!$E18","v":1.0523297065517424E-4},{"$f":"投入係数表!AF18*移輸入係数!$E18","v":0},{"$f":"投入係数表!AG18*移輸入係数!$E18","v":1.5627972826874315E-5},{"$f":"投入係数表!AH18*移輸入係数!$E18","v":0},{"$f":"投入係数表!AI18*移輸入係数!$E18","v":0},{"$f":"投入係数表!AJ18*移輸入係数!$E18","v":0},{"$f":"投入係数表!AK18*移輸入係数!$E18","v":7.0937579963465275E-5},{"$f":"投入係数表!AL18*移輸入係数!$E18","v":1.0284000620961106E-5},{"$f":"投入係数表!AM18*移輸入係数!$E18","v":0},{"$f":"投入係数表!AN18*移輸入係数!$E18","v":1.2405598015516482E-3}]
[null,"27","非鉄金属",{"$f":"投入係数表!D19*移輸入係数!$E19","v":0},{"$f":"投入係数表!E19*移輸入係数!$E19","v":0},{"$f":"投入係数表!F19*移輸入係数!$E19","v":8.2267116806861428E-6},{"$f":"投入係数表!G19*移輸入係数!$E19","v":0},{"$f":"投入係数表!H19*移輸入係数!$E19","v":5.1682445774709122E-5},{"$f":"投入係数表!I19*移輸入係数!$E19","v":8.1359663193861337E-5},{"$f":"投入係数表!J19*移輸入係数!$E19","v":0},{"$f":"投入係数表!K19*移輸入係数!$E19","v":2.2013588115215366E-5},{"$f":"投入係数表!L19*移輸入係数!$E19","v":1.1959546162822014E-4},{"$f":"投入係数表!M19*移輸入係数!$E19","v":1.1692657742786247E-4},{"$f":"投入係数表!N19*移輸入係数!$E19","v":6.645508579709386E-3},{"$f":"投入係数表!O19*移輸入係数!$E19","v":4.4208918212732153E-4},{"$f":"投入係数表!P19*移輸入係数!$E19","v":3.5901750440319271E-4},{"$f":"投入係数表!Q19*移輸入係数!$E19","v":1.8149239009773843E-4},{"$f":"投入係数表!R19*移輸入係数!$E19","v":7.3029664782976679E-4},{"$f":"投入係数表!S19*移輸入係数!$E19","v":5.1684709269333518E-4},{"$f":"投入係数表!T19*移輸入係数!$E19","v":7.1447434340775654E-4},{"$f":"投入係数表!U19*移輸入係数!$E19","v":2.8014344382965581E-4},{"$f":"投入係数表!V19*移輸入係数!$E19","v":2.2451687483955669E-4},{"$f":"投入係数表!W19*移輸入係数!$E19","v":1.8510507291364653E-4},{"$f":"投入係数表!X19*移輸入係数!$E19","v":8.7201830580549577E-5},{"$f":"投入係数表!Y19*移輸入係数!$E19","v":2.9356769488569368E-6},{"$f":"投入係数表!Z19*移輸入係数!$E19","v":1.7199336405161303E-6},{"$f":"投入係数表!AA19*移輸入係数!$E19","v":0},{"$f":"投入係数表!AB19*移輸入係数!$E19","v":1.1113619943225477E-7},{"$f":"投入係数表!AC19*移輸入係数!$E19","v":0},{"$f":"投入係数表!AD19*移輸入係数!$E19","v":0},{"$f":"投入係数表!AE19*移輸入係数!$E19","v":8.6286179211937037E-8},{"$f":"投入係数表!AF19*移輸入係数!$E19","v":3.9145428298825213E-7},{"$f":"投入係数表!AG19*移輸入係数!$E19","v":1.8452471693570155E-6},{"$f":"投入係数表!AH19*移輸入係数!$E19","v":3.2548530829663455E-7},{"$f":"投入係数表!AI19*移輸入係数!$E19","v":1.2071790889867142E-5},{"$f":"投入係数表!AJ19*移輸入係数!$E19","v":1.4513450630211098E-6},{"$f":"投入係数表!AK19*移輸入係数!$E19","v":3.5766105610619417E-6},{"$f":"投入係数表!AL19*移輸入係数!$E19","v":3.3317372568621184E-6},{"$f":"投入係数表!AM19*移輸入係数!$E19","v":8.8545239181691705E-6},{"$f":"投入係数表!AN19*移輸入係数!$E19","v":1.6645120082186057E-5}]
[null,"28","金属製品",{"$f":"投入係数表!D20*移輸入係数!$E20","v":2.0943695915118371E-4},{"$f":"投入係数表!E20*移輸入係数!$E20","v":0},{"$f":"投入係数表!F20*移輸入係数!$E20","v":5.2283792693113131E-4},{"$f":"投入係数表!G20*移輸入係数!$E20","v":1.3089132829441596E-4},{"$f":"投入係数表!H20*移輸入係数!$E20","v":5.9328275489192485E-3},{"$f":"投入係数表!I20*移輸入係数!$E20","v":2.9408397421538611E-3},{"$f":"投入係数表!J20*移輸入係数!$E20","v":3.2737442333744926E-4},{"$f":"投入係数表!K20*移輸入係数!$E20","v":1.0441020048915701E-3},{"$f":"投入係数表!L20*移輸入係数!$E20","v":2.5510825595118085E-3},{"$f":"投入係数表!M20*移輸入係数!$E20","v":2.5422239175170332E-5},{"$f":"投入係数表!N20*移輸入係数!$E20","v":1.4922557031168897E-4},{"$f":"投入係数表!O20*移輸入係数!$E20","v":1.0409478829940427E-2},{"$f":"投入係数表!P20*移輸入係数!$E20","v":5.4487723110257444E-3},{"$f":"投入係数表!Q20*移輸入係数!$E20","v":7.1015787604844218E-3},{"$f":"投入係数表!R20*移輸入係数!$E20","v":4.3214313316330471E-3},{"$f":"投入係数表!S20*移輸入係数!$E20","v":3.4735050657125109E-3},{"$f":"投入係数表!T20*移輸入係数!$E20","v":7.8950112746550231E-3},{"$f":"投入係数表!U20*移輸入係数!$E20","v":2.3469108203476013E-3},{"$f":"投入係数表!V20*移輸入係数!$E20","v":2.4970534817219258E-3},{"$f":"投入係数表!W20*移輸入係数!$E20","v":1.6203398707249175E-3},{"$f":"投入係数表!X20*移輸入係数!$E20","v":1.9578698341719776E-2},{"$f":"投入係数表!Y20*移輸入係数!$E20","v":1.3250146443745265E-4},{"$f":"投入係数表!Z20*移輸入係数!$E20","v":1.1841714994613702E-4},{"$f":"投入係数表!AA20*移輸入係数!$E20","v":2.3506701383374944E-5},{"$f":"投入係数表!AB20*移輸入係数!$E20","v":6.0831087826084614E-4},{"$f":"投入係数表!AC20*移輸入係数!$E20","v":2.3816940002993704E-5},{"$f":"投入係数表!AD20*移輸入係数!$E20","v":6.1819968926780672E-5},{"$f":"投入係数表!AE20*移輸入係数!$E20","v":2.7149407243767326E-4},{"$f":"投入係数表!AF20*移輸入係数!$E20","v":6.2951151614313661E-5},{"$f":"投入係数表!AG20*移輸入係数!$E20","v":8.9849023119020332E-4},{"$f":"投入係数表!AH20*移輸入係数!$E20","v":2.2857802465673123E-5},{"$f":"投入係数表!AI20*移輸入係数!$E20","v":6.2774545012498625E-5},{"$f":"投入係数表!AJ20*移輸入係数!$E20","v":3.9720135943828282E-4},{"$f":"投入係数表!AK20*移輸入係数!$E20","v":2.2723071037453966E-4},{"$f":"投入係数表!AL20*移輸入係数!$E20","v":5.3644646398343272E-4},{"$f":"投入係数表!AM20*移輸入係数!$E20","v":6.0963252408089742E-5},{"$f":"投入係数表!AN20*移輸入係数!$E20","v":1.0365058112632782E-3}]
[null,"29","はん用機械",{"$f":"投入係数表!D21*移輸入係数!$E21","v":0},{"$f":"投入係数表!E21*移輸入係数!$E21","v":0},{"$f":"投入係数表!F21*移輸入係数!$E21","v":0},{"$f":"投入係数表!G21*移輸入係数!$E21","v":0},{"$f":"投入係数表!H21*移輸入係数!$E21","v":4.4841190281967944E-5},{"$f":"投入係数表!I21*移輸入係数!$E21","v":0},{"$f":"投入係数表!J21*移輸入係数!$E21","v":0},{"$f":"投入係数表!K21*移輸入係数!$E21","v":1.1146808766184823E-5},{"$f":"投入係数表!L21*移輸入係数!$E21","v":2.9728670552846207E-5},{"$f":"投入係数表!M21*移輸入係数!$E21","v":7.9498812222600585E-8},{"$f":"投入係数表!N21*移輸入係数!$E21","v":0},{"$f":"投入係数表!O21*移輸入係数!$E21","v":3.30538031641431E-5},{"$f":"投入係数表!P21*移輸入係数!$E21","v":4.9425357697471702E-3},{"$f":"投入係数表!Q21*移輸入係数!$E21","v":1.0397755001485866E-3},{"$f":"投入係数表!R21*移輸入係数!$E21","v":1.5111552642073088E-4},{"$f":"投入係数表!S21*移輸入係数!$E21","v":5.9060725871164296E-5},{"$f":"投入係数表!T21*移輸入係数!$E21","v":9.3978808833364679E-5},{"$f":"投入係数表!U21*移輸入係数!$E21","v":2.1426828373088709E-5},{"$f":"投入係数表!V21*移輸入係数!$E21","v":3.0695341304210963E-4},{"$f":"投入係数表!W21*移輸入係数!$E21","v":1.4692055786075922E-6},{"$f":"投入係数表!X21*移輸入係数!$E21","v":2.0991882889527833E-4},{"$f":"投入係数表!Y21*移輸入係数!$E21","v":0},{"$f":"投入係数表!Z21*移輸入係数!$E21","v":2.8609270173562523E-4},{"$f":"投入係数表!AA21*移輸入係数!$E21","v":0},{"$f":"投入係数表!AB21*移輸入係数!$E21","v":7.5971206513179271E-8},{"$f":"投入係数表!AC21*移輸入係数!$E21","v":0},{"$f":"投入係数表!AD21*移輸入係数!$E21","v":0},{"$f":"投入係数表!AE21*移輸入係数!$E21","v":1.9661355986711761E-6},{"$f":"投入係数表!AF21*移輸入係数!$E21","v":0},{"$f":"投入係数表!AG21*移輸入係数!$E21","v":8.5961124730201962E-6},{"$f":"投入係数表!AH21*移輸入係数!$E21","v":0},{"$f":"投入係数表!AI21*移輸入係数!$E21","v":0},{"$f":"投入係数表!AJ21*移輸入係数!$E21","v":0},{"$f":"投入係数表!AK21*移輸入係数!$E21","v":2.0030902610483538E-4},{"$f":"投入係数表!AL21*移輸入係数!$E21","v":1.4346649687672449E-7},{"$f":"投入係数表!AM21*移輸入係数!$E21","v":0},{"$f":"投入係数表!AN21*移輸入係数!$E21","v":0}]
[null,"30","生産用機械",{"$f":"投入係数表!D22*移輸入係数!$E22","v":0},{"$f":"投入係数表!E22*移輸入係数!$E22","v":0},{"$f":"投入係数表!F22*移輸入係数!$E22","v":0},{"$f":"投入係数表!G22*移輸入係数!$E22","v":0},{"$f":"投入係数表!H22*移輸入係数!$E22","v":3.5598239989180472E-5},{"$f":"投入係数表!I22*移輸入係数!$E22","v":0},{"$f":"投入係数表!J22*移輸入係数!$E22","v":0},{"$f":"投入係数表!K22*移輸入係数!$E22","v":7.2032145368277007E-4},{"$f":"投入係数表!L22*移輸入係数!$E22","v":3.3229938498080032E-4},{"$f":"投入係数表!M22*移輸入係数!$E22","v":2.5455178687696375E-6},{"$f":"投入係数表!N22*移輸入係数!$E22","v":1.4375911376858808E-5},{"$f":"投入係数表!O22*移輸入係数!$E22","v":1.9930317790176354E-4},{"$f":"投入係数表!P22*移輸入係数!$E22","v":1.6399779833873875E-3},{"$f":"投入係数表!Q22*移輸入係数!$E22","v":4.8640647165692177E-2},{"$f":"投入係数表!R22*移輸入係数!$E22","v":6.2839666747818156E-5},{"$f":"投入係数表!S22*移輸入係数!$E22","v":8.8415023328990117E-4},{"$f":"投入係数表!T22*移輸入係数!$E22","v":6.4659661063466137E-4},{"$f":"投入係数表!U22*移輸入係数!$E22","v":1.8711214203268243E-4},{"$f":"投入係数表!V22*移輸入係数!$E22","v":0},{"$f":"投入係数表!W22*移輸入係数!$E22","v":0},{"$f":"投入係数表!X22*移輸入係数!$E22","v":1.1728780032482166E-5},{"$f":"投入係数表!Y22*移輸入係数!$E22","v":2.596223353080968E-6},{"$f":"投入係数表!Z22*移輸入係数!$E22","v":5.4758050901977986E-5},{"$f":"投入係数表!AA22*移輸入係数!$E22","v":0},{"$f":"投入係数表!AB22*移輸入係数!$E22","v":6.6342694009449973E-7},{"$f":"投入係数表!AC22*移輸入係数!$E22","v":0},{"$f":"投入係数表!AD22*移輸入係数!$E22","v":0},{"$f":"投入係数表!AE22*移輸入係数!$E22","v":8.9281379042166748E-6},{"$f":"投入係数表!AF22*移輸入係数!$E22","v":0},{"$f":"投入係数表!AG22*移輸入係数!$E22","v":3.2637608815619702E-6},{"$f":"投入係数表!AH22*移輸入係数!$E22","v":0},{"$f":"投入係数表!AI22*移輸入係数!$E22","v":0},{"$f":"投入係数表!AJ22*移輸入係数!$E22","v":0},{"$f":"投入係数表!AK22*移輸入係数!$E22","v":2.577317280971313E-3},{"$f":"投入係数表!AL22*移輸入係数!$E22","v":6.2641850378202787E-7},{"$f":"投入係数表!AM22*移輸入係数!$E22","v":0},{"$f":"投入係数表!AN22*移輸入係数!$E22","v":3.827313787761646E-5}]
[null,"31","業務用機械",{"$f":"投入係数表!D23*移輸入係数!$E23","v":4.9448379831624376E-5},{"$f":"投入係数表!E23*移輸入係数!$E23","v":0},{"$f":"投入係数表!F23*移輸入係数!$E23","v":0},{"$f":"投入係数表!G23*移輸入係数!$E23","v":0},{"$f":"投入係数表!H23*移輸入係数!$E23","v":0},{"$f":"投入係数表!I23*移輸入係数!$E23","v":0},{"$f":"投入係数表!J23*移輸入係数!$E23","v":0},{"$f":"投入係数表!K23*移輸入係数!$E23","v":0},{"$f":"投入係数表!L23*移輸入係数!$E23","v":0},{"$f":"投入係数表!M23*移輸入係数!$E23","v":0},{"$f":"投入係数表!N23*移輸入係数!$E23","v":0},{"$f":"投入係数表!O23*移輸入係数!$E23","v":0},{"$f":"投入係数表!P23*移輸入係数!$E23","v":7.3497189483336849E-5},{"$f":"投入係数表!Q23*移輸入係数!$E23","v":1.5384996281870542E-4},{"$f":"投入係数表!R23*移輸入係数!$E23","v":1.623269242323993E-3},{"$f":"投入係数表!S23*移輸入係数!$E23","v":0},{"$f":"投入係数表!T23*移輸入係数!$E23","v":2.4519717995160041E-5},{"$f":"投入係数表!U23*移輸入係数!$E23","v":9.2241715234031164E-6},{"$f":"投入係数表!V23*移輸入係数!$E23","v":0},{"$f":"投入係数表!W23*移輸入係数!$E23","v":2.5299505879718919E-6},{"$f":"投入係数表!X23*移輸入係数!$E23","v":5.6459549376492145E-6},{"$f":"投入係数表!Y23*移輸入係数!$E23","v":0},{"$f":"投入係数表!Z23*移輸入係数!$E23","v":1.3497190730649094E-6},{"$f":"投入係数表!AA23*移輸入係数!$E23","v":5.3585892273904471E-7},{"$f":"投入係数表!AB23*移輸入係数!$E23","v":2.5281218175151655E-5},{"$f":"投入係数表!AC23*移輸入係数!$E23","v":2.64844450925457E-7},{"$f":"投入係数表!AD23*移輸入係数!$E23","v":0},{"$f":"投入係数表!AE23*移輸入係数!$E23","v":6.7713136763404149E-8},{"$f":"投入係数表!AF23*移輸入係数!$E23","v":1.3165457571880679E-6},{"$f":"投入係数表!AG23*移輸入係数!$E23","v":7.2563842864439962E-5},{"$f":"投入係数表!AH23*移輸入係数!$E23","v":0},{"$f":"投入係数表!AI23*移輸入係数!$E23","v":2.459734265195879E-4},{"$f":"投入係数表!AJ23*移輸入係数!$E23","v":0},{"$f":"投入係数表!AK23*移輸入係数!$E23","v":9.1607728419352795E-5},{"$f":"投入係数表!AL23*移輸入係数!$E23","v":2.0072586311108063E-5},{"$f":"投入係数表!AM23*移輸入係数!$E23","v":5.8831425460610599E-4},{"$f":"投入係数表!AN23*移輸入係数!$E23","v":2.9027264669015491E-7}]
[null,"32","電子部品",{"$f":"投入係数表!D24*移輸入係数!$E24","v":0},{"$f":"投入係数表!E24*移輸入係数!$E24","v":0},{"$f":"投入係数表!F24*移輸入係数!$E24","v":0},{"$f":"投入係数表!G24*移輸入係数!$E24","v":0},{"$f":"投入係数表!H24*移輸入係数!$E24","v":0},{"$f":"投入係数表!I24*移輸入係数!$E24","v":0},{"$f":"投入係数表!J24*移輸入係数!$E24","v":0},{"$f":"投入係数表!K24*移輸入係数!$E24","v":0},{"$f":"投入係数表!L24*移輸入係数!$E24","v":0},{"$f":"投入係数表!M24*移輸入係数!$E24","v":0},{"$f":"投入係数表!N24*移輸入係数!$E24","v":0},{"$f":"投入係数表!O24*移輸入係数!$E24","v":1.2790078298520914E-5},{"$f":"投入係数表!P24*移輸入係数!$E24","v":3.3642174354689336E-3},{"$f":"投入係数表!Q24*移輸入係数!$E24","v":6.1198410305978574E-4},{"$f":"投入係数表!R24*移輸入係数!$E24","v":2.4354311737380563E-2},{"$f":"投入係数表!S24*移輸入係数!$E24","v":5.9098855083599321E-2},{"$f":"投入係数表!T24*移輸入係数!$E24","v":3.1842377849303487E-2},{"$f":"投入係数表!U24*移輸入係数!$E24","v":9.0538291721555239E-2},{"$f":"投入係数表!V24*移輸入係数!$E24","v":3.2617381791134681E-3},{"$f":"投入係数表!W24*移輸入係数!$E24","v":1.4923257853554386E-4},{"$f":"投入係数表!X24*移輸入係数!$E24","v":8.5385188741709649E-5},{"$f":"投入係数表!Y24*移輸入係数!$E24","v":0},{"$f":"投入係数表!Z24*移輸入係数!$E24","v":0},{"$f":"投入係数表!AA24*移輸入係数!$E24","v":0},{"$f":"投入係数表!AB24*移輸入係数!$E24","v":5.5560045710398254E-6},{"$f":"投入係数表!AC24*移輸入係数!$E24","v":9.9982146396924923E-6},{"$f":"投入係数表!AD24*移輸入係数!$E24","v":0},{"$f":"投入係数表!AE24*移輸入係数!$E24","v":0},{"$f":"投入係数表!AF24*移輸入係数!$E24","v":2.037752302195503E-4},{"$f":"投入係数表!AG24*移輸入係数!$E24","v":4.7225406834487248E-4},{"$f":"投入係数表!AH24*移輸入係数!$E24","v":1.612726746287798E-4},{"$f":"投入係数表!AI24*移輸入係数!$E24","v":1.8888953383445504E-6},{"$f":"投入係数表!AJ24*移輸入係数!$E24","v":0},{"$f":"投入係数表!AK24*移輸入係数!$E24","v":2.4323103088404667E-3},{"$f":"投入係数表!AL24*移輸入係数!$E24","v":1.7486899511502716E-6},{"$f":"投入係数表!AM24*移輸入係数!$E24","v":8.0444259803193752E-3},{"$f":"投入係数表!AN24*移輸入係数!$E24","v":0}]
[null,"33","電気機械",{"$f":"投入係数表!D25*移輸入係数!$E25","v":0},{"$f":"投入係数表!E25*移輸入係数!$E25","v":0},{"$f":"投入係数表!F25*移輸入係数!$E25","v":0},{"$f":"投入係数表!G25*移輸入係数!$E25","v":0},{"$f":"投入係数表!H25*移輸入係数!$E25","v":4.4626219697330789E-6},{"$f":"投入係数表!I25*移輸入係数!$E25","v":0},{"$f":"投入係数表!J25*移輸入係数!$E25","v":0},{"$f":"投入係数表!K25*移輸入係数!$E25","v":0},{"$f":"投入係数表!L25*移輸入係数!$E25","v":3.9053718045334416E-6},{"$f":"投入係数表!M25*移輸入係数!$E25","v":0},{"$f":"投入係数表!N25*移輸入係数!$E25","v":0},{"$f":"投入係数表!O25*移輸入係数!$E25","v":1.1630852999810043E-5},{"$f":"投入係数表!P25*移輸入係数!$E25","v":6.7283628758467039E-4},{"$f":"投入係数表!Q25*移輸入係数!$E25","v":8.9014520422545605E-4},{"$f":"投入係数表!R25*移輸入係数!$E25","v":4.7265765524040075E-4},{"$f":"投入係数表!S25*移輸入係数!$E25","v":8.7977451381122636E-4},{"$f":"投入係数表!T25*移輸入係数!$E25","v":3.6382497186826937E-3},{"$f":"投入係数表!U25*移輸入係数!$E25","v":3.7823635219027776E-4},{"$f":"投入係数表!V25*移輸入係数!$E25","v":1.0856355518802955E-3},{"$f":"投入係数表!W25*移輸入係数!$E25","v":1.5681688996622479E-5},{"$f":"投入係数表!X25*移輸入係数!$E25","v":3.923182745823245E-4},{"$f":"投入係数表!Y25*移輸入係数!$E25","v":0},{"$f":"投入係数表!Z25*移輸入係数!$E25","v":7.7225739581605705E-6},{"$f":"投入係数表!AA25*移輸入係数!$E25","v":0},{"$f":"投入係数表!AB25*移輸入係数!$E25","v":9.9801236434554317E-6},{"$f":"投入係数表!AC25*移輸入係数!$E25","v":0},{"$f":"投入係数表!AD25*移輸入係数!$E25","v":5.0305032401047738E-7},{"$f":"投入係数表!AE25*移輸入係数!$E25","v":5.5531425840837764E-6},{"$f":"投入係数表!AF25*移輸入係数!$E25","v":3.8919306449835685E-6},{"$f":"投入係数表!AG25*移輸入係数!$E25","v":8.0704345029063647E-5},{"$f":"投入係数表!AH25*移輸入係数!$E25","v":2.2944649497244679E-5},{"$f":"投入係数表!AI25*移輸入係数!$E25","v":2.9582539097270796E-6},{"$f":"投入係数表!AJ25*移輸入係数!$E25","v":0},{"$f":"投入係数表!AK25*移輸入係数!$E25","v":2.6827351810801198E-4},{"$f":"投入係数表!AL25*移輸入係数!$E25","v":7.3031311368466957E-6},{"$f":"投入係数表!AM25*移輸入係数!$E25","v":0},{"$f":"投入係数表!AN25*移輸入係数!$E25","v":3.2109352125232944E-5}]
[null,"34","情報通信機器",{"$f":"投入係数表!D26*移輸入係数!$E26","v":0},{"$f":"投入係数表!E26*移輸入係数!$E26","v":0},{"$f":"投入係数表!F26*移輸入係数!$E26","v":1.6336456462415924E-8},{"$f":"投入係数表!G26*移輸入係数!$E26","v":0},{"$f":"投入係数表!H26*移輸入係数!$E26","v":0},{"$f":"投入係数表!I26*移輸入係数!$E26","v":0},{"$f":"投入係数表!J26*移輸入係数!$E26","v":0},{"$f":"投入係数表!K26*移輸入係数!$E26","v":0},{"$f":"投入係数表!L26*移輸入係数!$E26","v":0},{"$f":"投入係数表!M26*移輸入係数!$E26","v":0},{"$f":"投入係数表!N26*移輸入係数!$E26","v":0},{"$f":"投入係数表!O26*移輸入係数!$E26","v":7.0585779075088994E-8},{"$f":"投入係数表!P26*移輸入係数!$E26","v":6.5078157612516752E-6},{"$f":"投入係数表!Q26*移輸入係数!$E26","v":1.5923923665863588E-6},{"$f":"投入係数表!R26*移輸入係数!$E26","v":0},{"$f":"投入係数表!S26*移輸入係数!$E26","v":0},{"$f":"投入係数表!T26*移輸入係数!$E26","v":0},{"$f":"投入係数表!U26*移輸入係数!$E26","v":6.7742633936101221E-5},{"$f":"投入係数表!V26*移輸入係数!$E26","v":2.1177475147997298E-6},{"$f":"投入係数表!W26*移輸入係数!$E26","v":0},{"$f":"投入係数表!X26*移輸入係数!$E26","v":4.4500465148158009E-6},{"$f":"投入係数表!Y26*移輸入係数!$E26","v":8.8883630269961922E-9},{"$f":"投入係数表!Z26*移輸入係数!$E26","v":0},{"$f":"投入係数表!AA26*移輸入係数!$E26","v":5.5820800251370424E-8},{"$f":"投入係数表!AB26*移輸入係数!$E26","v":7.8359549461171382E-7},{"$f":"投入係数表!AC26*移輸入係数!$E26","v":3.4486290526866237E-7},{"$f":"投入係数表!AD26*移輸入係数!$E26","v":1.7663390158557889E-7},{"$f":"投入係数表!AE26*移輸入係数!$E26","v":2.6098782512886029E-7},{"$f":"投入係数表!AF26*移輸入係数!$E26","v":4.8686651072522104E-7},{"$f":"投入係数表!AG26*移輸入係数!$E26","v":3.9135979586851257E-6},{"$f":"投入係数表!AH26*移輸入係数!$E26","v":1.7561136206541142E-7},{"$f":"投入係数表!AI26*移輸入係数!$E26","v":8.3395360645304278E-8},{"$f":"投入係数表!AJ26*移輸入係数!$E26","v":0},{"$f":"投入係数表!AK26*移輸入係数!$E26","v":3.2618739768976467E-6},{"$f":"投入係数表!AL26*移輸入係数!$E26","v":3.731586886618582E-7},{"$f":"投入係数表!AM26*移輸入係数!$E26","v":0},{"$f":"投入係数表!AN26*移輸入係数!$E26","v":6.0475810858965568E-8}]
[null,"35","輸送機械",{"$f":"投入係数表!D27*移輸入係数!$E27","v":5.6631644116947754E-7},{"$f":"投入係数表!E27*移輸入係数!$E27","v":0},{"$f":"投入係数表!F27*移輸入係数!$E27","v":0},{"$f":"投入係数表!G27*移輸入係数!$E27","v":0},{"$f":"投入係数表!H27*移輸入係数!$E27","v":0},{"$f":"投入係数表!I27*移輸入係数!$E27","v":0},{"$f":"投入係数表!J27*移輸入係数!$E27","v":0},{"$f":"投入係数表!K27*移輸入係数!$E27","v":0},{"$f":"投入係数表!L27*移輸入係数!$E27","v":0},{"$f":"投入係数表!M27*移輸入係数!$E27","v":0},{"$f":"投入係数表!N27*移輸入係数!$E27","v":0},{"$f":"投入係数表!O27*移輸入係数!$E27","v":0},{"$f":"投入係数表!P27*移輸入係数!$E27","v":0},{"$f":"投入係数表!Q27*移輸入係数!$E27","v":1.3429559121411401E-5},{"$f":"投入係数表!R27*移輸入係数!$E27","v":0},{"$f":"投入係数表!S27*移輸入係数!$E27","v":0},{"$f":"投入係数表!T27*移輸入係数!$E27","v":0},{"$f":"投入係数表!U27*移輸入係数!$E27","v":0},{"$f":"投入係数表!V27*移輸入係数!$E27","v":2.7278158953012621E-3},{"$f":"投入係数表!W27*移輸入係数!$E27","v":0},{"$f":"投入係数表!X27*移輸入係数!$E27","v":0},{"$f":"投入係数表!Y27*移輸入係数!$E27","v":0},{"$f":"投入係数表!Z27*移輸入係数!$E27","v":0},{"$f":"投入係数表!AA27*移輸入係数!$E27","v":0},{"$f":"投入係数表!AB27*移輸入係数!$E27","v":0},{"$f":"投入係数表!AC27*移輸入係数!$E27","v":0},{"$f":"投入係数表!AD27*移輸入係数!$E27","v":0},{"$f":"投入係数表!AE27*移輸入係数!$E27","v":1.1566302819001309E-4},{"$f":"投入係数表!AF27*移輸入係数!$E27","v":0},{"$f":"投入係数表!AG27*移輸入係数!$E27","v":4.1040255308078146E-5},{"$f":"投入係数表!AH27*移輸入係数!$E27","v":8.1440310111404718E-7},{"$f":"投入係数表!AI27*移輸入係数!$E27","v":0},{"$f":"投入係数表!AJ27*移輸入係数!$E27","v":0},{"$f":"投入係数表!AK27*移輸入係数!$E27","v":1.6742120534193216E-4},{"$f":"投入係数表!AL27*移輸入係数!$E27","v":1.6410244868985334E-7},{"$f":"投入係数表!AM27*移輸入係数!$E27","v":0},{"$f":"投入係数表!AN27*移輸入係数!$E27","v":1.6235037699852576E-4}]
[null,"39","その他の製造工業製品",{"$f":"投入係数表!D28*移輸入係数!$E28","v":1.5095866567812081E-4},{"$f":"投入係数表!E28*移輸入係数!$E28","v":0},{"$f":"投入係数表!F28*移輸入係数!$E28","v":2.1500447045883072E-3},{"$f":"投入係数表!G28*移輸入係数!$E28","v":5.471968558930982E-3},{"$f":"投入係数表!H28*移輸入係数!$E28","v":2.5746479608562156E-3},{"$f":"投入係数表!I28*移輸入係数!$E28","v":1.1166320076537732E-3},{"$f":"投入係数表!J28*移輸入係数!$E28","v":6.0558002637363618E-3},{"$f":"投入係数表!K28*移輸入係数!$E28","v":5.8263584839144008E-4},{"$f":"投入係数表!L28*移輸入係数!$E28","v":1.3985070164195526E-3},{"$f":"投入係数表!M28*移輸入係数!$E28","v":2.166840299489067E-3},{"$f":"投入係数表!N28*移輸入係数!$E28","v":8.5151113478557326E-3},{"$f":"投入係数表!O28*移輸入係数!$E28","v":3.3422749016197143E-4},{"$f":"投入係数表!P28*移輸入係数!$E28","v":2.3238959576561355E-4},{"$f":"投入係数表!Q28*移輸入係数!$E28","v":5.7688663039411016E-4},{"$f":"投入係数表!R28*移輸入係数!$E28","v":1.2929423246517372E-3},{"$f":"投入係数表!S28*移輸入係数!$E28","v":1.332214502225777E-3},{"$f":"投入係数表!T28*移輸入係数!$E28","v":7.4427366508960095E-4},{"$f":"投入係数表!U28*移輸入係数!$E28","v":1.7499456836365102E-3},{"$f":"投入係数表!V28*移輸入係数!$E28","v":0},{"$f":"投入係数表!W28*移輸入係数!$E28","v":1.2087109371834678E-2},{"$f":"投入係数表!X28*移輸入係数!$E28","v":9.1539151581583622E-4},{"$f":"投入係数表!Y28*移輸入係数!$E28","v":2.3687359803400087E-3},{"$f":"投入係数表!Z28*移輸入係数!$E28","v":1.0242372705404378E-3},{"$f":"投入係数表!AA28*移輸入係数!$E28","v":1.0911445365580407E-3},{"$f":"投入係数表!AB28*移輸入係数!$E28","v":1.9780351927967147E-3},{"$f":"投入係数表!AC28*移輸入係数!$E28","v":5.2865533060563463E-3},{"$f":"投入係数表!AD28*移輸入係数!$E28","v":2.2875106975640657E-5},{"$f":"投入係数表!AE28*移輸入係数!$E28","v":8.0587650788897845E-4},{"$f":"投入係数表!AF28*移輸入係数!$E28","v":4.1411187348872639E-3},{"$f":"投入係数表!AG28*移輸入係数!$E28","v":2.7542790084976862E-3},{"$f":"投入係数表!AH28*移輸入係数!$E28","v":4.0849604644399833E-3},{"$f":"投入係数表!AI28*移輸入係数!$E28","v":1.5548461159832366E-3},{"$f":"投入係数表!AJ28*移輸入係数!$E28","v":1.2996763146444263E-2},{"$f":"投入係数表!AK28*移輸入係数!$E28","v":2.5268868398176879E-3},{"$f":"投入係数表!AL28*移輸入係数!$E28","v":1.9684593629153611E-3},{"$f":"投入係数表!AM28*移輸入係数!$E28","v":4.4234237125083418E-2},{"$f":"投入係数表!AN28*移輸入係数!$E28","v":5.6169878361617164E-4}]
[null,"41","建設",{"$f":"投入係数表!D29*移輸入係数!$E29","v":1.4484756518140433E-3},{"$f":"投入係数表!E29*移輸入係数!$E29","v":0},{"$f":"投入係数表!F29*移輸入係数!$E29","v":4.916452034459571E-4},{"$f":"投入係数表!G29*移輸入係数!$E29","v":1.2070006035003018E-3},{"$f":"投入係数表!H29*移輸入係数!$E29","v":1.7037387600567914E-3},{"$f":"投入係数表!I29*移輸入係数!$E29","v":2.9661016949152543E-3},{"$f":"投入係数表!J29*移輸入係数!$E29","v":1.4460031964281185E-3},{"$f":"投入係数表!K29*移輸入係数!$E29","v":3.1058311980743845E-3},{"$f":"投入係数表!L29*移輸入係数!$E29","v":6.0053841375025882E-3},{"$f":"投入係数表!M29*移輸入係数!$E29","v":2.9598905754204484E-3},{"$f":"投入係数表!N29*移輸入係数!$E29","v":2.4081188005274927E-3},{"$f":"投入係数表!O29*移輸入係数!$E29","v":3.2617931639393688E-3},{"$f":"投入係数表!P29*移輸入係数!$E29","v":1.1892374015162776E-3},{"$f":"投入係数表!Q29*移輸入係数!$E29","v":1.6955069066972523E-3},{"$f":"投入係数表!R29*移輸入係数!$E29","v":1.5037593984962407E-3},{"$f":"投入係数表!S29*移輸入係数!$E29","v":2.3508668821627977E-3},{"$f":"投入係数表!T29*移輸入係数!$E29","v":9.918666931164452E-4},{"$f":"投入係数表!U29*移輸入係数!$E29","v":1.1194029850746269E-3},{"$f":"投入係数表!V29*移輸入係数!$E29","v":0},{"$f":"投入係数表!W29*移輸入係数!$E29","v":9.4665472687731865E-4},{"$f":"投入係数表!X29*移輸入係数!$E29","v":5.7785176726332156E-4},{"$f":"投入係数表!Y29*移輸入係数!$E29","v":1.584951246872034E-2},{"$f":"投入係数表!Z29*移輸入係数!$E29","v":2.5333733722803089E-2},{"$f":"投入係数表!AA29*移輸入係数!$E29","v":2.8612923503782543E-3},{"$f":"投入係数表!AB29*移輸入係数!$E29","v":2.9555581427346718E-3},{"$f":"投入係数表!AC29*移輸入係数!$E29","v":3.0426153636005709E-3},{"$f":"投入係数表!AD29*移輸入係数!$E29","v":8.5875768217734856E-3},{"$f":"投入係数表!AE29*移輸入係数!$E29","v":6.7902739392080112E-3},{"$f":"投入係数表!AF29*移輸入係数!$E29","v":2.3539436544708953E-3},{"$f":"投入係数表!AG29*移輸入係数!$E29","v":8.5424192131211552E-3},{"$f":"投入係数表!AH29*移輸入係数!$E29","v":4.9905458603267099E-3},{"$f":"投入係数表!AI29*移輸入係数!$E29","v":2.1393859537269235E-3},{"$f":"投入係数表!AJ29*移輸入係数!$E29","v":1.1402902557014513E-3},{"$f":"投入係数表!AK29*移輸入係数!$E29","v":1.6239986862033101E-3},{"$f":"投入係数表!AL29*移輸入係数!$E29","v":2.0611602458402039E-3},{"$f":"投入係数表!AM29*移輸入係数!$E29","v":0},{"$f":"投入係数表!AN29*移輸入係数!$E29","v":1.6086609365459584E-3}]
[null,"46","電力・ガス・熱供給",{"$f":"投入係数表!D30*移輸入係数!$E30","v":8.1390536625741486E-3},{"$f":"投入係数表!E30*移輸入係数!$E30","v":0},{"$f":"投入係数表!F30*移輸入係数!$E30","v":1.317609145235165E-2},{"$f":"投入係数表!G30*移輸入係数!$E30","v":1.6898008449004225E-2},{"$f":"投入係数表!H30*移輸入係数!$E30","v":1.9971604353999053E-2},{"$f":"投入係数表!I30*移輸入係数!$E30","v":6.0593220338983053E-2},{"$f":"投入係数表!J30*移輸入係数!$E30","v":1.0020548466475557E-2},{"$f":"投入係数表!K30*移輸入係数!$E30","v":3.1990061340166159E-2},{"$f":"投入係数表!L30*移輸入係数!$E30","v":4.4149927521225929E-2},{"$f":"投入係数表!M30*移輸入係数!$E30","v":2.9239879426222398E-2},{"$f":"投入係数表!N30*移輸入係数!$E30","v":2.9700131873172411E-2},{"$f":"投入係数表!O30*移輸入係数!$E30","v":2.2640681961461503E-2},{"$f":"投入係数表!P30*移輸入係数!$E30","v":1.040582726326743E-2},{"$f":"投入係数表!Q30*移輸入係数!$E30","v":8.4575873934074706E-3},{"$f":"投入係数表!R30*移輸入係数!$E30","v":1.0025062656641603E-2},{"$f":"投入係数表!S30*移輸入係数!$E30","v":2.9826623567440494E-2},{"$f":"投入係数表!T30*移輸入係数!$E30","v":7.2406268597500498E-3},{"$f":"投入係数表!U30*移輸入係数!$E30","v":2.2388059701492539E-3},{"$f":"投入係数表!V30*移輸入係数!$E30","v":1.3157894736842105E-2},{"$f":"投入係数表!W30*移輸入係数!$E30","v":1.9265702955097865E-2},{"$f":"投入係数表!X30*移輸入係数!$E30","v":3.4038220766891844E-3},{"$f":"投入係数表!Y30*移輸入係数!$E30","v":8.2533436879799804E-2},{"$f":"投入係数表!Z30*移輸入係数!$E30","v":3.9092571865359943E-2},{"$f":"投入係数表!AA30*移輸入係数!$E30","v":7.3895042594238403E-2},{"$f":"投入係数表!AB30*移輸入係数!$E30","v":2.4315220727538289E-2},{"$f":"投入係数表!AC30*移輸入係数!$E30","v":6.1013008787694552E-3},{"$f":"投入係数表!AD30*移輸入係数!$E30","v":4.2861672031996876E-3},{"$f":"投入係数表!AE30*移輸入係数!$E30","v":1.4281762129500029E-2},{"$f":"投入係数表!AF30*移輸入係数!$E30","v":4.7744581136496779E-3},{"$f":"投入係数表!AG30*移輸入係数!$E30","v":1.2047251781704578E-2},{"$f":"投入係数表!AH30*移輸入係数!$E30","v":2.0985090356777533E-2},{"$f":"投入係数表!AI30*移輸入係数!$E30","v":1.4265271714160225E-2},{"$f":"投入係数表!AJ30*移輸入係数!$E30","v":3.8700760193503803E-3},{"$f":"投入係数表!AK30*移輸入係数!$E30","v":5.1837186528718012E-3},{"$f":"投入係数表!AL30*移輸入係数!$E30","v":3.5416978963673615E-2},{"$f":"投入係数表!AM30*移輸入係数!$E30","v":0},{"$f":"投入係数表!AN30*移輸入係数!$E30","v":3.0881593161429712E-3}]
[null,"47","水道",{"$f":"投入係数表!D31*移輸入係数!$E31","v":5.518002483101117E-4},{"$f":"投入係数表!E31*移輸入係数!$E31","v":0},{"$f":"投入係数表!F31*移輸入係数!$E31","v":1.2465584835758784E-3},{"$f":"投入係数表!G31*移輸入係数!$E31","v":0},{"$f":"投入係数表!H31*移輸入係数!$E31","v":4.2593469001419784E-4},{"$f":"投入係数表!I31*移輸入係数!$E31","v":1.8159806295399517E-3},{"$f":"投入係数表!J31*移輸入係数!$E31","v":2.6002689058575814E-3},{"$f":"投入係数表!K31*移輸入係数!$E31","v":8.5410357947045582E-4},{"$f":"投入係数表!L31*移輸入係数!$E31","v":6.2124663491406088E-4},{"$f":"投入係数表!M31*移輸入係数!$E31","v":1.0161644912809211E-3},{"$f":"投入係数表!N31*移輸入係数!$E31","v":8.6004242875981887E-4},{"$f":"投入係数表!O31*移輸入係数!$E31","v":4.3856042540361262E-4},{"$f":"投入係数表!P31*移輸入係数!$E31","v":1.486546751895347E-4},{"$f":"投入係数表!Q31*移輸入係数!$E31","v":4.0891637161521966E-4},{"$f":"投入係数表!R31*移輸入係数!$E31","v":3.7593984962406017E-4},{"$f":"投入係数表!S31*移輸入係数!$E31","v":7.3464590067587418E-4},{"$f":"投入係数表!T31*移輸入係数!$E31","v":9.9186669311644515E-5},{"$f":"投入係数表!U31*移輸入係数!$E31","v":0},{"$f":"投入係数表!V31*移輸入係数!$E31","v":0},{"$f":"投入係数表!W31*移輸入係数!$E31","v":1.0745810413201997E-3},{"$f":"投入係数表!X31*移輸入係数!$E31","v":6.4939531940068514E-4},{"$f":"投入係数表!Y31*移輸入係数!$E31","v":1.2977823798429545E-3},{"$f":"投入係数表!Z31*移輸入係数!$E31","v":7.1606016761759164E-2},{"$f":"投入係数表!AA31*移輸入係数!$E31","v":8.5405241367350927E-3},{"$f":"投入係数表!AB31*移輸入係数!$E31","v":2.4157784998359495E-3},{"$f":"投入係数表!AC31*移輸入係数!$E31","v":1.2079397262181844E-3},{"$f":"投入係数表!AD31*移輸入係数!$E31","v":4.3288459662471954E-4},{"$f":"投入係数表!AE31*移輸入係数!$E31","v":3.5142886099249209E-3},{"$f":"投入係数表!AF31*移輸入係数!$E31","v":1.4592320391968899E-3},{"$f":"投入係数表!AG31*移輸入係数!$E31","v":4.0450388883465135E-3},{"$f":"投入係数表!AH31*移輸入係数!$E31","v":8.9023898825206903E-3},{"$f":"投入係数表!AI31*移輸入係数!$E31","v":4.497365741893306E-3},{"$f":"投入係数表!AJ31*移輸入係数!$E31","v":1.9004837595024188E-3},{"$f":"投入係数表!AK31*移輸入係数!$E31","v":1.0796245947606274E-3},{"$f":"投入係数表!AL31*移輸入係数!$E31","v":8.76180482686254E-3},{"$f":"投入係数表!AM31*移輸入係数!$E31","v":0},{"$f":"投入係数表!AN31*移輸入係数!$E31","v":1.3503358226480673E-3}]
[null,"48","廃棄物処理",{"$f":"投入係数表!D32*移輸入係数!$E32","v":3.6071089787721998E-4},{"$f":"投入係数表!E32*移輸入係数!$E32","v":0},{"$f":"投入係数表!F32*移輸入係数!$E32","v":2.4052236720075321E-4},{"$f":"投入係数表!G32*移輸入係数!$E32","v":0},{"$f":"投入係数表!H32*移輸入係数!$E32","v":3.0936977031613441E-5},{"$f":"投入係数表!I32*移輸入係数!$E32","v":1.6223747767432004E-3},{"$f":"投入係数表!J32*移輸入係数!$E32","v":1.160833169980452E-4},{"$f":"投入係数表!K32*移輸入係数!$E32","v":0},{"$f":"投入係数表!L32*移輸入係数!$E32","v":2.1929825760578733E-3},{"$f":"投入係数表!M32*移輸入係数!$E32","v":1.2126909185746413E-4},{"$f":"投入係数表!N32*移輸入係数!$E32","v":0},{"$f":"投入係数表!O32*移輸入係数!$E32","v":0},{"$f":"投入係数表!P32*移輸入係数!$E32","v":0},{"$f":"投入係数表!Q32*移輸入係数!$E32","v":0},{"$f":"投入係数表!R32*移輸入係数!$E32","v":0},{"$f":"投入係数表!S32*移輸入係数!$E32","v":3.8418943560269877E-4},{"$f":"投入係数表!T32*移輸入係数!$E32","v":0},{"$f":"投入係数表!U32*移輸入係数!$E32","v":0},{"$f":"投入係数表!V32*移輸入係数!$E32","v":0},{"$f":"投入係数表!W32*移輸入係数!$E32","v":1.33800347893666E-4},{"$f":"投入係数表!X32*移輸入係数!$E32","v":1.0846555309517469E-3},{"$f":"投入係数表!Y32*移輸入係数!$E32","v":7.7051679308839148E-3},{"$f":"投入係数表!Z32*移輸入係数!$E32","v":9.9934771592278529E-4},{"$f":"投入係数表!AA32*移輸入係数!$E32","v":0},{"$f":"投入係数表!AB32*移輸入係数!$E32","v":8.8126778474285558E-4},{"$f":"投入係数表!AC32*移輸入係数!$E32","v":1.9084139936175015E-3},{"$f":"投入係数表!AD32*移輸入係数!$E32","v":8.9675472546915048E-6},{"$f":"投入係数表!AE32*移輸入係数!$E32","v":3.8049335351353067E-3},{"$f":"投入係数表!AF32*移輸入係数!$E32","v":2.0279026155665459E-3},{"$f":"投入係数表!AG32*移輸入係数!$E32","v":1.8707485005103521E-2},{"$f":"投入係数表!AH32*移輸入係数!$E32","v":3.0373943420610328E-3},{"$f":"投入係数表!AI32*移輸入係数!$E32","v":2.4755135750263082E-3},{"$f":"投入係数表!AJ32*移輸入係数!$E32","v":0},{"$f":"投入係数表!AK32*移輸入係数!$E32","v":2.2067074807114302E-4},{"$f":"投入係数表!AL32*移輸入係数!$E32","v":1.0764317338611515E-2},{"$f":"投入係数表!AM32*移輸入係数!$E32","v":0},{"$f":"投入係数表!AN32*移輸入係数!$E32","v":4.9355129252729888E-3}]
[null,"51","商業",{"$f":"投入係数表!D33*移輸入係数!$E33","v":5.8572752064889939E-2},{"$f":"投入係数表!E33*移輸入係数!$E33","v":0},{"$f":"投入係数表!F33*移輸入係数!$E33","v":6.0543741477871268E-2},{"$f":"投入係数表!G33*移輸入係数!$E33","v":7.2232977841131696E-2},{"$f":"投入係数表!H33*移輸入係数!$E33","v":5.7099412795480531E-2},{"$f":"投入係数表!I33*移輸入係数!$E33","v":4.08796257712703E-2},{"$f":"投入係数表!J33*移輸入係数!$E33","v":1.8340022336107129E-2},{"$f":"投入係数表!K33*移輸入係数!$E33","v":4.9316213965451057E-2},{"$f":"投入係数表!L33*移輸入係数!$E33","v":3.1479621606684993E-2},{"$f":"投入係数表!M33*移輸入係数!$E33","v":1.7127308302623819E-2},{"$f":"投入係数表!N33*移輸入係数!$E33","v":4.7687332163947521E-2},{"$f":"投入係数表!O33*移輸入係数!$E33","v":3.9440327858670278E-2},{"$f":"投入係数表!P33*移輸入係数!$E33","v":3.4675864257117953E-2},{"$f":"投入係数表!Q33*移輸入係数!$E33","v":3.2588149842152206E-2},{"$f":"投入係数表!R33*移輸入係数!$E33","v":4.0617059463350154E-2},{"$f":"投入係数表!S33*移輸入係数!$E33","v":3.4915190809429016E-2},{"$f":"投入係数表!T33*移輸入係数!$E33","v":4.254732488690028E-2},{"$f":"投入係数表!U33*移輸入係数!$E33","v":3.5532778153448956E-2},{"$f":"投入係数表!V33*移輸入係数!$E33","v":4.2389266067293499E-2},{"$f":"投入係数表!W33*移輸入係数!$E33","v":5.9502524981711102E-2},{"$f":"投入係数表!X33*移輸入係数!$E33","v":4.8524756566584649E-2},{"$f":"投入係数表!Y33*移輸入係数!$E33","v":1.4139424123979619E-2},{"$f":"投入係数表!Z33*移輸入係数!$E33","v":1.4333859979777786E-2},{"$f":"投入係数表!AA33*移輸入係数!$E33","v":1.2271588081370161E-2},{"$f":"投入係数表!AB33*移輸入係数!$E33","v":9.4269459315910586E-3},{"$f":"投入係数表!AC33*移輸入係数!$E33","v":4.7711537161128342E-3},{"$f":"投入係数表!AD33*移輸入係数!$E33","v":1.0306998519956187E-3},{"$f":"投入係数表!AE33*移輸入係数!$E33","v":2.1266861817323447E-2},{"$f":"投入係数表!AF33*移輸入係数!$E33","v":8.6425137001828935E-3},{"$f":"投入係数表!AG33*移輸入係数!$E33","v":8.5605129498057559E-3},{"$f":"投入係数表!AH33*移輸入係数!$E33","v":1.2914778373210558E-2},{"$f":"投入係数表!AI33*移輸入係数!$E33","v":4.284724974304871E-2},{"$f":"投入係数表!AJ33*移輸入係数!$E33","v":2.7441182172283082E-2},{"$f":"投入係数表!AK33*移輸入係数!$E33","v":1.6384025411204338E-2},{"$f":"投入係数表!AL33*移輸入係数!$E33","v":6.7559120342577328E-2},{"$f":"投入係数表!AM33*移輸入係数!$E33","v":0.19105209431258133},{"$f":"投入係数表!AN33*移輸入係数!$E33","v":1.7141856656172873E-2}]
[null,"53","金融・保険",{"$f":"投入係数表!D34*移輸入係数!$E34","v":5.7293126209257226E-3},{"$f":"投入係数表!E34*移輸入係数!$E34","v":0},{"$f":"投入係数表!F34*移輸入係数!$E34","v":3.6044901160195257E-3},{"$f":"投入係数表!G34*移輸入係数!$E34","v":9.0658634832822653E-3},{"$f":"投入係数表!H34*移輸入係数!$E34","v":7.6948664727901871E-3},{"$f":"投入係数表!I34*移輸入係数!$E34","v":4.2792011940745523E-3},{"$f":"投入係数表!J34*移輸入係数!$E34","v":5.3464504073789335E-3},{"$f":"投入係数表!K34*移輸入係数!$E34","v":2.8817075825924828E-3},{"$f":"投入係数表!L34*移輸入係数!$E34","v":8.746885737492582E-3},{"$f":"投入係数表!M34*移輸入係数!$E34","v":3.5110144252084295E-3},{"$f":"投入係数表!N34*移輸入係数!$E34","v":3.6479079957284807E-3},{"$f":"投入係数表!O34*移輸入係数!$E34","v":9.4461932452044525E-3},{"$f":"投入係数表!P34*移輸入係数!$E34","v":4.8602997953510647E-3},{"$f":"投入係数表!Q34*移輸入係数!$E34","v":5.4201152310824601E-3},{"$f":"投入係数表!R34*移輸入係数!$E34","v":1.2291442377190456E-2},{"$f":"投入係数表!S34*移輸入係数!$E34","v":4.6740496145680601E-3},{"$f":"投入係数表!T34*移輸入係数!$E34","v":3.5935188365038874E-3},{"$f":"投入係数表!U34*移輸入係数!$E34","v":2.9674982907416246E-3},{"$f":"投入係数表!V34*移輸入係数!$E34","v":2.1800700162246584E-3},{"$f":"投入係数表!W34*移輸入係数!$E34","v":1.0241671641271764E-2},{"$f":"投入係数表!X34*移輸入係数!$E34","v":1.1124256946155242E-2},{"$f":"投入係数表!Y34*移輸入係数!$E34","v":1.2367663176692661E-2},{"$f":"投入係数表!Z34*移輸入係数!$E34","v":1.9467380704516687E-2},{"$f":"投入係数表!AA34*移輸入係数!$E34","v":1.6606960860592945E-2},{"$f":"投入係数表!AB34*移輸入係数!$E34","v":1.4965216297143971E-2},{"$f":"投入係数表!AC34*移輸入係数!$E34","v":4.1910322031842473E-2},{"$f":"投入係数表!AD34*移輸入係数!$E34","v":6.6310764274596812E-2},{"$f":"投入係数表!AE34*移輸入係数!$E34","v":2.4373786417327379E-2},{"$f":"投入係数表!AF34*移輸入係数!$E34","v":4.2236800569969346E-3},{"$f":"投入係数表!AG34*移輸入係数!$E34","v":1.8335072983081433E-2},{"$f":"投入係数表!AH34*移輸入係数!$E34","v":6.338234331786919E-3},{"$f":"投入係数表!AI34*移輸入係数!$E34","v":7.8051572423565784E-3},{"$f":"投入係数表!AJ34*移輸入係数!$E34","v":2.0305134967978665E-2},{"$f":"投入係数表!AK34*移輸入係数!$E34","v":7.2545505362631556E-3},{"$f":"投入係数表!AL34*移輸入係数!$E34","v":5.907812183676692E-3},{"$f":"投入係数表!AM34*移輸入係数!$E34","v":0},{"$f":"投入係数表!AN34*移輸入係数!$E34","v":3.1117390971333057E-2}]
[null,"55","不動産",{"$f":"投入係数表!D35*移輸入係数!$E35","v":9.2782834742010985E-3},{"$f":"投入係数表!E35*移輸入係数!$E35","v":0},{"$f":"投入係数表!F35*移輸入係数!$E35","v":2.026699920678901E-3},{"$f":"投入係数表!G35*移輸入係数!$E35","v":1.7907525179581393E-3},{"$f":"投入係数表!H35*移輸入係数!$E35","v":2.8085915023725858E-3},{"$f":"投入係数表!I35*移輸入係数!$E35","v":1.6764276396930152E-3},{"$f":"投入係数表!J35*移輸入係数!$E35","v":7.1511531904508115E-4},{"$f":"投入係数表!K35*移輸入係数!$E35","v":3.148752589810858E-3},{"$f":"投入係数表!L35*移輸入係数!$E35","v":2.4169163859065587E-3},{"$f":"投入係数表!M35*移輸入係数!$E35","v":9.6765241624166055E-4},{"$f":"投入係数表!N35*移輸入係数!$E35","v":6.2381832358280307E-4},{"$f":"投入係数表!O35*移輸入係数!$E35","v":4.419100570382843E-3},{"$f":"投入係数表!P35*移輸入係数!$E35","v":2.7936307181445964E-3},{"$f":"投入係数表!Q35*移輸入係数!$E35","v":2.1110632203424936E-3},{"$f":"投入係数表!R35*移輸入係数!$E35","v":1.1155176399461043E-3},{"$f":"投入係数表!S35*移輸入係数!$E35","v":1.3079386962635779E-3},{"$f":"投入係数表!T35*移輸入係数!$E35","v":1.5696763458343645E-3},{"$f":"投入係数表!U35*移輸入係数!$E35","v":1.4762571752520582E-3},{"$f":"投入係数表!V35*移輸入係数!$E35","v":0},{"$f":"投入係数表!W35*移輸入係数!$E35","v":2.2016382434550969E-3},{"$f":"投入係数表!X35*移輸入係数!$E35","v":5.2310317814594489E-3},{"$f":"投入係数表!Y35*移輸入係数!$E35","v":6.7151421820448188E-3},{"$f":"投入係数表!Z35*移輸入係数!$E35","v":1.0260573744073982E-3},{"$f":"投入係数表!AA35*移輸入係数!$E35","v":1.4793611777231624E-3},{"$f":"投入係数表!AB35*移輸入係数!$E35","v":2.6965466246548109E-2},{"$f":"投入係数表!AC35*移輸入係数!$E35","v":1.6787624783691571E-2},{"$f":"投入係数表!AD35*移輸入係数!$E35","v":2.7850182596437165E-2},{"$f":"投入係数表!AE35*移輸入係数!$E35","v":3.8473927313816658E-2},{"$f":"投入係数表!AF35*移輸入係数!$E35","v":2.1262561106120813E-2},{"$f":"投入係数表!AG35*移輸入係数!$E35","v":1.4870664389583848E-3},{"$f":"投入係数表!AH35*移輸入係数!$E35","v":4.2401495959837254E-3},{"$f":"投入係数表!AI35*移輸入係数!$E35","v":1.644193018524057E-2},{"$f":"投入係数表!AJ35*移輸入係数!$E35","v":1.4798789533945218E-2},{"$f":"投入係数表!AK35*移輸入係数!$E35","v":7.1139758378362759E-3},{"$f":"投入係数表!AL35*移輸入係数!$E35","v":1.3126613543719296E-2},{"$f":"投入係数表!AM35*移輸入係数!$E35","v":0},{"$f":"投入係数表!AN35*移輸入係数!$E35","v":1.3692872932775097E-2}]
[null,"57","運輸・郵便",{"$f":"投入係数表!D36*移輸入係数!$E36","v":3.4747143830565638E-2},{"$f":"投入係数表!E36*移輸入係数!$E36","v":0.44220864752066424},{"$f":"投入係数表!F36*移輸入係数!$E36","v":3.8899234873063793E-2},{"$f":"投入係数表!G36*移輸入係数!$E36","v":1.0247925205065483E-2},{"$f":"投入係数表!H36*移輸入係数!$E36","v":2.8428595683486525E-2},{"$f":"投入係数表!I36*移輸入係数!$E36","v":1.6317820310447755E-2},{"$f":"投入係数表!J36*移輸入係数!$E36","v":2.8090272543487737E-2},{"$f":"投入係数表!K36*移輸入係数!$E36","v":1.302007292024504E-2},{"$f":"投入係数表!L36*移輸入係数!$E36","v":3.9149521844695459E-2},{"$f":"投入係数表!M36*移輸入係数!$E36","v":1.3966056000021333E-2},{"$f":"投入係数表!N36*移輸入係数!$E36","v":1.9999666370294131E-2},{"$f":"投入係数表!O36*移輸入係数!$E36","v":2.03244102777362E-2},{"$f":"投入係数表!P36*移輸入係数!$E36","v":1.2095494446826551E-2},{"$f":"投入係数表!Q36*移輸入係数!$E36","v":1.1975115142353837E-2},{"$f":"投入係数表!R36*移輸入係数!$E36","v":1.4452132239773086E-2},{"$f":"投入係数表!S36*移輸入係数!$E36","v":1.2370926607101743E-2},{"$f":"投入係数表!T36*移輸入係数!$E36","v":1.1649535487154177E-2},{"$f":"投入係数表!U36*移輸入係数!$E36","v":9.3721832758110919E-3},{"$f":"投入係数表!V36*移輸入係数!$E36","v":5.2366813522183916E-3},{"$f":"投入係数表!W36*移輸入係数!$E36","v":0.11659781087089567},{"$f":"投入係数表!X36*移輸入係数!$E36","v":3.0817531171160657E-2},{"$f":"投入係数表!Y36*移輸入係数!$E36","v":2.7510117052075077E-2},{"$f":"投入係数表!Z36*移輸入係数!$E36","v":1.2574172893383306E-2},{"$f":"投入係数表!AA36*移輸入係数!$E36","v":4.4016693243771055E-2},{"$f":"投入係数表!AB36*移輸入係数!$E36","v":3.7346910277572601E-2},{"$f":"投入係数表!AC36*移輸入係数!$E36","v":2.5757238664145587E-2},{"$f":"投入係数表!AD36*移輸入係数!$E36","v":1.8775857363512742E-3},{"$f":"投入係数表!AE36*移輸入係数!$E36","v":5.2417594076893205E-2},{"$f":"投入係数表!AF36*移輸入係数!$E36","v":1.59823441739055E-2},{"$f":"投入係数表!AG36*移輸入係数!$E36","v":2.4148572593689226E-2},{"$f":"投入係数表!AH36*移輸入係数!$E36","v":1.7944396783802483E-2},{"$f":"投入係数表!AI36*移輸入係数!$E36","v":1.1440731350339404E-2},{"$f":"投入係数表!AJ36*移輸入係数!$E36","v":2.2296850672500111E-2},{"$f":"投入係数表!AK36*移輸入係数!$E36","v":1.1265482420521687E-2},{"$f":"投入係数表!AL36*移輸入係数!$E36","v":2.463093107301428E-2},{"$f":"投入係数表!AM36*移輸入係数!$E36","v":3.4339222998700132E-2},{"$f":"投入係数表!AN36*移輸入係数!$E36","v":0.41740541766442557}]
[null,"59","情報通信",{"$f":"投入係数表!D37*移輸入係数!$E37","v":1.9945464652345664E-3},{"$f":"投入係数表!E37*移輸入係数!$E37","v":0},{"$f":"投入係数表!F37*移輸入係数!$E37","v":1.9698339082772518E-3},{"$f":"投入係数表!G37*移輸入係数!$E37","v":8.3101803755986851E-4},{"$f":"投入係数表!H37*移輸入係数!$E37","v":3.6494001770589358E-3},{"$f":"投入係数表!I37*移輸入係数!$E37","v":5.1679059970142572E-3},{"$f":"投入係数表!J37*移輸入係数!$E37","v":4.2792084732995765E-4},{"$f":"投入係数表!K37*移輸入係数!$E37","v":3.7421299082447839E-3},{"$f":"投入係数表!L37*移輸入係数!$E37","v":4.5053946643487039E-3},{"$f":"投入係数表!M37*移輸入係数!$E37","v":1.5041041759913251E-3},{"$f":"投入係数表!N37*移輸入係数!$E37","v":2.0922204884050574E-3},{"$f":"投入係数表!O37*移輸入係数!$E37","v":4.076300302320637E-3},{"$f":"投入係数表!P37*移輸入係数!$E37","v":3.7868949654197991E-3},{"$f":"投入係数表!Q37*移輸入係数!$E37","v":8.8032215165783287E-3},{"$f":"投入係数表!R37*移輸入係数!$E37","v":4.9178460294167928E-3},{"$f":"投入係数表!S37*移輸入係数!$E37","v":5.5638281555259045E-3},{"$f":"投入係数表!T37*移輸入係数!$E37","v":1.2360466017201104E-2},{"$f":"投入係数表!U37*移輸入係数!$E37","v":1.9010777934611187E-2},{"$f":"投入係数表!V37*移輸入係数!$E37","v":5.661993783868018E-4},{"$f":"投入係数表!W37*移輸入係数!$E37","v":3.5054673245375942E-3},{"$f":"投入係数表!X37*移輸入係数!$E37","v":4.9617583895710448E-3},{"$f":"投入係数表!Y37*移輸入係数!$E37","v":7.7850406521070602E-3},{"$f":"投入係数表!Z37*移輸入係数!$E37","v":2.4885259480022296E-2},{"$f":"投入係数表!AA37*移輸入係数!$E37","v":6.5368026905650561E-3},{"$f":"投入係数表!AB37*移輸入係数!$E37","v":2.6133945868833029E-2},{"$f":"投入係数表!AC37*移輸入係数!$E37","v":4.2903567843780868E-2},{"$f":"投入係数表!AD37*移輸入係数!$E37","v":2.3465432047005061E-3},{"$f":"投入係数表!AE37*移輸入係数!$E37","v":8.5373724092017243E-3},{"$f":"投入係数表!AF37*移輸入係数!$E37","v":9.3227976731805579E-2},{"$f":"投入係数表!AG37*移輸入係数!$E37","v":2.075645021417034E-2},{"$f":"投入係数表!AH37*移輸入係数!$E37","v":1.2922284117468817E-2},{"$f":"投入係数表!AI37*移輸入係数!$E37","v":1.1875684352074896E-2},{"$f":"投入係数表!AJ37*移輸入係数!$E37","v":3.911166005979852E-2},{"$f":"投入係数表!AK37*移輸入係数!$E37","v":2.6834893648829405E-2},{"$f":"投入係数表!AL37*移輸入係数!$E37","v":1.378510600900531E-2},{"$f":"投入係数表!AM37*移輸入係数!$E37","v":0},{"$f":"投入係数表!AN37*移輸入係数!$E37","v":2.8271089416676925E-2}]
[null,"61","公務",{"$f":"投入係数表!D38*移輸入係数!$E38","v":0},{"$f":"投入係数表!E38*移輸入係数!$E38","v":0},{"$f":"投入係数表!F38*移輸入係数!$E38","v":0},{"$f":"投入係数表!G38*移輸入係数!$E38","v":0},{"$f":"投入係数表!H38*移輸入係数!$E38","v":0},{"$f":"投入係数表!I38*移輸入係数!$E38","v":0},{"$f":"投入係数表!J38*移輸入係数!$E38","v":0},{"$f":"投入係数表!K38*移輸入係数!$E38","v":0},{"$f":"投入係数表!L38*移輸入係数!$E38","v":0},{"$f":"投入係数表!M38*移輸入係数!$E38","v":0},{"$f":"投入係数表!N38*移輸入係数!$E38","v":0},{"$f":"投入係数表!O38*移輸入係数!$E38","v":0},{"$f":"投入係数表!P38*移輸入係数!$E38","v":0},{"$f":"投入係数表!Q38*移輸入係数!$E38","v":0},{"$f":"投入係数表!R38*移輸入係数!$E38","v":0},{"$f":"投入係数表!S38*移輸入係数!$E38","v":0},{"$f":"投入係数表!T38*移輸入係数!$E38","v":0},{"$f":"投入係数表!U38*移輸入係数!$E38","v":0},{"$f":"投入係数表!V38*移輸入係数!$E38","v":0},{"$f":"投入係数表!W38*移輸入係数!$E38","v":0},{"$f":"投入係数表!X38*移輸入係数!$E38","v":0},{"$f":"投入係数表!Y38*移輸入係数!$E38","v":0},{"$f":"投入係数表!Z38*移輸入係数!$E38","v":0},{"$f":"投入係数表!AA38*移輸入係数!$E38","v":0},{"$f":"投入係数表!AB38*移輸入係数!$E38","v":0},{"$f":"投入係数表!AC38*移輸入係数!$E38","v":0},{"$f":"投入係数表!AD38*移輸入係数!$E38","v":0},{"$f":"投入係数表!AE38*移輸入係数!$E38","v":0},{"$f":"投入係数表!AF38*移輸入係数!$E38","v":0},{"$f":"投入係数表!AG38*移輸入係数!$E38","v":0},{"$f":"投入係数表!AH38*移輸入係数!$E38","v":0},{"$f":"投入係数表!AI38*移輸入係数!$E38","v":0},{"$f":"投入係数表!AJ38*移輸入係数!$E38","v":0},{"$f":"投入係数表!AK38*移輸入係数!$E38","v":0},{"$f":"投入係数表!AL38*移輸入係数!$E38","v":0},{"$f":"投入係数表!AM38*移輸入係数!$E38","v":0},{"$f":"投入係数表!AN38*移輸入係数!$E38","v":9.6907143863604342E-2}]
[null,"63","教育・研究",{"$f":"投入係数表!D39*移輸入係数!$E39","v":1.5183998143247551E-4},{"$f":"投入係数表!E39*移輸入係数!$E39","v":0},{"$f":"投入係数表!F39*移輸入係数!$E39","v":7.9135619776901994E-5},{"$f":"投入係数表!G39*移輸入係数!$E39","v":0},{"$f":"投入係数表!H39*移輸入係数!$E39","v":6.9454994504118315E-5},{"$f":"投入係数表!I39*移輸入係数!$E39","v":4.4418402962228202E-5},{"$f":"投入係数表!J39*移輸入係数!$E39","v":0},{"$f":"投入係数表!K39*移輸入係数!$E39","v":5.6975853477444672E-5},{"$f":"投入係数表!L39*移輸入係数!$E39","v":9.1173164249659557E-5},{"$f":"投入係数表!M39*移輸入係数!$E39","v":3.5894304954202019E-5},{"$f":"投入係数表!N39*移輸入係数!$E39","v":0},{"$f":"投入係数表!O39*移輸入係数!$E39","v":3.0169888041115445E-4},{"$f":"投入係数表!P39*移輸入係数!$E39","v":4.3632645573718438E-4},{"$f":"投入係数表!Q39*移輸入係数!$E39","v":3.1469662123620831E-4},{"$f":"投入係数表!R39*移輸入係数!$E39","v":1.839077736681729E-4},{"$f":"投入係数表!S39*移輸入係数!$E39","v":7.5470821606700997E-4},{"$f":"投入係数表!T39*移輸入係数!$E39","v":8.0060624740092335E-4},{"$f":"投入係数表!U39*移輸入係数!$E39","v":0},{"$f":"投入係数表!V39*移輸入係数!$E39","v":0},{"$f":"投入係数表!W39*移輸入係数!$E39","v":0},{"$f":"投入係数表!X39*移輸入係数!$E39","v":1.1711111809443358E-4},{"$f":"投入係数表!Y39*移輸入係数!$E39","v":3.9763688552576945E-4},{"$f":"投入係数表!Z39*移輸入係数!$E39","v":6.0095985662636281E-5},{"$f":"投入係数表!AA39*移輸入係数!$E39","v":9.5436067492165257E-5},{"$f":"投入係数表!AB39*移輸入係数!$E39","v":1.5532784033868739E-4},{"$f":"投入係数表!AC39*移輸入係数!$E39","v":1.2381756378368672E-4},{"$f":"投入係数表!AD39*移輸入係数!$E39","v":0},{"$f":"投入係数表!AE39*移輸入係数!$E39","v":1.1717967954335991E-3},{"$f":"投入係数表!AF39*移輸入係数!$E39","v":2.7980778831878527E-3},{"$f":"投入係数表!AG39*移輸入係数!$E39","v":8.3578120318787938E-5},{"$f":"投入係数表!AH39*移輸入係数!$E39","v":0},{"$f":"投入係数表!AI39*移輸入係数!$E39","v":7.8715997825413409E-5},{"$f":"投入係数表!AJ39*移輸入係数!$E39","v":0},{"$f":"投入係数表!AK39*移輸入係数!$E39","v":3.4143562271897986E-4},{"$f":"投入係数表!AL39*移輸入係数!$E39","v":3.2999191287783384E-4},{"$f":"投入係数表!AM39*移輸入係数!$E39","v":0},{"$f":"投入係数表!AN39*移輸入係数!$E39","v":4.3081115080081366E-5}]
[null,"64","医療・福祉",{"$f":"投入係数表!D40*移輸入係数!$E40","v":2.4197820284480942E-3},{"$f":"投入係数表!E40*移輸入係数!$E40","v":0},{"$f":"投入係数表!F40*移輸入係数!$E40","v":0},{"$f":"投入係数表!G40*移輸入係数!$E40","v":0},{"$f":"投入係数表!H40*移輸入係数!$E40","v":0},{"$f":"投入係数表!I40*移輸入係数!$E40","v":0},{"$f":"投入係数表!J40*移輸入係数!$E40","v":0},{"$f":"投入係数表!K40*移輸入係数!$E40","v":0},{"$f":"投入係数表!L40*移輸入係数!$E40","v":0},{"$f":"投入係数表!M40*移輸入係数!$E40","v":8.5207425137692674E-7},{"$f":"投入係数表!N40*移輸入係数!$E40","v":0},{"$f":"投入係数表!O40*移輸入係数!$E40","v":0},{"$f":"投入係数表!P40*移輸入係数!$E40","v":0},{"$f":"投入係数表!Q40*移輸入係数!$E40","v":0},{"$f":"投入係数表!R40*移輸入係数!$E40","v":0},{"$f":"投入係数表!S40*移輸入係数!$E40","v":0},{"$f":"投入係数表!T40*移輸入係数!$E40","v":0},{"$f":"投入係数表!U40*移輸入係数!$E40","v":0},{"$f":"投入係数表!V40*移輸入係数!$E40","v":0},{"$f":"投入係数表!W40*移輸入係数!$E40","v":0},{"$f":"投入係数表!X40*移輸入係数!$E40","v":0},{"$f":"投入係数表!Y40*移輸入係数!$E40","v":4.1424581207199768E-5},{"$f":"投入係数表!Z40*移輸入係数!$E40","v":2.016238753683778E-4},{"$f":"投入係数表!AA40*移輸入係数!$E40","v":0},{"$f":"投入係数表!AB40*移輸入係数!$E40","v":2.320655557642676E-5},{"$f":"投入係数表!AC40*移輸入係数!$E40","v":1.1868906418609848E-4},{"$f":"投入係数表!AD40*移輸入係数!$E40","v":2.8143916518125697E-6},{"$f":"投入係数表!AE40*移輸入係数!$E40","v":5.1334289111856909E-4},{"$f":"投入係数表!AF40*移輸入係数!$E40","v":4.1300358883474458E-4},{"$f":"投入係数表!AG40*移輸入係数!$E40","v":2.1030536809826764E-5},{"$f":"投入係数表!AH40*移輸入係数!$E40","v":1.7170153231345232E-5},{"$f":"投入係数表!AI40*移輸入係数!$E40","v":1.6122227120290652E-2},{"$f":"投入係数表!AJ40*移輸入係数!$E40","v":0},{"$f":"投入係数表!AK40*移輸入係数!$E40","v":2.8076641860463261E-5},{"$f":"投入係数表!AL40*移輸入係数!$E40","v":6.6889284833593278E-5},{"$f":"投入係数表!AM40*移輸入係数!$E40","v":0},{"$f":"投入係数表!AN40*移輸入係数!$E40","v":1.4092500105978994E-3}]
[null,"65","他に分類されない会員制団体",{"$f":"投入係数表!D41*移輸入係数!$E41","v":3.1295518074802848E-4},{"$f":"投入係数表!E41*移輸入係数!$E41","v":0},{"$f":"投入係数表!F41*移輸入係数!$E41","v":2.860338860378717E-4},{"$f":"投入係数表!G41*移輸入係数!$E41","v":0},{"$f":"投入係数表!H41*移輸入係数!$E41","v":4.5629916929864885E-4},{"$f":"投入係数表!I41*移輸入係数!$E41","v":9.2694501878853495E-4},{"$f":"投入係数表!J41*移輸入係数!$E41","v":1.9423541579424386E-4},{"$f":"投入係数表!K41*移輸入係数!$E41","v":2.2018519539972618E-4},{"$f":"投入係数表!L41*移輸入係数!$E41","v":3.2885244847167551E-4},{"$f":"投入係数表!M41*移輸入係数!$E41","v":3.988705032171052E-4},{"$f":"投入係数表!N41*移輸入係数!$E41","v":1.9511026649066501E-4},{"$f":"投入係数表!O41*移輸入係数!$E41","v":4.1973334732304352E-4},{"$f":"投入係数表!P41*移輸入係数!$E41","v":7.587895401806945E-4},{"$f":"投入係数表!Q41*移輸入係数!$E41","v":3.7333166844363006E-4},{"$f":"投入係数表!R41*移輸入係数!$E41","v":2.1321542342504313E-4},{"$f":"投入係数表!S41*移輸入係数!$E41","v":3.333253166680075E-4},{"$f":"投入係数表!T41*移輸入係数!$E41","v":2.8127009834884683E-4},{"$f":"投入係数表!U41*移輸入係数!$E41","v":3.1743639532310524E-4},{"$f":"投入係数表!V41*移輸入係数!$E41","v":0},{"$f":"投入係数表!W41*移輸入係数!$E41","v":4.6434429683867647E-4},{"$f":"投入係数表!X41*移輸入係数!$E41","v":4.9003494699319792E-4},{"$f":"投入係数表!Y41*移輸入係数!$E41","v":1.1843216184931292E-3},{"$f":"投入係数表!Z41*移輸入係数!$E41","v":4.0874777905599707E-3},{"$f":"投入係数表!AA41*移輸入係数!$E41","v":1.06956654215038E-3},{"$f":"投入係数表!AB41*移輸入係数!$E41","v":3.3615115389429236E-4},{"$f":"投入係数表!AC41*移輸入係数!$E41","v":2.0294363478731993E-3},{"$f":"投入係数表!AD41*移輸入係数!$E41","v":1.8154042216190659E-4},{"$f":"投入係数表!AE41*移輸入係数!$E41","v":6.4936264828308499E-4},{"$f":"投入係数表!AF41*移輸入係数!$E41","v":6.0560356699833979E-4},{"$f":"投入係数表!AG41*移輸入係数!$E41","v":0},{"$f":"投入係数表!AH41*移輸入係数!$E41","v":7.9286449541578761E-4},{"$f":"投入係数表!AI41*移輸入係数!$E41","v":5.4756135008038017E-4},{"$f":"投入係数表!AJ41*移輸入係数!$E41","v":0},{"$f":"投入係数表!AK41*移輸入係数!$E41","v":9.8314941699374856E-4},{"$f":"投入係数表!AL41*移輸入係数!$E41","v":1.4906435408953346E-3},{"$f":"投入係数表!AM41*移輸入係数!$E41","v":0},{"$f":"投入係数表!AN41*移輸入係数!$E41","v":1.6715444272693192E-3}]
[null,"66","対事業所サービス",{"$f":"投入係数表!D42*移輸入係数!$E42","v":1.6177439787396455E-2},{"$f":"投入係数表!E42*移輸入係数!$E42","v":0},{"$f":"投入係数表!F42*移輸入係数!$E42","v":1.4368377325252254E-2},{"$f":"投入係数表!G42*移輸入係数!$E42","v":1.965906608644084E-2},{"$f":"投入係数表!H42*移輸入係数!$E42","v":1.812980845534945E-2},{"$f":"投入係数表!I42*移輸入係数!$E42","v":2.4451022945816143E-2},{"$f":"投入係数表!J42*移輸入係数!$E42","v":6.9746470469611629E-3},{"$f":"投入係数表!K42*移輸入係数!$E42","v":2.4028510660742953E-2},{"$f":"投入係数表!L42*移輸入係数!$E42","v":3.7398260917168948E-2},{"$f":"投入係数表!M42*移輸入係数!$E42","v":5.1826151869539374E-3},{"$f":"投入係数表!N42*移輸入係数!$E42","v":1.0496640529752107E-2},{"$f":"投入係数表!O42*移輸入係数!$E42","v":1.7446945611716211E-2},{"$f":"投入係数表!P42*移輸入係数!$E42","v":3.0701049454909153E-2},{"$f":"投入係数表!Q42*移輸入係数!$E42","v":2.1312768726307784E-2},{"$f":"投入係数表!R42*移輸入係数!$E42","v":1.8042834645755328E-2},{"$f":"投入係数表!S42*移輸入係数!$E42","v":2.9961791637195895E-2},{"$f":"投入係数表!T42*移輸入係数!$E42","v":2.2035508280667079E-2},{"$f":"投入係数表!U42*移輸入係数!$E42","v":1.8110767922685216E-2},{"$f":"投入係数表!V42*移輸入係数!$E42","v":1.178703281439333E-2},{"$f":"投入係数表!W42*移輸入係数!$E42","v":2.71035271298493E-2},{"$f":"投入係数表!X42*移輸入係数!$E42","v":6.3317088497299542E-2},{"$f":"投入係数表!Y42*移輸入係数!$E42","v":4.8358059140566005E-2},{"$f":"投入係数表!Z42*移輸入係数!$E42","v":8.1564403106110184E-2},{"$f":"投入係数表!AA42*移輸入係数!$E42","v":4.1406417352152086E-2},{"$f":"投入係数表!AB42*移輸入係数!$E42","v":5.6608079280231566E-2},{"$f":"投入係数表!AC42*移輸入係数!$E42","v":7.8100673885157068E-2},{"$f":"投入係数表!AD42*移輸入係数!$E42","v":1.8450786726515078E-2},{"$f":"投入係数表!AE42*移輸入係数!$E42","v":6.4043552092153955E-2},{"$f":"投入係数表!AF42*移輸入係数!$E42","v":0.10063454257248364},{"$f":"投入係数表!AG42*移輸入係数!$E42","v":5.9357890261902017E-2},{"$f":"投入係数表!AH42*移輸入係数!$E42","v":3.9965325617838915E-2},{"$f":"投入係数表!AI42*移輸入係数!$E42","v":3.3936776428891743E-2},{"$f":"投入係数表!AJ42*移輸入係数!$E42","v":4.0566883658900425E-2},{"$f":"投入係数表!AK42*移輸入係数!$E42","v":9.5157990572827519E-2},{"$f":"投入係数表!AL42*移輸入係数!$E42","v":2.4049202831400076E-2},{"$f":"投入係数表!AM42*移輸入係数!$E42","v":0},{"$f":"投入係数表!AN42*移輸入係数!$E42","v":1.9599205241276972E-2}]
[null,"67","対個人サービス",{"$f":"投入係数表!D43*移輸入係数!$E43","v":2.0700453858388121E-4},{"$f":"投入係数表!E43*移輸入係数!$E43","v":0},{"$f":"投入係数表!F43*移輸入係数!$E43","v":2.6178259293902497E-5},{"$f":"投入係数表!G43*移輸入係数!$E43","v":0},{"$f":"投入係数表!H43*移輸入係数!$E43","v":0},{"$f":"投入係数表!I43*移輸入係数!$E43","v":0},{"$f":"投入係数表!J43*移輸入係数!$E43","v":0},{"$f":"投入係数表!K43*移輸入係数!$E43","v":0},{"$f":"投入係数表!L43*移輸入係数!$E43","v":0},{"$f":"投入係数表!M43*移輸入係数!$E43","v":3.323884351497788E-5},{"$f":"投入係数表!N43*移輸入係数!$E43","v":0},{"$f":"投入係数表!O43*移輸入係数!$E43","v":0},{"$f":"投入係数表!P43*移輸入係数!$E43","v":0},{"$f":"投入係数表!Q43*移輸入係数!$E43","v":8.2313543620107245E-5},{"$f":"投入係数表!R43*移輸入係数!$E43","v":0},{"$f":"投入係数表!S43*移輸入係数!$E43","v":0},{"$f":"投入係数表!T43*移輸入係数!$E43","v":7.4418562794810312E-5},{"$f":"投入係数表!U43*移輸入係数!$E43","v":0},{"$f":"投入係数表!V43*移輸入係数!$E43","v":0},{"$f":"投入係数表!W43*移輸入係数!$E43","v":0},{"$f":"投入係数表!X43*移輸入係数!$E43","v":1.548411492571738E-4},{"$f":"投入係数表!Y43*移輸入係数!$E43","v":3.8844833036359175E-5},{"$f":"投入係数表!Z43*移輸入係数!$E43","v":1.0241161176288902E-4},{"$f":"投入係数表!AA43*移輸入係数!$E43","v":1.626358463783577E-5},{"$f":"投入係数表!AB43*移輸入係数!$E43","v":6.1939671800839995E-4},{"$f":"投入係数表!AC43*移輸入係数!$E43","v":1.5473459383358922E-4},{"$f":"投入係数表!AD43*移輸入係数!$E43","v":3.8654357979233707E-4},{"$f":"投入係数表!AE43*移輸入係数!$E43","v":5.6516002278056464E-4},{"$f":"投入係数表!AF43*移輸入係数!$E43","v":4.1316383895222079E-3},{"$f":"投入係数表!AG43*移輸入係数!$E43","v":3.4671121388204438E-4},{"$f":"投入係数表!AH43*移輸入係数!$E43","v":2.1186953985884499E-3},{"$f":"投入係数表!AI43*移輸入係数!$E43","v":8.1153746461914093E-3},{"$f":"投入係数表!AJ43*移輸入係数!$E43","v":1.5296126142273453E-3},{"$f":"投入係数表!AK43*移輸入係数!$E43","v":8.2486084691277804E-4},{"$f":"投入係数表!AL43*移輸入係数!$E43","v":1.0724022791451869E-2},{"$f":"投入係数表!AM43*移輸入係数!$E43","v":0},{"$f":"投入係数表!AN43*移輸入係数!$E43","v":6.1669433688893698E-4}]
[null,"68","事務用品",{"$f":"投入係数表!D44*移輸入係数!$E44","v":8.2770037246516766E-4},{"$f":"投入係数表!E44*移輸入係数!$E44","v":0},{"$f":"投入係数表!F44*移輸入係数!$E44","v":6.5341233490236877E-4},{"$f":"投入係数表!G44*移輸入係数!$E44","v":0},{"$f":"投入係数表!H44*移輸入係数!$E44","v":1.0411736867013725E-3},{"$f":"投入係数表!I44*移輸入係数!$E44","v":2.4213075060532688E-4},{"$f":"投入係数表!J44*移輸入係数!$E44","v":3.8052715695476801E-5},{"$f":"投入係数表!K44*移輸入係数!$E44","v":7.7645779951859614E-5},{"$f":"投入係数表!L44*移輸入係数!$E44","v":7.4549596189687302E-4},{"$f":"投入係数表!M44*移輸入係数!$E44","v":1.107536230278933E-4},{"$f":"投入係数表!N44*移輸入係数!$E44","v":1.7200848575196377E-4},{"$f":"投入係数表!O44*移輸入係数!$E44","v":2.4669023928953213E-4},{"$f":"投入係数表!P44*移輸入係数!$E44","v":7.4327337594767352E-4},{"$f":"投入係数表!Q44*移輸入係数!$E44","v":8.2780631326983493E-4},{"$f":"投入係数表!R44*移輸入係数!$E44","v":1.5037593984962407E-3},{"$f":"投入係数表!S44*移輸入係数!$E44","v":4.4078754040552452E-4},{"$f":"投入係数表!T44*移輸入係数!$E44","v":7.9349335449315612E-4},{"$f":"投入係数表!U44*移輸入係数!$E44","v":1.8656716417910448E-4},{"$f":"投入係数表!V44*移輸入係数!$E44","v":0},{"$f":"投入係数表!W44*移輸入係数!$E44","v":6.3963157221440454E-4},{"$f":"投入係数表!X44*移輸入係数!$E44","v":9.1080445221028298E-4},{"$f":"投入係数表!Y44*移輸入係数!$E44","v":6.2127879886098887E-5},{"$f":"投入係数表!Z44*移輸入係数!$E44","v":8.4627774289536186E-4},{"$f":"投入係数表!AA44*移輸入係数!$E44","v":3.2514685799752887E-3},{"$f":"投入係数表!AB44*移輸入係数!$E44","v":2.0850311696283988E-3},{"$f":"投入係数表!AC44*移輸入係数!$E44","v":3.3318780918302027E-3},{"$f":"投入係数表!AD44*移輸入係数!$E44","v":3.383816213052385E-4},{"$f":"投入係数表!AE44*移輸入係数!$E44","v":1.8269918182540314E-3},{"$f":"投入係数表!AF44*移輸入係数!$E44","v":1.4033125632422646E-3},{"$f":"投入係数表!AG44*移輸入係数!$E44","v":3.0036773080803149E-3},{"$f":"投入係数表!AH44*移輸入係数!$E44","v":3.022224977527045E-3},{"$f":"投入係数表!AI44*移輸入係数!$E44","v":2.2648750068310574E-3},{"$f":"投入係数表!AJ44*移輸入係数!$E44","v":4.0774015203870074E-3},{"$f":"投入係数表!AK44*移輸入係数!$E44","v":1.8262382229683289E-3},{"$f":"投入係数表!AL44*移輸入係数!$E44","v":1.8687852895617849E-3},{"$f":"投入係数表!AM44*移輸入係数!$E44","v":0},{"$f":"投入係数表!AN44*移輸入係数!$E44","v":3.3817105819360293E-3}]
[null,"69","分類不明",{"$f":"投入係数表!D45*移輸入係数!$E45","v":2.8279762725893225E-3},{"$f":"投入係数表!E45*移輸入係数!$E45","v":0},{"$f":"投入係数表!F45*移輸入係数!$E45","v":7.149472829465724E-3},{"$f":"投入係数表!G45*移輸入係数!$E45","v":1.2070006035003018E-3},{"$f":"投入係数表!H45*移輸入係数!$E45","v":2.4609559867486987E-3},{"$f":"投入係数表!I45*移輸入係数!$E45","v":1.2106537530266344E-3},{"$f":"投入係数表!J45*移輸入係数!$E45","v":3.0442172556381441E-4},{"$f":"投入係数表!K45*移輸入係数!$E45","v":1.7858529388927711E-3},{"$f":"投入係数表!L45*移輸入係数!$E45","v":6.8337129840546698E-3},{"$f":"投入係数表!M45*移輸入係数!$E45","v":2.4079683539981133E-3},{"$f":"投入係数表!N45*移輸入係数!$E45","v":2.4081188005274927E-3},{"$f":"投入係数表!O45*移輸入係数!$E45","v":3.3440232437025462E-3},{"$f":"投入係数表!P45*移輸入係数!$E45","v":7.5813884346662705E-3},{"$f":"投入係数表!Q45*移輸入係数!$E45","v":6.652371216276866E-3},{"$f":"投入係数表!R45*移輸入係数!$E45","v":1.8796992481203006E-3},{"$f":"投入係数表!S45*移輸入係数!$E45","v":2.9385836027034972E-4},{"$f":"投入係数表!T45*移輸入係数!$E45","v":1.6861733782979568E-3},{"$f":"投入係数表!U45*移輸入係数!$E45","v":1.1194029850746269E-3},{"$f":"投入係数表!V45*移輸入係数!$E45","v":4.1118421052631577E-3},{"$f":"投入係数表!W45*移輸入係数!$E45","v":1.7142126135346041E-3},{"$f":"投入係数表!X45*移輸入係数!$E45","v":1.4083073070731807E-2},{"$f":"投入係数表!Y45*移輸入係数!$E45","v":2.9648804901199412E-3},{"$f":"投入係数表!Z45*移輸入係数!$E45","v":7.9713903524337316E-3},{"$f":"投入係数表!AA45*移輸入係数!$E45","v":2.3497279604621422E-2},{"$f":"投入係数表!AB45*移輸入係数!$E45","v":6.9271720838669391E-3},{"$f":"投入係数表!AC45*移輸入係数!$E45","v":5.5924127457728807E-3},{"$f":"投入係数表!AD45*移輸入係数!$E45","v":1.8778655740903326E-3},{"$f":"投入係数表!AE45*移輸入係数!$E45","v":6.2095808875290686E-3},{"$f":"投入係数表!AF45*移輸入係数!$E45","v":1.9704958193534645E-3},{"$f":"投入係数表!AG45*移輸入係数!$E45","v":9.1444563767125516E-4},{"$f":"投入係数表!AH45*移輸入係数!$E45","v":8.2483494002045816E-3},{"$f":"投入係数表!AI45*移輸入係数!$E45","v":4.329372332092611E-3},{"$f":"投入係数表!AJ45*移輸入係数!$E45","v":3.3517622667588115E-3},{"$f":"投入係数表!AK45*移輸入係数!$E45","v":3.2160648139700383E-3},{"$f":"投入係数表!AL45*移輸入係数!$E45","v":2.9755658821765851E-3},{"$f":"投入係数表!AM45*移輸入係数!$E45","v":4.68471844842125E-4},{"$f":"投入係数表!AN45*移輸入係数!$E45","v":0}]

{"sheet":"単位行列マイナス市内品投入係数","index":10,"n_rows":45,"n_cols":40,"rows_kept":45,"cut":false,"hidden":true,"merged":[]}
[]
[]
[]
[]
[]
[]
[null,null,null,"01","06","11","15","16","20","21","22","25","26","27","28","29","30","31","32","33","34","35","39","41","46","47","48","51","53","55","57","59","61","63","64","65","66","67","68","69"]
[null,null,null,"農林漁業","鉱業","飲食料品","繊維製品","パルプ・紙・木製品","化学製品","石油・石炭製品","プラスチック・ゴム製品","窯業・土石製品","鉄鋼","非鉄金属","金属製品","はん用機械","生産用機械","業務用機械","電子部品","電気機械","情報通信機器","輸送機械","その他の製造工業製品","建設","電力・ガス・熱供給","水道","廃棄物処理","商業","金融・保険","不動産","運輸・郵便","情報通信","公務","教育・研究","医療・福祉","他に分類されない会員制団体","対事業所サービス","対個人サービス","事務用品","分類不明"]
[null,"01","農林漁業",{"$f":"単位行列!D9-市内品投入係数表!D9","v":0.99497006874243288},{"$f":"単位行列!E9-市内品投入係数表!E9","v":0},{"$f":"単位行列!F9-市内品投入係数表!F9","v":-1.8605501681460794E-2},{"$f":"単位行列!G9-市内品投入係数表!G9","v":-1.6156248836247611E-4},{"$f":"単位行列!H9-市内品投入係数表!H9","v":-3.3954578126859888E-4},{"$f":"単位行列!I9-市内品投入係数表!I9","v":-2.2687207052256177E-5},{"$f":"単位行列!J9-市内品投入係数表!J9","v":0},{"$f":"単位行列!K9-市内品投入係数表!K9","v":-4.1572954921441557E-5},{"$f":"単位行列!L9-市内品投入係数表!L9","v":-4.4350224595837304E-6},{"$f":"単位行列!M9-市内品投入係数表!M9","v":0},{"$f":"単位行列!N9-市内品投入係数表!N9","v":0},{"$f":"単位行列!O9-市内品投入係数表!O9","v":0},{"$f":"単位行列!P9-市内品投入係数表!P9","v":0},{"$f":"単位行列!Q9-市内品投入係数表!Q9","v":0},{"$f":"単位行列!R9-市内品投入係数表!R9","v":0},{"$f":"単位行列!S9-市内品投入係数表!S9","v":0},{"$f":"単位行列!T9-市内品投入係数表!T9","v":0},{"$f":"単位行列!U9-市内品投入係数表!U9","v":0},{"$f":"単位行列!V9-市内品投入係数表!V9","v":0},{"$f":"単位行列!W9-市内品投入係数表!W9","v":-1.5822128433680414E-3},{"$f":"単位行列!X9-市内品投入係数表!X9","v":-5.3627996494834132E-5},{"$f":"単位行列!Y9-市内品投入係数表!Y9","v":0},{"$f":"単位行列!Z9-市内品投入係数表!Z9","v":0},{"$f":"単位行列!AA9-市内品投入係数表!AA9","v":0},{"$f":"単位行列!AB9-市内品投入係数表!AB9","v":-6.941853623199159E-6},{"$f":"単位行列!AC9-市内品投入係数表!AC9","v":0},{"$f":"単位行列!AD9-市内品投入係数表!AD9","v":-8.1610648722265797E-8},{"$f":"単位行列!AE9-市内品投入係数表!AE9","v":0},{"$f":"単位行列!AF9-市内品投入係数表!AF9","v":0},{"$f":"単位行列!AG9-市内品投入係数表!AG9","v":-1.3939095614780717E-6},{"$f":"単位行列!AH9-市内品投入係数表!AH9","v":-1.1069832418430148E-4},{"$f":"単位行列!AI9-市内品投入係数表!AI9","v":-1.2614213307270031E-4},{"$f":"単位行列!AJ9-市内品投入係数表!AJ9","v":-9.805514367989644E-5},{"$f":"単位行列!AK9-市内品投入係数表!AK9","v":-4.0707784126267865E-7},{"$f":"単位行列!AL9-市内品投入係数表!AL9","v":-1.1426426058843717E-3},{"$f":"単位行列!AM9-市内品投入係数表!AM9","v":0},{"$f":"単位行列!AN9-市内品投入係数表!AN9","v":0}]
[null,"06","鉱業",{"$f":"単位行列!D10-市内品投入係数表!D10","v":0},{"$f":"単位行列!E10-市内品投入係数表!E10","v":1},{"$f":"単位行列!F10-市内品投入係数表!F10","v":-2.7587185918834395E-8},{"$f":"単位行列!G10-市内品投入係数表!G10","v":0},{"$f":"単位行列!H10-市内品投入係数表!H10","v":-2.0243202338976705E-8},{"$f":"単位行列!I10-市内品投入係数表!I10","v":-1.3377627954095957E-6},{"$f":"単位行列!J10-市内品投入係数表!J10","v":-1.039714662689904E-4},{"$f":"単位行列!K10-市内品投入係数表!K10","v":0},{"$f":"単位行列!L10-市内品投入係数表!L10","v":-7.6530623260531619E-6},{"$f":"単位行列!M10-市内品投入係数表!M10","v":-1.0217175853107403E-5},{"$f":"単位行列!N10-市内品投入係数表!N10","v":-8.9924651102734083E-8},{"$f":"単位行列!O10-市内品投入係数表!O10","v":-2.3448667347673041E-8},{"$f":"単位行列!P10-市内品投入係数表!P10","v":0},{"$f":"単位行列!Q10-市内品投入係数表!Q10","v":0},{"$f":"単位行列!R10-市内品投入係数表!R10","v":-1.7867120527258888E-8},{"$f":"単位行列!S10-市内品投入係数表!S10","v":0},{"$f":"単位行列!T10-市内品投入係数表!T10","v":0},{"$f":"単位行列!U10-市内品投入係数表!U10","v":0},{"$f":"単位行列!V10-市内品投入係数表!V10","v":0},{"$f":"単位行列!W10-市内品投入係数表!W10","v":-1.1308605030147891E-7},{"$f":"単位行列!X10-市内品投入係数表!X10","v":-8.1919087086145077E-7},{"$f":"単位行列!Y10-市内品投入係数表!Y10","v":-4.2015774859128971E-5},{"$f":"単位行列!Z10-市内品投入係数表!Z10","v":0},{"$f":"単位行列!AA10-市内品投入係数表!AA10","v":0},{"$f":"単位行列!AB10-市内品投入係数表!AB10","v":-1.8863131701936583E-10},{"$f":"単位行列!AC10-市内品投入係数表!AC10","v":0},{"$f":"単位行列!AD10-市内品投入係数表!AD10","v":0},{"$f":"単位行列!AE10-市内品投入係数表!AE10","v":-7.8108486504378992E-10},{"$f":"単位行列!AF10-市内品投入係数表!AF10","v":0},{"$f":"単位行列!AG10-市内品投入係数表!AG10","v":-9.279808767452629E-10},{"$f":"単位行列!AH10-市内品投入係数表!AH10","v":-2.2097830477593058E-9},{"$f":"単位行列!AI10-市内品投入係数表!AI10","v":-2.8858357633180504E-10},{"$f":"単位行列!AJ10-市内品投入係数表!AJ10","v":-4.926731921476363E-9},{"$f":"単位行列!AK10-市内品投入係数表!AK10","v":-8.6722516290182358E-10},{"$f":"単位行列!AL10-市内品投入係数表!AL10","v":-2.1373050788116611E-9},{"$f":"単位行列!AM10-市内品投入係数表!AM10","v":0},{"$f":"単位行列!AN10-市内品投入係数表!AN10","v":-1.1719239968210529E-8}]
[null,"11","飲食料品",{"$f":"単位行列!D11-市内品投入係数表!D11","v":-2.6692867296611796E-2},{"$f":"単位行列!E11-市内品投入係数表!E11","v":0},{"$f":"単位行列!F11-市内品投入係数表!F11","v":0.94524467564042558},{"$f":"単位行列!G11-市内品投入係数表!G11","v":-1.9910529154326697E-4},{"$f":"単位行列!H11-市内品投入係数表!H11","v":-7.8068496944437612E-5},{"$f":"単位行列!I11-市内品投入係数表!I11","v":-2.2766701792941916E-3},{"$f":"単位行列!J11-市内品投入係数表!J11","v":0},{"$f":"単位行列!K11-市内品投入係数表!K11","v":0},{"$f":"単位行列!L11-市内品投入係数表!L11","v":-3.1427217916775511E-4},{"$f":"単位行列!M11-市内品投入係数表!M11","v":0},{"$f":"単位行列!N11-市内品投入係数表!N11","v":0},{"$f":"単位行列!O11-市内品投入係数表!O11","v":0},{"$f":"単位行列!P11-市内品投入係数表!P11","v":0},{"$f":"単位行列!Q11-市内品投入係数表!Q11","v":0},{"$f":"単位行列!R11-市内品投入係数表!R11","v":0},{"$f":"単位行列!S11-市内品投入係数表!S11","v":0},{"$f":"単位行列!T11-市内品投入係数表!T11","v":0},{"$f":"単位行列!U11-市内品投入係数表!U11","v":0},{"$f":"単位行列!V11-市内品投入係数表!V11","v":0},{"$f":"単位行列!W11-市内品投入係数表!W11","v":-3.7984613186449278E-4},{"$f":"単位行列!X11-市内品投入係数表!X11","v":-2.7234770283603595E-6},{"$f":"単位行列!Y11-市内品投入係数表!Y11","v":0},{"$f":"単位行列!Z11-市内品投入係数表!Z11","v":0},{"$f":"単位行列!AA11-市内品投入係数表!AA11","v":0},{"$f":"単位行列!AB11-市内品投入係数表!AB11","v":-4.5830115138643066E-5},{"$f":"単位行列!AC11-市内品投入係数表!AC11","v":0},{"$f":"単位行列!AD11-市内品投入係数表!AD11","v":0},{"$f":"単位行列!AE11-市内品投入係数表!AE11","v":0},{"$f":"単位行列!AF11-市内品投入係数表!AF11","v":0},{"$f":"単位行列!AG11-市内品投入係数表!AG11","v":-8.696447953094035E-5},{"$f":"単位行列!AH11-市内品投入係数表!AH11","v":-1.7794128962887587E-3},{"$f":"単位行列!AI11-市内品投入係数表!AI11","v":-2.309776856405309E-3},{"$f":"単位行列!AJ11-市内品投入係数表!AJ11","v":-3.7620167404552111E-4},{"$f":"単位行列!AK11-市内品投入係数表!AK11","v":-1.0033436979946151E-6},{"$f":"単位行列!AL11-市内品投入係数表!AL11","v":-4.2882841639695003E-2},{"$f":"単位行列!AM11-市内品投入係数表!AM11","v":0},{"$f":"単位行列!AN11-市内品投入係数表!AN11","v":-3.8739076145694583E-4}]
[null,"15","繊維製品",{"$f":"単位行列!D12-市内品投入係数表!D12","v":-1.4209479680600457E-5},{"$f":"単位行列!E12-市内品投入係数表!E12","v":0},{"$f":"単位行列!F12-市内品投入係数表!F12","v":-5.9587595727157072E-6},{"$f":"単位行列!G12-市内品投入係数表!G12","v":0.99893730430682304},{"$f":"単位行列!H12-市内品投入係数表!H12","v":-2.0427732184010994E-5},{"$f":"単位行列!I12-市内品投入係数表!I12","v":-2.3752915532035675E-6},{"$f":"単位行列!J12-市内品投入係数表!J12","v":-8.088066889792964E-7},{"$f":"単位行列!K12-市内品投入係数表!K12","v":-1.1425523077953337E-5},{"$f":"単位行列!L12-市内品投入係数表!L12","v":-1.1579361866631846E-5},{"$f":"単位行列!M12-市内品投入係数表!M12","v":-1.1906097227717679E-6},{"$f":"単位行列!N12-市内品投入係数表!N12","v":-8.4369767628554E-7},{"$f":"単位行列!O12-市内品投入係数表!O12","v":-4.0333665466370914E-6},{"$f":"単位行列!P12-市内品投入係数表!P12","v":-2.1874433138243053E-6},{"$f":"単位行列!Q12-市内品投入係数表!Q12","v":-3.0330481978422458E-6},{"$f":"単位行列!R12-市内品投入係数表!R12","v":-3.6879526747108027E-6},{"$f":"単位行列!S12-市内品投入係数表!S12","v":-2.089984347099554E-5},{"$f":"単位行列!T12-市内品投入係数表!T12","v":-3.4055583615907133E-6},{"$f":"単位行列!U12-市内品投入係数表!U12","v":-9.1510765995622521E-7},{"$f":"単位行列!V12-市内品投入係数表!V12","v":0},{"$f":"単位行列!W12-市内品投入係数表!W12","v":-8.1571832858833019E-6},{"$f":"単位行列!X12-市内品投入係数表!X12","v":-1.5184016040989057E-5},{"$f":"単位行列!Y12-市内品投入係数表!Y12","v":-8.1262886790417682E-7},{"$f":"単位行列!Z12-市内品投入係数表!Z12","v":-3.6153635049238329E-6},{"$f":"単位行列!AA12-市内品投入係数表!AA12","v":-8.7184470705126515E-6},{"$f":"単位行列!AB12-市内品投入係数表!AB12","v":-2.085639250231826E-5},{"$f":"単位行列!AC12-市内品投入係数表!AC12","v":-6.8970759157088891E-6},{"$f":"単位行列!AD12-市内品投入係数表!AD12","v":-1.046691767923787E-7},{"$f":"単位行列!AE12-市内品投入係数表!AE12","v":-1.0049613206135885E-5},{"$f":"単位行列!AF12-市内品投入係数表!AF12","v":-4.1011950684686728E-6},{"$f":"単位行列!AG12-市内品投入係数表!AG12","v":-1.6632451735411867E-5},{"$f":"単位行列!AH12-市内品投入係数表!AH12","v":-2.4478512948632223E-6},{"$f":"単位行列!AI12-市内品投入係数表!AI12","v":-1.4345608688483457E-5},{"$f":"単位行列!AJ12-市内品投入係数表!AJ12","v":-9.1353926534897475E-5},{"$f":"単位行列!AK12-市内品投入係数表!AK12","v":-1.0337478789951279E-5},{"$f":"単位行列!AL12-市内品投入係数表!AL12","v":-1.6433253969737066E-5},{"$f":"単位行列!AM12-市内品投入係数表!AM12","v":-9.1454177308695608E-5},{"$f":"単位行列!AN12-市内品投入係数表!AN12","v":-2.3901712916333515E-5}]
[null,"16","パルプ・紙・木製品",{"$f":"単位行列!D13-市内品投入係数表!D13","v":-4.5031948738501358E-3},{"$f":"単位行列!E13-市内品投入係数表!E13","v":0},{"$f":"単位行列!F13-市内品投入係数表!F13","v":-1.4773616162185863E-3},{"$f":"単位行列!G13-市内品投入係数表!G13","v":-8.8046741646010686E-4},{"$f":"単位行列!H13-市内品投入係数表!H13","v":0.95751103532789128},{"$f":"単位行列!I13-市内品投入係数表!I13","v":-8.6105396268010715E-4},{"$f":"単位行列!J13-市内品投入係数表!J13","v":-1.6192289193537349E-5},{"$f":"単位行列!K13-市内品投入係数表!K13","v":-1.1186410650756791E-3},{"$f":"単位行列!L13-市内品投入係数表!L13","v":-1.3595372314836997E-3},{"$f":"単位行列!M13-市内品投入係数表!M13","v":-4.5781646748116265E-5},{"$f":"単位行列!N13-市内品投入係数表!N13","v":-3.8687988673063967E-4},{"$f":"単位行列!O13-市内品投入係数表!O13","v":-4.0489301604523396E-4},{"$f":"単位行列!P13-市内品投入係数表!P13","v":-5.4219358892314437E-5},{"$f":"単位行列!Q13-市内品投入係数表!Q13","v":-9.8217802186726982E-5},{"$f":"単位行列!R13-市内品投入係数表!R13","v":-1.828238733175936E-3},{"$f":"単位行列!S13-市内品投入係数表!S13","v":-6.4308015386764484E-4},{"$f":"単位行列!T13-市内品投入係数表!T13","v":-1.4289801901517228E-3},{"$f":"単位行列!U13-市内品投入係数表!U13","v":-1.2588753926248296E-3},{"$f":"単位行列!V13-市内品投入係数表!V13","v":0},{"$f":"単位行列!W13-市内品投入係数表!W13","v":-1.2271324545431957E-2},{"$f":"単位行列!X13-市内品投入係数表!X13","v":-9.8189987820600164E-3},{"$f":"単位行列!Y13-市内品投入係数表!Y13","v":-1.8631659965744307E-4},{"$f":"単位行列!Z13-市内品投入係数表!Z13","v":-4.7793437549869687E-4},{"$f":"単位行列!AA13-市内品投入係数表!AA13","v":-5.7319463241006319E-4},{"$f":"単位行列!AB13-市内品投入係数表!AB13","v":-1.4519589297164769E-3},{"$f":"単位行列!AC13-市内品投入係数表!AC13","v":-8.367040969661034E-4},{"$f":"単位行列!AD13-市内品投入係数表!AD13","v":-7.1716536675765327E-5},{"$f":"単位行列!AE13-市内品投入係数表!AE13","v":-5.6496192960026092E-4},{"$f":"単位行列!AF13-市内品投入係数表!AF13","v":-1.8647509302756311E-3},{"$f":"単位行列!AG13-市内品投入係数表!AG13","v":-2.2670481567347607E-4},{"$f":"単位行列!AH13-市内品投入係数表!AH13","v":-9.7907479995848544E-4},{"$f":"単位行列!AI13-市内品投入係数表!AI13","v":-1.0143239760337271E-3},{"$f":"単位行列!AJ13-市内品投入係数表!AJ13","v":-2.7348720496643414E-3},{"$f":"単位行列!AK13-市内品投入係数表!AK13","v":-5.6847856253355086E-4},{"$f":"単位行列!AL13-市内品投入係数表!AL13","v":-1.0474724043003419E-3},{"$f":"単位行列!AM13-市内品投入係数表!AM13","v":-7.5916401478234155E-2},{"$f":"単位行列!AN13-市内品投入係数表!AN13","v":-4.7538199975123897E-4}]
[null,"20","化学製品",{"$f":"単位行列!D14-市内品投入係数表!D14","v":-2.2856545164934858E-3},{"$f":"単位行列!E14-市内品投入係数表!E14","v":0},{"$f":"単位行列!F14-市内品投入係数表!F14","v":-2.4690545799965758E-4},{"$f":"単位行列!G14-市内品投入係数表!G14","v":-2.0125359153773323E-3},{"$f":"単位行列!H14-市内品投入係数表!H14","v":-8.7726102730348288E-4},{"$f":"単位行列!I14-市内品投入係数表!I14","v":0.98874478983655745},{"$f":"単位行列!J14-市内品投入係数表!J14","v":4.1155826358975139E-5},{"$f":"単位行列!K14-市内品投入係数表!K14","v":-5.7104776928137268E-3},{"$f":"単位行列!L14-市内品投入係数表!L14","v":-1.28657911759873E-3},{"$f":"単位行列!M14-市内品投入係数表!M14","v":-1.1570929559613944E-4},{"$f":"単位行列!N14-市内品投入係数表!N14","v":-9.1295139507328798E-5},{"$f":"単位行列!O14-市内品投入係数表!O14","v":-2.7751248525968795E-4},{"$f":"単位行列!P14-市内品投入係数表!P14","v":-6.2524435165700891E-5},{"$f":"単位行列!Q14-市内品投入係数表!Q14","v":-9.9778746674719185E-5},{"$f":"単位行列!R14-市内品投入係数表!R14","v":-4.4800951636055059E-4},{"$f":"単位行列!S14-市内品投入係数表!S14","v":-3.5754955610735551E-4},{"$f":"単位行列!T14-市内品投入係数表!T14","v":-2.6520791585435584E-4},{"$f":"単位行列!U14-市内品投入係数表!U14","v":-2.185963904454574E-4},{"$f":"単位行列!V14-市内品投入係数表!V14","v":-3.2118329297907124E-4},{"$f":"単位行列!W14-市内品投入係数表!W14","v":-7.2407567131857128E-4},{"$f":"単位行列!X14-市内品投入係数表!X14","v":-1.582276046940448E-4},{"$f":"単位行列!Y14-市内品投入係数表!Y14","v":-3.2560183637916824E-5},{"$f":"単位行列!Z14-市内品投入係数表!Z14","v":-2.2472167182470263E-4},{"$f":"単位行列!AA14-市内品投入係数表!AA14","v":-4.0701600666983608E-4},{"$f":"単位行列!AB14-市内品投入係数表!AB14","v":-1.9873278193642823E-7},{"$f":"単位行列!AC14-市内品投入係数表!AC14","v":-6.4372722732824142E-7},{"$f":"単位行列!AD14-市内品投入係数表!AD14","v":-9.1585549876595191E-7},{"$f":"単位行列!AE14-市内品投入係数表!AE14","v":-8.1468389716660361E-6},{"$f":"単位行列!AF14-市内品投入係数表!AF14","v":-2.6159818098625988E-5},{"$f":"単位行列!AG14-市内品投入係数表!AG14","v":-2.5712866212835984E-5},{"$f":"単位行列!AH14-市内品投入係数表!AH14","v":-1.2823284690720448E-4},{"$f":"単位行列!AI14-市内品投入係数表!AI14","v":-3.8585414530169057E-3},{"$f":"単位行列!AJ14-市内品投入係数表!AJ14","v":-5.2943764545718142E-5},{"$f":"単位行列!AK14-市内品投入係数表!AK14","v":-1.3133952430252895E-4},{"$f":"単位行列!AL14-市内品投入係数表!AL14","v":-2.0896339183125985E-4},{"$f":"単位行列!AM14-市内品投入係数表!AM14","v":-2.6459675472024845E-4},{"$f":"単位行列!AN14-市内品投入係数表!AN14","v":-8.8191580647689391E-5}]
[null,"21","石油・石炭製品",{"$f":"単位行列!D15-市内品投入係数表!D15","v":-1.9241658967454221E-3},{"$f":"単位行列!E15-市内品投入係数表!E15","v":0},{"$f":"単位行列!F15-市内品投入係数表!F15","v":-2.059739201542698E-3},{"$f":"単位行列!G15-市内品投入係数表!G15","v":0},{"$f":"単位行列!H15-市内品投入係数表!H15","v":-4.6452699010471983E-4},{"$f":"単位行列!I15-市内品投入係数表!I15","v":-4.7219757564605017E-3},{"$f":"単位行列!J15-市内品投入係数表!J15","v":0.96138485309096289},{"$f":"単位行列!K15-市内品投入係数表!K15","v":-4.4123239508641178E-4},{"$f":"単位行列!L15-市内品投入係数表!L15","v":-1.0163030959735692E-2},{"$f":"単位行列!M15-市内品投入係数表!M15","v":-1.4444089331047644E-2},{"$f":"単位行列!N15-市内品投入係数表!N15","v":-5.3316050629771097E-4},{"$f":"単位行列!O15-市内品投入係数表!O15","v":-1.2885690557867017E-3},{"$f":"単位行列!P15-市内品投入係数表!P15","v":-7.6795437873398875E-5},{"$f":"単位行列!Q15-市内品投入係数表!Q15","v":-3.4005677053715035E-4},{"$f":"単位行列!R15-市内品投入係数表!R15","v":-7.7684648206669817E-4},{"$f":"単位行列!S15-市内品投入係数表!S15","v":-4.5542425263680948E-4},{"$f":"単位行列!T15-市内品投入係数表!T15","v":-5.1240122056571543E-4},{"$f":"単位行列!U15-市内品投入係数表!U15","v":0},{"$f":"単位行列!V15-市内品投入係数表!V15","v":0},{"$f":"単位行列!W15-市内品投入係数表!W15","v":-1.2820898637767011E-3},{"$f":"単位行列!X15-市内品投入係数表!X15","v":-5.4842371090787637E-3},{"$f":"単位行列!Y15-市内品投入係数表!Y15","v":-1.5803439801261546E-2},{"$f":"単位行列!Z15-市内品投入係数表!Z15","v":-5.711669863847928E-3},{"$f":"単位行列!AA15-市内品投入係数表!AA15","v":-5.8902115830774138E-3},{"$f":"単位行列!AB15-市内品投入係数表!AB15","v":-8.3860558417219594E-4},{"$f":"単位行列!AC15-市内品投入係数表!AC15","v":-2.4767296436125009E-4},{"$f":"単位行列!AD15-市内品投入係数表!AD15","v":-2.0866831788088339E-4},{"$f":"単位行列!AE15-市内品投入係数表!AE15","v":-3.8991328502103184E-2},{"$f":"単位行列!AF15-市内品投入係数表!AF15","v":-2.9300852093608527E-4},{"$f":"単位行列!AG15-市内品投入係数表!AG15","v":-5.277153621311783E-3},{"$f":"単位行列!AH15-市内品投入係数表!AH15","v":-1.8815548802729807E-3},{"$f":"単位行列!AI15-市内品投入係数表!AI15","v":-1.0518867441820651E-3},{"$f":"単位行列!AJ15-市内品投入係数表!AJ15","v":-1.410215270745473E-3},{"$f":"単位行列!AK15-市内品投入係数表!AK15","v":-1.0769826931576734E-3},{"$f":"単位行列!AL15-市内品投入係数表!AL15","v":-2.6316727493656831E-3},{"$f":"単位行列!AM15-市内品投入係数表!AM15","v":0},{"$f":"単位行列!AN15-市内品投入係数表!AN15","v":-5.3071237431485431E-2}]
[null,"22","プラスチック・ゴム製品",{"$f":"単位行列!D16-市内品投入係数表!D16","v":-1.7634205103299913E-4},{"$f":"単位行列!E16-市内品投入係数表!E16","v":0},{"$f":"単位行列!F16-市内品投入係数表!F16","v":-1.9162819253803039E-4},{"$f":"単位行列!G16-市内品投入係数表!G16","v":-3.3360283884929413E-4},{"$f":"単位行列!H16-市内品投入係数表!H16","v":-4.3601506860173556E-4},{"$f":"単位行列!I16-市内品投入係数表!I16","v":-2.0216173848901749E-4},{"$f":"単位行列!J16-市内品投入係数表!J16","v":-8.7644902200284184E-7},{"$f":"単位行列!K16-市内品投入係数表!K16","v":0.99459373900111547},{"$f":"単位行列!L16-市内品投入係数表!L16","v":-7.9175695502488907E-5},{"$f":"単位行列!M16-市内品投入係数表!M16","v":-1.356245714969063E-5},{"$f":"単位行列!N16-市内品投入係数表!N16","v":-1.9808923799283314E-5},{"$f":"単位行列!O16-市内品投入係数表!O16","v":-5.7450240821716641E-5},{"$f":"単位行列!P16-市内品投入係数表!P16","v":-3.5266048578643205E-4},{"$f":"単位行列!Q16-市内品投入係数表!Q16","v":-7.4106449999908688E-4},{"$f":"単位行列!R16-市内品投入係数表!R16","v":-1.4287074585775572E-3},{"$f":"単位行列!S16-市内品投入係数表!S16","v":-5.6176819509479712E-4},{"$f":"単位行列!T16-市内品投入係数表!T16","v":-7.7902014834560203E-4},{"$f":"単位行列!U16-市内品投入係数表!U16","v":-4.2111653132292817E-4},{"$f":"単位行列!V16-市内品投入係数表!V16","v":-7.3870669733271436E-4},{"$f":"単位行列!W16-市内品投入係数表!W16","v":-8.9159949971384287E-4},{"$f":"単位行列!X16-市内品投入係数表!X16","v":-2.9508771341528662E-4},{"$f":"単位行列!Y16-市内品投入係数表!Y16","v":0},{"$f":"単位行列!Z16-市内品投入係数表!Z16","v":-7.8281940210788456E-4},{"$f":"単位行列!AA16-市内品投入係数表!AA16","v":-2.8857396413319101E-4},{"$f":"単位行列!AB16-市内品投入係数表!AB16","v":-1.2569595323418971E-4},{"$f":"単位行列!AC16-市内品投入係数表!AC16","v":-5.891326585370479E-5},{"$f":"単位行列!AD16-市内品投入係数表!AD16","v":-1.2357694663337895E-5},{"$f":"単位行列!AE16-市内品投入係数表!AE16","v":-5.9240315828417789E-5},{"$f":"単位行列!AF16-市内品投入係数表!AF16","v":-9.5984066246625272E-5},{"$f":"単位行列!AG16-市内品投入係数表!AG16","v":-4.2498699050957561E-5},{"$f":"単位行列!AH16-市内品投入係数表!AH16","v":-5.3474286299761713E-5},{"$f":"単位行列!AI16-市内品投入係数表!AI16","v":-4.29353282347832E-5},{"$f":"単位行列!AJ16-市内品投入係数表!AJ16","v":-1.3450213627546129E-4},{"$f":"単位行列!AK16-市内品投入係数表!AK16","v":-1.7756746089684183E-4},{"$f":"単位行列!AL16-市内品投入係数表!AL16","v":-6.3816114682369788E-5},{"$f":"単位行列!AM16-市内品投入係数表!AM16","v":-1.0466373615159786E-3},{"$f":"単位行列!AN16-市内品投入係数表!AN16","v":-9.2493467094303283E-5}]
[null,"25","窯業・土石製品",{"$f":"単位行列!D17-市内品投入係数表!D17","v":-1.0749224159830825E-4},{"$f":"単位行列!E17-市内品投入係数表!E17","v":0},{"$f":"単位行列!F17-市内品投入係数表!F17","v":-3.2377746861192342E-5},{"$f":"単位行列!G17-市内品投入係数表!G17","v":-4.7025423014250843E-5},{"$f":"単位行列!H17-市内品投入係数表!H17","v":-2.5445138142396315E-4},{"$f":"単位行列!I17-市内品投入係数表!I17","v":-3.6319168867828395E-4},{"$f":"単位行列!J17-市内品投入係数表!J17","v":-4.8430137380401186E-5},{"$f":"単位行列!K17-市内品投入係数表!K17","v":-2.4200986391680607E-4},{"$f":"単位行列!L17-市内品投入係数表!L17","v":0.99438464447603114},{"$f":"単位行列!M17-市内品投入係数表!M17","v":-1.9611781824932801E-4},{"$f":"単位行列!N17-市内品投入係数表!N17","v":-7.148317269387181E-5},{"$f":"単位行列!O17-市内品投入係数表!O17","v":-2.2853275429662198E-4},{"$f":"単位行列!P17-市内品投入係数表!P17","v":-5.3283362464578976E-4},{"$f":"単位行列!Q17-市内品投入係数表!Q17","v":-1.632018794820612E-4},{"$f":"単位行列!R17-市内品投入係数表!R17","v":-5.1752126247299793E-4},{"$f":"単位行列!S17-市内品投入係数表!S17","v":-2.232532994012586E-3},{"$f":"単位行列!T17-市内品投入係数表!T17","v":-3.864368475233765E-4},{"$f":"単位行列!U17-市内品投入係数表!U17","v":-7.2687617476318697E-5},{"$f":"単位行列!V17-市内品投入係数表!V17","v":0},{"$f":"単位行列!W17-市内品投入係数表!W17","v":-2.2926773653525825E-4},{"$f":"単位行列!X17-市内品投入係数表!X17","v":-4.1251036469491676E-3},{"$f":"単位行列!Y17-市内品投入係数表!Y17","v":-2.95843432662266E-6},{"$f":"単位行列!Z17-市内品投入係数表!Z17","v":-3.1695142814166778E-4},{"$f":"単位行列!AA17-市内品投入係数表!AA17","v":-3.2092025074407893E-5},{"$f":"単位行列!AB17-市内品投入係数表!AB17","v":-1.5875677891698111E-5},{"$f":"単位行列!AC17-市内品投入係数表!AC17","v":-4.1740143471427883E-7},{"$f":"単位行列!AD17-市内品投入係数表!AD17","v":-5.1071365220289286E-6},{"$f":"単位行列!AE17-市内品投入係数表!AE17","v":-8.5374068696660358E-7},{"$f":"単位行列!AF17-市内品投入係数表!AF17","v":0},{"$f":"単位行列!AG17-市内品投入係数表!AG17","v":-1.2932335652527891E-5},{"$f":"単位行列!AH17-市内品投入係数表!AH17","v":-1.4008943629173278E-4},{"$f":"単位行列!AI17-市内品投入係数表!AI17","v":-6.3558614017227014E-5},{"$f":"単位行列!AJ17-市内品投入係数表!AJ17","v":-1.8847542555020579E-5},{"$f":"単位行列!AK17-市内品投入係数表!AK17","v":-4.0877914906485819E-5},{"$f":"単位行列!AL17-市内品投入係数表!AL17","v":-9.8116842729838801E-5},{"$f":"単位行列!AM17-市内品投入係数表!AM17","v":-3.7233930691139285E-4},{"$f":"単位行列!AN17-市内品投入係数表!AN17","v":-1.5279728560284252E-4}]
[null,"26","鉄鋼",{"$f":"単位行列!D18-市内品投入係数表!D18","v":0},{"$f":"単位行列!E18-市内品投入係数表!E18","v":0},{"$f":"単位行列!F18-市内品投入係数表!F18","v":0},{"$f":"単位行列!G18-市内品投入係数表!G18","v":0},{"$f":"単位行列!H18-市内品投入係数表!H18","v":-1.4415725629550215E-2},{"$f":"単位行列!I18-市内品投入係数表!I18","v":0},{"$f":"単位行列!J18-市内品投入係数表!J18","v":0},{"$f":"単位行列!K18-市内品投入係数表!K18","v":-1.2251766963863075E-3},{"$f":"単位行列!L18-市内品投入係数表!L18","v":-7.1886335638994331E-3},{"$f":"単位行列!M18-市内品投入係数表!M18","v":0.63333281331960012},{"$f":"単位行列!N18-市内品投入係数表!N18","v":0},{"$f":"単位行列!O18-市内品投入係数表!O18","v":-0.17937641518259315},{"$f":"単位行列!P18-市内品投入係数表!P18","v":-6.9553018393248567E-2},{"$f":"単位行列!Q18-市内品投入係数表!Q18","v":-6.3825204371675215E-2},{"$f":"単位行列!R18-市内品投入係数表!R18","v":-9.9725938653158642E-3},{"$f":"単位行列!S18-市内品投入係数表!S18","v":-2.4192031081668483E-3},{"$f":"単位行列!T18-市内品投入係数表!T18","v":-2.3203885872415352E-2},{"$f":"単位行列!U18-市内品投入係数表!U18","v":-4.2237887102616438E-3},{"$f":"単位行列!V18-市内品投入係数表!V18","v":-4.7391313519442847E-2},{"$f":"単位行列!W18-市内品投入係数表!W18","v":-1.10581752410725E-3},{"$f":"単位行列!X18-市内品投入係数表!X18","v":-1.6146137922821484E-2},{"$f":"単位行列!Y18-市内品投入係数表!Y18","v":0},{"$f":"単位行列!Z18-市内品投入係数表!Z18","v":0},{"$f":"単位行列!AA18-市内品投入係数表!AA18","v":0},{"$f":"単位行列!AB18-市内品投入係数表!AB18","v":0},{"$f":"単位行列!AC18-市内品投入係数表!AC18","v":0},{"$f":"単位行列!AD18-市内品投入係数表!AD18","v":0},{"$f":"単位行列!AE18-市内品投入係数表!AE18","v":-1.0523297065517424E-4},{"$f":"単位行列!AF18-市内品投入係数表!AF18","v":0},{"$f":"単位行列!AG18-市内品投入係数表!AG18","v":-1.5627972826874315E-5},{"$f":"単位行列!AH18-市内品投入係数表!AH18","v":0},{"$f":"単位行列!AI18-市内品投入係数表!AI18","v":0},{"$f":"単位行列!AJ18-市内品投入係数表!AJ18","v":0},{"$f":"単位行列!AK18-市内品投入係数表!AK18","v":-7.0937579963465275E-5},{"$f":"単位行列!AL18-市内品投入係数表!AL18","v":-1.0284000620961106E-5},{"$f":"単位行列!AM18-市内品投入係数表!AM18","v":0},{"$f":"単位行列!AN18-市内品投入係数表!AN18","v":-1.2405598015516482E-3}]
[null,"27","非鉄金属",{"$f":"単位行列!D19-市内品投入係数表!D19","v":0},{"$f":"単位行列!E19-市内品投入係数表!E19","v":0},{"$f":"単位行列!F19-市内品投入係数表!F19","v":-8.2267116806861428E-6},{"$f":"単位行列!G19-市内品投入係数表!G19","v":0},{"$f":"単位行列!H19-市内品投入係数表!H19","v":-5.1682445774709122E-5},{"$f":"単位行列!I19-市内品投入係数表!I19","v":-8.1359663193861337E-5},{"$f":"単位行列!J19-市内品投入係数表!J19","v":0},{"$f":"単位行列!K19-市内品投入係数表!K19","v":-2.2013588115215366E-5},{"$f":"単位行列!L19-市内品投入係数表!L19","v":-1.1959546162822014E-4},{"$f":"単位行列!M19-市内品投入係数表!M19","v":-1.1692657742786247E-4},{"$f":"単位行列!N19-市内品投入係数表!N19","v":0.99335449142029064},{"$f":"単位行列!O19-市内品投入係数表!O19","v":-4.4208918212732153E-4},{"$f":"単位行列!P19-市内品投入係数表!P19","v":-3.5901750440319271E-4},{"$f":"単位行列!Q19-市内品投入係数表!Q19","v":-1.8149239009773843E-4},{"$f":"単位行列!R19-市内品投入係数表!R19","v":-7.3029664782976679E-4},{"$f":"単位行列!S19-市内品投入係数表!S19","v":-5.1684709269333518E-4},{"$f":"単位行列!T19-市内品投入係数表!T19","v":-7.1447434340775654E-4},{"$f":"単位行列!U19-市内品投入係数表!U19","v":-2.8014344382965581E-4},{"$f":"単位行列!V19-市内品投入係数表!V19","v":-2.2451687483955669E-4},{"$f":"単位行列!W19-市内品投入係数表!W19","v":-1.8510507291364653E-4},{"$f":"単位行列!X19-市内品投入係数表!X19","v":-8.7201830580549577E-5},{"$f":"単位行列!Y19-市内品投入係数表!Y19","v":-2.9356769488569368E-6},{"$f":"単位行列!Z19-市内品投入係数表!Z19","v":-1.7199336405161303E-6},{"$f":"単位行列!AA19-市内品投入係数表!AA19","v":0},{"$f":"単位行列!AB19-市内品投入係数表!AB19","v":-1.1113619943225477E-7},{"$f":"単位行列!AC19-市内品投入係数表!AC19","v":0},{"$f":"単位行列!AD19-市内品投入係数表!AD19","v":0},{"$f":"単位行列!AE19-市内品投入係数表!AE19","v":-8.6286179211937037E-8},{"$f":"単位行列!AF19-市内品投入係数表!AF19","v":-3.9145428298825213E-7},{"$f":"単位行列!AG19-市内品投入係数表!AG19","v":-1.8452471693570155E-6},{"$f":"単位行列!AH19-市内品投入係数表!AH19","v":-3.2548530829663455E-7},{"$f":"単位行列!AI19-市内品投入係数表!AI19","v":-1.2071790889867142E-5},{"$f":"単位行列!AJ19-市内品投入係数表!AJ19","v":-1.4513450630211098E-6},{"$f":"単位行列!AK19-市内品投入係数表!AK19","v":-3.5766105610619417E-6},{"$f":"単位行列!AL19-市内品投入係数表!AL19","v":-3.3317372568621184E-6},{"$f":"単位行列!AM19-市内品投入係数表!AM19","v":-8.8545239181691705E-6},{"$f":"単位行列!AN19-市内品投入係数表!AN19","v":-1.6645120082186057E-5}]
[null,"28","金属製品",{"$f":"単位行列!D20-市内品投入係数表!D20","v":-2.0943695915118371E-4},{"$f":"単位行列!E20-市内品投入係数表!E20","v":0},{"$f":"単位行列!F20-市内品投入係数表!F20","v":-5.2283792693113131E-4},{"$f":"単位行列!G20-市内品投入係数表!G20","v":-1.3089132829441596E-4},{"$f":"単位行列!H20-市内品投入係数表!H20","v":-5.9328275489192485E-3},{"$f":"単位行列!I20-市内品投入係数表!I20","v":-2.9408397421538611E-3},{"$f":"単位行列!J20-市内品投入係数表!J20","v":-3.2737442333744926E-4},{"$f":"単位行列!K20-市内品投入係数表!K20","v":-1.0441020048915701E-3},{"$f":"単位行列!L20-市内品投入係数表!L20","v":-2.5510825595118085E-3},{"$f":"単位行列!M20-市内品投入係数表!M20","v":-2.5422239175170332E-5},{"$f":"単位行列!N20-市内品投入係数表!N20","v":-1.4922557031168897E-4},{"$f":"単位行列!O20-市内品投入係数表!O20","v":0.98959052117005952},{"$f":"単位行列!P20-市内品投入係数表!P20","v":-5.4487723110257444E-3},{"$f":"単位行列!Q20-市内品投入係数表!Q20","v":-7.1015787604844218E-3},{"$f":"単位行列!R20-市内品投入係数表!R20","v":-4.3214313316330471E-3},{"$f":"単位行列!S20-市内品投入係数表!S20","v":-3.4735050657125109E-3},{"$f":"単位行列!T20-市内品投入係数表!T20","v":-7.8950112746550231E-3},{"$f":"単位行列!U20-市内品投入係数表!U20","v":-2.3469108203476013E-3},{"$f":"単位行列!V20-市内品投入係数表!V20","v":-2.4970534817219258E-3},{"$f":"単位行列!W20-市内品投入係数表!W20","v":-1.6203398707249175E-3},{"$f":"単位行列!X20-市内品投入係数表!X20","v":-1.9578698341719776E-2},{"$f":"単位行列!Y20-市内品投入係数表!Y20","v":-1.3250146443745265E-4},{"$f":"単位行列!Z20-市内品投入係数表!Z20","v":-1.1841714994613702E-4},{"$f":"単位行列!AA20-市内品投入係数表!AA20","v":-2.3506701383374944E-5},{"$f":"単位行列!AB20-市内品投入係数表!AB20","v":-6.0831087826084614E-4},{"$f":"単位行列!AC20-市内品投入係数表!AC20","v":-2.3816940002993704E-5},{"$f":"単位行列!AD20-市内品投入係数表!AD20","v":-6.1819968926780672E-5},{"$f":"単位行列!AE20-市内品投入係数表!AE20","v":-2.7149407243767326E-4},{"$f":"単位行列!AF20-市内品投入係数表!AF20","v":-6.2951151614313661E-5},{"$f":"単位行列!AG20-市内品投入係数表!AG20","v":-8.9849023119020332E-4},{"$f":"単位行列!AH20-市内品投入係数表!AH20","v":-2.2857802465673123E-5},{"$f":"単位行列!AI20-市内品投入係数表!AI20","v":-6.2774545012498625E-5},{"$f":"単位行列!AJ20-市内品投入係数表!AJ20","v":-3.9720135943828282E-4},{"$f":"単位行列!AK20-市内品投入係数表!AK20","v":-2.2723071037453966E-4},{"$f":"単位行列!AL20-市内品投入係数表!AL20","v":-5.3644646398343272E-4},{"$f":"単位行列!AM20-市内品投入係数表!AM20","v":-6.0963252408089742E-5},{"$f":"単位行列!AN20-市内品投入係数表!AN20","v":-1.0365058112632782E-3}]
[null,"29","はん用機械",{"$f":"単位行列!D21-市内品投入係数表!D21","v":0},{"$f":"単位行列!E21-市内品投入係数表!E21","v":0},{"$f":"単位行列!F21-市内品投入係数表!F21","v":0},{"$f":"単位行列!G21-市内品投入係数表!G21","v":0},{"$f":"単位行列!H21-市内品投入係数表!H21","v":-4.4841190281967944E-5},{"$f":"単位行列!I21-市内品投入係数表!I21","v":0},{"$f":"単位行列!J21-市内品投入係数表!J21","v":0},{"$f":"単位行列!K21-市内品投入係数表!K21","v":-1.1146808766184823E-5},{"$f":"単位行列!L21-市内品投入係数表!L21","v":-2.9728670552846207E-5},{"$f":"単位行列!M21-市内品投入係数表!M21","v":-7.9498812222600585E-8},{"$f":"単位行列!N21-市内品投入係数表!N21","v":0},{"$f":"単位行列!O21-市内品投入係数表!O21","v":-3.30538031641431E-5},{"$f":"単位行列!P21-市内品投入係数表!P21","v":0.99505746423025287},{"$f":"単位行列!Q21-市内品投入係数表!Q21","v":-1.0397755001485866E-3},{"$f":"単位行列!R21-市内品投入係数表!R21","v":-1.5111552642073088E-4},{"$f":"単位行列!S21-市内品投入係数表!S21","v":-5.9060725871164296E-5},{"$f":"単位行列!T21-市内品投入係数表!T21","v":-9.3978808833364679E-5},{"$f":"単位行列!U21-市内品投入係数表!U21","v":-2.1426828373088709E-5},{"$f":"単位行列!V21-市内品投入係数表!V21","v":-3.0695341304210963E-4},{"$f":"単位行列!W21-市内品投入係数表!W21","v":-1.4692055786075922E-6},{"$f":"単位行列!X21-市内品投入係数表!X21","v":-2.0991882889527833E-4},{"$f":"単位行列!Y21-市内品投入係数表!Y21","v":0},{"$f":"単位行列!Z21-市内品投入係数表!Z21","v":-2.8609270173562523E-4},{"$f":"単位行列!AA21-市内品投入係数表!AA21","v":0},{"$f":"単位行列!AB21-市内品投入係数表!AB21","v":-7.5971206513179271E-8},{"$f":"単位行列!AC21-市内品投入係数表!AC21","v":0},{"$f":"単位行列!AD21-市内品投入係数表!AD21","v":0},{"$f":"単位行列!AE21-市内品投入係数表!AE21","v":-1.9661355986711761E-6},{"$f":"単位行列!AF21-市内品投入係数表!AF21","v":0},{"$f":"単位行列!AG21-市内品投入係数表!AG21","v":-8.5961124730201962E-6},{"$f":"単位行列!AH21-市内品投入係数表!AH21","v":0},{"$f":"単位行列!AI21-市内品投入係数表!AI21","v":0},{"$f":"単位行列!AJ21-市内品投入係数表!AJ21","v":0},{"$f":"単位行列!AK21-市内品投入係数表!AK21","v":-2.0030902610483538E-4},{"$f":"単位行列!AL21-市内品投入係数表!AL21","v":-1.4346649687672449E-7},{"$f":"単位行列!AM21-市内品投入係数表!AM21","v":0},{"$f":"単位行列!AN21-市内品投入係数表!AN21","v":0}]
[null,"30","生産用機械",{"$f":"単位行列!D22-市内品投入係数表!D22","v":0},{"$f":"単位行列!E22-市内品投入係数表!E22","v":0},{"$f":"単位行列!F22-市内品投入係数表!F22","v":0},{"$f":"単位行列!G22-市内品投入係数表!G22","v":0},{"$f":"単位行列!H22-市内品投入係数表!H22","v":-3.5598239989180472E-5},{"$f":"単位行列!I22-市内品投入係数表!I22","v":0},{"$f":"単位行列!J22-市内品投入係数表!J22","v":0},{"$f":"単位行列!K22-市内品投入係数表!K22","v":-7.2032145368277007E-4},{"$f":"単位行列!L22-市内品投入係数表!L22","v":-3.3229938498080032E-4},{"$f":"単位行列!M22-市内品投入係数表!M22","v":-2.5455178687696375E-6},{"$f":"単位行列!N22-市内品投入係数表!N22","v":-1.4375911376858808E-5},{"$f":"単位行列!O22-市内品投入係数表!O22","v":-1.9930317790176354E-4},{"$f":"単位行列!P22-市内品投入係数表!P22","v":-1.6399779833873875E-3},{"$f":"単位行列!Q22-市内品投入係数表!Q22","v":0.95135935283430784},{"$f":"単位行列!R22-市内品投入係数表!R22","v":-6.2839666747818156E-5},{"$f":"単位行列!S22-市内品投入係数表!S22","v":-8.8415023328990117E-4},{"$f":"単位行列!T22-市内品投入係数表!T22","v":-6.4659661063466137E-4},{"$f":"単位行列!U22-市内品投入係数表!U22","v":-1.8711214203268243E-4},{"$f":"単位行列!V22-市内品投入係数表!V22","v":0},{"$f":"単位行列!W22-市内品投入係数表!W22","v":0},{"$f":"単位行列!X22-市内品投入係数表!X22","v":-1.1728780032482166E-5},{"$f":"単位行列!Y22-市内品投入係数表!Y22","v":-2.596223353080968E-6},{"$f":"単位行列!Z22-市内品投入係数表!Z22","v":-5.4758050901977986E-5},{"$f":"単位行列!AA22-市内品投入係数表!AA22","v":0},{"$f":"単位行列!AB22-市内品投入係数表!AB22","v":-6.6342694009449973E-7},{"$f":"単位行列!AC22-市内品投入係数表!AC22","v":0},{"$f":"単位行列!AD22-市内品投入係数表!AD22","v":0},{"$f":"単位行列!AE22-市内品投入係数表!AE22","v":-8.9281379042166748E-6},{"$f":"単位行列!AF22-市内品投入係数表!AF22","v":0},{"$f":"単位行列!AG22-市内品投入係数表!AG22","v":-3.2637608815619702E-6},{"$f":"単位行列!AH22-市内品投入係数表!AH22","v":0},{"$f":"単位行列!AI22-市内品投入係数表!AI22","v":0},{"$f":"単位行列!AJ22-市内品投入係数表!AJ22","v":0},{"$f":"単位行列!AK22-市内品投入係数表!AK22","v":-2.577317280971313E-3},{"$f":"単位行列!AL22-市内品投入係数表!AL22","v":-6.2641850378202787E-7},{"$f":"単位行列!AM22-市内品投入係数表!AM22","v":0},{"$f":"単位行列!AN22-市内品投入係数表!AN22","v":-3.827313787761646E-5}]
[null,"31","業務用機械",{"$f":"単位行列!D23-市内品投入係数表!D23","v":-4.9448379831624376E-5},{"$f":"単位行列!E23-市内品投入係数表!E23","v":0},{"$f":"単位行列!F23-市内品投入係数表!F23","v":0},{"$f":"単位行列!G23-市内品投入係数表!G23","v":0},{"$f":"単位行列!H23-市内品投入係数表!H23","v":0},{"$f":"単位行列!I23-市内品投入係数表!I23","v":0},{"$f":"単位行列!J23-市内品投入係数表!J23","v":0},{"$f":"単位行列!K23-市内品投入係数表!K23","v":0},{"$f":"単位行列!L23-市内品投入係数表!L23","v":0},{"$f":"単位行列!M23-市内品投入係数表!M23","v":0},{"$f":"単位行列!N23-市内品投入係数表!N23","v":0},{"$f":"単位行列!O23-市内品投入係数表!O23","v":0},{"$f":"単位行列!P23-市内品投入係数表!P23","v":-7.3497189483336849E-5},{"$f":"単位行列!Q23-市内品投入係数表!Q23","v":-1.5384996281870542E-4},{"$f":"単位行列!R23-市内品投入係数表!R23","v":0.99837673075767597},{"$f":"単位行列!S23-市内品投入係数表!S23","v":0},{"$f":"単位行列!T23-市内品投入係数表!T23","v":-2.4519717995160041E-5},{"$f":"単位行列!U23-市内品投入係数表!U23","v":-9.2241715234031164E-6},{"$f":"単位行列!V23-市内品投入係数表!V23","v":0},{"$f":"単位行列!W23-市内品投入係数表!W23","v":-2.5299505879718919E-6},{"$f":"単位行列!X23-市内品投入係数表!X23","v":-5.6459549376492145E-6},{"$f":"単位行列!Y23-市内品投入係数表!Y23","v":0},{"$f":"単位行列!Z23-市内品投入係数表!Z23","v":-1.3497190730649094E-6},{"$f":"単位行列!AA23-市内品投入係数表!AA23","v":-5.3585892273904471E-7},{"$f":"単位行列!AB23-市内品投入係数表!AB23","v":-2.5281218175151655E-5},{"$f":"単位行列!AC23-市内品投入係数表!AC23","v":-2.64844450925457E-7},{"$f":"単位行列!AD23-市内品投入係数表!AD23","v":0},{"$f":"単位行列!AE23-市内品投入係数表!AE23","v":-6.7713136763404149E-8},{"$f":"単位行列!AF23-市内品投入係数表!AF23","v":-1.3165457571880679E-6},{"$f":"単位行列!AG23-市内品投入係数表!AG23","v":-7.2563842864439962E-5},{"$f":"単位行列!AH23-市内品投入係数表!AH23","v":0},{"$f":"単位行列!AI23-市内品投入係数表!AI23","v":-2.459734265195879E-4},{"$f":"単位行列!AJ23-市内品投入係数表!AJ23","v":0},{"$f":"単位行列!AK23-市内品投入係数表!AK23","v":-9.1607728419352795E-5},{"$f":"単位行列!AL23-市内品投入係数表!AL23","v":-2.0072586311108063E-5},{"$f":"単位行列!AM23-市内品投入係数表!AM23","v":-5.8831425460610599E-4},{"$f":"単位行列!AN23-市内品投入係数表!AN23","v":-2.9027264669015491E-7}]
[null,"32","電子部品",{"$f":"単位行列!D24-市内品投入係数表!D24","v":0},{"$f":"単位行列!E24-市内品投入係数表!E24","v":0},{"$f":"単位行列!F24-市内品投入係数表!F24","v":0},{"$f":"単位行列!G24-市内品投入係数表!G24","v":0},{"$f":"単位行列!H24-市内品投入係数表!H24","v":0},{"$f":"単位行列!I24-市内品投入係数表!I24","v":0},{"$f":"単位行列!J24-市内品投入係数表!J24","v":0},{"$f":"単位行列!K24-市内品投入係数表!K24","v":0},{"$f":"単位行列!L24-市内品投入係数表!L24","v":0},{"$f":"単位行列!M24-市内品投入係数表!M24","v":0},{"$f":"単位行列!N24-市内品投入係数表!N24","v":0},{"$f":"単位行列!O24-市内品投入係数表!O24","v":-1.2790078298520914E-5},{"$f":"単位行列!P24-市内品投入係数表!P24","v":-3.3642174354689336E-3},{"$f":"単位行列!Q24-市内品投入係数表!Q24","v":-6.1198410305978574E-4},{"$f":"単位行列!R24-市内品投入係数表!R24","v":-2.4354311737380563E-2},{"$f":"単位行列!S24-市内品投入係数表!S24","v":0.94090114491640064},{"$f":"単位行列!T24-市内品投入係数表!T24","v":-3.1842377849303487E-2},{"$f":"単位行列!U24-市内品投入係数表!U24","v":-9.0538291721555239E-2},{"$f":"単位行列!V24-市内品投入係数表!V24","v":-3.2617381791134681E-3},{"$f":"単位行列!W24-市内品投入係数表!W24","v":-1.4923257853554386E-4},{"$f":"単位行列!X24-市内品投入係数表!X24","v":-8.5385188741709649E-5},{"$f":"単位行列!Y24-市内品投入係数表!Y24","v":0},{"$f":"単位行列!Z24-市内品投入係数表!Z24","v":0},{"$f":"単位行列!AA24-市内品投入係数表!AA24","v":0},{"$f":"単位行列!AB24-市内品投入係数表!AB24","v":-5.5560045710398254E-6},{"$f":"単位行列!AC24-市内品投入係数表!AC24","v":-9.9982146396924923E-6},{"$f":"単位行列!AD24-市内品投入係数表!AD24","v":0},{"$f":"単位行列!AE24-市内品投入係数表!AE24","v":0},{"$f":"単位行列!AF24-市内品投入係数表!AF24","v":-2.037752302195503E-4},{"$f":"単位行列!AG24-市内品投入係数表!AG24","v":-4.7225406834487248E-4},{"$f":"単位行列!AH24-市内品投入係数表!AH24","v":-1.612726746287798E-4},{"$f":"単位行列!AI24-市内品投入係数表!AI24","v":-1.8888953383445504E-6},{"$f":"単位行列!AJ24-市内品投入係数表!AJ24","v":0},{"$f":"単位行列!AK24-市内品投入係数表!AK24","v":-2.4323103088404667E-3},{"$f":"単位行列!AL24-市内品投入係数表!AL24","v":-1.7486899511502716E-6},{"$f":"単位行列!AM24-市内品投入係数表!AM24","v":-8.0444259803193752E-3},{"$f":"単位行列!AN24-市内品投入係数表!AN24","v":0}]
[null,"33","電気機械",{"$f":"単位行列!D25-市内品投入係数表!D25","v":0},{"$f":"単位行列!E25-市内品投入係数表!E25","v":0},{"$f":"単位行列!F25-市内品投入係数表!F25","v":0},{"$f":"単位行列!G25-市内品投入係数表!G25","v":0},{"$f":"単位行列!H25-市内品投入係数表!H25","v":-4.4626219697330789E-6},{"$f":"単位行列!I25-市内品投入係数表!I25","v":0},{"$f":"単位行列!J25-市内品投入係数表!J25","v":0},{"$f":"単位行列!K25-市内品投入係数表!K25","v":0},{"$f":"単位行列!L25-市内品投入係数表!L25","v":-3.9053718045334416E-6},{"$f":"単位行列!M25-市内品投入係数表!M25","v":0},{"$f":"単位行列!N25-市内品投入係数表!N25","v":0},{"$f":"単位行列!O25-市内品投入係数表!O25","v":-1.1630852999810043E-5},{"$f":"単位行列!P25-市内品投入係数表!P25","v":-6.7283628758467039E-4},{"$f":"単位行列!Q25-市内品投入係数表!Q25","v":-8.9014520422545605E-4},{"$f":"単位行列!R25-市内品投入係数表!R25","v":-4.7265765524040075E-4},{"$f":"単位行列!S25-市内品投入係数表!S25","v":-8.7977451381122636E-4},{"$f":"単位行列!T25-市内品投入係数表!T25","v":0.99636175028131735},{"$f":"単位行列!U25-市内品投入係数表!U25","v":-3.7823635219027776E-4},{"$f":"単位行列!V25-市内品投入係数表!V25","v":-1.0856355518802955E-3},{"$f":"単位行列!W25-市内品投入係数表!W25","v":-1.5681688996622479E-5},{"$f":"単位行列!X25-市内品投入係数表!X25","v":-3.923182745823245E-4},{"$f":"単位行列!Y25-市内品投入係数表!Y25","v":0},{"$f":"単位行列!Z25-市内品投入係数表!Z25","v":-7.7225739581605705E-6},{"$f":"単位行列!AA25-市内品投入係数表!AA25","v":0},{"$f":"単位行列!AB25-市内品投入係数表!AB25","v":-9.9801236434554317E-6},{"$f":"単位行列!AC25-市内品投入係数表!AC25","v":0},{"$f":"単位行列!AD25-市内品投入係数表!AD25","v":-5.0305032401047738E-7},{"$f":"単位行列!AE25-市内品投入係数表!AE25","v":-5.5531425840837764E-6},{"$f":"単位行列!AF25-市内品投入係数表!AF25","v":-3.8919306449835685E-6},{"$f":"単位行列!AG25-市内品投入係数表!AG25","v":-8.0704345029063647E-5},{"$f":"単位行列!AH25-市内品投入係数表!AH25","v":-2.2944649497244679E-5},{"$f":"単位行列!AI25-市内品投入係数表!AI25","v":-2.9582539097270796E-6},{"$f":"単位行列!AJ25-市内品投入係数表!AJ25","v":0},{"$f":"単位行列!AK25-市内品投入係数表!AK25","v":-2.6827351810801198E-4},{"$f":"単位行列!AL25-市内品投入係数表!AL25","v":-7.3031311368466957E-6},{"$f":"単位行列!AM25-市内品投入係数表!AM25","v":0},{"$f":"単位行列!AN25-市内品投入係数表!AN25","v":-3.2109352125232944E-5}]
[null,"34","情報通信機器",{"$f":"単位行列!D26-市内品投入係数表!D26","v":0},{"$f":"単位行列!E26-市内品投入係数表!E26","v":0},{"$f":"単位行列!F26-市内品投入係数表!F26","v":-1.6336456462415924E-8},{"$f":"単位行列!G26-市内品投入係数表!G26","v":0},{"$f":"単位行列!H26-市内品投入係数表!H26","v":0},{"$f":"単位行列!I26-市内品投入係数表!I26","v":0},{"$f":"単位行列!J26-市内品投入係数表!J26","v":0},{"$f":"単位行列!K26-市内品投入係数表!K26","v":0},{"$f":"単位行列!L26-市内品投入係数表!L26","v":0},{"$f":"単位行列!M26-市内品投入係数表!M26","v":0},{"$f":"単位行列!N26-市内品投入係数表!N26","v":0},{"$f":"単位行列!O26-市内品投入係数表!O26","v":-7.0585779075088994E-8},{"$f":"単位行列!P26-市内品投入係数表!P26","v":-6.5078157612516752E-6},{"$f":"単位行列!Q26-市内品投入係数表!Q26","v":-1.5923923665863588E-6},{"$f":"単位行列!R26-市内品投入係数表!R26","v":0},{"$f":"単位行列!S26-市内品投入係数表!S26","v":0},{"$f":"単位行列!T26-市内品投入係数表!T26","v":0},{"$f":"単位行列!U26-市内品投入係数表!U26","v":0.99993225736606395},{"$f":"単位行列!V26-市内品投入係数表!V26","v":-2.1177475147997298E-6},{"$f":"単位行列!W26-市内品投入係数表!W26","v":0},{"$f":"単位行列!X26-市内品投入係数表!X26","v":-4.4500465148158009E-6},{"$f":"単位行列!Y26-市内品投入係数表!Y26","v":-8.8883630269961922E-9},{"$f":"単位行列!Z26-市内品投入係数表!Z26","v":0},{"$f":"単位行列!AA26-市内品投入係数表!AA26","v":-5.5820800251370424E-8},{"$f":"単位行列!AB26-市内品投入係数表!AB26","v":-7.8359549461171382E-7},{"$f":"単位行列!AC26-市内品投入係数表!AC26","v":-3.4486290526866237E-7},{"$f":"単位行列!AD26-市内品投入係数表!AD26","v":-1.7663390158557889E-7},{"$f":"単位行列!AE26-市内品投入係数表!AE26","v":-2.6098782512886029E-7},{"$f":"単位行列!AF26-市内品投入係数表!AF26","v":-4.8686651072522104E-7},{"$f":"単位行列!AG26-市内品投入係数表!AG26","v":-3.9135979586851257E-6},{"$f":"単位行列!AH26-市内品投入係数表!AH26","v":-1.7561136206541142E-7},{"$f":"単位行列!AI26-市内品投入係数表!AI26","v":-8.3395360645304278E-8},{"$f":"単位行列!AJ26-市内品投入係数表!AJ26","v":0},{"$f":"単位行列!AK26-市内品投入係数表!AK26","v":-3.2618739768976467E-6},{"$f":"単位行列!AL26-市内品投入係数表!AL26","v":-3.731586886618582E-7},{"$f":"単位行列!AM26-市内品投入係数表!AM26","v":0},{"$f":"単位行列!AN26-市内品投入係数表!AN26","v":-6.0475810858965568E-8}]
[null,"35","輸送機械",{"$f":"単位行列!D27-市内品投入係数表!D27","v":-5.6631644116947754E-7},{"$f":"単位行列!E27-市内品投入係数表!E27","v":0},{"$f":"単位行列!F27-市内品投入係数表!F27","v":0},{"$f":"単位行列!G27-市内品投入係数表!G27","v":0},{"$f":"単位行列!H27-市内品投入係数表!H27","v":0},{"$f":"単位行列!I27-市内品投入係数表!I27","v":0},{"$f":"単位行列!J27-市内品投入係数表!J27","v":0},{"$f":"単位行列!K27-市内品投入係数表!K27","v":0},{"$f":"単位行列!L27-市内品投入係数表!L27","v":0},{"$f":"単位行列!M27-市内品投入係数表!M27","v":0},{"$f":"単位行列!N27-市内品投入係数表!N27","v":0},{"$f":"単位行列!O27-市内品投入係数表!O27","v":0},{"$f":"単位行列!P27-市内品投入係数表!P27","v":0},{"$f":"単位行列!Q27-市内品投入係数表!Q27","v":-1.3429559121411401E-5},{"$f":"単位行列!R27-市内品投入係数表!R27","v":0},{"$f":"単位行列!S27-市内品投入係数表!S27","v":0},{"$f":"単位行列!T27-市内品投入係数表!T27","v":0},{"$f":"単位行列!U27-市内品投入係数表!U27","v":0},{"$f":"単位行列!V27-市内品投入係数表!V27","v":0.99727218410469876},{"$f":"単位行列!W27-市内品投入係数表!W27","v":0},{"$f":"単位行列!X27-市内品投入係数表!X27","v":0},{"$f":"単位行列!Y27-市内品投入係数表!Y27","v":0},{"$f":"単位行列!Z27-市内品投入係数表!Z27","v":0},{"$f":"単位行列!AA27-市内品投入係数表!AA27","v":0},{"$f":"単位行列!AB27-市内品投入係数表!AB27","v":0},{"$f":"単位行列!AC27-市内品投入係数表!AC27","v":0},{"$f":"単位行列!AD27-市内品投入係数表!AD27","v":0},{"$f":"単位行列!AE27-市内品投入係数表!AE27","v":-1.1566302819001309E-4},{"$f":"単位行列!AF27-市内品投入係数表!AF27","v":0},{"$f":"単位行列!AG27-市内品投入係数表!AG27","v":-4.1040255308078146E-5},{"$f":"単位行列!AH27-市内品投入係数表!AH27","v":-8.1440310111404718E-7},{"$f":"単位行列!AI27-市内品投入係数表!AI27","v":0},{"$f":"単位行列!AJ27-市内品投入係数表!AJ27","v":0},{"$f":"単位行列!AK27-市内品投入係数表!AK27","v":-1.6742120534193216E-4},{"$f":"単位行列!AL27-市内品投入係数表!AL27","v":-1.6410244868985334E-7},{"$f":"単位行列!AM27-市内品投入係数表!AM27","v":0},{"$f":"単位行列!AN27-市内品投入係数表!AN27","v":-1.6235037699852576E-4}]
[null,"39","その他の製造工業製品",{"$f":"単位行列!D28-市内品投入係数表!D28","v":-1.5095866567812081E-4},{"$f":"単位行列!E28-市内品投入係数表!E28","v":0},{"$f":"単位行列!F28-市内品投入係数表!F28","v":-2.1500447045883072E-3},{"$f":"単位行列!G28-市内品投入係数表!G28","v":-5.471968558930982E-3},{"$f":"単位行列!H28-市内品投入係数表!H28","v":-2.5746479608562156E-3},{"$f":"単位行列!I28-市内品投入係数表!I28","v":-1.1166320076537732E-3},{"$f":"単位行列!J28-市内品投入係数表!J28","v":-6.0558002637363618E-3},{"$f":"単位行列!K28-市内品投入係数表!K28","v":-5.8263584839144008E-4},{"$f":"単位行列!L28-市内品投入係数表!L28","v":-1.3985070164195526E-3},{"$f":"単位行列!M28-市内品投入係数表!M28","v":-2.166840299489067E-3},{"$f":"単位行列!N28-市内品投入係数表!N28","v":-8.5151113478557326E-3},{"$f":"単位行列!O28-市内品投入係数表!O28","v":-3.3422749016197143E-4},{"$f":"単位行列!P28-市内品投入係数表!P28","v":-2.3238959576561355E-4},{"$f":"単位行列!Q28-市内品投入係数表!Q28","v":-5.7688663039411016E-4},{"$f":"単位行列!R28-市内品投入係数表!R28","v":-1.2929423246517372E-3},{"$f":"単位行列!S28-市内品投入係数表!S28","v":-1.332214502225777E-3},{"$f":"単位行列!T28-市内品投入係数表!T28","v":-7.4427366508960095E-4},{"$f":"単位行列!U28-市内品投入係数表!U28","v":-1.7499456836365102E-3},{"$f":"単位行列!V28-市内品投入係数表!V28","v":0},{"$f":"単位行列!W28-市内品投入係数表!W28","v":0.98791289062816534},{"$f":"単位行列!X28-市内品投入係数表!X28","v":-9.1539151581583622E-4},{"$f":"単位行列!Y28-市内品投入係数表!Y28","v":-2.3687359803400087E-3},{"$f":"単位行列!Z28-市内品投入係数表!Z28","v":-1.0242372705404378E-3},{"$f":"単位行列!AA28-市内品投入係数表!AA28","v":-1.0911445365580407E-3},{"$f":"単位行列!AB28-市内品投入係数表!AB28","v":-1.9780351927967147E-3},{"$f":"単位行列!AC28-市内品投入係数表!AC28","v":-5.2865533060563463E-3},{"$f":"単位行列!AD28-市内品投入係数表!AD28","v":-2.2875106975640657E-5},{"$f":"単位行列!AE28-市内品投入係数表!AE28","v":-8.0587650788897845E-4},{"$f":"単位行列!AF28-市内品投入係数表!AF28","v":-4.1411187348872639E-3},{"$f":"単位行列!AG28-市内品投入係数表!AG28","v":-2.7542790084976862E-3},{"$f":"単位行列!AH28-市内品投入係数表!AH28","v":-4.0849604644399833E-3},{"$f":"単位行列!AI28-市内品投入係数表!AI28","v":-1.5548461159832366E-3},{"$f":"単位行列!AJ28-市内品投入係数表!AJ28","v":-1.2996763146444263E-2},{"$f":"単位行列!AK28-市内品投入係数表!AK28","v":-2.5268868398176879E-3},{"$f":"単位行列!AL28-市内品投入係数表!AL28","v":-1.9684593629153611E-3},{"$f":"単位行列!AM28-市内品投入係数表!AM28","v":-4.4234237125083418E-2},{"$f":"単位行列!AN28-市内品投入係数表!AN28","v":-5.6169878361617164E-4}]
[null,"41","建設",{"$f":"単位行列!D29-市内品投入係数表!D29","v":-1.4484756518140433E-3},{"$f":"単位行列!E29-市内品投入係数表!E29","v":0},{"$f":"単位行列!F29-市内品投入係数表!F29","v":-4.916452034459571E-4},{"$f":"単位行列!G29-市内品投入係数表!G29","v":-1.2070006035003018E-3},{"$f":"単位行列!H29-市内品投入係数表!H29","v":-1.7037387600567914E-3},{"$f":"単位行列!I29-市内品投入係数表!I29","v":-2.9661016949152543E-3},{"$f":"単位行列!J29-市内品投入係数表!J29","v":-1.4460031964281185E-3},{"$f":"単位行列!K29-市内品投入係数表!K29","v":-3.1058311980743845E-3},{"$f":"単位行列!L29-市内品投入係数表!L29","v":-6.0053841375025882E-3},{"$f":"単位行列!M29-市内品投入係数表!M29","v":-2.9598905754204484E-3},{"$f":"単位行列!N29-市内品投入係数表!N29","v":-2.4081188005274927E-3},{"$f":"単位行列!O29-市内品投入係数表!O29","v":-3.2617931639393688E-3},{"$f":"単位行列!P29-市内品投入係数表!P29","v":-1.1892374015162776E-3},{"$f":"単位行列!Q29-市内品投入係数表!Q29","v":-1.6955069066972523E-3},{"$f":"単位行列!R29-市内品投入係数表!R29","v":-1.5037593984962407E-3},{"$f":"単位行列!S29-市内品投入係数表!S29","v":-2.3508668821627977E-3},{"$f":"単位行列!T29-市内品投入係数表!T29","v":-9.918666931164452E-4},{"$f":"単位行列!U29-市内品投入係数表!U29","v":-1.1194029850746269E-3},{"$f":"単位行列!V29-市内品投入係数表!V29","v":0},{"$f":"単位行列!W29-市内品投入係数表!W29","v":-9.4665472687731865E-4},{"$f":"単位行列!X29-市内品投入係数表!X29","v":0.99942214823273667},{"$f":"単位行列!Y29-市内品投入係数表!Y29","v":-1.584951246872034E-2},{"$f":"単位行列!Z29-市内品投入係数表!Z29","v":-2.5333733722803089E-2},{"$f":"単位行列!AA29-市内品投入係数表!AA29","v":-2.8612923503782543E-3},{"$f":"単位行列!AB29-市内品投入係数表!AB29","v":-2.9555581427346718E-3},{"$f":"単位行列!AC29-市内品投入係数表!AC29","v":-3.0426153636005709E-3},{"$f":"単位行列!AD29-市内品投入係数表!AD29","v":-8.5875768217734856E-3},{"$f":"単位行列!AE29-市内品投入係数表!AE29","v":-6.7902739392080112E-3},{"$f":"単位行列!AF29-市内品投入係数表!AF29","v":-2.3539436544708953E-3},{"$f":"単位行列!AG29-市内品投入係数表!AG29","v":-8.5424192131211552E-3},{"$f":"単位行列!AH29-市内品投入係数表!AH29","v":-4.9905458603267099E-3},{"$f":"単位行列!AI29-市内品投入係数表!AI29","v":-2.1393859537269235E-3},{"$f":"単位行列!AJ29-市内品投入係数表!AJ29","v":-1.1402902557014513E-3},{"$f":"単位行列!AK29-市内品投入係数表!AK29","v":-1.6239986862033101E-3},{"$f":"単位行列!AL29-市内品投入係数表!AL29","v":-2.0611602458402039E-3},{"$f":"単位行列!AM29-市内品投入係数表!AM29","v":0},{"$f":"単位行列!AN29-市内品投入係数表!AN29","v":-1.6086609365459584E-3}]
[null,"46","電力・ガス・熱供給",{"$f":"単位行列!D30-市内品投入係数表!D30","v":-8.1390536625741486E-3},{"$f":"単位行列!E30-市内品投入係数表!E30","v":0},{"$f":"単位行列!F30-市内品投入係数表!F30","v":-1.317609145235165E-2},{"$f":"単位行列!G30-市内品投入係数表!G30","v":-1.6898008449004225E-2},{"$f":"単位行列!H30-市内品投入係数表!H30","v":-1.9971604353999053E-2},{"$f":"単位行列!I30-市内品投入係数表!I30","v":-6.0593220338983053E-2},{"$f":"単位行列!J30-市内品投入係数表!J30","v":-1.0020548466475557E-2},{"$f":"単位行列!K30-市内品投入係数表!K30","v":-3.1990061340166159E-2},{"$f":"単位行列!L30-市内品投入係数表!L30","v":-4.4149927521225929E-2},{"$f":"単位行列!M30-市内品投入係数表!M30","v":-2.9239879426222398E-2},{"$f":"単位行列!N30-市内品投入係数表!N30","v":-2.9700131873172411E-2},{"$f":"単位行列!O30-市内品投入係数表!O30","v":-2.2640681961461503E-2},{"$f":"単位行列!P30-市内品投入係数表!P30","v":-1.040582726326743E-2},{"$f":"単位行列!Q30-市内品投入係数表!Q30","v":-8.4575873934074706E-3},{"$f":"単位行列!R30-市内品投入係数表!R30","v":-1.0025062656641603E-2},{"$f":"単位行列!S30-市内品投入係数表!S30","v":-2.9826623567440494E-2},{"$f":"単位行列!T30-市内品投入係数表!T30","v":-7.2406268597500498E-3},{"$f":"単位行列!U30-市内品投入係数表!U30","v":-2.2388059701492539E-3},{"$f":"単位行列!V30-市内品投入係数表!V30","v":-1.3157894736842105E-2},{"$f":"単位行列!W30-市内品投入係数表!W30","v":-1.9265702955097865E-2},{"$f":"単位行列!X30-市内品投入係数表!X30","v":-3.4038220766891844E-3},{"$f":"単位行列!Y30-市内品投入係数表!Y30","v":0.91746656312020014},{"$f":"単位行列!Z30-市内品投入係数表!Z30","v":-3.9092571865359943E-2},{"$f":"単位行列!AA30-市内品投入係数表!AA30","v":-7.3895042594238403E-2},{"$f":"単位行列!AB30-市内品投入係数表!AB30","v":-2.4315220727538289E-2},{"$f":"単位行列!AC30-市内品投入係数表!AC30","v":-6.1013008787694552E-3},{"$f":"単位行列!AD30-市内品投入係数表!AD30","v":-4.2861672031996876E-3},{"$f":"単位行列!AE30-市内品投入係数表!AE30","v":-1.4281762129500029E-2},{"$f":"単位行列!AF30-市内品投入係数表!AF30","v":-4.7744581136496779E-3},{"$f":"単位行列!AG30-市内品投入係数表!AG30","v":-1.2047251781704578E-2},{"$f":"単位行列!AH30-市内品投入係数表!AH30","v":-2.0985090356777533E-2},{"$f":"単位行列!AI30-市内品投入係数表!AI30","v":-1.4265271714160225E-2},{"$f":"単位行列!AJ30-市内品投入係数表!AJ30","v":-3.8700760193503803E-3},{"$f":"単位行列!AK30-市内品投入係数表!AK30","v":-5.1837186528718012E-3},{"$f":"単位行列!AL30-市内品投入係数表!AL30","v":-3.5416978963673615E-2},{"$f":"単位行列!AM30-市内品投入係数表!AM30","v":0},{"$f":"単位行列!AN30-市内品投入係数表!AN30","v":-3.0881593161429712E-3}]
[null,"47","水道",{"$f":"単位行列!D31-市内品投入係数表!D31","v":-5.518002483101117E-4},{"$f":"単位行列!E31-市内品投入係数表!E31","v":0},{"$f":"単位行列!F31-市内品投入係数表!F31","v":-1.2465584835758784E-3},{"$f":"単位行列!G31-市内品投入係数表!G31","v":0},{"$f":"単位行列!H31-市内品投入係数表!H31","v":-4.2593469001419784E-4},{"$f":"単位行列!I31-市内品投入係数表!I31","v":-1.8159806295399517E-3},{"$f":"単位行列!J31-市内品投入係数表!J31","v":-2.6002689058575814E-3},{"$f":"単位行列!K31-市内品投入係数表!K31","v":-8.5410357947045582E-4},{"$f":"単位行列!L31-市内品投入係数表!L31","v":-6.2124663491406088E-4},{"$f":"単位行列!M31-市内品投入係数表!M31","v":-1.0161644912809211E-3},{"$f":"単位行列!N31-市内品投入係数表!N31","v":-8.6004242875981887E-4},{"$f":"単位行列!O31-市内品投入係数表!O31","v":-4.3856042540361262E-4},{"$f":"単位行列!P31-市内品投入係数表!P31","v":-1.486546751895347E-4},{"$f":"単位行列!Q31-市内品投入係数表!Q31","v":-4.0891637161521966E-4},{"$f":"単位行列!R31-市内品投入係数表!R31","v":-3.7593984962406017E-4},{"$f":"単位行列!S31-市内品投入係数表!S31","v":-7.3464590067587418E-4},{"$f":"単位行列!T31-市内品投入係数表!T31","v":-9.9186669311644515E-5},{"$f":"単位行列!U31-市内品投入係数表!U31","v":0},{"$f":"単位行列!V31-市内品投入係数表!V31","v":0},{"$f":"単位行列!W31-市内品投入係数表!W31","v":-1.0745810413201997E-3},{"$f":"単位行列!X31-市内品投入係数表!X31","v":-6.4939531940068514E-4},{"$f":"単位行列!Y31-市内品投入係数表!Y31","v":-1.2977823798429545E-3},{"$f":"単位行列!Z31-市内品投入係数表!Z31","v":0.92839398323824085},{"$f":"単位行列!AA31-市内品投入係数表!AA31","v":-8.5405241367350927E-3},{"$f":"単位行列!AB31-市内品投入係数表!AB31","v":-2.4157784998359495E-3},{"$f":"単位行列!AC31-市内品投入係数表!AC31","v":-1.2079397262181844E-3},{"$f":"単位行列!AD31-市内品投入係数表!AD31","v":-4.3288459662471954E-4},{"$f":"単位行列!AE31-市内品投入係数表!AE31","v":-3.5142886099249209E-3},{"$f":"単位行列!AF31-市内品投入係数表!AF31","v":-1.4592320391968899E-3},{"$f":"単位行列!AG31-市内品投入係数表!AG31","v":-4.0450388883465135E-3},{"$f":"単位行列!AH31-市内品投入係数表!AH31","v":-8.9023898825206903E-3},{"$f":"単位行列!AI31-市内品投入係数表!AI31","v":-4.497365741893306E-3},{"$f":"単位行列!AJ31-市内品投入係数表!AJ31","v":-1.9004837595024188E-3},{"$f":"単位行列!AK31-市内品投入係数表!AK31","v":-1.0796245947606274E-3},{"$f":"単位行列!AL31-市内品投入係数表!AL31","v":-8.76180482686254E-3},{"$f":"単位行列!AM31-市内品投入係数表!AM31","v":0},{"$f":"単位行列!AN31-市内品投入係数表!AN31","v":-1.3503358226480673E-3}]
[null,"48","廃棄物処理",{"$f":"単位行列!D32-市内品投入係数表!D32","v":-3.6071089787721998E-4},{"$f":"単位行列!E32-市内品投入係数表!E32","v":0},{"$f":"単位行列!F32-市内品投入係数表!F32","v":-2.4052236720075321E-4},{"$f":"単位行列!G32-市内品投入係数表!G32","v":0},{"$f":"単位行列!H32-市内品投入係数表!H32","v":-3.0936977031613441E-5},{"$f":"単位行列!I32-市内品投入係数表!I32","v":-1.6223747767432004E-3},{"$f":"単位行列!J32-市内品投入係数表!J32","v":-1.160833169980452E-4},{"$f":"単位行列!K32-市内品投入係数表!K32","v":0},{"$f":"単位行列!L32-市内品投入係数表!L32","v":-2.1929825760578733E-3},{"$f":"単位行列!M32-市内品投入係数表!M32","v":-1.2126909185746413E-4},{"$f":"単位行列!N32-市内品投入係数表!N32","v":0},{"$f":"単位行列!O32-市内品投入係数表!O32","v":0},{"$f":"単位行列!P32-市内品投入係数表!P32","v":0},{"$f":"単位行列!Q32-市内品投入係数表!Q32","v":0},{"$f":"単位行列!R32-市内品投入係数表!R32","v":0},{"$f":"単位行列!S32-市内品投入係数表!S32","v":-3.8418943560269877E-4},{"$f":"単位行列!T32-市内品投入係数表!T32","v":0},{"$f":"単位行列!U32-市内品投入係数表!U32","v":0},{"$f":"単位行列!V32-市内品投入係数表!V32","v":0},{"$f":"単位行列!W32-市内品投入係数表!W32","v":-1.33800347893666E-4},{"$f":"単位行列!X32-市内品投入係数表!X32","v":-1.0846555309517469E-3},{"$f":"単位行列!Y32-市内品投入係数表!Y32","v":-7.7051679308839148E-3},{"$f":"単位行列!Z32-市内品投入係数表!Z32","v":-9.9934771592278529E-4},{"$f":"単位行列!AA32-市内品投入係数表!AA32","v":1},{"$f":"単位行列!AB32-市内品投入係数表!AB32","v":-8.8126778474285558E-4},{"$f":"単位行列!AC32-市内品投入係数表!AC32","v":-1.9084139936175015E-3},{"$f":"単位行列!AD32-市内品投入係数表!AD32","v":-8.9675472546915048E-6},{"$f":"単位行列!AE32-市内品投入係数表!AE32","v":-3.8049335351353067E-3},{"$f":"単位行列!AF32-市内品投入係数表!AF32","v":-2.0279026155665459E-3},{"$f":"単位行列!AG32-市内品投入係数表!AG32","v":-1.8707485005103521E-2},{"$f":"単位行列!AH32-市内品投入係数表!AH32","v":-3.0373943420610328E-3},{"$f":"単位行列!AI32-市内品投入係数表!AI32","v":-2.4755135750263082E-3},{"$f":"単位行列!AJ32-市内品投入係数表!AJ32","v":0},{"$f":"単位行列!AK32-市内品投入係数表!AK32","v":-2.2067074807114302E-4},{"$f":"単位行列!AL32-市内品投入係数表!AL32","v":-1.0764317338611515E-2},{"$f":"単位行列!AM32-市内品投入係数表!AM32","v":0},{"$f":"単位行列!AN32-市内品投入係数表!AN32","v":-4.9355129252729888E-3}]
[null,"51","商業",{"$f":"単位行列!D33-市内品投入係数表!D33","v":-5.8572752064889939E-2},{"$f":"単位行列!E33-市内品投入係数表!E33","v":0},{"$f":"単位行列!F33-市内品投入係数表!F33","v":-6.0543741477871268E-2},{"$f":"単位行列!G33-市内品投入係数表!G33","v":-7.2232977841131696E-2},{"$f":"単位行列!H33-市内品投入係数表!H33","v":-5.7099412795480531E-2},{"$f":"単位行列!I33-市内品投入係数表!I33","v":-4.08796257712703E-2},{"$f":"単位行列!J33-市内品投入係数表!J33","v":-1.8340022336107129E-2},{"$f":"単位行列!K33-市内品投入係数表!K33","v":-4.9316213965451057E-2},{"$f":"単位行列!L33-市内品投入係数表!L33","v":-3.1479621606684993E-2},{"$f":"単位行列!M33-市内品投入係数表!M33","v":-1.7127308302623819E-2},{"$f":"単位行列!N33-市内品投入係数表!N33","v":-4.7687332163947521E-2},{"$f":"単位行列!O33-市内品投入係数表!O33","v":-3.9440327858670278E-2},{"$f":"単位行列!P33-市内品投入係数表!P33","v":-3.4675864257117953E-2},{"$f":"単位行列!Q33-市内品投入係数表!Q33","v":-3.2588149842152206E-2},{"$f":"単位行列!R33-市内品投入係数表!R33","v":-4.0617059463350154E-2},{"$f":"単位行列!S33-市内品投入係数表!S33","v":-3.4915190809429016E-2},{"$f":"単位行列!T33-市内品投入係数表!T33","v":-4.254732488690028E-2},{"$f":"単位行列!U33-市内品投入係数表!U33","v":-3.5532778153448956E-2},{"$f":"単位行列!V33-市内品投入係数表!V33","v":-4.2389266067293499E-2},{"$f":"単位行列!W33-市内品投入係数表!W33","v":-5.9502524981711102E-2},{"$f":"単位行列!X33-市内品投入係数表!X33","v":-4.8524756566584649E-2},{"$f":"単位行列!Y33-市内品投入係数表!Y33","v":-1.4139424123979619E-2},{"$f":"単位行列!Z33-市内品投入係数表!Z33","v":-1.4333859979777786E-2},{"$f":"単位行列!AA33-市内品投入係数表!AA33","v":-1.2271588081370161E-2},{"$f":"単位行列!AB33-市内品投入係数表!AB33","v":0.9905730540684089},{"$f":"単位行列!AC33-市内品投入係数表!AC33","v":-4.7711537161128342E-3},{"$f":"単位行列!AD33-市内品投入係数表!AD33","v":-1.0306998519956187E-3},{"$f":"単位行列!AE33-市内品投入係数表!AE33","v":-2.1266861817323447E-2},{"$f":"単位行列!AF33-市内品投入係数表!AF33","v":-8.6425137001828935E-3},{"$f":"単位行列!AG33-市内品投入係数表!AG33","v":-8.5605129498057559E-3},{"$f":"単位行列!AH33-市内品投入係数表!AH33","v":-1.2914778373210558E-2},{"$f":"単位行列!AI33-市内品投入係数表!AI33","v":-4.284724974304871E-2},{"$f":"単位行列!AJ33-市内品投入係数表!AJ33","v":-2.7441182172283082E-2},{"$f":"単位行列!AK33-市内品投入係数表!AK33","v":-1.6384025411204338E-2},{"$f":"単位行列!AL33-市内品投入係数表!AL33","v":-6.7559120342577328E-2},{"$f":"単位行列!AM33-市内品投入係数表!AM33","v":-0.19105209431258133},{"$f":"単位行列!AN33-市内品投入係数表!AN33","v":-1.7141856656172873E-2}]
[null,"53","金融・保険",{"$f":"単位行列!D34-市内品投入係数表!D34","v":-5.7293126209257226E-3},{"$f":"単位行列!E34-市内品投入係数表!E34","v":0},{"$f":"単位行列!F34-市内品投入係数表!F34","v":-3.6044901160195257E-3},{"$f":"単位行列!G34-市内品投入係数表!G34","v":-9.0658634832822653E-3},{"$f":"単位行列!H34-市内品投入係数表!H34","v":-7.6948664727901871E-3},{"$f":"単位行列!I34-市内品投入係数表!I34","v":-4.2792011940745523E-3},{"$f":"単位行列!J34-市内品投入係数表!J34","v":-5.3464504073789335E-3},{"$f":"単位行列!K34-市内品投入係数表!K34","v":-2.8817075825924828E-3},{"$f":"単位行列!L34-市内品投入係数表!L34","v":-8.746885737492582E-3},{"$f":"単位行列!M34-市内品投入係数表!M34","v":-3.5110144252084295E-3},{"$f":"単位行列!N34-市内品投入係数表!N34","v":-3.6479079957284807E-3},{"$f":"単位行列!O34-市内品投入係数表!O34","v":-9.4461932452044525E-3},{"$f":"単位行列!P34-市内品投入係数表!P34","v":-4.8602997953510647E-3},{"$f":"単位行列!Q34-市内品投入係数表!Q34","v":-5.4201152310824601E-3},{"$f":"単位行列!R34-市内品投入係数表!R34","v":-1.2291442377190456E-2},{"$f":"単位行列!S34-市内品投入係数表!S34","v":-4.6740496145680601E-3},{"$f":"単位行列!T34-市内品投入係数表!T34","v":-3.5935188365038874E-3},{"$f":"単位行列!U34-市内品投入係数表!U34","v":-2.9674982907416246E-3},{"$f":"単位行列!V34-市内品投入係数表!V34","v":-2.1800700162246584E-3},{"$f":"単位行列!W34-市内品投入係数表!W34","v":-1.0241671641271764E-2},{"$f":"単位行列!X34-市内品投入係数表!X34","v":-1.1124256946155242E-2},{"$f":"単位行列!Y34-市内品投入係数表!Y34","v":-1.2367663176692661E-2},{"$f":"単位行列!Z34-市内品投入係数表!Z34","v":-1.9467380704516687E-2},{"$f":"単位行列!AA34-市内品投入係数表!AA34","v":-1.6606960860592945E-2},{"$f":"単位行列!AB34-市内品投入係数表!AB34","v":-1.4965216297143971E-2},{"$f":"単位行列!AC34-市内品投入係数表!AC34","v":0.95808967796815758},{"$f":"単位行列!AD34-市内品投入係数表!AD34","v":-6.6310764274596812E-2},{"$f":"単位行列!AE34-市内品投入係数表!AE34","v":-2.4373786417327379E-2},{"$f":"単位行列!AF34-市内品投入係数表!AF34","v":-4.2236800569969346E-3},{"$f":"単位行列!AG34-市内品投入係数表!AG34","v":-1.8335072983081433E-2},{"$f":"単位行列!AH34-市内品投入係数表!AH34","v":-6.338234331786919E-3},{"$f":"単位行列!AI34-市内品投入係数表!AI34","v":-7.8051572423565784E-3},{"$f":"単位行列!AJ34-市内品投入係数表!AJ34","v":-2.0305134967978665E-2},{"$f":"単位行列!AK34-市内品投入係数表!AK34","v":-7.2545505362631556E-3},{"$f":"単位行列!AL34-市内品投入係数表!AL34","v":-5.907812183676692E-3},{"$f":"単位行列!AM34-市内品投入係数表!AM34","v":0},{"$f":"単位行列!AN34-市内品投入係数表!AN34","v":-3.1117390971333057E-2}]
[null,"55","不動産",{"$f":"単位行列!D35-市内品投入係数表!D35","v":-9.2782834742010985E-3},{"$f":"単位行列!E35-市内品投入係数表!E35","v":0},{"$f":"単位行列!F35-市内品投入係数表!F35","v":-2.026699920678901E-3},{"$f":"単位行列!G35-市内品投入係数表!G35","v":-1.7907525179581393E-3},{"$f":"単位行列!H35-市内品投入係数表!H35","v":-2.8085915023725858E-3},{"$f":"単位行列!I35-市内品投入係数表!I35","v":-1.6764276396930152E-3},{"$f":"単位行列!J35-市内品投入係数表!J35","v":-7.1511531904508115E-4},{"$f":"単位行列!K35-市内品投入係数表!K35","v":-3.148752589810858E-3},{"$f":"単位行列!L35-市内品投入係数表!L35","v":-2.4169163859065587E-3},{"$f":"単位行列!M35-市内品投入係数表!M35","v":-9.6765241624166055E-4},{"$f":"単位行列!N35-市内品投入係数表!N35","v":-6.2381832358280307E-4},{"$f":"単位行列!O35-市内品投入係数表!O35","v":-4.419100570382843E-3},{"$f":"単位行列!P35-市内品投入係数表!P35","v":-2.7936307181445964E-3},{"$f":"単位行列!Q35-市内品投入係数表!Q35","v":-2.1110632203424936E-3},{"$f":"単位行列!R35-市内品投入係数表!R35","v":-1.1155176399461043E-3},{"$f":"単位行列!S35-市内品投入係数表!S35","v":-1.3079386962635779E-3},{"$f":"単位行列!T35-市内品投入係数表!T35","v":-1.5696763458343645E-3},{"$f":"単位行列!U35-市内品投入係数表!U35","v":-1.4762571752520582E-3},{"$f":"単位行列!V35-市内品投入係数表!V35","v":0},{"$f":"単位行列!W35-市内品投入係数表!W35","v":-2.2016382434550969E-3},{"$f":"単位行列!X35-市内品投入係数表!X35","v":-5.2310317814594489E-3},{"$f":"単位行列!Y35-市内品投入係数表!Y35","v":-6.7151421820448188E-3},{"$f":"単位行列!Z35-市内品投入係数表!Z35","v":-1.0260573744073982E-3},{"$f":"単位行列!AA35-市内品投入係数表!AA35","v":-1.4793611777231624E-3},{"$f":"単位行列!AB35-市内品投入係数表!AB35","v":-2.6965466246548109E-2},{"$f":"単位行列!AC35-市内品投入係数表!AC35","v":-1.6787624783691571E-2},{"$f":"単位行列!AD35-市内品投入係数表!AD35","v":0.97214981740356288},{"$f":"単位行列!AE35-市内品投入係数表!AE35","v":-3.8473927313816658E-2},{"$f":"単位行列!AF35-市内品投入係数表!AF35","v":-2.1262561106120813E-2},{"$f":"単位行列!AG35-市内品投入係数表!AG35","v":-1.4870664389583848E-3},{"$f":"単位行列!AH35-市内品投入係数表!AH35","v":-4.2401495959837254E-3},{"$f":"単位行列!AI35-市内品投入係数表!AI35","v":-1.644193018524057E-2},{"$f":"単位行列!AJ35-市内品投入係数表!AJ35","v":-1.4798789533945218E-2},{"$f":"単位行列!AK35-市内品投入係数表!AK35","v":-7.1139758378362759E-3},{"$f":"単位行列!AL35-市内品投入係数表!AL35","v":-1.3126613543719296E-2},{"$f":"単位行列!AM35-市内品投入係数表!AM35","v":0},{"$f":"単位行列!AN35-市内品投入係数表!AN35","v":-1.3692872932775097E-2}]
[null,"57","運輸・郵便",{"$f":"単位行列!D36-市内品投入係数表!D36","v":-3.4747143830565638E-2},{"$f":"単位行列!E36-市内品投入係数表!E36","v":-0.44220864752066424},{"$f":"単位行列!F36-市内品投入係数表!F36","v":-3.8899234873063793E-2},{"$f":"単位行列!G36-市内品投入係数表!G36","v":-1.0247925205065483E-2},{"$f":"単位行列!H36-市内品投入係数表!H36","v":-2.8428595683486525E-2},{"$f":"単位行列!I36-市内品投入係数表!I36","v":-1.6317820310447755E-2},{"$f":"単位行列!J36-市内品投入係数表!J36","v":-2.8090272543487737E-2},{"$f":"単位行列!K36-市内品投入係数表!K36","v":-1.302007292024504E-2},{"$f":"単位行列!L36-市内品投入係数表!L36","v":-3.9149521844695459E-2},{"$f":"単位行列!M36-市内品投入係数表!M36","v":-1.3966056000021333E-2},{"$f":"単位行列!N36-市内品投入係数表!N36","v":-1.9999666370294131E-2},{"$f":"単位行列!O36-市内品投入係数表!O36","v":-2.03244102777362E-2},{"$f":"単位行列!P36-市内品投入係数表!P36","v":-1.2095494446826551E-2},{"$f":"単位行列!Q36-市内品投入係数表!Q36","v":-1.1975115142353837E-2},{"$f":"単位行列!R36-市内品投入係数表!R36","v":-1.4452132239773086E-2},{"$f":"単位行列!S36-市内品投入係数表!S36","v":-1.2370926607101743E-2},{"$f":"単位行列!T36-市内品投入係数表!T36","v":-1.1649535487154177E-2},{"$f":"単位行列!U36-市内品投入係数表!U36","v":-9.3721832758110919E-3},{"$f":"単位行列!V36-市内品投入係数表!V36","v":-5.2366813522183916E-3},{"$f":"単位行列!W36-市内品投入係数表!W36","v":-0.11659781087089567},{"$f":"単位行列!X36-市内品投入係数表!X36","v":-3.0817531171160657E-2},{"$f":"単位行列!Y36-市内品投入係数表!Y36","v":-2.7510117052075077E-2},{"$f":"単位行列!Z36-市内品投入係数表!Z36","v":-1.2574172893383306E-2},{"$f":"単位行列!AA36-市内品投入係数表!AA36","v":-4.4016693243771055E-2},{"$f":"単位行列!AB36-市内品投入係数表!AB36","v":-3.7346910277572601E-2},{"$f":"単位行列!AC36-市内品投入係数表!AC36","v":-2.5757238664145587E-2},{"$f":"単位行列!AD36-市内品投入係数表!AD36","v":-1.8775857363512742E-3},{"$f":"単位行列!AE36-市内品投入係数表!AE36","v":0.94758240592310683},{"$f":"単位行列!AF36-市内品投入係数表!AF36","v":-1.59823441739055E-2},{"$f":"単位行列!AG36-市内品投入係数表!AG36","v":-2.4148572593689226E-2},{"$f":"単位行列!AH36-市内品投入係数表!AH36","v":-1.7944396783802483E-2},{"$f":"単位行列!AI36-市内品投入係数表!AI36","v":-1.1440731350339404E-2},{"$f":"単位行列!AJ36-市内品投入係数表!AJ36","v":-2.2296850672500111E-2},{"$f":"単位行列!AK36-市内品投入係数表!AK36","v":-1.1265482420521687E-2},{"$f":"単位行列!AL36-市内品投入係数表!AL36","v":-2.463093107301428E-2},{"$f":"単位行列!AM36-市内品投入係数表!AM36","v":-3.4339222998700132E-2},{"$f":"単位行列!AN36-市内品投入係数表!AN36","v":-0.41740541766442557}]
[null,"59","情報通信",{"$f":"単位行列!D37-市内品投入係数表!D37","v":-1.9945464652345664E-3},{"$f":"単位行列!E37-市内品投入係数表!E37","v":0},{"$f":"単位行列!F37-市内品投入係数表!F37","v":-1.9698339082772518E-3},{"$f":"単位行列!G37-市内品投入係数表!G37","v":-8.3101803755986851E-4},{"$f":"単位行列!H37-市内品投入係数表!H37","v":-3.6494001770589358E-3},{"$f":"単位行列!I37-市内品投入係数表!I37","v":-5.1679059970142572E-3},{"$f":"単位行列!J37-市内品投入係数表!J37","v":-4.2792084732995765E-4},{"$f":"単位行列!K37-市内品投入係数表!K37","v":-3.7421299082447839E-3},{"$f":"単位行列!L37-市内品投入係数表!L37","v":-4.5053946643487039E-3},{"$f":"単位行列!M37-市内品投入係数表!M37","v":-1.5041041759913251E-3},{"$f":"単位行列!N37-市内品投入係数表!N37","v":-2.0922204884050574E-3},{"$f":"単位行列!O37-市内品投入係数表!O37","v":-4.076300302320637E-3},{"$f":"単位行列!P37-市内品投入係数表!P37","v":-3.7868949654197991E-3},{"$f":"単位行列!Q37-市内品投入係数表!Q37","v":-8.8032215165783287E-3},{"$f":"単位行列!R37-市内品投入係数表!R37","v":-4.9178460294167928E-3},{"$f":"単位行列!S37-市内品投入係数表!S37","v":-5.5638281555259045E-3},{"$f":"単位行列!T37-市内品投入係数表!T37","v":-1.2360466017201104E-2},{"$f":"単位行列!U37-市内品投入係数表!U37","v":-1.9010777934611187E-2},{"$f":"単位行列!V37-市内品投入係数表!V37","v":-5.661993783868018E-4},{"$f":"単位行列!W37-市内品投入係数表!W37","v":-3.5054673245375942E-3},{"$f":"単位行列!X37-市内品投入係数表!X37","v":-4.9617583895710448E-3},{"$f":"単位行列!Y37-市内品投入係数表!Y37","v":-7.7850406521070602E-3},{"$f":"単位行列!Z37-市内品投入係数表!Z37","v":-2.4885259480022296E-2},{"$f":"単位行列!AA37-市内品投入係数表!AA37","v":-6.5368026905650561E-3},{"$f":"単位行列!AB37-市内品投入係数表!AB37","v":-2.6133945868833029E-2},{"$f":"単位行列!AC37-市内品投入係数表!AC37","v":-4.2903567843780868E-2},{"$f":"単位行列!AD37-市内品投入係数表!AD37","v":-2.3465432047005061E-3},{"$f":"単位行列!AE37-市内品投入係数表!AE37","v":-8.5373724092017243E-3},{"$f":"単位行列!AF37-市内品投入係数表!AF37","v":0.90677202326819439},{"$f":"単位行列!AG37-市内品投入係数表!AG37","v":-2.075645021417034E-2},{"$f":"単位行列!AH37-市内品投入係数表!AH37","v":-1.2922284117468817E-2},{"$f":"単位行列!AI37-市内品投入係数表!AI37","v":-1.1875684352074896E-2},{"$f":"単位行列!AJ37-市内品投入係数表!AJ37","v":-3.911166005979852E-2},{"$f":"単位行列!AK37-市内品投入係数表!AK37","v":-2.6834893648829405E-2},{"$f":"単位行列!AL37-市内品投入係数表!AL37","v":-1.378510600900531E-2},{"$f":"単位行列!AM37-市内品投入係数表!AM37","v":0},{"$f":"単位行列!AN37-市内品投入係数表!AN37","v":-2.8271089416676925E-2}]
[null,"61","公務",{"$f":"単位行列!D38-市内品投入係数表!D38","v":0},{"$f":"単位行列!E38-市内品投入係数表!E38","v":0},{"$f":"単位行列!F38-市内品投入係数表!F38","v":0},{"$f":"単位行列!G38-市内品投入係数表!G38","v":0},{"$f":"単位行列!H38-市内品投入係数表!H38","v":0},{"$f":"単位行列!I38-市内品投入係数表!I38","v":0},{"$f":"単位行列!J38-市内品投入係数表!J38","v":0},{"$f":"単位行列!K38-市内品投入係数表!K38","v":0},{"$f":"単位行列!L38-市内品投入係数表!L38","v":0},{"$f":"単位行列!M38-市内品投入係数表!M38","v":0},{"$f":"単位行列!N38-市内品投入係数表!N38","v":0},{"$f":"単位行列!O38-市内品投入係数表!O38","v":0},{"$f":"単位行列!P38-市内品投入係数表!P38","v":0},{"$f":"単位行列!Q38-市内品投入係数表!Q38","v":0},{"$f":"単位行列!R38-市内品投入係数表!R38","v":0},{"$f":"単位行列!S38-市内品投入係数表!S38","v":0},{"$f":"単位行列!T38-市内品投入係数表!T38","v":0},{"$f":"単位行列!U38-市内品投入係数表!U38","v":0},{"$f":"単位行列!V38-市内品投入係数表!V38","v":0},{"$f":"単位行列!W38-市内品投入係数表!W38","v":0},{"$f":"単位行列!X38-市内品投入係数表!X38","v":0},{"$f":"単位行列!Y38-市内品投入係数表!Y38","v":0},{"$f":"単位行列!Z38-市内品投入係数表!Z38","v":0},{"$f":"単位行列!AA38-市内品投入係数表!AA38","v":0},{"$f":"単位行列!AB38-市内品投入係数表!AB38","v":0},{"$f":"単位行列!AC38-市内品投入係数表!AC38","v":0},{"$f":"単位行列!AD38-市内品投入係数表!AD38","v":0},{"$f":"単位行列!AE38-市内品投入係数表!AE38","v":0},{"$f":"単位行列!AF38-市内品投入係数表!AF38","v":0},{"$f":"単位行列!AG38-市内品投入係数表!AG38","v":1},{"$f":"単位行列!AH38-市内品投入係数表!AH38","v":0},{"$f":"単位行列!AI38-市内品投入係数表!AI38","v":0},{"$f":"単位行列!AJ38-市内品投入係数表!AJ38","v":0},{"$f":"単位行列!AK38-市内品投入係数表!AK38","v":0},{"$f":"単位行列!AL38-市内品投入係数表!AL38","v":0},{"$f":"単位行列!AM38-市内品投入係数表!AM38","v":0},{"$f":"単位行列!AN38-市内品投入係数表!AN38","v":-9.6907143863604342E-2}]
[null,"63","教育・研究",{"$f":"単位行列!D39-市内品投入係数表!D39","v":-1.5183998143247551E-4},{"$f":"単位行列!E39-市内品投入係数表!E39","v":0},{"$f":"単位行列!F39-市内品投入係数表!F39","v":-7.9135619776901994E-5},{"$f":"単位行列!G39-市内品投入係数表!G39","v":0},{"$f":"単位行列!H39-市内品投入係数表!H39","v":-6.9454994504118315E-5},{"$f":"単位行列!I39-市内品投入係数表!I39","v":-4.4418402962228202E-5},{"$f":"単位行列!J39-市内品投入係数表!J39","v":0},{"$f":"単位行列!K39-市内品投入係数表!K39","v":-5.6975853477444672E-5},{"$f":"単位行列!L39-市内品投入係数表!L39","v":-9.1173164249659557E-5},{"$f":"単位行列!M39-市内品投入係数表!M39","v":-3.5894304954202019E-5},{"$f":"単位行列!N39-市内品投入係数表!N39","v":0},{"$f":"単位行列!O39-市内品投入係数表!O39","v":-3.0169888041115445E-4},{"$f":"単位行列!P39-市内品投入係数表!P39","v":-4.3632645573718438E-4},{"$f":"単位行列!Q39-市内品投入係数表!Q39","v":-3.1469662123620831E-4},{"$f":"単位行列!R39-市内品投入係数表!R39","v":-1.839077736681729E-4},{"$f":"単位行列!S39-市内品投入係数表!S39","v":-7.5470821606700997E-4},{"$f":"単位行列!T39-市内品投入係数表!T39","v":-8.0060624740092335E-4},{"$f":"単位行列!U39-市内品投入係数表!U39","v":0},{"$f":"単位行列!V39-市内品投入係数表!V39","v":0},{"$f":"単位行列!W39-市内品投入係数表!W39","v":0},{"$f":"単位行列!X39-市内品投入係数表!X39","v":-1.1711111809443358E-4},{"$f":"単位行列!Y39-市内品投入係数表!Y39","v":-3.9763688552576945E-4},{"$f":"単位行列!Z39-市内品投入係数表!Z39","v":-6.0095985662636281E-5},{"$f":"単位行列!AA39-市内品投入係数表!AA39","v":-9.5436067492165257E-5},{"$f":"単位行列!AB39-市内品投入係数表!AB39","v":-1.5532784033868739E-4},{"$f":"単位行列!AC39-市内品投入係数表!AC39","v":-1.2381756378368672E-4},{"$f":"単位行列!AD39-市内品投入係数表!AD39","v":0},{"$f":"単位行列!AE39-市内品投入係数表!AE39","v":-1.1717967954335991E-3},{"$f":"単位行列!AF39-市内品投入係数表!AF39","v":-2.7980778831878527E-3},{"$f":"単位行列!AG39-市内品投入係数表!AG39","v":-8.3578120318787938E-5},{"$f":"単位行列!AH39-市内品投入係数表!AH39","v":1},{"$f":"単位行列!AI39-市内品投入係数表!AI39","v":-7.8715997825413409E-5},{"$f":"単位行列!AJ39-市内品投入係数表!AJ39","v":0},{"$f":"単位行列!AK39-市内品投入係数表!AK39","v":-3.4143562271897986E-4},{"$f":"単位行列!AL39-市内品投入係数表!AL39","v":-3.2999191287783384E-4},{"$f":"単位行列!AM39-市内品投入係数表!AM39","v":0},{"$f":"単位行列!AN39-市内品投入係数表!AN39","v":-4.3081115080081366E-5}]
[null,"64","医療・福祉",{"$f":"単位行列!D40-市内品投入係数表!D40","v":-2.4197820284480942E-3},{"$f":"単位行列!E40-市内品投入係数表!E40","v":0},{"$f":"単位行列!F40-市内品投入係数表!F40","v":0},{"$f":"単位行列!G40-市内品投入係数表!G40","v":0},{"$f":"単位行列!H40-市内品投入係数表!H40","v":0},{"$f":"単位行列!I40-市内品投入係数表!I40","v":0},{"$f":"単位行列!J40-市内品投入係数表!J40","v":0},{"$f":"単位行列!K40-市内品投入係数表!K40","v":0},{"$f":"単位行列!L40-市内品投入係数表!L40","v":0},{"$f":"単位行列!M40-市内品投入係数表!M40","v":-8.5207425137692674E-7},{"$f":"単位行列!N40-市内品投入係数表!N40","v":0},{"$f":"単位行列!O40-市内品投入係数表!O40","v":0},{"$f":"単位行列!P40-市内品投入係数表!P40","v":0},{"$f":"単位行列!Q40-市内品投入係数表!Q40","v":0},{"$f":"単位行列!R40-市内品投入係数表!R40","v":0},{"$f":"単位行列!S40-市内品投入係数表!S40","v":0},{"$f":"単位行列!T40-市内品投入係数表!T40","v":0},{"$f":"単位行列!U40-市内品投入係数表!U40","v":0},{"$f":"単位行列!V40-市内品投入係数表!V40","v":0},{"$f":"単位行列!W40-市内品投入係数表!W40","v":0},{"$f":"単位行列!X40-市内品投入係数表!X40","v":0},{"$f":"単位行列!Y40-市内品投入係数表!Y40","v":-4.1424581207199768E-5},{"$f":"単位行列!Z40-市内品投入係数表!Z40","v":-2.016238753683778E-4},{"$f":"単位行列!AA40-市内品投入係数表!AA40","v":0},{"$f":"単位行列!AB40-市内品投入係数表!AB40","v":-2.320655557642676E-5},{"$f":"単位行列!AC40-市内品投入係数表!AC40","v":-1.1868906418609848E-4},{"$f":"単位行列!AD40-市内品投入係数表!AD40","v":-2.8143916518125697E-6},{"$f":"単位行列!AE40-市内品投入係数表!AE40","v":-5.1334289111856909E-4},{"$f":"単位行列!AF40-市内品投入係数表!AF40","v":-4.1300358883474458E-4},{"$f":"単位行列!AG40-市内品投入係数表!AG40","v":-2.1030536809826764E-5},{"$f":"単位行列!AH40-市内品投入係数表!AH40","v":-1.7170153231345232E-5},{"$f":"単位行列!AI40-市内品投入係数表!AI40","v":0.98387777287970934},{"$f":"単位行列!AJ40-市内品投入係数表!AJ40","v":0},{"$f":"単位行列!AK40-市内品投入係数表!AK40","v":-2.8076641860463261E-5},{"$f":"単位行列!AL40-市内品投入係数表!AL40","v":-6.6889284833593278E-5},{"$f":"単位行列!AM40-市内品投入係数表!AM40","v":0},{"$f":"単位行列!AN40-市内品投入係数表!AN40","v":-1.4092500105978994E-3}]
[null,"65","他に分類されない会員制団体",{"$f":"単位行列!D41-市内品投入係数表!D41","v":-3.1295518074802848E-4},{"$f":"単位行列!E41-市内品投入係数表!E41","v":0},{"$f":"単位行列!F41-市内品投入係数表!F41","v":-2.860338860378717E-4},{"$f":"単位行列!G41-市内品投入係数表!G41","v":0},{"$f":"単位行列!H41-市内品投入係数表!H41","v":-4.5629916929864885E-4},{"$f":"単位行列!I41-市内品投入係数表!I41","v":-9.2694501878853495E-4},{"$f":"単位行列!J41-市内品投入係数表!J41","v":-1.9423541579424386E-4},{"$f":"単位行列!K41-市内品投入係数表!K41","v":-2.2018519539972618E-4},{"$f":"単位行列!L41-市内品投入係数表!L41","v":-3.2885244847167551E-4},{"$f":"単位行列!M41-市内品投入係数表!M41","v":-3.988705032171052E-4},{"$f":"単位行列!N41-市内品投入係数表!N41","v":-1.9511026649066501E-4},{"$f":"単位行列!O41-市内品投入係数表!O41","v":-4.1973334732304352E-4},{"$f":"単位行列!P41-市内品投入係数表!P41","v":-7.587895401806945E-4},{"$f":"単位行列!Q41-市内品投入係数表!Q41","v":-3.7333166844363006E-4},{"$f":"単位行列!R41-市内品投入係数表!R41","v":-2.1321542342504313E-4},{"$f":"単位行列!S41-市内品投入係数表!S41","v":-3.333253166680075E-4},{"$f":"単位行列!T41-市内品投入係数表!T41","v":-2.8127009834884683E-4},{"$f":"単位行列!U41-市内品投入係数表!U41","v":-3.1743639532310524E-4},{"$f":"単位行列!V41-市内品投入係数表!V41","v":0},{"$f":"単位行列!W41-市内品投入係数表!W41","v":-4.6434429683867647E-4},{"$f":"単位行列!X41-市内品投入係数表!X41","v":-4.9003494699319792E-4},{"$f":"単位行列!Y41-市内品投入係数表!Y41","v":-1.1843216184931292E-3},{"$f":"単位行列!Z41-市内品投入係数表!Z41","v":-4.0874777905599707E-3},{"$f":"単位行列!AA41-市内品投入係数表!AA41","v":-1.06956654215038E-3},{"$f":"単位行列!AB41-市内品投入係数表!AB41","v":-3.3615115389429236E-4},{"$f":"単位行列!AC41-市内品投入係数表!AC41","v":-2.0294363478731993E-3},{"$f":"単位行列!AD41-市内品投入係数表!AD41","v":-1.8154042216190659E-4},{"$f":"単位行列!AE41-市内品投入係数表!AE41","v":-6.4936264828308499E-4},{"$f":"単位行列!AF41-市内品投入係数表!AF41","v":-6.0560356699833979E-4},{"$f":"単位行列!AG41-市内品投入係数表!AG41","v":0},{"$f":"単位行列!AH41-市内品投入係数表!AH41","v":-7.9286449541578761E-4},{"$f":"単位行列!AI41-市内品投入係数表!AI41","v":-5.4756135008038017E-4},{"$f":"単位行列!AJ41-市内品投入係数表!AJ41","v":1},{"$f":"単位行列!AK41-市内品投入係数表!AK41","v":-9.8314941699374856E-4},{"$f":"単位行列!AL41-市内品投入係数表!AL41","v":-1.4906435408953346E-3},{"$f":"単位行列!AM41-市内品投入係数表!AM41","v":0},{"$f":"単位行列!AN41-市内品投入係数表!AN41","v":-1.6715444272693192E-3}]
[null,"66","対事業所サービス",{"$f":"単位行列!D42-市内品投入係数表!D42","v":-1.6177439787396455E-2},{"$f":"単位行列!E42-市内品投入係数表!E42","v":0},{"$f":"単位行列!F42-市内品投入係数表!F42","v":-1.4368377325252254E-2},{"$f":"単位行列!G42-市内品投入係数表!G42","v":-1.965906608644084E-2},{"$f":"単位行列!H42-市内品投入係数表!H42","v":-1.812980845534945E-2},{"$f":"単位行列!I42-市内品投入係数表!I42","v":-2.4451022945816143E-2},{"$f":"単位行列!J42-市内品投入係数表!J42","v":-6.9746470469611629E-3},{"$f":"単位行列!K42-市内品投入係数表!K42","v":-2.4028510660742953E-2},{"$f":"単位行列!L42-市内品投入係数表!L42","v":-3.7398260917168948E-2},{"$f":"単位行列!M42-市内品投入係数表!M42","v":-5.1826151869539374E-3},{"$f":"単位行列!N42-市内品投入係数表!N42","v":-1.0496640529752107E-2},{"$f":"単位行列!O42-市内品投入係数表!O42","v":-1.7446945611716211E-2},{"$f":"単位行列!P42-市内品投入係数表!P42","v":-3.0701049454909153E-2},{"$f":"単位行列!Q42-市内品投入係数表!Q42","v":-2.1312768726307784E-2},{"$f":"単位行列!R42-市内品投入係数表!R42","v":-1.8042834645755328E-2},{"$f":"単位行列!S42-市内品投入係数表!S42","v":-2.9961791637195895E-2},{"$f":"単位行列!T42-市内品投入係数表!T42","v":-2.2035508280667079E-2},{"$f":"単位行列!U42-市内品投入係数表!U42","v":-1.8110767922685216E-2},{"$f":"単位行列!V42-市内品投入係数表!V42","v":-1.178703281439333E-2},{"$f":"単位行列!W42-市内品投入係数表!W42","v":-2.71035271298493E-2},{"$f":"単位行列!X42-市内品投入係数表!X42","v":-6.3317088497299542E-2},{"$f":"単位行列!Y42-市内品投入係数表!Y42","v":-4.8358059140566005E-2},{"$f":"単位行列!Z42-市内品投入係数表!Z42","v":-8.1564403106110184E-2},{"$f":"単位行列!AA42-市内品投入係数表!AA42","v":-4.1406417352152086E-2},{"$f":"単位行列!AB42-市内品投入係数表!AB42","v":-5.6608079280231566E-2},{"$f":"単位行列!AC42-市内品投入係数表!AC42","v":-7.8100673885157068E-2},{"$f":"単位行列!AD42-市内品投入係数表!AD42","v":-1.8450786726515078E-2},{"$f":"単位行列!AE42-市内品投入係数表!AE42","v":-6.4043552092153955E-2},{"$f":"単位行列!AF42-市内品投入係数表!AF42","v":-0.10063454257248364},{"$f":"単位行列!AG42-市内品投入係数表!AG42","v":-5.9357890261902017E-2},{"$f":"単位行列!AH42-市内品投入係数表!AH42","v":-3.9965325617838915E-2},{"$f":"単位行列!AI42-市内品投入係数表!AI42","v":-3.3936776428891743E-2},{"$f":"単位行列!AJ42-市内品投入係数表!AJ42","v":-4.0566883658900425E-2},{"$f":"単位行列!AK42-市内品投入係数表!AK42","v":0.90484200942717252},{"$f":"単位行列!AL42-市内品投入係数表!AL42","v":-2.4049202831400076E-2},{"$f":"単位行列!AM42-市内品投入係数表!AM42","v":0},{"$f":"単位行列!AN42-市内品投入係数表!AN42","v":-1.9599205241276972E-2}]
[null,"67","対個人サービス",{"$f":"単位行列!D43-市内品投入係数表!D43","v":-2.0700453858388121E-4},{"$f":"単位行列!E43-市内品投入係数表!E43","v":0},{"$f":"単位行列!F43-市内品投入係数表!F43","v":-2.6178259293902497E-5},{"$f":"単位行列!G43-市内品投入係数表!G43","v":0},{"$f":"単位行列!H43-市内品投入係数表!H43","v":0},{"$f":"単位行列!I43-市内品投入係数表!I43","v":0},{"$f":"単位行列!J43-市内品投入係数表!J43","v":0},{"$f":"単位行列!K43-市内品投入係数表!K43","v":0},{"$f":"単位行列!L43-市内品投入係数表!L43","v":0},{"$f":"単位行列!M43-市内品投入係数表!M43","v":-3.323884351497788E-5},{"$f":"単位行列!N43-市内品投入係数表!N43","v":0},{"$f":"単位行列!O43-市内品投入係数表!O43","v":0},{"$f":"単位行列!P43-市内品投入係数表!P43","v":0},{"$f":"単位行列!Q43-市内品投入係数表!Q43","v":-8.2313543620107245E-5},{"$f":"単位行列!R43-市内品投入係数表!R43","v":0},{"$f":"単位行列!S43-市内品投入係数表!S43","v":0},{"$f":"単位行列!T43-市内品投入係数表!T43","v":-7.4418562794810312E-5},{"$f":"単位行列!U43-市内品投入係数表!U43","v":0},{"$f":"単位行列!V43-市内品投入係数表!V43","v":0},{"$f":"単位行列!W43-市内品投入係数表!W43","v":0},{"$f":"単位行列!X43-市内品投入係数表!X43","v":-1.548411492571738E-4},{"$f":"単位行列!Y43-市内品投入係数表!Y43","v":-3.8844833036359175E-5},{"$f":"単位行列!Z43-市内品投入係数表!Z43","v":-1.0241161176288902E-4},{"$f":"単位行列!AA43-市内品投入係数表!AA43","v":-1.626358463783577E-5},{"$f":"単位行列!AB43-市内品投入係数表!AB43","v":-6.1939671800839995E-4},{"$f":"単位行列!AC43-市内品投入係数表!AC43","v":-1.5473459383358922E-4},{"$f":"単位行列!AD43-市内品投入係数表!AD43","v":-3.8654357979233707E-4},{"$f":"単位行列!AE43-市内品投入係数表!AE43","v":-5.6516002278056464E-4},{"$f":"単位行列!AF43-市内品投入係数表!AF43","v":-4.1316383895222079E-3},{"$f":"単位行列!AG43-市内品投入係数表!AG43","v":-3.4671121388204438E-4},{"$f":"単位行列!AH43-市内品投入係数表!AH43","v":-2.1186953985884499E-3},{"$f":"単位行列!AI43-市内品投入係数表!AI43","v":-8.1153746461914093E-3},{"$f":"単位行列!AJ43-市内品投入係数表!AJ43","v":-1.5296126142273453E-3},{"$f":"単位行列!AK43-市内品投入係数表!AK43","v":-8.2486084691277804E-4},{"$f":"単位行列!AL43-市内品投入係数表!AL43","v":0.9892759772085481},{"$f":"単位行列!AM43-市内品投入係数表!AM43","v":0},{"$f":"単位行列!AN43-市内品投入係数表!AN43","v":-6.1669433688893698E-4}]
[null,"68","事務用品",{"$f":"単位行列!D44-市内品投入係数表!D44","v":-8.2770037246516766E-4},{"$f":"単位行列!E44-市内品投入係数表!E44","v":0},{"$f":"単位行列!F44-市内品投入係数表!F44","v":-6.5341233490236877E-4},{"$f":"単位行列!G44-市内品投入係数表!G44","v":0},{"$f":"単位行列!H44-市内品投入係数表!H44","v":-1.0411736867013725E-3},{"$f":"単位行列!I44-市内品投入係数表!I44","v":-2.4213075060532688E-4},{"$f":"単位行列!J44-市内品投入係数表!J44","v":-3.8052715695476801E-5},{"$f":"単位行列!K44-市内品投入係数表!K44","v":-7.7645779951859614E-5},{"$f":"単位行列!L44-市内品投入係数表!L44","v":-7.4549596189687302E-4},{"$f":"単位行列!M44-市内品投入係数表!M44","v":-1.107536230278933E-4},{"$f":"単位行列!N44-市内品投入係数表!N44","v":-1.7200848575196377E-4},{"$f":"単位行列!O44-市内品投入係数表!O44","v":-2.4669023928953213E-4},{"$f":"単位行列!P44-市内品投入係数表!P44","v":-7.4327337594767352E-4},{"$f":"単位行列!Q44-市内品投入係数表!Q44","v":-8.2780631326983493E-4},{"$f":"単位行列!R44-市内品投入係数表!R44","v":-1.5037593984962407E-3},{"$f":"単位行列!S44-市内品投入係数表!S44","v":-4.4078754040552452E-4},{"$f":"単位行列!T44-市内品投入係数表!T44","v":-7.9349335449315612E-4},{"$f":"単位行列!U44-市内品投入係数表!U44","v":-1.8656716417910448E-4},{"$f":"単位行列!V44-市内品投入係数表!V44","v":0},{"$f":"単位行列!W44-市内品投入係数表!W44","v":-6.3963157221440454E-4},{"$f":"単位行列!X44-市内品投入係数表!X44","v":-9.1080445221028298E-4},{"$f":"単位行列!Y44-市内品投入係数表!Y44","v":-6.2127879886098887E-5},{"$f":"単位行列!Z44-市内品投入係数表!Z44","v":-8.4627774289536186E-4},{"$f":"単位行列!AA44-市内品投入係数表!AA44","v":-3.2514685799752887E-3},{"$f":"単位行列!AB44-市内品投入係数表!AB44","v":-2.0850311696283988E-3},{"$f":"単位行列!AC44-市内品投入係数表!AC44","v":-3.3318780918302027E-3},{"$f":"単位行列!AD44-市内品投入係数表!AD44","v":-3.383816213052385E-4},{"$f":"単位行列!AE44-市内品投入係数表!AE44","v":-1.8269918182540314E-3},{"$f":"単位行列!AF44-市内品投入係数表!AF44","v":-1.4033125632422646E-3},{"$f":"単位行列!AG44-市内品投入係数表!AG44","v":-3.0036773080803149E-3},{"$f":"単位行列!AH44-市内品投入係数表!AH44","v":-3.022224977527045E-3},{"$f":"単位行列!AI44-市内品投入係数表!AI44","v":-2.2648750068310574E-3},{"$f":"単位行列!AJ44-市内品投入係数表!AJ44","v":-4.0774015203870074E-3},{"$f":"単位行列!AK44-市内品投入係数表!AK44","v":-1.8262382229683289E-3},{"$f":"単位行列!AL44-市内品投入係数表!AL44","v":-1.8687852895617849E-3},{"$f":"単位行列!AM44-市内品投入係数表!AM44","v":1},{"$f":"単位行列!AN44-市内品投入係数表!AN44","v":-3.3817105819360293E-3}]
[null,"69","分類不明",{"$f":"単位行列!D45-市内品投入係数表!D45","v":-2.8279762725893225E-3},{"$f":"単位行列!E45-市内品投入係数表!E45","v":0},{"$f":"単位行列!F45-市内品投入係数表!F45","v":-7.149472829465724E-3},{"$f":"単位行列!G45-市内品投入係数表!G45","v":-1.2070006035003018E-3},{"$f":"単位行列!H45-市内品投入係数表!H45","v":-2.4609559867486987E-3},{"$f":"単位行列!I45-市内品投入係数表!I45","v":-1.2106537530266344E-3},{"$f":"単位行列!J45-市内品投入係数表!J45","v":-3.0442172556381441E-4},{"$f":"単位行列!K45-市内品投入係数表!K45","v":-1.7858529388927711E-3},{"$f":"単位行列!L45-市内品投入係数表!L45","v":-6.8337129840546698E-3},{"$f":"単位行列!M45-市内品投入係数表!M45","v":-2.4079683539981133E-3},{"$f":"単位行列!N45-市内品投入係数表!N45","v":-2.4081188005274927E-3},{"$f":"単位行列!O45-市内品投入係数表!O45","v":-3.3440232437025462E-3},{"$f":"単位行列!P45-市内品投入係数表!P45","v":-7.5813884346662705E-3},{"$f":"単位行列!Q45-市内品投入係数表!Q45","v":-6.652371216276866E-3},{"$f":"単位行列!R45-市内品投入係数表!R45","v":-1.8796992481203006E-3},{"$f":"単位行列!S45-市内品投入係数表!S45","v":-2.9385836027034972E-4},{"$f":"単位行列!T45-市内品投入係数表!T45","v":-1.6861733782979568E-3},{"$f":"単位行列!U45-市内品投入係数表!U45","v":-1.1194029850746269E-3},{"$f":"単位行列!V45-市内品投入係数表!V45","v":-4.1118421052631577E-3},{"$f":"単位行列!W45-市内品投入係数表!W45","v":-1.7142126135346041E-3},{"$f":"単位行列!X45-市内品投入係数表!X45","v":-1.4083073070731807E-2},{"$f":"単位行列!Y45-市内品投入係数表!Y45","v":-2.9648804901199412E-3},{"$f":"単位行列!Z45-市内品投入係数表!Z45","v":-7.9713903524337316E-3},{"$f":"単位行列!AA45-市内品投入係数表!AA45","v":-2.3497279604621422E-2},{"$f":"単位行列!AB45-市内品投入係数表!AB45","v":-6.9271720838669391E-3},{"$f":"単位行列!AC45-市内品投入係数表!AC45","v":-5.5924127457728807E-3},{"$f":"単位行列!AD45-市内品投入係数表!AD45","v":-1.8778655740903326E-3},{"$f":"単位行列!AE45-市内品投入係数表!AE45","v":-6.2095808875290686E-3},{"$f":"単位行列!AF45-市内品投入係数表!AF45","v":-1.9704958193534645E-3},{"$f":"単位行列!AG45-市内品投入係数表!AG45","v":-9.1444563767125516E-4},{"$f":"単位行列!AH45-市内品投入係数表!AH45","v":-8.2483494002045816E-3},{"$f":"単位行列!AI45-市内品投入係数表!AI45","v":-4.329372332092611E-3},{"$f":"単位行列!AJ45-市内品投入係数表!AJ45","v":-3.3517622667588115E-3},{"$f":"単位行列!AK45-市内品投入係数表!AK45","v":-3.2160648139700383E-3},{"$f":"単位行列!AL45-市内品投入係数表!AL45","v":-2.9755658821765851E-3},{"$f":"単位行列!AM45-市内品投入係数表!AM45","v":-4.68471844842125E-4},{"$f":"単位行列!AN45-市内品投入係数表!AN45","v":1}]

{"sheet":"マージン表","index":11,"n_rows":45,"n_cols":29,"rows_kept":45,"cut":false,"hidden":true,"merged":[[6,3,6,13],[6,15,6,25]]}
[null,null,null,null,null,6,7,8,9,10,11,12,13,14]
[]
[]
[]
[]
[]
[null,null,null,"国内需要合計ベースのマージン割合（全国購入者価格＝1.0）",null,null,null,null,null,null,null,null,null,null,null,"国内需要合計のマージン割合（全国実額）"]
[null,null,null,"購入者価格","生産者価格","卸売","小売","鉄道","道路","沿海","港湾","航空","利用運送","倉庫",null,"購入者価格","生産者価格","卸売","小売","鉄道","道路","沿海","港湾","航空","利用運送","倉庫"]
[null,1,"農林漁業",1,0.70303950861768361,0.1583535314111221,9.9141518343530091E-2,5.5434085614825457E-4,2.5633538691047258E-2,9.8537955881289395E-4,1.3972439419639817E-3,3.5510839739097514E-4,2.6682531874599228E-3,7.8715769948409352E-3,null,22165063,15582915,3509916,2197478,12287,568169,21841,30970,7871,59142,174474,null,{"$f":"SUM(R9:Z9)","v":6582148},{"$f":"P9-Q9-AB9","v":0}]
[null,6,"鉱業",1,0.91112793764060529,2.2535024641407265E-2,1.8484996466903889E-5,9.8385098017773491E-5,2.7401372718296041E-2,6.4252206527682819E-3,9.6338359740748784E-3,0,2.6858095216994206E-3,2.0073928756664153E-2,null,23153913,21096177,521774,428,2278,634449,148769,223061,0,62187,464790,null,{"$f":"SUM(R10:Z10)","v":2057736},{"$f":"P10-Q10-AB10","v":0}]
[null,11,"飲食料品",1,0.64373541236468967,0.12016526615737717,0.20396896690977812,3.0020017310155466E-4,2.5392858900933717E-2,3.611805460317978E-4,3.7222668882919439E-4,8.5111946426094144E-5,2.0001732261778178E-3,3.6186030866548376E-3,null,70612884,45456014,8485216,14402837,21198,1793063,25504,26284,6010,141238,255520,null,25156870,0]
[null,15,"繊維製品",1,0.52290428533666067,0.13966453626537961,0.31294180497862978,3.6959435146109625E-5,2.0424481697228953E-2,2.035353508920373E-5,3.1098909328361126E-4,1.6353903908182424E-4,1.5320719698416179E-3,2.0009786496586065E-3,null,15476427,8092690,2161508,4843221,572,316098,315,4813,2531,23711,30968,null,7383737,0]
[null,16,"パルプ・紙・木製品",1,0.75033220139956847,0.14443375214578738,5.2160861940297176E-2,6.3544678417589654E-4,4.1309748933314711E-2,7.7069376986663065E-4,1.3670965092285258E-3,1.8035574000376329E-5,3.2293190730476027E-3,5.742843870713236E-3,null,25227919,18929320,3643763,1315910,16031,1042159,19443,34489,455,81469,144880,null,6298599,0]
[null,20,"化学製品",1,0.76139050668588171,0.14605511444131902,6.6819068178990221E-2,3.5629221641691919E-4,1.9597237950184285E-2,1.101163202098429E-3,7.1450193276219125E-4,3.7987228310342075E-5,1.7336272325205501E-3,2.1945009315162828E-3,null,38591918,29383520,5636547,2578676,13750,756295,42496,27574,1466,66904,84690,null,9208398,0]
[null,21,"石油・石炭製品",1,0.77628271738665822,9.2858422116623679E-2,0.10970760080836892,5.9142378763715113E-4,1.0805878799666924E-2,5.596180360770581E-3,6.776998398570675E-4,1.0354783031675033E-6,1.9182028470517364E-3,1.5608385750625678E-3,null,24143432,18742129,2241921,2648718,14279,260891,135111,16362,25,46312,37684,null,5401303,0]
[null,22,"プラスチック・ゴム製品",1,0.77965753312615771,0.12967271494293653,5.9510294069450007E-2,1.2456430671350748E-4,2.4791013751726054E-2,4.6629246508485603E-4,3.8276790675491714E-4,3.2716193781830734E-5,1.7387558748255304E-3,3.6233473625690098E-3,null,17300301,13488310,2243377,1029546,2155,428892,8067,6622,566,30081,62685,null,3811991,0]
[null,25,"窯業・土石製品",1,0.76411393190648313,0.15246355558075189,3.1312318764389897E-2,2.2052335711972022E-4,4.0906083772402915E-2,3.8288149354500913E-3,1.9085384995570802E-3,9.2405030729667577E-6,2.7133363685472255E-3,2.5236563122251108E-3,null,8008222,6119194,1220962,250756,1766,327585,30662,15284,74,21729,20210,null,1889028,0]
[null,26,"鉄鋼",1,0.91820953982456699,5.56397957730842E-2,8.5145141740377062E-7,2.5432483641582193E-5,1.7732031061836177E-2,1.1932166124242753E-3,3.5238982792463011E-3,0,1.2701804166322076E-3,2.405054097150903E-3,null,27012698,24803317,1502981,23,687,478990,32232,95190,0,34311,64967,null,2209381,0]
[null,27,"非鉄金属",1,0.8642261804650696,8.6036621115422957E-2,1.922034629659726E-2,6.8425167721075319E-5,2.0918526745183044E-2,1.4560738325588925E-4,9.9031908364191189E-4,8.5853409938613958E-6,1.3854164761794134E-3,6.99997192593495E-3,null,11647761,10066300,1002134,223874,797,243654,1696,11535,100,16137,81534,null,1581461,0]
[null,28,"金属製品",1,0.82331416562729676,0.1077520709153036,2.4275123593181916E-2,1.2711587464621905E-4,3.9054263327837888E-2,7.6439374967643544E-4,3.5362807457700173E-4,4.8237451095037696E-6,2.6221470774830703E-3,1.732268014887572E-3,null,14718854,12118241,1585987,357302,1871,574834,11251,5205,71,38595,25497,null,2600613,0]
[null,29,"はん用機械",1,0.88262463795508828,0.10307070573519664,1.1761246993043232E-3,1.8829456597232705E-5,1.0805856738740164E-2,4.3696619385969376E-5,3.259338003379683E-4,2.8960522918569865E-5,7.245247429804758E-4,1.1807297294503857E-3,null,9771923,8624940,1007199,11493,184,105594,427,3185,283,7080,11538,null,1146983,0]
[null,30,"生産用機械",1,0.85889996209292363,0.10963828315481398,1.9911212706239453E-2,1.8946546827544056E-5,9.5096983248316239E-3,6.5019514943232364E-5,2.6602070361182706E-4,7.0612591497488919E-6,6.119524884925946E-4,1.0718432081663393E-3,null,14303398,12285188,1568200,284798,271,136021,930,3805,101,8753,15331,null,2018210,0]
[null,31,"業務用機械",1,0.79657718664220112,0.13115074907541616,5.8449322085893068E-2,6.2722307815997836E-6,1.1768643635795507E-2,4.0256317561904069E-5,2.4735397391436237E-4,3.9800155323242263E-5,8.3283820723678581E-4,8.8757767587620208E-4,null,8768810,6985034,1150036,512531,55,103197,353,2169,349,7303,7783,null,1783776,0]
[null,32,"電子部品",1,0.92894906415639833,5.7456854834398559E-2,3.9537608118535945E-3,5.8549092395728736E-6,7.3158363754819485E-3,3.6147700522580351E-5,2.5710688399863487E-4,1.992366216596682E-4,8.0254683460695994E-4,1.0235908718401097E-3,null,11784982,10947648,677128,46595,69,86217,426,3030,2348,9458,12063,null,837334,0]
[null,33,"電気機械",1,0.78935991124417781,0.1063665836512117,9.5860674492603354E-2,3.776130866109906E-5,6.772779725537411E-3,3.2737271886446396E-5,2.1797836973896239E-4,2.587649048450136E-5,4.9300386672559374E-4,8.3269357897307718E-4,null,18511011,14611850,1968953,1774478,699,125371,606,4035,479,9126,15414,null,3899161,0]
[null,34,"情報通信機器",1,0.80516761155219407,0.10208421215408808,8.4941927629400893E-2,1.6045893773194279E-5,6.168544967004844E-3,3.4215508781076036E-5,2.6318412041719636E-4,4.5777991058818974E-5,4.7107283239049286E-4,8.0740735089136902E-4,null,12713533,10236525,1297851,1079912,204,78424,435,3346,582,5989,10265,null,2477008,0]
[null,35,"輸送機械",1,0.87924891060392973,3.7602315992889691E-2,6.8367076727721549E-2,6.3823172011225171E-5,1.0592591159545618E-2,5.3260140388517417E-4,1.619057412693789E-3,4.0747662608760288E-5,9.1034897607777411E-4,1.0225268886366805E-3,null,47192891,41494298,1774562,3226440,3012,499895,25135,76408,1923,42962,48256,null,5698593,0]
[null,39,"その他の製造工業製品",1,0.53689091623990515,0.1012259385380118,0.32590635211931424,6.0176388861519931E-5,3.1702433124926675E-2,2.8287140538777854E-4,3.525121558777535E-4,1.1632689255272692E-4,2.1341429176522141E-3,1.3283302175101002E-3,null,14158377,7601504,1433195,4614305,852,448855,4005,4991,1647,30216,18807,null,6556873,0]
[null,41,"建設",1,1,0,0,0,0,0,0,0,0,0,null,60836569,60836569,0,0,0,0,0,0,0,0,0,null,0,0]
[null,46,"電力・ガス・熱供給",1,1,0,0,0,0,0,0,0,0,0,null,24574630,24574630,0,0,0,0,0,0,0,0,0,null,0,0]
[null,47,"水道",1,1,0,0,0,0,0,0,0,0,0,null,4526256,4526256,0,0,0,0,0,0,0,0,0,null,0,0]
[null,48,"廃棄物処理",1,1,0,0,0,0,0,0,0,0,0,null,4893778,4893778,null,0,0,0,0,0,0,0,0,null,0,0]
[null,51,"商業",1,0.5044378312489507,0.25269642004501436,0.24286574870603497,0,0,0,0,0,0,0,null,178403584,89993517,45081947,43328120,0,0,0,0,0,0,0,null,88410067,0]
[null,53,"金融・保険",1,1,0,0,0,0,0,0,0,0,0,null,35102697,35102697,0,0,0,0,0,0,0,0,0,null,0,0]
[null,55,"不動産",1,1,0,0,0,0,0,0,0,0,0,null,80673871,80673871,0,0,0,0,0,0,0,0,0,null,0,0]
[null,57,"運輸・郵便",1,0.7992644620362116,0,0,1.602624818675716E-3,0.14281090250553041,8.1400006361749752E-3,9.5142913154931189E-3,4.5741635315983605E-4,1.2053957300565262E-2,2.6156345034189107E-2,null,64164737,51284594,0,0,102832,9163424,522301,610482,29350,773439,1678315,null,12880143,0]
[null,59,"情報通信",1,0.95403786817115743,7.2141424940368268E-3,3.462124516154616E-2,2.5400019764621794E-5,3.3493776791513196E-3,3.3323641090611682E-7,3.6470873860280562E-6,1.3014733159277784E-5,2.4826112612505701E-4,4.8671029126232286E-4,null,54015706,51533029,389677,1870091,1372,180919,18,197,703,13410,26290,null,2482677,0]
[null,61,"公務",1,1,0,0,0,0,0,0,0,0,0,null,39739035,39739035,0,0,0,0,0,0,0,0,0,null,0,0]
[null,63,"教育・研究",1,0.99998597823488733,0,0,0,1.4021765112679549E-5,0,0,0,0,0,null,45001467,45000836,0,0,0,631,0,0,0,0,0,null,631,0]
[null,64,"医療・福祉",1,1,0,0,0,0,0,0,0,0,0,null,67590133,67590133,0,0,0,0,0,0,0,0,0,null,0,0]
[null,65,"他に分類されない会員制団体",1,1,0,0,0,0,0,0,0,0,0,null,4525561,4525561,0,0,0,0,0,0,0,0,0,null,0,0]
[null,66,"対事業所サービス",1,1,0,0,0,0,0,0,0,0,0,null,75447127,75447127,0,0,0,0,0,0,0,0,0,null,0,0]
[null,67,"対個人サービス",1,1,0,0,0,0,0,0,0,0,0,null,54598311,54598311,0,0,0,0,0,0,0,0,0,null,0,0]
[null,68,"事務用品",1,1,0,0,0,0,0,0,0,0,0,null,1463403,1463403,0,0,0,0,0,0,0,0,0,null,0,0]
[null,69,"分類不明",1,0.946360708045764,1.1795703056656923E-2,1.1725400187101501E-2,1.6862702490239485E-3,6.8083935235079213E-3,2.5123289663001596E-3,2.382108878373639E-3,3.5271269214453313E-4,3.4604190849921749E-3,1.2915955316135227E-2,null,5006908,4738341,59060,58708,8443,34089,12579,11927,1766,17326,64669,null,268567,0]

{"sheet":"消費性向","index":12,"n_rows":9,"n_cols":4,"rows_kept":9,"cut":false,"hidden":false,"merged":[]}
[]
[]
[]
[null,"家計調査　第１－１表　都市階級・地方・都道府県庁所在市別１世帯当たり１か月間の収入と支出　"]
[null,"平成27年(2015年)平均"]
[null,"①勤め先収入",485595,"円"]
[null,"②可処分所得     ",427270,"円"]
[null,"③消費支出",315379,"円"]
[null,"③/①",{"$f":"C8/C6","v":0.64946920787899376},"％"]